{"text_format":"1","workbook":"xlsx","n_sheets":3,"sheets":["каб жур","Печать","рамки"],"not_rendered":{"charts":0,"images":5,"macros":1,"external_links":0,"defined_names":9,"comments":0,"pivot_tables":0},"unopened":[],"bounds":{"document_bytes":16777216,"sheet_cells":100000,"rows_first":2000,"rows_last":500,"rows_between":2000,"halvings":0,"cell_chars":16384,"cell_head_chars":4096},"cells_cut":0,"cells_raw":0,"read":"whole","date_system":"1900"}

{"sheet":"каб жур","index":0,"n_rows":62,"n_cols":13,"rows_kept":62,"cut":false,"hidden":false,"merged":[[6,3,9,7],[5,0,5,10],[6,0,9,0],[6,8,6,9],[7,9,9,9],[7,8,9,8],[6,10,9,10],[6,2,9,2],[6,1,9,1]]}
[]
[]
[]
[]
[]
["Кабельный журнал"]
["маркировка кабеля","Начало","Конец","Кол-во, Марка,  сечение проводов  и кабелей",null,null,null,null,"по проекту",null,"проложен"]
[null,null,null,null,null,null,null,null,"длина,            м","общая длина с 10% на  прокладку"]
[null,null,null,null,null,null,null,null," (м)"]
[]
["ЩР1"]
["гр. 1",{"$f":"A11","v":"ЩР1"},"пом, 1",1,"ВВГнгHF",5,"x",4,10.1,{"$f":"ROUNDUP(SUM(I12)*1.1,0)","v":12},null,null,{"$f":"CONCATENATE(D12,\"х\",F12,\"х\",H12)","v":"1х5х4"}]
["гр. 2",{"$f":"B12","v":"ЩР1"},"пом, 2",1,"ВВГнгHF",5,"x",4,11.1,{"$f":"ROUNDUP(SUM(I13)*1.1,0)","v":13},null,null,{"$f":"CONCATENATE(D13,\"х\",F13,\"х\",H13)","v":"1х5х4"}]
["гр. 3",{"$f":"B13","v":"ЩР1"},"пом, 3",1,"ВВГнгHF",5,"x",4,12.1,14,null,null,"1х5х4"]
["гр. 4","ЩР1","пом, 4",1,"ВВГнгHF",5,"x",4,13.1,15,null,null,"1х5х4"]
["гр. 5","ЩР1","пом, 5",1,"ВВГнгHF",5,"x",4,14.1,16,null,null,"1х5х4"]
["гр. 6","ЩР1","пом, 6",1,"ВВГнгHF",5,"x",4,15.1,17,null,null,"1х5х4"]
["гр. 7","ЩР1","пом, 7",1,"ВВГнгHF",5,"x",4,16.100000000000001,18,null,null,"1х5х4"]
["гр. 8","ЩР1","пом, 8",1,"ВВГнгHF",5,"x",4,17.100000000000001,19,null,null,"1х5х4"]
["гр. 9","ЩР1","пом, 9",1,"ВВГнгHF",5,"x",4,18.100000000000001,20,null,null,"1х5х4"]
["гр. 10","ЩР1","пом, 10",1,"ВВГнгHF",5,"x",4,19.100000000000001,22,null,null,"1х5х4"]
["гр. 11","ЩР1","пом, 11",1,"ВВГнгHF",5,"x",4,20.100000000000001,23,null,null,"1х5х4"]
["гр. 12","ЩР1","пом, 12",1,"ВВГнгHF",5,"x",4,21.1,24,null,null,"1х5х4"]
["гр. 13","ЩР1","пом, 13",1,"ВВГнгHF",5,"x",4,22.1,25,null,null,"1х5х4"]
["гр. 14","ЩР1","пом, 14",1,"ВВГнгHF",5,"x",4,23.1,26,null,null,"1х5х4"]
["гр. 15","ЩР1","пом, 15",1,"ВВГнгHF",5,"x",4,24.1,27,null,null,"1х5х4"]
["гр. 16","ЩР1","пом, 16",1,"ВВГнгHF",5,"x",4,25.1,28,null,null,"1х5х4"]
["гр. 17","ЩР1","пом, 17",1,"ВВГнгHF",5,"x",4,26.1,29,null,null,"1х5х4"]
["гр. 18","ЩР1","пом, 18",1,"ВВГнгHF",5,"x",4,27.1,30,null,null,"1х5х4"]
["гр. 19","ЩР1","пом, 19",1,"ВВГнгHF",5,"x",4,28.1,31,null,null,"1х5х4"]
["гр. 20","ЩР1","пом, 20",1,"ВВГнгHF",5,"x",4,29.1,33,null,null,"1х5х4"]
["гр. 21","ЩР1","пом, 21",1,"ВВГнгHF",5,"x",4,30.1,34,null,null,"1х5х4"]
["гр. 22","ЩР1","пом, 22",1,"ВВГнгHF",5,"x",4,31.1,35,null,null,"1х5х4"]
["гр. 23","ЩР1","пом, 23",1,"ВВГнгHF",5,"x",4,32.1,36,null,null,"1х5х4"]
["гр. 24","ЩР1","пом, 24",1,"ВВГнгHF",5,"x",4,33.1,37,null,null,"1х5х4"]
["гр. 25","ЩР1","пом, 25",1,"ВВГнгHF",5,"x",4,34.1,38,null,null,"1х5х4"]
["гр. 26","ЩР1","пом, 26",1,"ВВГнгHF",5,"x",4,35.1,39,null,null,"1х5х4"]
["гр. 27","ЩР1","пом, 27",1,"ВВГнгHF",5,"x",4,36.1,40,null,null,"1х5х4"]
["гр. 28","ЩР1","пом, 28",1,"ВВГнгHF",5,"x",4,37.1,41,null,null,"1х5х4"]
["гр. 29","ЩР1","пом, 29",1,"ВВГнгHF",5,"x",4,38.1,42,null,null,"1х5х4"]
["гр. 30","ЩР1","пом, 30",1,"ВВГнгHF",5,"x",4,39.1,44,null,null,"1х5х4"]
["ЩР2"]
["гр. 1",{"$f":"A42","v":"ЩР2"},"пом, 1",1,"ВВГнгHF",5,"x",4,10.1,{"$f":"ROUNDUP(SUM(I43)*1.1,0)","v":12},null,null,{"$f":"CONCATENATE(D43,\"х\",F43,\"х\",H43)","v":"1х5х4"}]
["гр. 2",{"$f":"B43","v":"ЩР2"},"пом, 2",1,"ВВГнгHF",5,"x",4,11.1,{"$f":"ROUNDUP(SUM(I44)*1.1,0)","v":13},null,null,{"$f":"CONCATENATE(D44,\"х\",F44,\"х\",H44)","v":"1х5х4"}]
["гр. 3",{"$f":"B44","v":"ЩР2"},"пом, 3",1,"ВВГнгHF",5,"x",4,12.1,14,null,null,"1х5х4"]
["гр. 4","ЩР2","пом, 4",1,"ВВГнгHF",5,"x",4,13.1,15,null,null,"1х5х4"]
["гр. 5","ЩР2","пом, 5",1,"ВВГнгHF",5,"x",4,14.1,16,null,null,"1х5х4"]
["гр. 6","ЩР2","пом, 6",1,"ВВГнгHF",5,"x",4,15.1,17,null,null,"1х5х4"]
["гр. 7","ЩР2","пом, 7",1,"ВВГнгHF",5,"x",4,16.100000000000001,18,null,null,"1х5х4"]
["гр. 8","ЩР2","пом, 8",1,"ВВГнгHF",5,"x",4,17.100000000000001,19,null,null,"1х5х4"]
["гр. 9","ЩР2","пом, 9",1,"ВВГнгHF",5,"x",4,18.100000000000001,20,null,null,"1х5х4"]
["гр. 10","ЩР2","пом, 10",1,"ВВГнгHF",5,"x",4,19.100000000000001,22,null,null,"1х5х4"]
["гр. 11","ЩР2","пом, 11",1,"ВВГнгHF",5,"x",4,20.100000000000001,23,null,null,"1х5х4"]
["гр. 12","ЩР2","пом, 12",1,"ВВГнгHF",5,"x",4,21.1,24,null,null,"1х5х4"]
["ЩР3"]
["гр. 1",{"$f":"A55","v":"ЩР3"},"пом, 1",1,"ВВГнгHF",5,"x",4,10.1,{"$f":"ROUNDUP(SUM(I56)*1.1,0)","v":12},null,null,{"$f":"CONCATENATE(D56,\"х\",F56,\"х\",H56)","v":"1х5х4"}]
["гр. 2",{"$f":"B56","v":"ЩР3"},"пом, 2",1,"ВВГнгHF",5,"x",4,11.1,{"$f":"ROUNDUP(SUM(I57)*1.1,0)","v":13},null,null,{"$f":"CONCATENATE(D57,\"х\",F57,\"х\",H57)","v":"1х5х4"}]
["гр. 3",{"$f":"B57","v":"ЩР3"},"пом, 3",1,"ВВГнгHF",5,"x",4,12.1,14,null,null,"1х5х4"]
["гр. 4","ЩР3","пом, 4",1,"ВВГнгHF",5,"x",4,13.1,15,null,null,"1х5х4"]
["гр. 5","ЩР3","пом, 5",1,"ВВГнгHF",5,"x",4,14.1,16,null,null,"1х5х4"]
["гр. 6","ЩР3","пом, 6",1,"ВВГнгHF",5,"x",4,15.1,17,null,null,"1х5х4"]
["гр. 7","ЩР3","пом, 7",1,"ВВГнгHF",5,"x",4,16.100000000000001,18,null,null,"1х5х4"]

{"sheet":"Печать","index":1,"n_rows":127,"n_cols":14,"rows_kept":127,"cut":false,"hidden":false,"merged":[[1,1,3,1],[1,2,1,3],[1,4,1,9],[2,2,3,2],[2,3,3,3],[2,4,2,6],[2,7,2,9],[43,1,45,1],[43,2,43,3],[43,4,43,9],[44,2,45,2],[44,3,45,3],[44,4,44,6],[44,7,44,9],[86,1,88,1],[86,2,86,3],[86,4,86,9],[87,2,88,2],[87,3,88,3],[87,4,87,6],[87,7,87,9]]}
[]
[null,"Обозначение кабеля, провода","Трасса",null,"Кабель, провод"]
[null,null,"Начало","Конец","по проекту",null,null,"проложен"]
[null,null,null,null,"Марка","Кол., число сечение жил","Длина,        м ","Марка","Кол., число сечение жил","Длина,        м "]
[null,{"$f":"'каб жур'!A11","v":"ЩР1"}]
[null,{"$f":"'каб жур'!A12","v":"гр. 1"},{"$f":"'каб жур'!B12","v":"ЩР1"},{"$f":"'каб жур'!C12","v":"пом, 1"},{"$f":"'каб жур'!E12","v":"ВВГнгHF"},{"$f":"'каб жур'!M12","v":"1х5х4"},{"$f":"'каб жур'!J12","v":12}]
[null,{"$f":"'каб жур'!A13","v":"гр. 2"},{"$f":"'каб жур'!B13","v":"ЩР1"},{"$f":"'каб жур'!C13","v":"пом, 2"},{"$f":"'каб жур'!E13","v":"ВВГнгHF"},{"$f":"'каб жур'!M13","v":"1х5х4"},{"$f":"'каб жур'!J13","v":13}]
[null,{"$f":"'каб жур'!A14","v":"гр. 3"},{"$f":"'каб жур'!B14","v":"ЩР1"},{"$f":"'каб жур'!C14","v":"пом, 3"},{"$f":"'каб жур'!E14","v":"ВВГнгHF"},{"$f":"'каб жур'!M14","v":"1х5х4"},{"$f":"'каб жур'!J14","v":14}]
[null,{"$f":"'каб жур'!A15","v":"гр. 4"},{"$f":"'каб жур'!B15","v":"ЩР1"},{"$f":"'каб жур'!C15","v":"пом, 4"},{"$f":"'каб жур'!E15","v":"ВВГнгHF"},{"$f":"'каб жур'!M15","v":"1х5х4"},{"$f":"'каб жур'!J15","v":15}]
[null,{"$f":"'каб жур'!A16","v":"гр. 5"},{"$f":"'каб жур'!B16","v":"ЩР1"},{"$f":"'каб жур'!C16","v":"пом, 5"},{"$f":"'каб жур'!E16","v":"ВВГнгHF"},{"$f":"'каб жур'!M16","v":"1х5х4"},{"$f":"'каб жур'!J16","v":16}]
[null,{"$f":"'каб жур'!A17","v":"гр. 6"},{"$f":"'каб жур'!B17","v":"ЩР1"},{"$f":"'каб жур'!C17","v":"пом, 6"},{"$f":"'каб жур'!E17","v":"ВВГнгHF"},{"$f":"'каб жур'!M17","v":"1х5х4"},{"$f":"'каб жур'!J17","v":17}]
[null,{"$f":"'каб жур'!A18","v":"гр. 7"},{"$f":"'каб жур'!B18","v":"ЩР1"},{"$f":"'каб жур'!C18","v":"пом, 7"},{"$f":"'каб жур'!E18","v":"ВВГнгHF"},{"$f":"'каб жур'!M18","v":"1х5х4"},{"$f":"'каб жур'!J18","v":18}]
[null,{"$f":"'каб жур'!A19","v":"гр. 8"},{"$f":"'каб жур'!B19","v":"ЩР1"},{"$f":"'каб жур'!C19","v":"пом, 8"},{"$f":"'каб жур'!E19","v":"ВВГнгHF"},{"$f":"'каб жур'!M19","v":"1х5х4"},{"$f":"'каб жур'!J19","v":19}]
[null,{"$f":"'каб жур'!A20","v":"гр. 9"},{"$f":"'каб жур'!B20","v":"ЩР1"},{"$f":"'каб жур'!C20","v":"пом, 9"},{"$f":"'каб жур'!E20","v":"ВВГнгHF"},{"$f":"'каб жур'!M20","v":"1х5х4"},{"$f":"'каб жур'!J20","v":20}]
[null,{"$f":"'каб жур'!A21","v":"гр. 10"},{"$f":"'каб жур'!B21","v":"ЩР1"},{"$f":"'каб жур'!C21","v":"пом, 10"},{"$f":"'каб жур'!E21","v":"ВВГнгHF"},{"$f":"'каб жур'!M21","v":"1х5х4"},{"$f":"'каб жур'!J21","v":22}]
[null,{"$f":"'каб жур'!A22","v":"гр. 11"},{"$f":"'каб жур'!B22","v":"ЩР1"},{"$f":"'каб жур'!C22","v":"пом, 11"},{"$f":"'каб жур'!E22","v":"ВВГнгHF"},{"$f":"'каб жур'!M22","v":"1х5х4"},{"$f":"'каб жур'!J22","v":23}]
[null,{"$f":"'каб жур'!A23","v":"гр. 12"},{"$f":"'каб жур'!B23","v":"ЩР1"},{"$f":"'каб жур'!C23","v":"пом, 12"},{"$f":"'каб жур'!E23","v":"ВВГнгHF"},{"$f":"'каб жур'!M23","v":"1х5х4"},{"$f":"'каб жур'!J23","v":24}]
[null,{"$f":"'каб жур'!A24","v":"гр. 13"},{"$f":"'каб жур'!B24","v":"ЩР1"},{"$f":"'каб жур'!C24","v":"пом, 13"},{"$f":"'каб жур'!E24","v":"ВВГнгHF"},{"$f":"'каб жур'!M24","v":"1х5х4"},{"$f":"'каб жур'!J24","v":25}]
[null,{"$f":"'каб жур'!A25","v":"гр. 14"},{"$f":"'каб жур'!B25","v":"ЩР1"},{"$f":"'каб жур'!C25","v":"пом, 14"},{"$f":"'каб жур'!E25","v":"ВВГнгHF"},{"$f":"'каб жур'!M25","v":"1х5х4"},{"$f":"'каб жур'!J25","v":26}]
[null,{"$f":"'каб жур'!A26","v":"гр. 15"},{"$f":"'каб жур'!B26","v":"ЩР1"},{"$f":"'каб жур'!C26","v":"пом, 15"},{"$f":"'каб жур'!E26","v":"ВВГнгHF"},{"$f":"'каб жур'!M26","v":"1х5х4"},{"$f":"'каб жур'!J26","v":27}]
[null,{"$f":"'каб жур'!A27","v":"гр. 16"},{"$f":"'каб жур'!B27","v":"ЩР1"},{"$f":"'каб жур'!C27","v":"пом, 16"},{"$f":"'каб жур'!E27","v":"ВВГнгHF"},{"$f":"'каб жур'!M27","v":"1х5х4"},{"$f":"'каб жур'!J27","v":28}]
[null,{"$f":"'каб жур'!A28","v":"гр. 17"},{"$f":"'каб жур'!B28","v":"ЩР1"},{"$f":"'каб жур'!C28","v":"пом, 17"},{"$f":"'каб жур'!E28","v":"ВВГнгHF"},{"$f":"'каб жур'!M28","v":"1х5х4"},{"$f":"'каб жур'!J28","v":29}]
[null,{"$f":"'каб жур'!A29","v":"гр. 18"},{"$f":"'каб жур'!B29","v":"ЩР1"},{"$f":"'каб жур'!C29","v":"пом, 18"},{"$f":"'каб жур'!E29","v":"ВВГнгHF"},{"$f":"'каб жур'!M29","v":"1х5х4"},{"$f":"'каб жур'!J29","v":30}]
[null,{"$f":"'каб жур'!A30","v":"гр. 19"},{"$f":"'каб жур'!B30","v":"ЩР1"},{"$f":"'каб жур'!C30","v":"пом, 19"},{"$f":"'каб жур'!E30","v":"ВВГнгHF"},{"$f":"'каб жур'!M30","v":"1х5х4"},{"$f":"'каб жур'!J30","v":31}]
[null,{"$f":"'каб жур'!A31","v":"гр. 20"},{"$f":"'каб жур'!B31","v":"ЩР1"},{"$f":"'каб жур'!C31","v":"пом, 20"},{"$f":"'каб жур'!E31","v":"ВВГнгHF"},{"$f":"'каб жур'!M31","v":"1х5х4"},{"$f":"'каб жур'!J31","v":33}]
[null,{"$f":"'каб жур'!A32","v":"гр. 21"},{"$f":"'каб жур'!B32","v":"ЩР1"},{"$f":"'каб жур'!C32","v":"пом, 21"},{"$f":"'каб жур'!E32","v":"ВВГнгHF"},{"$f":"'каб жур'!M32","v":"1х5х4"},{"$f":"'каб жур'!J32","v":34}]
[null,{"$f":"'каб жур'!A33","v":"гр. 22"},{"$f":"'каб жур'!B33","v":"ЩР1"},{"$f":"'каб жур'!C33","v":"пом, 22"},{"$f":"'каб жур'!E33","v":"ВВГнгHF"},{"$f":"'каб жур'!M33","v":"1х5х4"},{"$f":"'каб жур'!J33","v":35}]
[]
[]
[]
[]
[]
[]
[]
[]
[]
[]
[]
[]
[]
[]
[]
[]
[null,"Обозначение кабеля, провода","Трасса",null,"Кабель, провод"]
[null,null,"Начало","Конец","по проекту",null,null,"проложен"]
[null,null,null,null,"Марка","Кол., число сечение жил","Длина,        м ","Марка","Кол., число сечение жил","Длина,        м "]
[null,{"$f":"'каб жур'!A34","v":"гр. 23"},{"$f":"'каб жур'!B34","v":"ЩР1"},{"$f":"'каб жур'!C34","v":"пом, 23"},{"$f":"'каб жур'!E34","v":"ВВГнгHF"},{"$f":"'каб жур'!M34","v":"1х5х4"},{"$f":"'каб жур'!J34","v":36}]
[null,{"$f":"'каб жур'!A35","v":"гр. 24"},{"$f":"'каб жур'!B35","v":"ЩР1"},{"$f":"'каб жур'!C35","v":"пом, 24"},{"$f":"'каб жур'!E35","v":"ВВГнгHF"},{"$f":"'каб жур'!M35","v":"1х5х4"},{"$f":"'каб жур'!J35","v":37}]
[null,{"$f":"'каб жур'!A36","v":"гр. 25"},{"$f":"'каб жур'!B36","v":"ЩР1"},{"$f":"'каб жур'!C36","v":"пом, 25"},{"$f":"'каб жур'!E36","v":"ВВГнгHF"},{"$f":"'каб жур'!M36","v":"1х5х4"},{"$f":"'каб жур'!J36","v":38}]
[null,{"$f":"'каб жур'!A37","v":"гр. 26"},{"$f":"'каб жур'!B37","v":"ЩР1"},{"$f":"'каб жур'!C37","v":"пом, 26"},{"$f":"'каб жур'!E37","v":"ВВГнгHF"},{"$f":"'каб жур'!M37","v":"1х5х4"},{"$f":"'каб жур'!J37","v":39}]
[null,{"$f":"'каб жур'!A38","v":"гр. 27"},{"$f":"'каб жур'!B38","v":"ЩР1"},{"$f":"'каб жур'!C38","v":"пом, 27"},{"$f":"'каб жур'!E38","v":"ВВГнгHF"},{"$f":"'каб жур'!M38","v":"1х5х4"},{"$f":"'каб жур'!J38","v":40}]
[null,{"$f":"'каб жур'!A39","v":"гр. 28"},{"$f":"'каб жур'!B39","v":"ЩР1"},{"$f":"'каб жур'!C39","v":"пом, 28"},{"$f":"'каб жур'!E39","v":"ВВГнгHF"},{"$f":"'каб жур'!M39","v":"1х5х4"},{"$f":"'каб жур'!J39","v":41}]
[null,{"$f":"'каб жур'!A40","v":"гр. 29"},{"$f":"'каб жур'!B40","v":"ЩР1"},{"$f":"'каб жур'!C40","v":"пом, 29"},{"$f":"'каб жур'!E40","v":"ВВГнгHF"},{"$f":"'каб жур'!M40","v":"1х5х4"},{"$f":"'каб жур'!J40","v":42}]
[null,{"$f":"'каб жур'!A41","v":"гр. 30"},{"$f":"'каб жур'!B41","v":"ЩР1"},{"$f":"'каб жур'!C41","v":"пом, 30"},{"$f":"'каб жур'!E41","v":"ВВГнгHF"},{"$f":"'каб жур'!M41","v":"1х5х4"},{"$f":"'каб жур'!J41","v":44}]
[null,{"$f":"'каб жур'!A42","v":"ЩР2"}]
[null,{"$f":"'каб жур'!A43","v":"гр. 1"},{"$f":"'каб жур'!B43","v":"ЩР2"},{"$f":"'каб жур'!C43","v":"пом, 1"},{"$f":"'каб жур'!E43","v":"ВВГнгHF"},{"$f":"'каб жур'!M43","v":"1х5х4"},{"$f":"'каб жур'!J43","v":12}]
[null,{"$f":"'каб жур'!A44","v":"гр. 2"},{"$f":"'каб жур'!B44","v":"ЩР2"},{"$f":"'каб жур'!C44","v":"пом, 2"},{"$f":"'каб жур'!E44","v":"ВВГнгHF"},{"$f":"'каб жур'!M44","v":"1х5х4"},{"$f":"'каб жур'!J44","v":13}]
[null,{"$f":"'каб жур'!A45","v":"гр. 3"},{"$f":"'каб жур'!B45","v":"ЩР2"},{"$f":"'каб жур'!C45","v":"пом, 3"},{"$f":"'каб жур'!E45","v":"ВВГнгHF"},{"$f":"'каб жур'!M45","v":"1х5х4"},{"$f":"'каб жур'!J45","v":14}]
[null,{"$f":"'каб жур'!A46","v":"гр. 4"},{"$f":"'каб жур'!B46","v":"ЩР2"},{"$f":"'каб жур'!C46","v":"пом, 4"},{"$f":"'каб жур'!E46","v":"ВВГнгHF"},{"$f":"'каб жур'!M46","v":"1х5х4"},{"$f":"'каб жур'!J46","v":15}]
[null,{"$f":"'каб жур'!A47","v":"гр. 5"},{"$f":"'каб жур'!B47","v":"ЩР2"},{"$f":"'каб жур'!C47","v":"пом, 5"},{"$f":"'каб жур'!E47","v":"ВВГнгHF"},{"$f":"'каб жур'!M47","v":"1х5х4"},{"$f":"'каб жур'!J47","v":16}]
[null,{"$f":"'каб жур'!A48","v":"гр. 6"},{"$f":"'каб жур'!B48","v":"ЩР2"},{"$f":"'каб жур'!C48","v":"пом, 6"},{"$f":"'каб жур'!E48","v":"ВВГнгHF"},{"$f":"'каб жур'!M48","v":"1х5х4"},{"$f":"'каб жур'!J48","v":17}]
[null,{"$f":"'каб жур'!A49","v":"гр. 7"},{"$f":"'каб жур'!B49","v":"ЩР2"},{"$f":"'каб жур'!C49","v":"пом, 7"},{"$f":"'каб жур'!E49","v":"ВВГнгHF"},{"$f":"'каб жур'!M49","v":"1х5х4"},{"$f":"'каб жур'!J49","v":18}]
[null,{"$f":"'каб жур'!A50","v":"гр. 8"},{"$f":"'каб жур'!B50","v":"ЩР2"},{"$f":"'каб жур'!C50","v":"пом, 8"},{"$f":"'каб жур'!E50","v":"ВВГнгHF"},{"$f":"'каб жур'!M50","v":"1х5х4"},{"$f":"'каб жур'!J50","v":19}]
[null,{"$f":"'каб жур'!A51","v":"гр. 9"},{"$f":"'каб жур'!B51","v":"ЩР2"},{"$f":"'каб жур'!C51","v":"пом, 9"},{"$f":"'каб жур'!E51","v":"ВВГнгHF"},{"$f":"'каб жур'!M51","v":"1х5х4"},{"$f":"'каб жур'!J51","v":20}]
[null,{"$f":"'каб жур'!A52","v":"гр. 10"},{"$f":"'каб жур'!B52","v":"ЩР2"},{"$f":"'каб жур'!C52","v":"пом, 10"},{"$f":"'каб жур'!E52","v":"ВВГнгHF"},{"$f":"'каб жур'!M52","v":"1х5х4"},{"$f":"'каб жур'!J52","v":22}]
[null,{"$f":"'каб жур'!A53","v":"гр. 11"},{"$f":"'каб жур'!B53","v":"ЩР2"},{"$f":"'каб жур'!C53","v":"пом, 11"},{"$f":"'каб жур'!E53","v":"ВВГнгHF"},{"$f":"'каб жур'!M53","v":"1х5х4"},{"$f":"'каб жур'!J53","v":23}]
[null,{"$f":"'каб жур'!A54","v":"гр. 12"},{"$f":"'каб жур'!B54","v":"ЩР2"},{"$f":"'каб жур'!C54","v":"пом, 12"},{"$f":"'каб жур'!E54","v":"ВВГнгHF"},{"$f":"'каб жур'!M54","v":"1х5х4"},{"$f":"'каб жур'!J54","v":24}]
[null,{"$f":"'каб жур'!A55","v":"ЩР3"}]
[null,{"$f":"'каб жур'!A56","v":"гр. 1"},{"$f":"'каб жур'!B56","v":"ЩР3"},{"$f":"'каб жур'!C56","v":"пом, 1"},{"$f":"'каб жур'!E56","v":"ВВГнгHF"},{"$f":"'каб жур'!M56","v":"1х5х4"},{"$f":"'каб жур'!J56","v":12}]
[null,{"$f":"'каб жур'!A57","v":"гр. 2"},{"$f":"'каб жур'!B57","v":"ЩР3"},{"$f":"'каб жур'!C57","v":"пом, 2"},{"$f":"'каб жур'!E57","v":"ВВГнгHF"},{"$f":"'каб жур'!M57","v":"1х5х4"},{"$f":"'каб жур'!J57","v":13}]
[null,{"$f":"'каб жур'!A58","v":"гр. 3"},{"$f":"'каб жур'!B58","v":"ЩР3"},{"$f":"'каб жур'!C58","v":"пом, 3"},{"$f":"'каб жур'!E58","v":"ВВГнгHF"},{"$f":"'каб жур'!M58","v":"1х5х4"},{"$f":"'каб жур'!J58","v":14}]
[null,{"$f":"'каб жур'!A59","v":"гр. 4"},{"$f":"'каб жур'!B59","v":"ЩР3"},{"$f":"'каб жур'!C59","v":"пом, 4"},{"$f":"'каб жур'!E59","v":"ВВГнгHF"},{"$f":"'каб жур'!M59","v":"1х5х4"},{"$f":"'каб жур'!J59","v":15}]
[null,{"$f":"'каб жур'!A60","v":"гр. 5"},{"$f":"'каб жур'!B60","v":"ЩР3"},{"$f":"'каб жур'!C60","v":"пом, 5"},{"$f":"'каб жур'!E60","v":"ВВГнгHF"},{"$f":"'каб жур'!M60","v":"1х5х4"},{"$f":"'каб жур'!J60","v":16}]
[null,{"$f":"'каб жур'!A61","v":"гр. 6"},{"$f":"'каб жур'!B61","v":"ЩР3"},{"$f":"'каб жур'!C61","v":"пом, 6"},{"$f":"'каб жур'!E61","v":"ВВГнгHF"},{"$f":"'каб жур'!M61","v":"1х5х4"},{"$f":"'каб жур'!J61","v":17}]
[]
[]
[]
[]
[]
[]
[]
[]
[null,null,null,null,null,null,null,null,null,null,null,null,null,"Лист"]
[null,null,null,null,null,null,null,null,null,null,null,null,null,2]
[]
[]
[null,"Обозначение кабеля, провода","Трасса",null,"Кабель, провод"]
[null,null,"Начало","Конец","по проекту",null,null,"проложен"]
[null,null,null,null,"Марка","Кол., число сечение жил","Длина,        м ","Марка","Кол., число сечение жил","Длина,        м "]
[null,{"$f":"'каб жур'!A62","v":"гр. 7"},{"$f":"'каб жур'!B62","v":"ЩР3"},{"$f":"'каб жур'!C62","v":"пом, 7"},{"$f":"'каб жур'!E62","v":"ВВГнгHF"},{"$f":"'каб жур'!M62","v":"1х5х4"},{"$f":"'каб жур'!J62","v":18}]
[]
[]
[]
[]
[]
[]
[]
[]
[]
[]
[]
[]
[]
[]
[]
[]
[]
[]
[]
[]
[]
[]
[]
[]
[]
[]
[]
[]
[]
[]
[]
[]
[]
[]
[]
[null,null,null,null,null,null,null,null,null,null,null,null,null,"Лист"]
[null,null,null,null,null,null,null,null,null,null,null,null,null,3]

{"sheet":"рамки","index":2,"n_rows":16,"n_cols":16,"rows_kept":16,"cut":false,"hidden":false,"merged":[[6,0,6,1],[6,2,6,3],[6,6,8,6],[7,0,7,1],[7,7,8,7],[8,0,8,1],[7,2,7,3],[8,2,8,3],[9,0,9,1],[9,6,11,6],[9,7,11,9],[10,0,10,1],[11,0,11,1],[10,2,10,3],[11,2,11,3],[9,2,9,3],[13,6,15,8],[13,9,15,9],[1,11,1,12],[1,13,1,14],[1,15,1,16],[2,11,2,12],[2,13,2,14],[2,15,2,16],[1,6,2,9],[3,6,5,9],[7,8,8,8],[7,9,8,9]]}
[]
[null,null,null,null,null,null,"01/01-08-ЭМ",null,null,null,null,"Инв. № подп.",null,"Подпись и дата",null,"Взам инв. №"]
[]
[null,null,null,null,null,null,"Финансово-кредитный центр со встроенными помещениями \nи подземной автостоянкой по адресу:\nг. Санкт-Петербург, Центральный район, Херсонская ул., д.12-14"]
[]
["Изм.","Кол. уч.","Лист","№ док","Подп.","Дата"]
[null,null,null,null,null,null,"Внутреннее электрооборудование\nи электроосвещение","Стадия","Лист","Листов"]
["Проверил",null,"Рубцов",null,null,null,null,"Р",1,"исправить"]
["Разработал",null,"Жуков"]
[null,null,null,null,null,null,"Спецификация оборудования,\nизделий и материалов"]
[]
[]
[]
[]
[]
["Изм.","Кол. уч.","Лист","№ док","Подп.","Дата"]