{"text_format":"1","workbook":"xlsx","n_sheets":7,"sheets":["Реестр","фирмы (2)","Классификатор","Лист2","Проверка","Аналитика","Пл.курс ЕВРО"],"not_rendered":{"charts":0,"images":0,"macros":1,"external_links":4,"defined_names":13,"comments":1,"pivot_tables":1},"unopened":[],"bounds":{"document_bytes":16777216,"sheet_cells":100000,"rows_first":2000,"rows_last":500,"rows_between":2000,"halvings":0,"cell_chars":16384,"cell_head_chars":4096},"cells_cut":0,"cells_raw":0,"read":"whole","date_system":"1900"}

{"sheet":"Реестр","index":0,"n_rows":32,"n_cols":52,"rows_kept":32,"cut":false,"hidden":false,"merged":[[2,30,3,30],[2,29,3,29],[2,51,3,51],[2,37,3,37],[2,41,3,41],[2,42,3,42],[2,43,3,43],[2,50,3,50],[2,0,3,0],[2,3,3,3],[2,2,3,2],[2,44,3,44],[2,7,3,7],[2,20,3,20],[2,21,3,21],[2,23,3,23],[2,9,3,9],[2,33,3,33],[2,24,3,24],[2,34,3,34],[2,26,3,26],[2,32,3,32],[2,11,3,11],[2,12,3,12],[2,1,3,1],[2,10,3,10],[2,13,3,13],[2,14,3,14],[2,15,3,15],[2,4,3,4],[2,5,3,5],[2,6,3,6],[2,8,3,8],[2,48,3,49],[2,47,3,47],[2,16,3,16],[2,18,3,18],[2,17,3,17],[2,31,3,31],[2,36,3,36],[2,38,3,38],[2,39,3,39],[2,45,3,45],[2,46,3,46],[2,19,3,19],[2,35,3,35],[2,27,3,27],[2,22,3,22],[2,40,3,40]]}
["📆",{"$f":"TODAY()","v":"2023-10-18"}]
[]
[null,"Дата получения запроса от менеджера КО на изготовление чертежа, эскиза, образца",null,null,"Шифр","Дата оплаты/запуска матрицы","Кол-во к заказу","Поступило по факту","Ст-ть матрицы от производителя, €","Ст-ть матрицы от производителя, руб","№ запроса","№ предвар.ответа конструкт.отдела","Серия","Год","Месяц","День","Длина ОТ, м","Длина ДО, м","Среднемес.объем заказа (т) в месяц","Вид покрытия","Марка сплава","Состояние поставки","Назначение профиля","Нормативная документация","Заказчик",null,"Дублер","Комплектация",null,"Планируемая дата прихода матрицы (временная)","Планируемая дата прихода матрицы","Примечание","Менеджер","Блок менеджеров коммерческого отдела","Ст-ть матрицы для клиента, руб","Теор.вес п/м, кг","Усилие пресса","Диаметр втулки конт-ра, мм","Габаритные размеры инстр-та, мм","Категория сложности матрицы","Необходимость болстера/вставки","Кол-во каналов","Статус чертежа профиля","Заполняется при отказе","Примечание","Статус чертежа матрицы","Заполняется при отказе","Примечание","Блок нач-ка констр.отдела",null,"Стойкость (ресурс), тн","Изготовитель"]
[]
["Идентификатор заказа","Менеджер по зак.матрич.инстр-та","Целевая дата успешного вх.контроля матрицы","Окончательный статус выполнения","Нач-к констр.отдела","Менеджер комм.отдела","Менеджер по зак.матрич.инстр-та","Менеджер по зак.матрич.инстр-та","Менеджер по зак.матрич.инстр-та","Менеджер по зак.матрич.инстр-та","Менеджер комм.отдела","Менеджер комм.отдела","Менеджер комм.отдела","Менеджер комм.отдела","Менеджер комм.отдела","Менеджер комм.отдела","Менеджер комм.отдела","Менеджер комм.отдела","Менеджер комм.отдела","Менеджер комм.отдела","Менеджер комм.отдела","Менеджер комм.отдела","Менеджер комм.отдела","Менеджер комм.отдела","Менеджер комм.отдела",null,"Менеджер по зак.матрич.инстр-та","Менеджер по зак.матрич.инстр-та",null,"Менеджер по зак.матрич.инстр-та","Менеджер по зак.матрич.инстр-та","Менеджер по зак.матрич.инстр-та","Менеджер по зак.матрич.инстр-та","Статус","Нач-к констр.отдела","Нач-к констр.отдела","Нач-к констр.отдела","Нач-к констр.отдела","Нач-к констр.отдела","Нач-к констр.отдела","Нач-к констр.отдела","Нач-к констр.отдела","Нач-к констр.отдела","Нач-к констр.отдела","Нач-к констр.отдела","Нач-к констр.отдела","Нач-к констр.отдела","Нач-к констр.отдела","Статус","Статус","Нач-к участка корр-ки","Нач-к участка корр-ки"]
[{"$f":"IF(AH6=\"все заполнено\",CONCATENATE(TEXT(B6,\"ДД.ММ.ГГ\"),\"/\",AG6,\"/\",K6),\"\")","v":"02.10.23/Тимофеева/1"},"2023-10-02",{"$f":"Реестр!#REF!","v":{"$error":"#REF!"}},{"$f":"IF(Реестр!#REF!,IF(Реестр!#REF!<=Реестр!#REF!,\"выполнено                       \",\"выполнено не в срок     \"),IF(Реестр!#REF!<$B$1>Реестр!#REF!,\"просрочено                      \",\"срок не истек\"))","v":{"$error":"#REF!"}},{"$f":"[3]Лист2!$X415","v":"0655-63"},null,null,null,null,{"$f":"I6*VLOOKUP(O6,'Пл.курс ЕВРО'!$A$2:$B$10,2,1)","v":0},1,"270923-10","0655",{"$f":"TEXT(B6,\"ГГГ\")","v":"2023"},{"$f":"TEXT(B6,\"ММММММММ\")","v":"Октябрь"},{"$f":"DAY(B6)","v":2},6,6,0.5,"неокр.","АД31","Т1","12.05. Авиастроение","22233-2018","Тонар",null,null,null,null,{"$f":"#REF!+#REF!+B6","v":{"$error":"#REF!"}},{"$f":"INDEX(#REF!,MATCH(1E+100,#REF!,1))","v":{"$error":"#REF!"}},null,"Тимофеева",{"$f":"IF(COUNTA(K6,Q6:Y6,AG6)=0,\"все пусто\",IF(COUNTA(K6,Q6:Y6,AG6)=11,\"все заполнено\",\"что-то заполнено\"))","v":"все заполнено"},{"$f":"[3]Лист2!$AF415","v":225000},{"$f":"[3]Лист2!$AA415","v":4.5389999999999997},{"$f":"[3]Лист2!$AB415","v":4000},{"$f":"[3]Лист2!$AC415","v":240},{"$f":"[3]Лист2!$AD415","v":"230х200"},{"$f":"[3]Лист2!$AE415","v":"B"},{"$f":"[3]Лист2!$Y415","v":"Нет"},{"$f":"[3]Лист2!$Z415","v":1},{"$f":"[3]Лист2!$AH415","v":"Согласовано Мещеряковым"},{"$f":"[3]Лист2!$AI415","v":0},{"$f":"[3]Лист2!$AJ415","v":"00:00:00"},{"$f":"[3]Лист2!$AS415","v":"Согласовано Мещеряковым"},{"$f":"[3]Лист2!$AT415","v":"00:00:00"},{"$f":"[3]Лист2!$AU415","v":"00:00:00"},{"$f":"[3]Лист2!$AK415","v":"все заполнено"},{"$f":"[3]Лист2!$AW415","v":"все заполнено"},{"$f":"[4]Лист2!$AE415","v":90},{"$f":"[4]Лист2!$AF415","v":"FRX"}]
["02.10.23/Тимофеева/2","2023-10-02",{"$f":"Реестр!#REF!","v":{"$error":"#REF!"}},{"$f":"IF(Реестр!#REF!,IF(Реестр!#REF!<=Реестр!#REF!,\"выполнено                       \",\"выполнено не в срок     \"),IF(Реестр!#REF!<$B$1>Реестр!#REF!,\"просрочено                      \",\"срок не истек\"))","v":{"$error":"#REF!"}},{"$f":"[3]Лист2!$X416","v":"0661-03"},null,null,null,null,{"$f":"I7*VLOOKUP(O7,'Пл.курс ЕВРО'!$A$2:$B$10,2,1)","v":0},2,null,null,"2023","Октябрь",2,2.5,2.5,17,"анод защит.","АД35","Т6","15.01. ВПК","22233-2018","Техпромимпорт",null,null,null,null,{"$f":"#REF!+#REF!+B7","v":{"$error":"#REF!"}},{"$f":"INDEX(#REF!,MATCH(1E+100,#REF!,1))","v":{"$error":"#REF!"}},null,"Тимофеева","все заполнено",{"$f":"[3]Лист2!$AF416","v":755000},{"$f":"[3]Лист2!$AA416","v":4.3380000000000001},{"$f":"[3]Лист2!$AB416","v":4000},{"$f":"[3]Лист2!$AC416","v":240},{"$f":"[3]Лист2!$AD416","v":"450х260"},{"$f":"[3]Лист2!$AE416","v":"D"},{"$f":"[3]Лист2!$Y416","v":"Нет"},{"$f":"[3]Лист2!$Z416","v":1},{"$f":"[3]Лист2!$AH416","v":"Согласовано Мещеряковым"},{"$f":"[3]Лист2!$AI416","v":0},{"$f":"[3]Лист2!$AJ416","v":"00:00:00"},{"$f":"[3]Лист2!$AS416","v":"Согласовано Мещеряковым"},{"$f":"[3]Лист2!$AT416","v":"00:00:00"},{"$f":"[3]Лист2!$AU416","v":"00:00:00"},{"$f":"[3]Лист2!$AK416","v":"все заполнено"},{"$f":"[3]Лист2!$AW416","v":"все заполнено"},{"$f":"[4]Лист2!$AE416","v":65},{"$f":"[4]Лист2!$AF416","v":"IM"}]
["02.10.23/Фролова/1","2023-10-02",{"$f":"Реестр!#REF!","v":{"$error":"#REF!"}},{"$f":"IF(Реестр!#REF!,IF(Реестр!#REF!<=Реестр!#REF!,\"выполнено                       \",\"выполнено не в срок     \"),IF(Реестр!#REF!<$B$1>Реестр!#REF!,\"просрочено                      \",\"срок не истек\"))","v":{"$error":"#REF!"}},{"$f":"[3]Лист2!$X417","v":"1321-04"},"2023-10-16",null,null,null,{"$f":"I8*VLOOKUP(O8,'Пл.курс ЕВРО'!$A$2:$B$10,2,1)","v":0},1,"300823-12",null,"2023","Октябрь",2,5.3,5.4,3,"анод декор",6060,"Т66","05.02. Двери межкомнатные; окна\\двери","22233-2018","ФДТ",null,null,null,null,{"$f":"#REF!+#REF!+B8","v":{"$error":"#REF!"}},{"$f":"INDEX(#REF!,MATCH(1E+100,#REF!,1))","v":{"$error":"#REF!"}},null,"Фролова","все заполнено",{"$f":"[3]Лист2!$AF417","v":85000},{"$f":"[3]Лист2!$AA417","v":0.85399999999999998},{"$f":"[3]Лист2!$AB417","v":1000},{"$f":"[3]Лист2!$AC417","v":130},{"$f":"[3]Лист2!$AD417","v":"180х140"},{"$f":"[3]Лист2!$AE417","v":"C"},{"$f":"[3]Лист2!$Y417","v":"Нет"},{"$f":"[3]Лист2!$Z417","v":1},{"$f":"[3]Лист2!$AH417","v":"Согласовано Мещеряковым"},{"$f":"[3]Лист2!$AI417","v":0},{"$f":"[3]Лист2!$AJ417","v":"00:00:00"},{"$f":"[3]Лист2!$AS417","v":"Согласовано Мещеряковым"},{"$f":"[3]Лист2!$AT417","v":"00:00:00"},{"$f":"[3]Лист2!$AU417","v":"00:00:00"},{"$f":"[3]Лист2!$AK417","v":"все заполнено"},{"$f":"[3]Лист2!$AW417","v":"все заполнено"},{"$f":"[4]Лист2!$AE417","v":25},{"$f":"[4]Лист2!$AF417","v":"ПрИн"}]
["02.10.23/Акафьева/1","2023-10-02",{"$f":"Реестр!#REF!","v":{"$error":"#REF!"}},{"$f":"IF(Реестр!#REF!,IF(Реестр!#REF!<=Реестр!#REF!,\"выполнено                       \",\"выполнено не в срок     \"),IF(Реестр!#REF!<$B$1>Реестр!#REF!,\"просрочено                      \",\"срок не истек\"))","v":{"$error":"#REF!"}},{"$f":"[3]Лист2!$X418","v":"2606-24"},"2023-10-13",1,null,1095,{"$f":"I9*VLOOKUP(O9,'Пл.курс ЕВРО'!$A$2:$B$10,2,1)","v":126888.59999999999},1,"280923-21",null,"2023","Октябрь",2,3,6,5,"под анод.",6063,"Т6","11.02. Радиаторы охлаждения","22233-2018","Авангард",null,null,null,null,{"$f":"#REF!+#REF!+B9","v":{"$error":"#REF!"}},{"$f":"INDEX(#REF!,MATCH(1E+100,#REF!,1))","v":{"$error":"#REF!"}},null,"Акафьева","все заполнено",{"$f":"[3]Лист2!$AF418","v":110000},{"$f":"[3]Лист2!$AA418","v":1.48},{"$f":"[3]Лист2!$AB418","v":1500},{"$f":"[3]Лист2!$AC418","v":160},{"$f":"[3]Лист2!$AD418","v":"200х140"},{"$f":"[3]Лист2!$AE418","v":"C"},{"$f":"[3]Лист2!$Y418","v":"Нет"},{"$f":"[3]Лист2!$Z418","v":1},{"$f":"[3]Лист2!$AH418","v":"Согласовано Мещеряковым"},{"$f":"[3]Лист2!$AI418","v":0},{"$f":"[3]Лист2!$AJ418","v":"00:00:00"},{"$f":"[3]Лист2!$AS418","v":"Согласовано Мещеряковым"},{"$f":"[3]Лист2!$AT418","v":"00:00:00"},{"$f":"[3]Лист2!$AU418","v":"00:00:00"},{"$f":"[3]Лист2!$AK418","v":"все заполнено"},{"$f":"[3]Лист2!$AW418","v":"все заполнено"},{"$f":"[4]Лист2!$AE418","v":25},{"$f":"[4]Лист2!$AF418","v":"COMES"}]
[{"$f":"IF(AH10=\"все заполнено\",CONCATENATE(TEXT(B10,\"ДД.ММ.ГГ\"),\"/\",AG10,\"/\",K10),\"\")","v":"02.10.23/Зражевский/1"},"2023-10-02",{"$f":"Реестр!#REF!","v":{"$error":"#REF!"}},{"$f":"IF(Реестр!#REF!,IF(Реестр!#REF!<=Реестр!#REF!,\"выполнено                       \",\"выполнено не в срок     \"),IF(Реестр!#REF!<$B$1>Реестр!#REF!,\"просрочено                      \",\"срок не истек\"))","v":{"$error":"#REF!"}},{"$f":"[3]Лист2!$X419","v":"1314-01"},null,null,null,null,{"$f":"I10*VLOOKUP(O10,'Пл.курс ЕВРО'!$A$2:$B$10,2,1)","v":0},1,null,"1314-01","2023","Октябрь",2,3,6,4,"неокр.",6060,"Т6","03.07. Навесные вентилируемые фасады","22233-2018","Ава-Трейд (Вектор Фасад)",null,null,null,null,{"$f":"#REF!+#REF!+B10","v":{"$error":"#REF!"}},{"$f":"INDEX(#REF!,MATCH(1E+100,#REF!,1))","v":{"$error":"#REF!"}},null,"Зражевский",{"$f":"IF(COUNTA(K10,Q10:Y10,AG10)=0,\"все пусто\",IF(COUNTA(K10,Q10:Y10,AG10)=11,\"все заполнено\",\"что-то заполнено\"))","v":"все заполнено"},{"$f":"[3]Лист2!$AF419","v":695000},{"$f":"[3]Лист2!$AA419","v":2.702},{"$f":"[3]Лист2!$AB419","v":4000},{"$f":"[3]Лист2!$AC419","v":240},{"$f":"[3]Лист2!$AD419","v":"450х260"},{"$f":"[3]Лист2!$AE419","v":"C"},{"$f":"[3]Лист2!$Y419","v":"Нет"},{"$f":"[3]Лист2!$Z419","v":1},{"$f":"[3]Лист2!$AH419","v":"Согласовано Мещеряковым"},{"$f":"[3]Лист2!$AI419","v":0},{"$f":"[3]Лист2!$AJ419","v":"00:00:00"},{"$f":"[3]Лист2!$AS419","v":"Согласовано Мещеряковым"},{"$f":"[3]Лист2!$AT419","v":"00:00:00"},{"$f":"[3]Лист2!$AU419","v":"00:00:00"},{"$f":"[3]Лист2!$AK419","v":"все заполнено"},{"$f":"[3]Лист2!$AW419","v":"все заполнено"},{"$f":"[4]Лист2!$AE419","v":70},{"$f":"[4]Лист2!$AF419","v":"ПрИн"}]
["03.10.23/Акафьева/1","2023-10-03",{"$f":"Реестр!#REF!","v":{"$error":"#REF!"}},{"$f":"IF(Реестр!#REF!,IF(Реестр!#REF!<=Реестр!#REF!,\"выполнено                       \",\"выполнено не в срок     \"),IF(Реестр!#REF!<$B$1>Реестр!#REF!,\"просрочено                      \",\"срок не истек\"))","v":{"$error":"#REF!"}},{"$f":"[3]Лист2!$X420","v":"0269-44"},null,null,null,null,{"$f":"I11*VLOOKUP(O11,'Пл.курс ЕВРО'!$A$2:$B$10,2,1)","v":0},1,"220823-1","0269","2023","Октябрь",3,3,6,0.5,"неокр.","АД31","Т1","01.01. Общестроительный профиль","22233-2018","Сталко",null,null,null,null,{"$f":"#REF!+#REF!+B11","v":{"$error":"#REF!"}},{"$f":"INDEX(#REF!,MATCH(1E+100,#REF!,1))","v":{"$error":"#REF!"}},null,"Акафьева","все заполнено",{"$f":"[3]Лист2!$AF420","v":75000},{"$f":"[3]Лист2!$AA420","v":0.44},{"$f":"[3]Лист2!$AB420","v":1000},{"$f":"[3]Лист2!$AC420","v":130},{"$f":"[3]Лист2!$AD420","v":"180х140"},{"$f":"[3]Лист2!$AE420","v":"B"},{"$f":"[3]Лист2!$Y420","v":"Нет"},{"$f":"[3]Лист2!$Z420","v":1},{"$f":"[3]Лист2!$AH420","v":"Согласовано Мещеряковым"},{"$f":"[3]Лист2!$AI420","v":"Невозможно изготовить"},{"$f":"[3]Лист2!$AJ420","v":"Не достаточно размеров"},{"$f":"[3]Лист2!$AS420","v":"Согласовано Мещеряковым"},{"$f":"[3]Лист2!$AT420","v":"00:00:00"},{"$f":"[3]Лист2!$AU420","v":"00:00:00"},{"$f":"[3]Лист2!$AK420","v":"все заполнено"},{"$f":"[3]Лист2!$AW420","v":"все заполнено"},{"$f":"[4]Лист2!$AE420","v":30},{"$f":"[4]Лист2!$AF420","v":"FRX"}]
["03.10.23/Акафьева/2","2023-10-03",{"$f":"Реестр!#REF!","v":{"$error":"#REF!"}},{"$f":"IF(Реестр!#REF!,IF(Реестр!#REF!<=Реестр!#REF!,\"выполнено                       \",\"выполнено не в срок     \"),IF(Реестр!#REF!<$B$1>Реестр!#REF!,\"просрочено                      \",\"срок не истек\"))","v":{"$error":"#REF!"}},{"$f":"[3]Лист2!$X421","v":"0269-45"},null,null,null,null,{"$f":"I12*VLOOKUP(O12,'Пл.курс ЕВРО'!$A$2:$B$10,2,1)","v":0},2,"220823-2","0269","2023","Октябрь",3,3,6,0.5,"неокр.","АД31","Т1","01.01. Общестроительный профиль","22233-2018","Сталко",null,null,null,null,{"$f":"#REF!+#REF!+B12","v":{"$error":"#REF!"}},{"$f":"INDEX(#REF!,MATCH(1E+100,#REF!,1))","v":{"$error":"#REF!"}},null,"Акафьева","все заполнено",{"$f":"[3]Лист2!$AF421","v":100000},{"$f":"[3]Лист2!$AA421","v":0.215},{"$f":"[3]Лист2!$AB421","v":1000},{"$f":"[3]Лист2!$AC421","v":130},{"$f":"[3]Лист2!$AD421","v":"180х140"},{"$f":"[3]Лист2!$AE421","v":"C"},{"$f":"[3]Лист2!$Y421","v":"Нет"},{"$f":"[3]Лист2!$Z421","v":2},{"$f":"[3]Лист2!$AH421","v":"Согласовано Мещеряковым"},{"$f":"[3]Лист2!$AI421","v":"Невозможно изготовить"},{"$f":"[3]Лист2!$AJ421","v":"Не достаточно размеров"},{"$f":"[3]Лист2!$AS421","v":"Согласовано Мещеряковым"},{"$f":"[3]Лист2!$AT421","v":"00:00:00"},{"$f":"[3]Лист2!$AU421","v":"00:00:00"},{"$f":"[3]Лист2!$AK421","v":"все заполнено"},{"$f":"[3]Лист2!$AW421","v":"все заполнено"},{"$f":"[4]Лист2!$AE421","v":15},{"$f":"[4]Лист2!$AF421","v":"EXP"}]
["03.10.23/Мельников/1","2023-10-03",{"$f":"Реестр!#REF!","v":{"$error":"#REF!"}},{"$f":"IF(Реестр!#REF!,IF(Реестр!#REF!<=Реестр!#REF!,\"выполнено                       \",\"выполнено не в срок     \"),IF(Реестр!#REF!<$B$1>Реестр!#REF!,\"просрочено                      \",\"срок не истек\"))","v":{"$error":"#REF!"}},{"$f":"[3]Лист2!$X422","v":"1113-38"},null,null,null,null,{"$f":"I13*VLOOKUP(O13,'Пл.курс ЕВРО'!$A$2:$B$10,2,1)","v":0},1,"031023-6","1113","2023","Октябрь",3,3,6,1,"окраш.","АД31","Т1","09.01. Шкафы-купе","22233-2018","Марти Глас",null,null,null,null,{"$f":"#REF!+#REF!+B13","v":{"$error":"#REF!"}},{"$f":"INDEX(#REF!,MATCH(1E+100,#REF!,1))","v":{"$error":"#REF!"}},null,"Мельников","все заполнено",{"$f":"[3]Лист2!$AF422","v":90000},{"$f":"[3]Лист2!$AA422","v":0.28699999999999998},{"$f":"[3]Лист2!$AB422","v":1000},{"$f":"[3]Лист2!$AC422","v":130},{"$f":"[3]Лист2!$AD422","v":"180х140"},{"$f":"[3]Лист2!$AE422","v":"B"},{"$f":"[3]Лист2!$Y422","v":"Нет"},{"$f":"[3]Лист2!$Z422","v":2},{"$f":"[3]Лист2!$AH422","v":"Согласовано Мещеряковым"},{"$f":"[3]Лист2!$AI422","v":0},{"$f":"[3]Лист2!$AJ422","v":"00:00:00"},{"$f":"[3]Лист2!$AS422","v":"Согласовано Мещеряковым"},{"$f":"[3]Лист2!$AT422","v":"00:00:00"},{"$f":"[3]Лист2!$AU422","v":"00:00:00"},{"$f":"[3]Лист2!$AK422","v":"все заполнено"},{"$f":"[3]Лист2!$AW422","v":"все заполнено"},{"$f":"[4]Лист2!$AE422","v":30},{"$f":"[4]Лист2!$AF422","v":"COMES"}]
["03.10.23/Калинина/1","2023-10-03",{"$f":"Реестр!#REF!","v":{"$error":"#REF!"}},{"$f":"IF(Реестр!#REF!,IF(Реестр!#REF!<=Реестр!#REF!,\"выполнено                       \",\"выполнено не в срок     \"),IF(Реестр!#REF!<$B$1>Реестр!#REF!,\"просрочено                      \",\"срок не истек\"))","v":{"$error":"#REF!"}},{"$f":"[3]Лист2!$X423","v":"1184-09"},null,null,null,null,{"$f":"I14*VLOOKUP(O14,'Пл.курс ЕВРО'!$A$2:$B$10,2,1)","v":0},1,"021023-1","1184","2023","Октябрь",3,1,6,1.6,"неокр.","АД31","Т1","03.02. Системы вентиляции","22233-2018","Завод ВКО",null,null,null,null,{"$f":"#REF!+#REF!+B14","v":{"$error":"#REF!"}},{"$f":"INDEX(#REF!,MATCH(1E+100,#REF!,1))","v":{"$error":"#REF!"}},null,"Калинина","все заполнено",{"$f":"[3]Лист2!$AF423","v":160000},{"$f":"[3]Лист2!$AA423","v":0.92500000000000004},{"$f":"[3]Лист2!$AB423","v":1500},{"$f":"[3]Лист2!$AC423","v":160},{"$f":"[3]Лист2!$AD423","v":"200х140"},{"$f":"[3]Лист2!$AE423","v":"B"},{"$f":"[3]Лист2!$Y423","v":"Да"},{"$f":"[3]Лист2!$Z423","v":1},{"$f":"[3]Лист2!$AH423","v":"Согласовано Мещеряковым"},{"$f":"[3]Лист2!$AI423","v":0},{"$f":"[3]Лист2!$AJ423","v":"00:00:00"},{"$f":"[3]Лист2!$AS423","v":"Согласовано Мещеряковым"},{"$f":"[3]Лист2!$AT423","v":"00:00:00"},{"$f":"[3]Лист2!$AU423","v":"00:00:00"},{"$f":"[3]Лист2!$AK423","v":"все заполнено"},{"$f":"[3]Лист2!$AW423","v":"все заполнено"},{"$f":"[4]Лист2!$AE423","v":49},{"$f":"[4]Лист2!$AF423","v":"COMES"}]
["04.10.23/Голубев/1","2023-10-04",{"$f":"Реестр!#REF!","v":{"$error":"#REF!"}},{"$f":"IF(Реестр!#REF!,IF(Реестр!#REF!<=Реестр!#REF!,\"выполнено                       \",\"выполнено не в срок     \"),IF(Реестр!#REF!<$B$1>Реестр!#REF!,\"просрочено                      \",\"срок не истек\"))","v":{"$error":"#REF!"}},{"$f":"[3]Лист2!$X424","v":"1322-01"},null,null,null,null,{"$f":"I15*VLOOKUP(O15,'Пл.курс ЕВРО'!$A$2:$B$10,2,1)","v":0},1,"140923-4","новая","2023","Октябрь",4,6,6,5,"окраш.","АД31","Т1","03.07. Навесные вентилируемые фасады","22233-2018","Квалитет",null,null,null,null,{"$f":"#REF!+#REF!+B15","v":{"$error":"#REF!"}},{"$f":"INDEX(#REF!,MATCH(1E+100,#REF!,1))","v":{"$error":"#REF!"}},null,"Голубев","все заполнено",{"$f":"[3]Лист2!$AF424","v":95000},{"$f":"[3]Лист2!$AA424","v":0.17},{"$f":"[3]Лист2!$AB424","v":1000},{"$f":"[3]Лист2!$AC424","v":130},{"$f":"[3]Лист2!$AD424","v":"200х140"},{"$f":"[3]Лист2!$AE424","v":"C"},{"$f":"[3]Лист2!$Y424","v":"Нет"},{"$f":"[3]Лист2!$Z424","v":3},{"$f":"[3]Лист2!$AH424","v":"Согласовано Мещеряковым"},{"$f":"[3]Лист2!$AI424","v":0},{"$f":"[3]Лист2!$AJ424","v":"00:00:00"},{"$f":"[3]Лист2!$AS424","v":"Согласовано Мещеряковым"},{"$f":"[3]Лист2!$AT424","v":"00:00:00"},{"$f":"[3]Лист2!$AU424","v":"00:00:00"},{"$f":"[3]Лист2!$AK424","v":"все заполнено"},{"$f":"[3]Лист2!$AW424","v":"все заполнено"},{"$f":"[4]Лист2!$AE424","v":25},{"$f":"[4]Лист2!$AF424","v":"FRX"}]
["05.10.23/Калинина/1","2023-10-05",{"$f":"Реестр!#REF!","v":{"$error":"#REF!"}},{"$f":"IF(Реестр!#REF!,IF(Реестр!#REF!<=Реестр!#REF!,\"выполнено                       \",\"выполнено не в срок     \"),IF(Реестр!#REF!<$B$1>Реестр!#REF!,\"просрочено                      \",\"срок не истек\"))","v":{"$error":"#REF!"}},{"$f":"[3]Лист2!$X425","v":"1026-15"},null,null,null,null,{"$f":"I16*VLOOKUP(O16,'Пл.курс ЕВРО'!$A$2:$B$10,2,1)","v":0},1,"200923-8-13","1026",{"$f":"TEXT(B16,\"ГГГ\")","v":"2023"},{"$f":"TEXT(B16,\"ММММММММ\")","v":"Октябрь"},{"$f":"DAY(B16)","v":5},3,6,2,"анод декор",6063,"Т6","05.02. Двери межкомнатные; окна\\двери","22233-2018","ИП Галактионов А.А.",null,null,null,null,{"$f":"#REF!+#REF!+B16","v":{"$error":"#REF!"}},{"$f":"INDEX(#REF!,MATCH(1E+100,#REF!,1))","v":{"$error":"#REF!"}},null,"Калинина","все заполнено",{"$f":"[3]Лист2!$AF425","v":85000},{"$f":"[3]Лист2!$AA425","v":0.95},{"$f":"[3]Лист2!$AB425","v":1500},{"$f":"[3]Лист2!$AC425","v":160},{"$f":"[3]Лист2!$AD425","v":"200х140"},{"$f":"[3]Лист2!$AE425","v":"B"},{"$f":"[3]Лист2!$Y425","v":"Нет"},{"$f":"[3]Лист2!$Z425","v":1},{"$f":"[3]Лист2!$AH425","v":"Согласовано Мещеряковым"},{"$f":"[3]Лист2!$AI425","v":0},{"$f":"[3]Лист2!$AJ425","v":"00:00:00"},{"$f":"[3]Лист2!$AS425","v":"Согласовано Мещеряковым"},{"$f":"[3]Лист2!$AT425","v":"00:00:00"},{"$f":"[3]Лист2!$AU425","v":"00:00:00"},{"$f":"[3]Лист2!$AK425","v":"все заполнено"},{"$f":"[3]Лист2!$AW425","v":"все заполнено"},{"$f":"[4]Лист2!$AE425","v":40},{"$f":"[4]Лист2!$AF425","v":"IM"}]
["05.10.23/Калинина/2","2023-10-05",{"$f":"Реестр!#REF!","v":{"$error":"#REF!"}},{"$f":"IF(Реестр!#REF!,IF(Реестр!#REF!<=Реестр!#REF!,\"выполнено                       \",\"выполнено не в срок     \"),IF(Реестр!#REF!<$B$1>Реестр!#REF!,\"просрочено                      \",\"срок не истек\"))","v":{"$error":"#REF!"}},{"$f":"[3]Лист2!$X426","v":"1026-16"},null,null,null,null,{"$f":"I17*VLOOKUP(O17,'Пл.курс ЕВРО'!$A$2:$B$10,2,1)","v":0},2,"200923-8-13","1026","2023","Октябрь",5,3,6,2,"анод декор",6063,"Т6","05.02. Двери межкомнатные; окна\\двери","22233-2018","ИП Галактионов А.А.",null,null,null,null,{"$f":"#REF!+#REF!+B17","v":{"$error":"#REF!"}},{"$f":"INDEX(#REF!,MATCH(1E+100,#REF!,1))","v":{"$error":"#REF!"}},null,"Калинина",{"$f":"IF(COUNTA(K17,Q17:Y17,AG17)=0,\"все пусто\",IF(COUNTA(K17,Q17:Y17,AG17)=11,\"все заполнено\",\"что-то заполнено\"))","v":"все заполнено"},{"$f":"[3]Лист2!$AF426","v":230000},{"$f":"[3]Лист2!$AA426","v":1.4159999999999999},{"$f":"[3]Лист2!$AB426","v":1500},{"$f":"[3]Лист2!$AC426","v":160},{"$f":"[3]Лист2!$AD426","v":"230х140"},{"$f":"[3]Лист2!$AE426","v":"C"},{"$f":"[3]Лист2!$Y426","v":"Да"},{"$f":"[3]Лист2!$Z426","v":1},{"$f":"[3]Лист2!$AH426","v":"Согласовано Мещеряковым"},{"$f":"[3]Лист2!$AI426","v":0},{"$f":"[3]Лист2!$AJ426","v":"00:00:00"},{"$f":"[3]Лист2!$AS426","v":"Согласовано Мещеряковым"},{"$f":"[3]Лист2!$AT426","v":"00:00:00"},{"$f":"[3]Лист2!$AU426","v":"00:00:00"},{"$f":"[3]Лист2!$AK426","v":"все заполнено"},{"$f":"[3]Лист2!$AW426","v":"все заполнено"},{"$f":"[4]Лист2!$AE426","v":35},{"$f":"[4]Лист2!$AF426","v":"FRX"}]
["05.10.23/Калинина/3","2023-10-05",{"$f":"Реестр!#REF!","v":{"$error":"#REF!"}},{"$f":"IF(Реестр!#REF!,IF(Реестр!#REF!<=Реестр!#REF!,\"выполнено                       \",\"выполнено не в срок     \"),IF(Реестр!#REF!<$B$1>Реестр!#REF!,\"просрочено                      \",\"срок не истек\"))","v":{"$error":"#REF!"}},{"$f":"[3]Лист2!$X427","v":"1026-17"},null,null,null,null,{"$f":"I18*VLOOKUP(O18,'Пл.курс ЕВРО'!$A$2:$B$10,2,1)","v":0},3,"200923-8-13","1026",{"$f":"TEXT(B18,\"ГГГ\")","v":"2023"},{"$f":"TEXT(B18,\"ММММММММ\")","v":"Октябрь"},{"$f":"DAY(B18)","v":5},3,6,2,"анод декор",6063,"Т6","05.02. Двери межкомнатные; окна\\двери","22233-2018","ИП Галактионов А.А.",null,null,null,null,{"$f":"#REF!+#REF!+B18","v":{"$error":"#REF!"}},{"$f":"INDEX(#REF!,MATCH(1E+100,#REF!,1))","v":{"$error":"#REF!"}},null,"Калинина",{"$f":"IF(COUNTA(K18,Q18:Y18,AG18)=0,\"все пусто\",IF(COUNTA(K18,Q18:Y18,AG18)=11,\"все заполнено\",\"что-то заполнено\"))","v":"все заполнено"},{"$f":"[3]Лист2!$AF427","v":115000},{"$f":"[3]Лист2!$AA427","v":0.85299999999999998},{"$f":"[3]Лист2!$AB427","v":1500},{"$f":"[3]Лист2!$AC427","v":160},{"$f":"[3]Лист2!$AD427","v":"200х140"},{"$f":"[3]Лист2!$AE427","v":"C"},{"$f":"[3]Лист2!$Y427","v":"Нет"},{"$f":"[3]Лист2!$Z427","v":1},{"$f":"[3]Лист2!$AH427","v":"Согласовано Мещеряковым"},{"$f":"[3]Лист2!$AI427","v":0},{"$f":"[3]Лист2!$AJ427","v":"00:00:00"},{"$f":"[3]Лист2!$AS427","v":"Согласовано Мещеряковым"},{"$f":"[3]Лист2!$AT427","v":"00:00:00"},{"$f":"[3]Лист2!$AU427","v":"00:00:00"},{"$f":"[3]Лист2!$AK427","v":"все заполнено"},{"$f":"[3]Лист2!$AW427","v":"все заполнено"},{"$f":"[4]Лист2!$AE427","v":35},{"$f":"[4]Лист2!$AF427","v":"ПрИн"}]
["05.10.23/Калинина/4","2023-10-05",{"$f":"Реестр!#REF!","v":{"$error":"#REF!"}},{"$f":"IF(Реестр!#REF!,IF(Реестр!#REF!<=Реестр!#REF!,\"выполнено                       \",\"выполнено не в срок     \"),IF(Реестр!#REF!<$B$1>Реестр!#REF!,\"просрочено                      \",\"срок не истек\"))","v":{"$error":"#REF!"}},{"$f":"[3]Лист2!$X428","v":"1026-18"},null,null,null,null,{"$f":"I19*VLOOKUP(O19,'Пл.курс ЕВРО'!$A$2:$B$10,2,1)","v":0},4,"200923-8-13","1026","2023","Октябрь",5,3,6,2,"анод декор",6063,"Т6","05.02. Двери межкомнатные; окна\\двери","22233-2018","ИП Галактионов А.А.",null,null,null,null,{"$f":"#REF!+#REF!+B19","v":{"$error":"#REF!"}},{"$f":"INDEX(#REF!,MATCH(1E+100,#REF!,1))","v":{"$error":"#REF!"}},null,"Калинина","все заполнено",{"$f":"[3]Лист2!$AF428","v":150000},{"$f":"[3]Лист2!$AA428","v":0.93600000000000005},{"$f":"[3]Лист2!$AB428","v":1500},{"$f":"[3]Лист2!$AC428","v":160},{"$f":"[3]Лист2!$AD428","v":"230х140"},{"$f":"[3]Лист2!$AE428","v":"C"},{"$f":"[3]Лист2!$Y428","v":"Нет"},{"$f":"[3]Лист2!$Z428","v":1},{"$f":"[3]Лист2!$AH428","v":"Согласовано Мещеряковым"},{"$f":"[3]Лист2!$AI428","v":0},{"$f":"[3]Лист2!$AJ428","v":"00:00:00"},{"$f":"[3]Лист2!$AS428","v":"Согласовано Мещеряковым"},{"$f":"[3]Лист2!$AT428","v":"00:00:00"},{"$f":"[3]Лист2!$AU428","v":"00:00:00"},{"$f":"[3]Лист2!$AK428","v":"все заполнено"},{"$f":"[3]Лист2!$AW428","v":"все заполнено"},{"$f":"[4]Лист2!$AE428","v":30},{"$f":"[4]Лист2!$AF428","v":"FRX"}]
["05.10.23/Калинина/5","2023-10-05",{"$f":"Реестр!#REF!","v":{"$error":"#REF!"}},{"$f":"IF(Реестр!#REF!,IF(Реестр!#REF!<=Реестр!#REF!,\"выполнено                       \",\"выполнено не в срок     \"),IF(Реестр!#REF!<$B$1>Реестр!#REF!,\"просрочено                      \",\"срок не истек\"))","v":{"$error":"#REF!"}},{"$f":"[3]Лист2!$X429","v":"1026-19"},null,null,null,null,{"$f":"I20*VLOOKUP(O20,'Пл.курс ЕВРО'!$A$2:$B$10,2,1)","v":0},5,"200923-8-13","1026","2023","Октябрь",5,3,6,2,"анод декор",6063,"Т6","05.02. Двери межкомнатные; окна\\двери","22233-2018","ИП Галактионов А.А.",null,null,null,null,{"$f":"#REF!+#REF!+B20","v":{"$error":"#REF!"}},{"$f":"INDEX(#REF!,MATCH(1E+100,#REF!,1))","v":{"$error":"#REF!"}},null,"Калинина","все заполнено",{"$f":"[3]Лист2!$AF429","v":115000},{"$f":"[3]Лист2!$AA429","v":1.2849999999999999},{"$f":"[3]Лист2!$AB429","v":1500},{"$f":"[3]Лист2!$AC429","v":160},{"$f":"[3]Лист2!$AD429","v":"200х140"},{"$f":"[3]Лист2!$AE429","v":"C"},{"$f":"[3]Лист2!$Y429","v":"Нет"},{"$f":"[3]Лист2!$Z429","v":1},{"$f":"[3]Лист2!$AH429","v":"Согласовано Мещеряковым"},{"$f":"[3]Лист2!$AI429","v":0},{"$f":"[3]Лист2!$AJ429","v":"00:00:00"},{"$f":"[3]Лист2!$AS429","v":"Согласовано Мещеряковым"},{"$f":"[3]Лист2!$AT429","v":"00:00:00"},{"$f":"[3]Лист2!$AU429","v":"00:00:00"},{"$f":"[3]Лист2!$AK429","v":"все заполнено"},{"$f":"[3]Лист2!$AW429","v":"все заполнено"},{"$f":"[4]Лист2!$AE429","v":35},{"$f":"[4]Лист2!$AF429","v":"IM"}]
["05.10.23/Калинина/6","2023-10-05",{"$f":"Реестр!#REF!","v":{"$error":"#REF!"}},{"$f":"IF(Реестр!#REF!,IF(Реестр!#REF!<=Реестр!#REF!,\"выполнено                       \",\"выполнено не в срок     \"),IF(Реестр!#REF!<$B$1>Реестр!#REF!,\"просрочено                      \",\"срок не истек\"))","v":{"$error":"#REF!"}},{"$f":"[3]Лист2!$X430","v":"1026-20"},null,null,null,null,{"$f":"I21*VLOOKUP(O21,'Пл.курс ЕВРО'!$A$2:$B$10,2,1)","v":0},6,"200923-8-13","1026","2023","Октябрь",5,3,6,2,"анод декор",6063,"Т6","05.02. Двери межкомнатные; окна\\двери","22233-2018","ИП Галактионов А.А.",null,null,null,null,{"$f":"#REF!+#REF!+B21","v":{"$error":"#REF!"}},{"$f":"INDEX(#REF!,MATCH(1E+100,#REF!,1))","v":{"$error":"#REF!"}},null,"Калинина","все заполнено",{"$f":"[3]Лист2!$AF430","v":80000},{"$f":"[3]Лист2!$AA430","v":0.27800000000000002},{"$f":"[3]Лист2!$AB430","v":1000},{"$f":"[3]Лист2!$AC430","v":130},{"$f":"[3]Лист2!$AD430","v":"180х140"},{"$f":"[3]Лист2!$AE430","v":"B"},{"$f":"[3]Лист2!$Y430","v":"Нет"},{"$f":"[3]Лист2!$Z430","v":2},{"$f":"[3]Лист2!$AH430","v":"Согласовано Мещеряковым"},{"$f":"[3]Лист2!$AI430","v":0},{"$f":"[3]Лист2!$AJ430","v":"00:00:00"},{"$f":"[3]Лист2!$AS430","v":"Согласовано Мещеряковым"},{"$f":"[3]Лист2!$AT430","v":"00:00:00"},{"$f":"[3]Лист2!$AU430","v":"00:00:00"},{"$f":"[3]Лист2!$AK430","v":"все заполнено"},{"$f":"[3]Лист2!$AW430","v":"все заполнено"},{"$f":"[4]Лист2!$AE430","v":35},{"$f":"[4]Лист2!$AF430","v":"IM"}]
["06.10.23/Четверткова/1","2023-10-06",{"$f":"Реестр!#REF!","v":{"$error":"#REF!"}},{"$f":"IF(Реестр!#REF!,IF(Реестр!#REF!<=Реестр!#REF!,\"выполнено                       \",\"выполнено не в срок     \"),IF(Реестр!#REF!<$B$1>Реестр!#REF!,\"просрочено                      \",\"срок не истек\"))","v":{"$error":"#REF!"}},{"$f":"[3]Лист2!$X431","v":"3630-58"},"2023-10-11",1,null,680,{"$f":"I22*VLOOKUP(O22,'Пл.курс ЕВРО'!$A$2:$B$10,2,1)","v":78798.399999999994},1,"210923-13",null,"2023","Октябрь",6,3,6,1,"под анод.",6082,"Т6","10.03. Прочее для машиностроения и промышленности (в т.ч.нефтехим)","22233-2018","Флагман",null,null,null,null,{"$f":"#REF!+#REF!+B22","v":{"$error":"#REF!"}},{"$f":"INDEX(#REF!,MATCH(1E+100,#REF!,1))","v":{"$error":"#REF!"}},null,"Четверткова","все заполнено",{"$f":"[3]Лист2!$AF431","v":190000},{"$f":"[3]Лист2!$AA431","v":0.99099999999999999},{"$f":"[3]Лист2!$AB431","v":4000},{"$f":"[3]Лист2!$AC431","v":240},{"$f":"[3]Лист2!$AD431","v":"230х200"},{"$f":"[3]Лист2!$AE431","v":"B"},{"$f":"[3]Лист2!$Y431","v":"Нет"},{"$f":"[3]Лист2!$Z431","v":2},{"$f":"[3]Лист2!$AH431","v":"Согласовано Мещеряковым"},{"$f":"[3]Лист2!$AI431","v":0},{"$f":"[3]Лист2!$AJ431","v":"00:00:00"},{"$f":"[3]Лист2!$AS431","v":"Согласовано Мещеряковым"},{"$f":"[3]Лист2!$AT431","v":"00:00:00"},{"$f":"[3]Лист2!$AU431","v":"00:00:00"},{"$f":"[3]Лист2!$AK431","v":"все заполнено"},{"$f":"[3]Лист2!$AW431","v":"все заполнено"},{"$f":"[4]Лист2!$AE431","v":80},{"$f":"[4]Лист2!$AF431","v":"FRX"}]
["06.10.23/Четверткова/2","2023-10-06",{"$f":"Реестр!#REF!","v":{"$error":"#REF!"}},{"$f":"IF(Реестр!#REF!,IF(Реестр!#REF!<=Реестр!#REF!,\"выполнено                       \",\"выполнено не в срок     \"),IF(Реестр!#REF!<$B$1>Реестр!#REF!,\"просрочено                      \",\"срок не истек\"))","v":{"$error":"#REF!"}},{"$f":"[3]Лист2!$X432","v":"3630-59"},"2023-10-11",1,null,650,{"$f":"I23*VLOOKUP(O23,'Пл.курс ЕВРО'!$A$2:$B$10,2,1)","v":75322},2,"210923-14",null,"2023","Октябрь",6,3,6,1,"под анод.",6082,"Т6","10.03. Прочее для машиностроения и промышленности (в т.ч.нефтехим)","22233-2018","Флагман",null,null,null,null,{"$f":"#REF!+#REF!+B23","v":{"$error":"#REF!"}},{"$f":"INDEX(#REF!,MATCH(1E+100,#REF!,1))","v":{"$error":"#REF!"}},null,"Четверткова","все заполнено",{"$f":"[3]Лист2!$AF432","v":190000},{"$f":"[3]Лист2!$AA432","v":0.84599999999999997},{"$f":"[3]Лист2!$AB432","v":4000},{"$f":"[3]Лист2!$AC432","v":240},{"$f":"[3]Лист2!$AD432","v":"230х200"},{"$f":"[3]Лист2!$AE432","v":"B"},{"$f":"[3]Лист2!$Y432","v":"Нет"},{"$f":"[3]Лист2!$Z432","v":2},{"$f":"[3]Лист2!$AH432","v":"Согласовано Мещеряковым"},{"$f":"[3]Лист2!$AI432","v":0},{"$f":"[3]Лист2!$AJ432","v":"00:00:00"},{"$f":"[3]Лист2!$AS432","v":"Согласовано Мещеряковым"},{"$f":"[3]Лист2!$AT432","v":"00:00:00"},{"$f":"[3]Лист2!$AU432","v":"00:00:00"},{"$f":"[3]Лист2!$AK432","v":"все заполнено"},{"$f":"[3]Лист2!$AW432","v":"все заполнено"},{"$f":"[4]Лист2!$AE432","v":80},{"$f":"[4]Лист2!$AF432","v":"IM"}]
[{"$f":"[3]Анкета!$A433","v":"09.10.23/Акафьева/1"},{"$f":"[3]Анкета!$B433","v":"2023-10-09"},{"$f":"Реестр!#REF!","v":{"$error":"#REF!"}},{"$f":"IF(Реестр!#REF!,IF(Реестр!#REF!<=Реестр!#REF!,\"выполнено                       \",\"выполнено не в срок     \"),IF(Реестр!#REF!<$B$1>Реестр!#REF!,\"просрочено                      \",\"срок не истек\"))","v":{"$error":"#REF!"}},{"$f":"[3]Лист2!$X433","v":"1806-64"},"2023-10-06",1,null,1800,{"$f":"I24*VLOOKUP(O24,'Пл.курс ЕВРО'!$A$2:$B$10,2,1)","v":208584},{"$f":"[3]Анкета!$K433","v":1},{"$f":"[3]Анкета!$L433","v":"010623-1-5"},{"$f":"[3]Анкета!$M433","v":"1806"},"2023","Октябрь",9,{"$f":"[3]Анкета!$Q433","v":6},{"$f":"[3]Анкета!$R433","v":6.5},{"$f":"[3]Анкета!$S433","v":1},{"$f":"[3]Анкета!$T433","v":"окраш."},{"$f":"[3]Анкета!$U433","v":"АД31"},{"$f":"[3]Анкета!$V433","v":"Т1"},{"$f":"[3]Анкета!$W433","v":"03.01. Светопрозрачные системы (в т.ч.фасады)"},{"$f":"[3]Анкета!$X433","v":"22233-2018"},{"$f":"[3]Анкета!$Y433","v":"Авангард"},null,null,null,null,{"$f":"#REF!+#REF!+B24","v":{"$error":"#REF!"}},{"$f":"INDEX(#REF!,MATCH(1E+100,#REF!,1))","v":{"$error":"#REF!"}},{"$f":"[3]Анкета!$AF433","v":0},{"$f":"[3]Анкета!$AG433","v":"Акафьева"},{"$f":"[3]Анкета!$AH433","v":"все заполнено"},{"$f":"[3]Лист2!$AF433","v":195000},{"$f":"[3]Лист2!$AA433","v":4.3330000000000002},{"$f":"[3]Лист2!$AB433","v":4000},{"$f":"[3]Лист2!$AC433","v":240},{"$f":"[3]Лист2!$AD433","v":"230х200"},{"$f":"[3]Лист2!$AE433","v":"C"},{"$f":"[3]Лист2!$Y433","v":"Нет"},{"$f":"[3]Лист2!$Z433","v":1},{"$f":"[3]Лист2!$AH433","v":"Согласовано Мещеряковым"},{"$f":"[3]Лист2!$AI433","v":0},{"$f":"[3]Лист2!$AJ433","v":"00:00:00"},{"$f":"[3]Лист2!$AS433","v":"Согласовано Мещеряковым"},{"$f":"[3]Лист2!$AT433","v":"00:00:00"},{"$f":"[3]Лист2!$AU433","v":"00:00:00"},{"$f":"[3]Лист2!$AK433","v":"все заполнено"},{"$f":"[3]Лист2!$AW433","v":"все заполнено"},{"$f":"[4]Лист2!$AE433","v":55},{"$f":"[4]Лист2!$AF433","v":"ПрИн"}]
[{"$f":"[3]Анкета!$A434","v":"09.10.23/Акафьева/2"},{"$f":"[3]Анкета!$B434","v":"2023-10-09"},{"$f":"Реестр!#REF!","v":{"$error":"#REF!"}},{"$f":"IF(Реестр!#REF!,IF(Реестр!#REF!<=Реестр!#REF!,\"выполнено                       \",\"выполнено не в срок     \"),IF(Реестр!#REF!<$B$1>Реестр!#REF!,\"просрочено                      \",\"срок не истек\"))","v":{"$error":"#REF!"}},{"$f":"[3]Лист2!$X434","v":"1806-65"},"2023-10-06",1,null,1195,{"$f":"I25*VLOOKUP(O25,'Пл.курс ЕВРО'!$A$2:$B$10,2,1)","v":138476.6},{"$f":"[3]Анкета!$K434","v":2},{"$f":"[3]Анкета!$L434","v":"010623-1-5"},{"$f":"[3]Анкета!$M434","v":"1806"},"2023","Октябрь",9,{"$f":"[3]Анкета!$Q434","v":6},{"$f":"[3]Анкета!$R434","v":6.5},{"$f":"[3]Анкета!$S434","v":1},{"$f":"[3]Анкета!$T434","v":"окраш."},{"$f":"[3]Анкета!$U434","v":"АД31"},{"$f":"[3]Анкета!$V434","v":"Т1"},{"$f":"[3]Анкета!$W434","v":"03.01. Светопрозрачные системы (в т.ч.фасады)"},{"$f":"[3]Анкета!$X434","v":"22233-2018"},{"$f":"[3]Анкета!$Y434","v":"Авангард"},null,null,null,null,{"$f":"#REF!+#REF!+B25","v":{"$error":"#REF!"}},{"$f":"INDEX(#REF!,MATCH(1E+100,#REF!,1))","v":{"$error":"#REF!"}},{"$f":"[3]Анкета!$AF434","v":0},{"$f":"[3]Анкета!$AG434","v":"Акафьева"},{"$f":"[3]Анкета!$AH434","v":"все заполнено"},{"$f":"[3]Лист2!$AF434","v":270000},{"$f":"[3]Лист2!$AA434","v":2.4},{"$f":"[3]Лист2!$AB434","v":4000},{"$f":"[3]Лист2!$AC434","v":240},{"$f":"[3]Лист2!$AD434","v":"280х200"},{"$f":"[3]Лист2!$AE434","v":"B"},{"$f":"[3]Лист2!$Y434","v":"Нет"},{"$f":"[3]Лист2!$Z434","v":1},{"$f":"[3]Лист2!$AH434","v":"Согласовано Мещеряковым"},{"$f":"[3]Лист2!$AI434","v":0},{"$f":"[3]Лист2!$AJ434","v":"00:00:00"},{"$f":"[3]Лист2!$AS434","v":"Согласовано Мещеряковым"},{"$f":"[3]Лист2!$AT434","v":"00:00:00"},{"$f":"[3]Лист2!$AU434","v":"00:00:00"},{"$f":"[3]Лист2!$AK434","v":"все заполнено"},{"$f":"[3]Лист2!$AW434","v":"все заполнено"},{"$f":"[4]Лист2!$AE434","v":80},{"$f":"[4]Лист2!$AF434","v":"FRX"}]
[{"$f":"[3]Анкета!$A435","v":"09.10.23/Акафьева/3"},{"$f":"[3]Анкета!$B435","v":"2023-10-09"},{"$f":"Реестр!#REF!","v":{"$error":"#REF!"}},{"$f":"IF(Реестр!#REF!,IF(Реестр!#REF!<=Реестр!#REF!,\"выполнено                       \",\"выполнено не в срок     \"),IF(Реестр!#REF!<$B$1>Реестр!#REF!,\"просрочено                      \",\"срок не истек\"))","v":{"$error":"#REF!"}},{"$f":"[3]Лист2!$X435","v":"1806-66"},"2023-10-06",1,null,3312,{"$f":"I26*VLOOKUP(O26,'Пл.курс ЕВРО'!$A$2:$B$10,2,1)","v":383794.56},{"$f":"[3]Анкета!$K435","v":3},{"$f":"[3]Анкета!$L435","v":"010623-1-5"},{"$f":"[3]Анкета!$M435","v":"1806"},"2023","Октябрь",9,{"$f":"[3]Анкета!$Q435","v":6},{"$f":"[3]Анкета!$R435","v":6.5},{"$f":"[3]Анкета!$S435","v":1},{"$f":"[3]Анкета!$T435","v":"окраш."},{"$f":"[3]Анкета!$U435","v":"АД31"},{"$f":"[3]Анкета!$V435","v":"Т1"},{"$f":"[3]Анкета!$W435","v":"03.01. Светопрозрачные системы (в т.ч.фасады)"},{"$f":"[3]Анкета!$X435","v":"22233-2018"},{"$f":"[3]Анкета!$Y435","v":"Авангард"},null,null,null,null,{"$f":"#REF!+#REF!+B26","v":{"$error":"#REF!"}},{"$f":"INDEX(#REF!,MATCH(1E+100,#REF!,1))","v":{"$error":"#REF!"}},{"$f":"[3]Анкета!$AF435","v":0},{"$f":"[3]Анкета!$AG435","v":"Акафьева"},{"$f":"[3]Анкета!$AH435","v":"все заполнено"},{"$f":"[3]Лист2!$AF435","v":515000},{"$f":"[3]Лист2!$AA435","v":7.226},{"$f":"[3]Лист2!$AB435","v":4000},{"$f":"[3]Лист2!$AC435","v":240},{"$f":"[3]Лист2!$AD435","v":"380х200"},{"$f":"[3]Лист2!$AE435","v":"D"},{"$f":"[3]Лист2!$Y435","v":"Да"},{"$f":"[3]Лист2!$Z435","v":1},{"$f":"[3]Лист2!$AH435","v":"Согласовано Мещеряковым"},{"$f":"[3]Лист2!$AI435","v":0},{"$f":"[3]Лист2!$AJ435","v":"00:00:00"},{"$f":"[3]Лист2!$AS435","v":"Согласовано Мещеряковым"},{"$f":"[3]Лист2!$AT435","v":"00:00:00"},{"$f":"[3]Лист2!$AU435","v":"00:00:00"},{"$f":"[3]Лист2!$AK435","v":"все заполнено"},{"$f":"[3]Лист2!$AW435","v":"все заполнено"},{"$f":"[4]Лист2!$AE435","v":60},{"$f":"[4]Лист2!$AF435","v":"ПрИн"}]
[{"$f":"[3]Анкета!$A436","v":"09.10.23/Акафьева/4"},{"$f":"[3]Анкета!$B436","v":"2023-10-09"},{"$f":"Реестр!#REF!","v":{"$error":"#REF!"}},{"$f":"IF(Реестр!#REF!,IF(Реестр!#REF!<=Реестр!#REF!,\"выполнено                       \",\"выполнено не в срок     \"),IF(Реестр!#REF!<$B$1>Реестр!#REF!,\"просрочено                      \",\"срок не истек\"))","v":{"$error":"#REF!"}},{"$f":"[3]Лист2!$X436","v":"1806-67"},"2023-10-06",1,null,3808.8,{"$f":"I27*VLOOKUP(O27,'Пл.курс ЕВРО'!$A$2:$B$10,2,1)","v":441363.74400000001},{"$f":"[3]Анкета!$K436","v":4},{"$f":"[3]Анкета!$L436","v":"010623-1-5"},{"$f":"[3]Анкета!$M436","v":"1806"},"2023","Октябрь",9,{"$f":"[3]Анкета!$Q436","v":6},{"$f":"[3]Анкета!$R436","v":6.5},{"$f":"[3]Анкета!$S436","v":1},{"$f":"[3]Анкета!$T436","v":"окраш."},{"$f":"[3]Анкета!$U436","v":"АД31"},{"$f":"[3]Анкета!$V436","v":"Т1"},{"$f":"[3]Анкета!$W436","v":"03.01. Светопрозрачные системы (в т.ч.фасады)"},{"$f":"[3]Анкета!$X436","v":"22233-2018"},{"$f":"[3]Анкета!$Y436","v":"Авангард"},null,null,null,null,{"$f":"#REF!+#REF!+B27","v":{"$error":"#REF!"}},{"$f":"INDEX(#REF!,MATCH(1E+100,#REF!,1))","v":{"$error":"#REF!"}},{"$f":"[3]Анкета!$AF436","v":0},{"$f":"[3]Анкета!$AG436","v":"Акафьева"},{"$f":"[3]Анкета!$AH436","v":"все заполнено"},{"$f":"[3]Лист2!$AF436","v":515000},{"$f":"[3]Лист2!$AA436","v":9.1460000000000008},{"$f":"[3]Лист2!$AB436","v":4000},{"$f":"[3]Лист2!$AC436","v":240},{"$f":"[3]Лист2!$AD436","v":"380х200"},{"$f":"[3]Лист2!$AE436","v":"D"},{"$f":"[3]Лист2!$Y436","v":"Да"},{"$f":"[3]Лист2!$Z436","v":1},{"$f":"[3]Лист2!$AH436","v":"Согласовано Мещеряковым"},{"$f":"[3]Лист2!$AI436","v":0},{"$f":"[3]Лист2!$AJ436","v":"00:00:00"},{"$f":"[3]Лист2!$AS436","v":"Согласовано Мещеряковым"},{"$f":"[3]Лист2!$AT436","v":"00:00:00"},{"$f":"[3]Лист2!$AU436","v":"00:00:00"},{"$f":"[3]Лист2!$AK436","v":"все заполнено"},{"$f":"[3]Лист2!$AW436","v":"все заполнено"},{"$f":"[4]Лист2!$AE436","v":55},{"$f":"[4]Лист2!$AF436","v":"ПрИн"}]
[{"$f":"[3]Анкета!$A437","v":"09.10.23/Акафьева/5"},{"$f":"[3]Анкета!$B437","v":"2023-10-09"},{"$f":"Реестр!#REF!","v":{"$error":"#REF!"}},{"$f":"IF(Реестр!#REF!,IF(Реестр!#REF!<=Реестр!#REF!,\"выполнено                       \",\"выполнено не в срок     \"),IF(Реестр!#REF!<$B$1>Реестр!#REF!,\"просрочено                      \",\"срок не истек\"))","v":{"$error":"#REF!"}},{"$f":"[3]Лист2!$X437","v":"1806-68"},"2023-10-09",1,null,940,{"$f":"I28*VLOOKUP(O28,'Пл.курс ЕВРО'!$A$2:$B$10,2,1)","v":108927.2},{"$f":"[3]Анкета!$K437","v":5},{"$f":"[3]Анкета!$L437","v":"010623-1-5"},{"$f":"[3]Анкета!$M437","v":"1806"},"2023","Октябрь",9,{"$f":"[3]Анкета!$Q437","v":6},{"$f":"[3]Анкета!$R437","v":6.5},{"$f":"[3]Анкета!$S437","v":1},{"$f":"[3]Анкета!$T437","v":"окраш."},{"$f":"[3]Анкета!$U437","v":"АД31"},{"$f":"[3]Анкета!$V437","v":"Т1"},{"$f":"[3]Анкета!$W437","v":"03.01. Светопрозрачные системы (в т.ч.фасады)"},{"$f":"[3]Анкета!$X437","v":"22233-2018"},{"$f":"[3]Анкета!$Y437","v":"Авангард"},null,null,null,null,{"$f":"#REF!+#REF!+B28","v":{"$error":"#REF!"}},{"$f":"INDEX(#REF!,MATCH(1E+100,#REF!,1))","v":{"$error":"#REF!"}},{"$f":"[3]Анкета!$AF437","v":0},{"$f":"[3]Анкета!$AG437","v":"Акафьева"},{"$f":"[3]Анкета!$AH437","v":"все заполнено"},{"$f":"[3]Лист2!$AF437","v":195000},{"$f":"[3]Лист2!$AA437","v":4.4470000000000001},{"$f":"[3]Лист2!$AB437","v":4000},{"$f":"[3]Лист2!$AC437","v":240},{"$f":"[3]Лист2!$AD437","v":"230х200"},{"$f":"[3]Лист2!$AE437","v":"A"},{"$f":"[3]Лист2!$Y437","v":"Нет"},{"$f":"[3]Лист2!$Z437","v":1},{"$f":"[3]Лист2!$AH437","v":"Согласовано Мещеряковым"},{"$f":"[3]Лист2!$AI437","v":0},{"$f":"[3]Лист2!$AJ437","v":"00:00:00"},{"$f":"[3]Лист2!$AS437","v":"Согласовано Мещеряковым"},{"$f":"[3]Лист2!$AT437","v":"00:00:00"},{"$f":"[3]Лист2!$AU437","v":"00:00:00"},{"$f":"[3]Лист2!$AK437","v":"все заполнено"},{"$f":"[3]Лист2!$AW437","v":"все заполнено"},{"$f":"[4]Лист2!$AE437","v":80},{"$f":"[4]Лист2!$AF437","v":"FRX"}]
[{"$f":"[3]Анкета!$A438","v":"09.10.23/Четверткова/1"},{"$f":"[3]Анкета!$B438","v":"2023-10-09"},{"$f":"Реестр!#REF!","v":{"$error":"#REF!"}},{"$f":"IF(Реестр!#REF!,IF(Реестр!#REF!<=Реестр!#REF!,\"выполнено                       \",\"выполнено не в срок     \"),IF(Реестр!#REF!<$B$1>Реестр!#REF!,\"просрочено                      \",\"срок не истек\"))","v":{"$error":"#REF!"}},{"$f":"[3]Лист2!$X438","v":"3630-34"},"2023-10-10",1,null,445,{"$f":"I29*VLOOKUP(O29,'Пл.курс ЕВРО'!$A$2:$B$10,2,1)","v":51566.6},{"$f":"[3]Анкета!$K438","v":1},{"$f":"[3]Анкета!$L438","v":0},{"$f":"[3]Анкета!$M438","v":"3630"},"2023","Октябрь",9,{"$f":"[3]Анкета!$Q438","v":3},{"$f":"[3]Анкета!$R438","v":6},{"$f":"[3]Анкета!$S438","v":1},{"$f":"[3]Анкета!$T438","v":"под анод."},{"$f":"[3]Анкета!$U438","v":6060},{"$f":"[3]Анкета!$V438","v":"Т1"},{"$f":"[3]Анкета!$W438","v":"03.06. Прочее для стройки"},{"$f":"[3]Анкета!$X438","v":"22233-2018"},{"$f":"[3]Анкета!$Y438","v":"Ижев зд. анод"},null,null,null,null,{"$f":"#REF!+#REF!+B29","v":{"$error":"#REF!"}},{"$f":"INDEX(#REF!,MATCH(1E+100,#REF!,1))","v":{"$error":"#REF!"}},{"$f":"[3]Анкета!$AF438","v":0},{"$f":"[3]Анкета!$AG438","v":"Четверткова"},{"$f":"[3]Анкета!$AH438","v":"все заполнено"},{"$f":"[3]Лист2!$AF438","v":85000},{"$f":"[3]Лист2!$AA438","v":0.41299999999999998},{"$f":"[3]Лист2!$AB438","v":1500},{"$f":"[3]Лист2!$AC438","v":160},{"$f":"[3]Лист2!$AD438","v":"200х140"},{"$f":"[3]Лист2!$AE438","v":"B"},{"$f":"[3]Лист2!$Y438","v":"Нет"},{"$f":"[3]Лист2!$Z438","v":2},{"$f":"[3]Лист2!$AH438","v":"Согласовано Мещеряковым"},{"$f":"[3]Лист2!$AI438","v":0},{"$f":"[3]Лист2!$AJ438","v":"00:00:00"},{"$f":"[3]Лист2!$AS438","v":"Согласовано Мещеряковым"},{"$f":"[3]Лист2!$AT438","v":"00:00:00"},{"$f":"[3]Лист2!$AU438","v":"00:00:00"},{"$f":"[3]Лист2!$AK438","v":"все заполнено"},{"$f":"[3]Лист2!$AW438","v":"все заполнено"},{"$f":"[4]Лист2!$AE438","v":30},{"$f":"[4]Лист2!$AF438","v":"IM"}]
[{"$f":"[3]Анкета!$A439","v":"09.10.23/Тарлыкова/1"},{"$f":"[3]Анкета!$B439","v":"2023-10-09"},{"$f":"Реестр!#REF!","v":{"$error":"#REF!"}},{"$f":"IF(Реестр!#REF!,IF(Реестр!#REF!<=Реестр!#REF!,\"выполнено                       \",\"выполнено не в срок     \"),IF(Реестр!#REF!<$B$1>Реестр!#REF!,\"просрочено                      \",\"срок не истек\"))","v":{"$error":"#REF!"}},{"$f":"[3]Лист2!$X439","v":"1002-26"},null,1,null,3564,{"$f":"I30*VLOOKUP(O30,'Пл.курс ЕВРО'!$A$2:$B$10,2,1)","v":412996.32},{"$f":"[3]Анкета!$K439","v":1},{"$f":"[3]Анкета!$L439","v":"070923-3-4"},{"$f":"[3]Анкета!$M439","v":"1002"},"2023","Октябрь",9,{"$f":"[3]Анкета!$Q439","v":3},{"$f":"[3]Анкета!$R439","v":4},{"$f":"[3]Анкета!$S439","v":1},{"$f":"[3]Анкета!$T439","v":"анод защит."},{"$f":"[3]Анкета!$U439","v":"АД31"},{"$f":"[3]Анкета!$V439","v":"Т1"},{"$f":"[3]Анкета!$W439","v":"10.02. Приборостроение"},{"$f":"[3]Анкета!$X439","v":"22233-2018"},{"$f":"[3]Анкета!$Y439","v":"Алюсит"},null,null,null,null,{"$f":"#REF!+#REF!+B30","v":{"$error":"#REF!"}},{"$f":"INDEX(#REF!,MATCH(1E+100,#REF!,1))","v":{"$error":"#REF!"}},{"$f":"[3]Анкета!$AF439","v":0},{"$f":"[3]Анкета!$AG439","v":"Тарлыкова"},{"$f":"[3]Анкета!$AH439","v":"все заполнено"},{"$f":"[3]Лист2!$AF439","v":870000},{"$f":"[3]Лист2!$AA439","v":5.452},{"$f":"[3]Лист2!$AB439","v":4000},{"$f":"[3]Лист2!$AC439","v":240},{"$f":"[3]Лист2!$AD439","v":"450х260"},{"$f":"[3]Лист2!$AE439","v":"C"},{"$f":"[3]Лист2!$Y439","v":"Да"},{"$f":"[3]Лист2!$Z439","v":1},{"$f":"[3]Лист2!$AH439","v":"Согласовано Мещеряковым"},{"$f":"[3]Лист2!$AI439","v":0},{"$f":"[3]Лист2!$AJ439","v":"Вставка общая для 1002-26.27"},{"$f":"[3]Лист2!$AS439","v":"Согласовано Мещеряковым"},{"$f":"[3]Лист2!$AT439","v":"00:00:00"},{"$f":"[3]Лист2!$AU439","v":"00:00:00"},{"$f":"[3]Лист2!$AK439","v":"все заполнено"},{"$f":"[3]Лист2!$AW439","v":"все заполнено"},{"$f":"[4]Лист2!$AE439","v":70},{"$f":"[4]Лист2!$AF439","v":"COMES"}]
[{"$f":"[3]Анкета!$A440","v":"09.10.23/Тарлыкова/2"},{"$f":"[3]Анкета!$B440","v":"2023-10-09"},{"$f":"Реестр!#REF!","v":{"$error":"#REF!"}},{"$f":"IF(Реестр!#REF!,IF(Реестр!#REF!<=Реестр!#REF!,\"выполнено                       \",\"выполнено не в срок     \"),IF(Реестр!#REF!<$B$1>Реестр!#REF!,\"просрочено                      \",\"срок не истек\"))","v":{"$error":"#REF!"}},{"$f":"[3]Лист2!$X440","v":"1002-27"},null,1,null,3564,{"$f":"I31*VLOOKUP(O31,'Пл.курс ЕВРО'!$A$2:$B$10,2,1)","v":412996.32},{"$f":"[3]Анкета!$K440","v":2},{"$f":"[3]Анкета!$L440","v":"070923-3-4"},{"$f":"[3]Анкета!$M440","v":"1002"},"2023","Октябрь",9,{"$f":"[3]Анкета!$Q440","v":3},{"$f":"[3]Анкета!$R440","v":4},{"$f":"[3]Анкета!$S440","v":1},{"$f":"[3]Анкета!$T440","v":"анод защит."},{"$f":"[3]Анкета!$U440","v":"АД31"},{"$f":"[3]Анкета!$V440","v":"Т1"},{"$f":"[3]Анкета!$W440","v":"10.02. Приборостроение"},{"$f":"[3]Анкета!$X440","v":"22233-2018"},{"$f":"[3]Анкета!$Y440","v":"Алюсит"},null,null,null,null,{"$f":"#REF!+#REF!+B31","v":{"$error":"#REF!"}},{"$f":"INDEX(#REF!,MATCH(1E+100,#REF!,1))","v":{"$error":"#REF!"}},{"$f":"[3]Анкета!$AF440","v":0},{"$f":"[3]Анкета!$AG440","v":"Тарлыкова"},{"$f":"[3]Анкета!$AH440","v":"все заполнено"},{"$f":"[3]Лист2!$AF440","v":680000},{"$f":"[3]Лист2!$AA440","v":6.718},{"$f":"[3]Лист2!$AB440","v":4000},{"$f":"[3]Лист2!$AC440","v":240},{"$f":"[3]Лист2!$AD440","v":"450х260"},{"$f":"[3]Лист2!$AE440","v":"C"},{"$f":"[3]Лист2!$Y440","v":"Да"},{"$f":"[3]Лист2!$Z440","v":1},{"$f":"[3]Лист2!$AH440","v":"Согласовано Мещеряковым"},{"$f":"[3]Лист2!$AI440","v":0},{"$f":"[3]Лист2!$AJ440","v":"00:00:00"},{"$f":"[3]Лист2!$AS440","v":"Согласовано Мещеряковым"},{"$f":"[3]Лист2!$AT440","v":"00:00:00"},{"$f":"[3]Лист2!$AU440","v":"00:00:00"},{"$f":"[3]Лист2!$AK440","v":"все заполнено"},{"$f":"[3]Лист2!$AW440","v":"все заполнено"},{"$f":"[4]Лист2!$AE440","v":70},{"$f":"[4]Лист2!$AF440","v":"EXP"}]
[{"$f":"[3]Анкета!$A441","v":"09.10.23/Акафьева/6"},{"$f":"[3]Анкета!$B441","v":"2023-10-09"},{"$f":"Реестр!#REF!","v":{"$error":"#REF!"}},{"$f":"IF(Реестр!#REF!,IF(Реестр!#REF!<=Реестр!#REF!,\"выполнено                       \",\"выполнено не в срок     \"),IF(Реестр!#REF!<$B$1>Реестр!#REF!,\"просрочено                      \",\"срок не истек\"))","v":{"$error":"#REF!"}},{"$f":"[3]Лист2!$X441","v":"1640-17"},"2023-10-12",1,null,525,{"$f":"I32*VLOOKUP(O32,'Пл.курс ЕВРО'!$A$2:$B$10,2,1)","v":60837},{"$f":"[3]Анкета!$K441","v":6},{"$f":"[3]Анкета!$L441","v":"070923-2"},{"$f":"[3]Анкета!$M441","v":"1640"},"2023","Октябрь",9,{"$f":"[3]Анкета!$Q441","v":6},{"$f":"[3]Анкета!$R441","v":6},{"$f":"[3]Анкета!$S441","v":0.3},{"$f":"[3]Анкета!$T441","v":"неокр."},{"$f":"[3]Анкета!$U441","v":"АД31"},{"$f":"[3]Анкета!$V441","v":"Т1"},{"$f":"[3]Анкета!$W441","v":"03.06.2. Фурнитура и комплектующие"},{"$f":"[3]Анкета!$X441","v":"22233-2018"},{"$f":"[3]Анкета!$Y441","v":"Алрос"},null,null,null,null,{"$f":"#REF!+#REF!+B32","v":{"$error":"#REF!"}},{"$f":"INDEX(#REF!,MATCH(1E+100,#REF!,1))","v":{"$error":"#REF!"}},{"$f":"[3]Анкета!$AF441","v":0},{"$f":"[3]Анкета!$AG441","v":"Акафьева"},{"$f":"[3]Анкета!$AH441","v":"все заполнено"},{"$f":"[3]Лист2!$AF441","v":95000},{"$f":"[3]Лист2!$AA441","v":0.33900000000000002},{"$f":"[3]Лист2!$AB441","v":1000},{"$f":"[3]Лист2!$AC441","v":130},{"$f":"[3]Лист2!$AD441","v":"180х140"},{"$f":"[3]Лист2!$AE441","v":"B"},{"$f":"[3]Лист2!$Y441","v":"Нет"},{"$f":"[3]Лист2!$Z441","v":2},{"$f":"[3]Лист2!$AH441","v":"Согласовано Мещеряковым"},{"$f":"[3]Лист2!$AI441","v":0},{"$f":"[3]Лист2!$AJ441","v":"00:00:00"},{"$f":"[3]Лист2!$AS441","v":"Согласовано Мещеряковым"},{"$f":"[3]Лист2!$AT441","v":"00:00:00"},{"$f":"[3]Лист2!$AU441","v":"00:00:00"},{"$f":"[3]Лист2!$AK441","v":"все заполнено"},{"$f":"[3]Лист2!$AW441","v":"все заполнено"},{"$f":"[4]Лист2!$AE441","v":40},{"$f":"[4]Лист2!$AF441","v":"FRX"}]

{"sheet":"фирмы (2)","index":1,"n_rows":1767,"n_cols":17,"rows_kept":1767,"cut":false,"hidden":true,"merged":[]}
["Проверка","Ф_Лейбл","Ф_Название","МенеджерОС","Менеджер",{"$f":"INDIRECT(CELL(\"address\"))","v":0},null,"Отбор",null,null,null,null,null,null,null,"Ф_Лейбл","Ф_Название"]
[{"$f":"IF(ISNUMBER(SEARCH(F$1,B2,1)),MAX($A$1:A1)+1,0)","v":0}," ПКФ Алюминий ВПК","ООО \"ПКФ Алюминий ВПК\"","Халдина О.Н","NULL",null,1,{"$f":"VLOOKUP(G2,A:B,2,0)","v":0},"пкф",null,null,null,null,null,"KALEVA",1,0]
[{"$f":"IF(ISNUMBER(SEARCH(F$1,B3,1)),MAX($A$1:A2)+1,0)","v":0}," Стальные системы","Стальные системы","NULL","Голубев",null,2,"АВА дог. 208 от 11.12.2019_матрицы",25,null,null,null,null,null,"Osif&Partners, s.r.o.Словакия",1,0]
[{"$f":"IF(ISNUMBER(SEARCH(F$1,B4,1)),MAX($A$1:A3)+1,0)","v":1},0,0,"Маслова И.С","NULL",null,3,"АСТ 2020","пкф",null,null,null,null,null,"Авангард(Общий)",1,1]
[{"$f":"IF(ISNUMBER(SEARCH(F$1,B5,1)),MAX($A$1:A4)+1,0)","v":0},111,null,"Горчаков Е.М","Горчаков",null,4,"Вэлко-2000","пкф",null,null,null,null,null,"АВА-Трейд",1,0]
[{"$f":"IF(ISNUMBER(SEARCH(F$1,B6,1)),MAX($A$1:A5)+1,0)","v":0},"25 Микрон","ООО \"25 Микрон\"","Четверткова О.","Верхомий",null,5,"ДисплейСолюш2022",null,null,null,null,null,null,"АвтоСпецКомпонент",1,0]
[{"$f":"IF(ISNUMBER(SEARCH(F$1,B7,1)),MAX($A$1:A6)+1,0)","v":0},"ACCO","ACCO","NULL","Голубев",null,6,"Дока2017",null,null,null,null,null,null,"Азбука Света",1,0]
[{"$f":"IF(ISNUMBER(SEARCH(F$1,B8,1)),MAX($A$1:A7)+1,0)","v":0},"Aclima","Aclima","NULL","Голубев",null,7,"Зенит2019",null,null,null,null,null,null,"Актор -М",1,0]
[{"$f":"IF(ISNUMBER(SEARCH(F$1,B9,1)),MAX($A$1:A8)+1,0)","v":0},"AI-KUN KZ Казахстан","AI-KUN KZ","Калинина Т.С","Каменев",null,8,"КапТехноСтрой7725726402",null,null,null,null,null,null,"АЛ5-ЮГ ООО",1,0]
[{"$f":"IF(ISNUMBER(SEARCH(F$1,B10,1)),MAX($A$1:A9)+1,0)","v":0},"ALFRESCO","ООО «СВЕТ2000»","Горчаков Е.М","Горчаков",null,9,"Каравелла 2000",null,null,null,null,null,null,"А-ЛЕД.ПРО",1,1]
[{"$f":"IF(ISNUMBER(SEARCH(F$1,B11,1)),MAX($A$1:A10)+1,0)","v":0},"Alpica","Alpica","NULL","Голубев",null,10,"Крафт2021",null,null,null,null,null,null,"Ал-Профи",1,0]
[{"$f":"IF(ISNUMBER(SEARCH(F$1,B12,1)),MAX($A$1:A11)+1,0)","v":0},"Altair","Altair","NULL","Голубев",null,11,"КТМ-2000",null,null,null,null,null,null,"Алсит",1,0]
[{"$f":"IF(ISNUMBER(SEARCH(F$1,B13,1)),MAX($A$1:A12)+1,0)","v":0},"Ampermark","Ampermark","NULL","Голубев",null,12,"Минск 2019",null,null,null,null,null,null,"АЛТЕКО",1,0]
[{"$f":"IF(ISNUMBER(SEARCH(F$1,B14,1)),MAX($A$1:A13)+1,0)","v":0},"Auto VIM","Auto VIM","NULL","Голубев",null,13,"ООО «РемиЛинг 2000»",null,null,null,null,null,null,"Алюминиевый Материал",1,0]
[{"$f":"IF(ISNUMBER(SEARCH(F$1,B15,1)),MAX($A$1:A14)+1,0)","v":0},"BEDNAREK Польша","PPHU BEDNAREK","Калинина Т.С","Вяльшина",null,14,"РемиЛинг 2000",null,null,null,null,null,null,"Алюмстрой Санкт Петербург",1,0]
[{"$f":"IF(ISNUMBER(SEARCH(F$1,B16,1)),MAX($A$1:A15)+1,0)","v":0},"Benkam Europe","UAB Benkam Europe","Калинина Т.С","NULL",null,15,"СТИ 2023",null,null,null,null,null,null,"Антарэс",1,0]
[{"$f":"IF(ISNUMBER(SEARCH(F$1,B17,1)),MAX($A$1:A16)+1,0)","v":0},"Bildex","Bildex","NULL","Голубев",null,16,"ТверБульв0837",null,null,null,null,null,null,"Априори ПТК",1,0]
[{"$f":"IF(ISNUMBER(SEARCH(F$1,B18,1)),MAX($A$1:A17)+1,0)","v":0},"CA Aluminum” JV LLC Узбекистан","CA Aluminum” JV LLC ","Калинина Т.С","Кузнец",null,17,"ТЕХНО2015",null,null,null,null,null,null,"Артес Дизайн",1,0]
[{"$f":"IF(ISNUMBER(SEARCH(F$1,B19,1)),MAX($A$1:A18)+1,0)","v":0},"Carl Spaeter GmbH","Carl Spaeter GmbH","Калинина Т.С","NULL",null,18,"Титан_16.08.2018",null,null,null,null,null,null,"АСП-Инжиниринг",1,0]
[{"$f":"IF(ISNUMBER(SEARCH(F$1,B20,1)),MAX($A$1:A19)+1,0)","v":0},"Centaure","Centaure","Голубев А.С","Голубев",null,19,"Титан2015",null,null,null,null,null,null,"АСТЕР-М",1,0]
[{"$f":"IF(ISNUMBER(SEARCH(F$1,B21,1)),MAX($A$1:A20)+1,0)","v":0},"DESTINUS","UAB \"DESTINUS\"","Калинина Т.С","Вяльшина",null,20,"ФАСАД СТРОЙ 7704409716",null,null,null,null,null,null,"Атлант ТД",1,0]
[{"$f":"IF(ISNUMBER(SEARCH(F$1,B22,1)),MAX($A$1:A21)+1,0)","v":0},"Diden Grup SRL Молдова","Diden Grup SRL","Калинина Т.С","Вяльшина",null,21,"ФОТОТЕХ 2018",null,null,null,null,null,null,"Белпрофайл Белоруссия",1,0]
[{"$f":"IF(ISNUMBER(SEARCH(F$1,B23,1)),MAX($A$1:A22)+1,0)","v":0},"Dormax Blinds sp. z o.o.Польша","Dormax Blinds sp. z o.o.","Калинина Т.С","Вяльшина",null,22,{"$error":"#N/A"},null,null,null,null,null,null,"Бествинд",1,0]
[{"$f":"IF(ISNUMBER(SEARCH(F$1,B24,1)),MAX($A$1:A23)+1,0)","v":0},"Dufter PV-Systeme GmbH","Dufter PV-Systeme GmbH","Калинина Т.С","NULL",null,23,{"$error":"#N/A"},null,null,null,null,null,null,"БиСиДи Уникальные Фасады",1,0]
[{"$f":"IF(ISNUMBER(SEARCH(F$1,B25,1)),MAX($A$1:A24)+1,0)","v":0},"ELKOP, S.R.O.","ELKOP, S.R.O.","Калинина Т.С","NULL",null,24,{"$error":"#N/A"},null,null,null,null,null,null,"Вартон",1,0]
[{"$f":"IF(ISNUMBER(SEARCH(F$1,B26,1)),MAX($A$1:A25)+1,0)","v":0},"ETILed","ETILed","NULL","Голубев",null,25,{"$error":"#N/A"},null,null,null,null,null,null,"ВЕЗА ООО",1,1]
[{"$f":"IF(ISNUMBER(SEARCH(F$1,B27,1)),MAX($A$1:A26)+1,0)","v":0},"Forst","Forst","NULL","Голубев",null,26,{"$error":"#N/A"},null,null,null,null,null,null,"Вензелес",1,0]
[{"$f":"IF(ISNUMBER(SEARCH(F$1,B28,1)),MAX($A$1:A27)+1,0)","v":0},"FROSTOR","ООО «ФРОСТОР ГРУПП»","Горчаков Е.М","Горчаков",null,27,{"$error":"#N/A"},null,null,null,null,null,null,"ВЕНТОПРОММАШ",1,0]
[{"$f":"IF(ISNUMBER(SEARCH(F$1,B29,1)),MAX($A$1:A28)+1,0)","v":0},"Galaktik Cinema","Galaktik Cinema","NULL","Голубев",null,28,{"$error":"#N/A"},null,null,null,null,null,null,"Версаль",1,0]
[{"$f":"IF(ISNUMBER(SEARCH(F$1,B30,1)),MAX($A$1:A29)+1,0)","v":0},"GEZE RUS","GEZE  RUS","Верхомий И.Е","Верхомий",null,29,{"$error":"#N/A"},null,null,null,null,null,null,"ВЕРТИКАЛЬ ЮГ",1,0]
[{"$f":"IF(ISNUMBER(SEARCH(F$1,B31,1)),MAX($A$1:A30)+1,0)","v":0},"Glass Lock","ООО \"Классика\"","Верхомий И.Е","Верхомий",null,30,{"$error":"#N/A"},null,null,null,null,null,null,"ВИВА Строй",1,0]
[{"$f":"IF(ISNUMBER(SEARCH(F$1,B32,1)),MAX($A$1:A31)+1,0)","v":0},"GlassProf","GlassProf","NULL","Голубев",null,31,{"$error":"#N/A"},null,null,null,null,null,null,"ВИКО Белоруссия",1,0]
[{"$f":"IF(ISNUMBER(SEARCH(F$1,B33,1)),MAX($A$1:A32)+1,0)","v":0},"Good Light","«Гуд Лак» ","Горчаков Е.М","Голубев",null,32,{"$error":"#N/A"},null,null,null,null,null,null,"ВИНДЕКО",1,0]
[{"$f":"IF(ISNUMBER(SEARCH(F$1,B34,1)),MAX($A$1:A33)+1,0)","v":0},"GS-Metall GmbH","GS-Metall GmbH","Калинина Т.С","NULL",null,33,{"$f":"VLOOKUP(G34,A:B,2,0)","v":{"$error":"#N/A"}},null,null,null,null,null,null,"ВинтекПластик",1,0]
[{"$f":"IF(ISNUMBER(SEARCH(F$1,B35,1)),MAX($A$1:A34)+1,0)","v":0},"Hans-Erich Gemmel & CO. GmbH ","Hans-Erich Gemmel & CO. GmbH ","Калинина Т.С","NULL",null,34,{"$error":"#N/A"},null,null,null,null,null,null,"ВКС_",1,0]
[{"$f":"IF(ISNUMBER(SEARCH(F$1,B36,1)),MAX($A$1:A35)+1,0)","v":0},"HOSTEN SP Z O.O.Польша","HOSTEN SP Z O.O.","Калинина Т.С","Вяльшина",null,35,{"$error":"#N/A"},null,null,null,null,null,null,"ВМС-ГРУПП",1,0]
[{"$f":"IF(ISNUMBER(SEARCH(F$1,B37,1)),MAX($A$1:A36)+1,0)","v":0},"HTF","HTF","NULL","Голубев",null,36,{"$error":"#N/A"},null,null,null,null,null,null,"Вуаля Студия Белоруссия",1,0]
[{"$f":"IF(ISNUMBER(SEARCH(F$1,B38,1)),MAX($A$1:A37)+1,0)","v":0},"INTESSO","INTESSO","NULL","Голубев",null,37,{"$error":"#N/A"},null,null,null,null,null,null,"Вундеркинд",1,0]
[{"$f":"IF(ISNUMBER(SEARCH(F$1,B39,1)),MAX($A$1:A38)+1,0)","v":0},"IntiLED","ООО \"Интилед\"","Горчаков Е.М","Горчаков",null,38,{"$error":"#N/A"},null,null,null,null,null,null,"Вэлко-2000",1,0]
[{"$f":"IF(ISNUMBER(SEARCH(F$1,B40,1)),MAX($A$1:A39)+1,0)","v":0},"Investconsulting Slovakia group, s.r.o.","Investconsulting Slovakia group, s.r.o.","Калинина Т.С","Верхомий",null,39,{"$error":"#N/A"},null,null,null,null,null,null,"ГАЛВИНГ",1,0]
[{"$f":"IF(ISNUMBER(SEARCH(F$1,B41,1)),MAX($A$1:A40)+1,0)","v":0},"Isoterm","Изотерм","NULL","Голубев",null,40,{"$error":"#N/A"},null,null,null,null,null,null,"Генезис ИК",1,0]
[{"$f":"IF(ISNUMBER(SEARCH(F$1,B42,1)),MAX($A$1:A41)+1,0)","v":0},"KALEVA","Оконная мануфактура ООО","Четверткова О.","Четверткова",null,41,{"$error":"#N/A"},null,null,null,null,null,null,"ГЛАСКО",1,0]
[{"$f":"IF(ISNUMBER(SEARCH(F$1,B43,1)),MAX($A$1:A42)+1,0)","v":0},"Kitstore","NULL","Горчаков Е.М","Горчаков",null,42,{"$error":"#N/A"},null,null,null,null,null,null,"Гольфстрим",1,0]
[{"$f":"IF(ISNUMBER(SEARCH(F$1,B44,1)),MAX($A$1:A43)+1,0)","v":0},"Komfovent","ООО \"АМАЛВА-ОКА\"","Горчаков Е.М","Горчаков",null,43,{"$error":"#N/A"},null,null,null,null,null,null,"Горизонт АО",1,1]
[{"$f":"IF(ISNUMBER(SEARCH(F$1,B45,1)),MAX($A$1:A44)+1,0)","v":0},"Korf","ООО «МегаПрестиж»","Четверткова О.","NULL",null,44,{"$error":"#N/A"},null,null,null,null,null,null,"Горизонт ПК",1,0]
[{"$f":"IF(ISNUMBER(SEARCH(F$1,B46,1)),MAX($A$1:A45)+1,0)","v":0},"Kupe 62","Kupe 62","Верхомий И.Е","Верхомий",null,45,{"$error":"#N/A"},null,null,null,null,null,null,"ГС-Резерв СК",1,0]
[{"$f":"IF(ISNUMBER(SEARCH(F$1,B47,1)),MAX($A$1:A46)+1,0)","v":0},"Lagofasad","Lagofasad","NULL","Голубев",null,46,{"$error":"#N/A"},null,null,null,null,null,null,"ГУ ЦЕНТР",1,0]
[{"$f":"IF(ISNUMBER(SEARCH(F$1,B48,1)),MAX($A$1:A47)+1,0)","v":0},"Langlitz Metalle GmbH ","Langlitz Metalle GmbH ","Калинина Т.С","NULL",null,47,{"$error":"#N/A"},null,null,null,null,null,null,"Д Студия",1,0]
[{"$f":"IF(ISNUMBER(SEARCH(F$1,B49,1)),MAX($A$1:A48)+1,0)","v":0},"LBB TRADE Турция","LBB TRADE MAKINE SANAYİ İTH. İHR. LTD. STI.","Калинина Т.С","Кузнец",null,48,{"$error":"#N/A"},null,null,null,null,null,null,"ДЛС",1,0]
[{"$f":"IF(ISNUMBER(SEARCH(F$1,B50,1)),MAX($A$1:A49)+1,0)","v":0},"Leburg","Leburg","NULL","Голубев",null,49,{"$error":"#N/A"},null,null,null,null,null,null,"ДП энд Партнерс Белоруссия",1,0]
[{"$f":"IF(ISNUMBER(SEARCH(F$1,B51,1)),MAX($A$1:A50)+1,0)","v":0},"LEDCRAFT","ООО \"Ледкрафт\"","Горчаков Е.М","Горчаков",null,50,{"$error":"#N/A"},null,null,null,null,null,null,"Евроформат",1,1]
[{"$f":"IF(ISNUMBER(SEARCH(F$1,B52,1)),MAX($A$1:A51)+1,0)","v":0},"LEDEL","ООО \"Ледел\"","Горчаков Е.М","Горчаков",null,null,null,null,null,null,null,null,null,"Завод",1,1]
[{"$f":"IF(ISNUMBER(SEARCH(F$1,B53,1)),MAX($A$1:A52)+1,0)","v":0},"Ledelt","Ledelt","NULL","Голубев",null,null,null,null,null,null,null,null,null,"Завод ВКО",1,0]
[{"$f":"IF(ISNUMBER(SEARCH(F$1,B54,1)),MAX($A$1:A53)+1,0)","v":0},"Ledoxi","Ledoxi","NULL","NULL",null,null,null,null,null,null,null,null,null,"Зенон (верно)",1,0]
[{"$f":"IF(ISNUMBER(SEARCH(F$1,B55,1)),MAX($A$1:A54)+1,0)","v":0},"LP TRADING s.r.o.","LP TRADING s.r.o.","Калинина Т.С","NULL",null,null,null,null,null,null,null,null,null,"Зименкова ИП",1,0]
[{"$f":"IF(ISNUMBER(SEARCH(F$1,B56,1)),MAX($A$1:A55)+1,0)","v":0},"Lucendi","ООО \"ЛЮЦЕНДИ\"","Горчаков Е.М","Горчаков",null,null,null,null,null,null,null,null,null,"Ижев зд. анод",1,0]
[{"$f":"IF(ISNUMBER(SEARCH(F$1,B57,1)),MAX($A$1:A56)+1,0)","v":0},"Lukoza","ООО \"ЛУКОЗА\"","Горчаков Е.М","Горчаков",null,null,null,null,null,null,null,null,null,"ИЗТТ",1,0]
[{"$f":"IF(ISNUMBER(SEARCH(F$1,B58,1)),MAX($A$1:A57)+1,0)","v":0},"Luxlift","Luxlift","NULL","Голубев",null,null,null,null,null,null,null,null,null,"ИМПУЛЬС выс тех",1,0]
[{"$f":"IF(ISNUMBER(SEARCH(F$1,B59,1)),MAX($A$1:A58)+1,0)","v":0},"Magnum Polska","Magnum Polska","Калинина Т.С","Вяльшина",null,null,null,null,null,null,null,null,null,"Инициал Дизайн",1,0]
[{"$f":"IF(ISNUMBER(SEARCH(F$1,B60,1)),MAX($A$1:A59)+1,0)","v":0},"Mekran","Mekran","NULL","Голубев",null,null,null,null,null,null,null,null,null,"Интертрейд",1,0]
[{"$f":"IF(ISNUMBER(SEARCH(F$1,B61,1)),MAX($A$1:A60)+1,0)","v":0},"Naveco","ООО \"ТТМ Центр Север\"","Верхомий И.Е","Верхомий",null,null,null,null,null,null,null,null,null,"ИнтерьерСтиль",1,0]
[{"$f":"IF(ISNUMBER(SEARCH(F$1,B62,1)),MAX($A$1:A61)+1,0)","v":0},"NLCO","NLCO","NULL","Голубев",null,null,null,null,null,null,null,null,null,"Интех ТД",1,0]
[{"$f":"IF(ISNUMBER(SEARCH(F$1,B63,1)),MAX($A$1:A62)+1,0)","v":0},"Nord FOX","Nord FOX","NULL","Голубев",null,null,null,null,null,null,null,null,null,"ИП Бакушкин",1,1]
[{"$f":"IF(ISNUMBER(SEARCH(F$1,B64,1)),MAX($A$1:A63)+1,0)","v":0},"Osif&Partners, s.r.o.Словакия","Osif&Partners, s.r.o.","Калинина Т.С","УК",null,null,null,null,null,null,null,null,null,"ИП Галактионов А.А.",1,1]
[{"$f":"IF(ISNUMBER(SEARCH(F$1,B65,1)),MAX($A$1:A64)+1,0)","v":0},"PandoraLed","PandoraLed","NULL","Голубев",null,null,null,null,null,null,null,null,null,"ИП Домнина Е.А.",1,0]
[{"$f":"IF(ISNUMBER(SEARCH(F$1,B66,1)),MAX($A$1:A65)+1,0)","v":0},"Primet","\"PRIMET\"","Верхомий И.Е","Верхомий",null,null,null,null,null,null,null,null,null,"ИП Охотников П.Г.",1,0]
[{"$f":"IF(ISNUMBER(SEARCH(F$1,B67,1)),MAX($A$1:A66)+1,0)","v":0},"REO LAT Польша","REO LAT SIA","Калинина Т.С","Вяльшина",null,null,null,null,null,null,null,null,null,"ИП Разуваева",1,0]
[{"$f":"IF(ISNUMBER(SEARCH(F$1,B68,1)),MAX($A$1:A67)+1,0)","v":0},"Rohm and Haas","Rohm and Haas","NULL","NULL",null,null,null,null,null,null,null,null,null,"Иплана",1,2]
[{"$f":"IF(ISNUMBER(SEARCH(F$1,B69,1)),MAX($A$1:A68)+1,0)","v":0},"Sibalux РФ","\"Sibalux\"","Верхомий И.Е","Верхомий",null,null,null,null,null,null,null,null,null,"КапСтройКомпл",1,0]
[{"$f":"IF(ISNUMBER(SEARCH(F$1,B70,1)),MAX($A$1:A69)+1,0)","v":0},"SLONECZNE MARKIZY \"S.C. Suchy Las, Poland\"","SLONECZNE MARKIZY \"S.C. Suchy Las, Poland\"","Калинина Т.С","Вяльшина",null,null,null,null,null,null,null,null,null,"Катрис",1,0]
[{"$f":"IF(ISNUMBER(SEARCH(F$1,B71,1)),MAX($A$1:A70)+1,0)","v":0},"Slovenka hlinikova spol. s.r.o.","Slovenka hlinikova spol. s.r.o.","Калинина Т.С","Верхомий",null,null,null,null,null,null,null,null,null,"Комплект плюс",1,0]
[{"$f":"IF(ISNUMBER(SEARCH(F$1,B72,1)),MAX($A$1:A71)+1,0)","v":0},"SOFT LIDER Молдавия","SOFT LIDER S.R.L","Калинина Т.С","Калинина",null,null,null,null,null,null,null,null,null,"Королан",1,0]
[{"$f":"IF(ISNUMBER(SEARCH(F$1,B73,1)),MAX($A$1:A72)+1,0)","v":0},"SPM","SPM проведаль","Верхомий И.Е","Верхомий",null,null,null,null,null,null,null,null,null,"КорпСолнце",1,0]
[{"$f":"IF(ISNUMBER(SEARCH(F$1,B74,1)),MAX($A$1:A73)+1,0)","v":0},"SV Technics","SV Technics","NULL","Голубев",null,null,null,null,null,null,null,null,null,"Кримелте",1,0]
[{"$f":"IF(ISNUMBER(SEARCH(F$1,B75,1)),MAX($A$1:A74)+1,0)","v":0},"TDS-LIGHT","TDS-LIGHT","Горчаков Е.М","Горчаков",null,null,null,null,null,null,null,null,null,"ЛАБРОМЕД",1,0]
[{"$f":"IF(ISNUMBER(SEARCH(F$1,B76,1)),MAX($A$1:A75)+1,0)","v":0},"Technolux","ООО АЭТЗ \"РЕКОРД\"","Горчаков Е.М","Горчаков",null,null,null,null,null,null,null,null,null,"Лайн Про",1,0]
[{"$f":"IF(ISNUMBER(SEARCH(F$1,B77,1)),MAX($A$1:A76)+1,0)","v":0},"test123","tester","NULL","NULL",null,null,null,null,null,null,null,null,null,"ЛЕГАС-ГРУПП",1,0]
[{"$f":"IF(ISNUMBER(SEARCH(F$1,B78,1)),MAX($A$1:A77)+1,0)","v":0},"UBC grup ","UBC grup ","Верхомий И.Е","Верхомий",null,null,null,null,null,null,null,null,null,"Локус",1,1]
[{"$f":"IF(ISNUMBER(SEARCH(F$1,B79,1)),MAX($A$1:A78)+1,0)","v":0},"Varton","Varton","NULL","Голубев",null,null,null,null,null,null,null,null,null,"Майдан Р(верно)",1,0]
[{"$f":"IF(ISNUMBER(SEARCH(F$1,B80,1)),MAX($A$1:A79)+1,0)","v":0},"Weinmann Aach AG ","Weinmann Aach AG ","Калинина Т.С","NULL",null,null,null,null,null,null,null,null,null,"Марти Гласс",1,0]
[{"$f":"IF(ISNUMBER(SEARCH(F$1,B81,1)),MAX($A$1:A80)+1,0)","v":0},"Wheil","ООО «НПТ Климатика»","Горчаков Е.М","Горчаков",null,null,null,null,null,null,null,null,null,"МАРТИНИ РУС",1,1]
[{"$f":"IF(ISNUMBER(SEARCH(F$1,B82,1)),MAX($A$1:A81)+1,0)","v":0},"Xlight ","ООО \"Икслайт\"","Горчаков Е.М","Горчаков",null,null,null,null,null,null,null,null,null,"Мастер Плюс",1,1]
[{"$f":"IF(ISNUMBER(SEARCH(F$1,B83,1)),MAX($A$1:A82)+1,0)","v":0},"АБСД_РУС","\"АБСД_РУС\" ООО","NULL","NULL",null,null,null,null,null,null,null,null,null,"МастерТехнолодж",1,0]
[{"$f":"IF(ISNUMBER(SEARCH(F$1,B84,1)),MAX($A$1:A83)+1,0)","v":0},"Абсолют Премиум","\"Абсолют Премиум\" ООО","NULL","NULL",null,null,null,null,null,null,null,null,null,"МашТест",1,0]
[{"$f":"IF(ISNUMBER(SEARCH(F$1,B85,1)),MAX($A$1:A84)+1,0)","v":2},"АВА дог. 208 от 11.12.2019_матрицы","АВА дог. 208 от 11.12.2019_матрицы","NULL","NULL",null,null,null,null,null,null,null,null,null,"МДМ",1,0]
[{"$f":"IF(ISNUMBER(SEARCH(F$1,B86,1)),MAX($A$1:A85)+1,0)","v":0},"АВА_товарный кредит","АВА_товарный кредит","NULL","NULL",null,null,null,null,null,null,null,null,null,"Медиа Эстейт",1,1]
[{"$f":"IF(ISNUMBER(SEARCH(F$1,B87,1)),MAX($A$1:A86)+1,0)","v":0},"АВА_Трейд","ООО \"Ава-Трейд\"","NULL","NULL",null,null,null,null,null,null,null,null,null,"МетОптТрейд СЦ",1,0]
[{"$f":"IF(ISNUMBER(SEARCH(F$1,B88,1)),MAX($A$1:A87)+1,0)","v":0},"АВА_Трейд(матрицы)","АВА_Трейд(матрицы)","NULL","NULL",null,null,null,null,null,null,null,null,null,"Миксал",1,0]
[{"$f":"IF(ISNUMBER(SEARCH(F$1,B89,1)),MAX($A$1:A88)+1,0)","v":0},"АВА-МАК обороты ВКЛ","АВА-МАК_обороты ВКЛ","NULL","NULL",null,null,null,null,null,null,null,null,null,"МитПроф",1,0]
[{"$f":"IF(ISNUMBER(SEARCH(F$1,B90,1)),MAX($A$1:A89)+1,0)","v":0},"Авангард + "," ООО «Авангард+»","Горчаков Е.М","Голубев",null,null,null,null,null,null,null,null,null,"Монолит23",1,0]
[{"$f":"IF(ISNUMBER(SEARCH(F$1,B91,1)),MAX($A$1:A90)+1,0)","v":0},"Авангард ГК","Авангард Группа Компаний","Акафьева Т.","NULL",null,null,null,null,null,null,null,null,null,"МонтичеллиРУС",1,0]
[{"$f":"IF(ISNUMBER(SEARCH(F$1,B92,1)),MAX($A$1:A91)+1,0)","v":0},"Авангард Проект_пост","Авангард Проект_поставщик","NULL","NULL",null,null,null,null,null,null,null,null,null,"МопТорг",1,0]
[{"$f":"IF(ISNUMBER(SEARCH(F$1,B93,1)),MAX($A$1:A92)+1,0)","v":0},"Авангард Строй","Авангард Строй ООО","Маслова И.С","Маслова",null,null,null,null,null,null,null,null,null,"Москитка",1,1]
[{"$f":"IF(ISNUMBER(SEARCH(F$1,B94,1)),MAX($A$1:A93)+1,0)","v":0},"Авангард(Выст)","Авангард(Выставка)","NULL","NULL",null,null,null,null,null,null,null,null,null,"МФ-Центр",1,0]
[{"$f":"IF(ISNUMBER(SEARCH(F$1,B95,1)),MAX($A$1:A94)+1,0)","v":0},"Авангард(краска)","Авангард (краска)","NULL","NULL",null,null,null,null,null,null,null,null,null,"Наяда 1",1,0]
[{"$f":"IF(ISNUMBER(SEARCH(F$1,B96,1)),MAX($A$1:A95)+1,0)","v":0},"Авангард(Общий)","Авангард(Общий)","Акафьева Т.","УК",null,null,null,null,null,null,null,null,null,"НордАл",1,0]
[{"$f":"IF(ISNUMBER(SEARCH(F$1,B97,1)),MAX($A$1:A96)+1,0)","v":0},"АВАНС","АВАНС ООО","Четверткова О.","Голубев",null,null,null,null,null,null,null,null,null,"НордВерк",1,0]
[{"$f":"IF(ISNUMBER(SEARCH(F$1,B98,1)),MAX($A$1:A97)+1,0)","v":0},"АвантеЛед","ООО «АвантеЛед»","Горчаков Е.М","Горчаков",null,null,null,null,null,null,null,null,null,"Нортекс 1",1,0]
[{"$f":"IF(ISNUMBER(SEARCH(F$1,B99,1)),MAX($A$1:A98)+1,0)","v":0},"АВА-Трейд","АВА-ТРейд ООО","Маслова И.С","Маслова",null,null,null,null,null,null,null,null,null,"НПО Машиностр 1",1,0]
[{"$f":"IF(ISNUMBER(SEARCH(F$1,B100,1)),MAX($A$1:A99)+1,0)","v":0},"АВА-Трейд (командировки)","АВА-Трейд (командировки)","NULL","NULL",null,null,null,null,null,null,null,null,null,"ОЗМК",1,0]
[{"$f":"IF(ISNUMBER(SEARCH(F$1,B101,1)),MAX($A$1:A100)+1,0)","v":0},"АВА-Трейд (покраска)","АВА-Трейд (покраска)","Маслова И.С","Маслова",null,null,null,null,null,null,null,null,null,"ОКНА ДОМКОМ",1,0]
[{"$f":"IF(ISNUMBER(SEARCH(F$1,B102,1)),MAX($A$1:A101)+1,0)","v":0},"АВА-Трейд (РУСАЛ)","АВА-Трейд (РУСАЛ)","NULL","NULL",null,null,null,null,null,null,null,null,null,"ОКНА СТОЛИЦЫ",1,0]
[{"$f":"IF(ISNUMBER(SEARCH(F$1,B103,1)),MAX($A$1:A102)+1,0)","v":0},"АВА-Трейд (товар)","АВА-Трейд (товар)","NULL","NULL",null,null,null,null,null,null,null,null,null,"ОлВайтПро Белоруссия",1,0]
[{"$f":"IF(ISNUMBER(SEARCH(F$1,B104,1)),MAX($A$1:A103)+1,0)","v":0},"АВА-Трейд достоставка ХЕВЕЛ","АВА-Трейд доставка по проекту ХЕВЕЛ","NULL","NULL",null,null,null,null,null,null,null,null,null,"ОЛСИСПОРТ",1,0]
[{"$f":"IF(ISNUMBER(SEARCH(F$1,B105,1)),MAX($A$1:A104)+1,0)","v":0},"АВА-Трейд перев. услуг","АВА-Трейд перев. услу","NULL","NULL",null,null,null,null,null,null,null,null,null,"Пегас Электромеханический Завод",1,0]
[{"$f":"IF(ISNUMBER(SEARCH(F$1,B106,1)),MAX($A$1:A105)+1,0)","v":0},"АВА-Трейд(доставка)","АВА-Трейд(доставка)","NULL","NULL",null,null,null,null,null,null,null,null,null,"Пероф и Ко",1,0]
[{"$f":"IF(ISNUMBER(SEARCH(F$1,B107,1)),MAX($A$1:A106)+1,0)","v":0},"АВА-Трейд_ВГО","АВА-Трейд_ВГО","NULL","NULL",null,null,null,null,null,null,null,null,null,"Петралюм 1",1,0]
[{"$f":"IF(ISNUMBER(SEARCH(F$1,B108,1)),MAX($A$1:A107)+1,0)","v":0},"АВА-Трейд_взаимозачеты","АВА-Трейд_взаимозачеты","NULL","NULL",null,null,null,null,null,null,null,null,null,"ПКФ Алюминий ВПК ",1,0]
[{"$f":"IF(ISNUMBER(SEARCH(F$1,B109,1)),MAX($A$1:A108)+1,0)","v":0},"АВА-Трейд_дав. сырье","АВА-Трейд_давальческое сырье","NULL","NULL",null,null,null,null,null,null,null,null,null,"Планета",1,0]
[{"$f":"IF(ISNUMBER(SEARCH(F$1,B110,1)),MAX($A$1:A109)+1,0)","v":0},"АВА-Трейд_осн.","ООО \"АВА-Трейд\"","NULL","NULL",null,null,null,null,null,null,null,null,null,"ППСХ",1,0]
[{"$f":"IF(ISNUMBER(SEARCH(F$1,B111,1)),MAX($A$1:A110)+1,0)","v":0},"АВА-Трейд_пост.","АВА-Трейд_пост.","NULL","NULL",null,null,null,null,null,null,null,null,null,"Продакт Металл",1,0]
[{"$f":"IF(ISNUMBER(SEARCH(F$1,B112,1)),MAX($A$1:A111)+1,0)","v":0},"АВА-Трейд_профиль","ООО \"АВА-Трейд\"","NULL","NULL",null,null,null,null,null,null,null,null,null,"ПРОЖЕКТ",1,0]
[{"$f":"IF(ISNUMBER(SEARCH(F$1,B113,1)),MAX($A$1:A112)+1,0)","v":0},"Ава-Трейд_транзит","Ава-Трейд_транзит","NULL","NULL",null,null,null,null,null,null,null,null,null,"Пром Конструктор",1,0]
[{"$f":"IF(ISNUMBER(SEARCH(F$1,B114,1)),MAX($A$1:A113)+1,0)","v":0},"Август","Август ООО","Шабалина Е.В","Шабалина",null,null,null,null,null,null,null,null,null,"ПРОММЕТ",1,0]
[{"$f":"IF(ISNUMBER(SEARCH(F$1,B115,1)),MAX($A$1:A114)+1,0)","v":0},"Авент","\"Авент\" ООО","NULL","NULL",null,null,null,null,null,null,null,null,null,"Промышленные полы",1,0]
[{"$f":"IF(ISNUMBER(SEARCH(F$1,B116,1)),MAX($A$1:A115)+1,0)","v":0},"АВЕНТА","АВЕНТА ООО","NULL","NULL",null,null,null,null,null,null,null,null,null,"ПроТех ",1,0]
[{"$f":"IF(ISNUMBER(SEARCH(F$1,B117,1)),MAX($A$1:A116)+1,0)","v":0},"Авес","Авес ООО","NULL","NULL",null,null,null,null,null,null,null,null,null,"Равта",1,0]
[{"$f":"IF(ISNUMBER(SEARCH(F$1,B118,1)),MAX($A$1:A117)+1,0)","v":0},"Авиаль","\"АВИАЛЬ Компания\" ООО","NULL","NULL",null,null,null,null,null,null,null,null,null,"Рассвет",1,0]
[{"$f":"IF(ISNUMBER(SEARCH(F$1,B119,1)),MAX($A$1:A118)+1,0)","v":0},"Авикус","Авикус ООО","NULL","NULL",null,null,null,null,null,null,null,null,null,"РВЭ",1,0]
[{"$f":"IF(ISNUMBER(SEARCH(F$1,B120,1)),MAX($A$1:A119)+1,0)","v":0},"АвтоГироРуссланд","АвтоГироРуссланд ООО","Маслова И.С","Верхомий",null,null,null,null,null,null,null,null,null,"РешенияДляОкон",1,0]
[{"$f":"IF(ISNUMBER(SEARCH(F$1,B121,1)),MAX($A$1:A120)+1,0)","v":0},"Автограф Жалюзи","Автограф Жалюзи ООО","Маслова И.С","Маслова",null,null,null,null,null,null,null,null,null,"РИЧ РОЛ ",1,0]
[{"$f":"IF(ISNUMBER(SEARCH(F$1,B122,1)),MAX($A$1:A121)+1,0)","v":0},"Автодизайн","ООО ППФ\"Автодизайн\"","Верхомий И.Е","Верхомий",null,null,null,null,null,null,null,null,null,"Росттехпром",1,0]
[{"$f":"IF(ISNUMBER(SEARCH(F$1,B123,1)),MAX($A$1:A122)+1,0)","v":0},"Автокемпер Пром","Автокемпер Пром ООО","Тимофеева Н.Д","NULL",null,null,null,null,null,null,null,null,null,"РТИ-Пушкино",1,0]
[{"$f":"IF(ISNUMBER(SEARCH(F$1,B124,1)),MAX($A$1:A123)+1,0)","v":0},"Автомеханический Завод","Автомеханический Завод","Верхомий И.Е","Верхомий",null,null,null,null,null,null,null,null,null,"РУСТЕПЛОПОЛ",1,0]
[{"$f":"IF(ISNUMBER(SEARCH(F$1,B125,1)),MAX($A$1:A124)+1,0)","v":0},"АВТОПРОМСЕРВИС","АВТОПРОМСЕРВИС ООО","Борисова Э.Б","NULL",null,null,null,null,null,null,null,null,null,"Рэйлюкс",1,0]
[{"$f":"IF(ISNUMBER(SEARCH(F$1,B126,1)),MAX($A$1:A125)+1,0)","v":0},"АвтоСпецКомпонент","АвтоСпецКомпонент ООО","Голубев А.С","Голубев",null,null,null,null,null,null,null,null,null,"Свет НН ",1,0]
[{"$f":"IF(ISNUMBER(SEARCH(F$1,B127,1)),MAX($A$1:A126)+1,0)","v":0},"Автоэкспресс","\"Автоэкспресс\" ООО","NULL","NULL",null,null,null,null,null,null,null,null,null,"Синдикат",1,0]
[{"$f":"IF(ISNUMBER(SEARCH(F$1,B128,1)),MAX($A$1:A127)+1,0)","v":0},"АГ ХОЛДИНГ","АГ ХОЛДИНГ","Верхомий И.Е","NULL",null,null,null,null,null,null,null,null,null,"СМК",1,0]
[{"$f":"IF(ISNUMBER(SEARCH(F$1,B129,1)),MAX($A$1:A128)+1,0)","v":0},"Агат","Агат ООО","Шабалина Е.В","Шишкин ",null,null,null,null,null,null,null,null,null,"Снабсервис руб",1,0]
[{"$f":"IF(ISNUMBER(SEARCH(F$1,B130,1)),MAX($A$1:A129)+1,0)","v":0},"Агат(поддон)","ООО \"Агат\"(поддон)","NULL","NULL",null,null,null,null,null,null,null,null,null,"Солнцезащитные системы",1,0]
[{"$f":"IF(ISNUMBER(SEARCH(F$1,B131,1)),MAX($A$1:A130)+1,0)","v":0},"Агрисовгаз","\"Агрисовгаз\" ООО","NULL","NULL",null,null,null,null,null,null,null,null,null,"СолнцезащсистМинск",1,0]
[{"$f":"IF(ISNUMBER(SEARCH(F$1,B132,1)),MAX($A$1:A131)+1,0)","v":0},"Агрисовгаз Представ","Представительство Агрисовгаз ООО","Маслова И.С","NULL",null,null,null,null,null,null,null,null,null,"Софос",1,0]
[{"$f":"IF(ISNUMBER(SEARCH(F$1,B133,1)),MAX($A$1:A132)+1,0)","v":0},"Агро Групп МП","Агро Групп МП ООО","Голубев А.С","NULL",null,null,null,null,null,null,null,null,null,"СПЕКТР СП",1,0]
[{"$f":"IF(ISNUMBER(SEARCH(F$1,B134,1)),MAX($A$1:A133)+1,0)","v":0},"Агромаш","Агромаш ООО","Голубев А.С","NULL",null,null,null,null,null,null,null,null,null,"Спецавтотехника Белоруссия",1,0]
[{"$f":"IF(ISNUMBER(SEARCH(F$1,B135,1)),MAX($A$1:A134)+1,0)","v":0},"Агроспецмашина","Агроспецмашина ЗАО","Маслова И.С","Верхомий",null,null,null,null,null,null,null,null,null,"Спорт Макс",1,0]
[{"$f":"IF(ISNUMBER(SEARCH(F$1,B136,1)),MAX($A$1:A135)+1,0)","v":0},"Адекс","АДЕКС ООО","Шабалина Е.В","Шишкин ",null,null,null,null,null,null,null,null,null,"Стандарт-Электрик",1,0]
[{"$f":"IF(ISNUMBER(SEARCH(F$1,B137,1)),MAX($A$1:A136)+1,0)","v":0},"Азбука Комфорта","\"Азбука Комфорта\" ООО","NULL","NULL",null,null,null,null,null,null,null,null,null,"Стекломаш",1,0]
[{"$f":"IF(ISNUMBER(SEARCH(F$1,B138,1)),MAX($A$1:A137)+1,0)","v":0},"Азбука Света","Азбука Света ООО","Маслова И.С","Голубев",null,null,null,null,null,null,null,null,null,"СТИ 2023",1,0]
[{"$f":"IF(ISNUMBER(SEARCH(F$1,B139,1)),MAX($A$1:A138)+1,0)","v":0},"Ай Пи Джи Клима","Ай Пи Джи Клима ООО","Калинина Т.С","Калинина",null,null,null,null,null,null,null,null,null,"СторХан",1,0]
[{"$f":"IF(ISNUMBER(SEARCH(F$1,B140,1)),MAX($A$1:A139)+1,0)","v":0},"Айдо-С"," \"Айдо-С\" ООО","NULL","NULL",null,null,null,null,null,null,null,null,null,"Стройкомплекс",1,0]
[{"$f":"IF(ISNUMBER(SEARCH(F$1,B141,1)),MAX($A$1:A140)+1,0)","v":0},"Айнкон","Айнкон ООО","Халдина О.Н","Голубев",null,null,null,null,null,null,null,null,null,"Стройремавто Белоруссия",1,0]
[{"$f":"IF(ISNUMBER(SEARCH(F$1,B142,1)),MAX($A$1:A141)+1,0)","v":0},"Аква-Динамика","Аква-Динамика ООО","Верхомий И.Е","NULL",null,null,null,null,null,null,null,null,null,"СтройТехРесурсР",1,0]
[{"$f":"IF(ISNUMBER(SEARCH(F$1,B143,1)),MAX($A$1:A142)+1,0)","v":0},"АКВАСИТИ","АКВАСИТИ ООО","Калинина Т.С","Калинина",null,null,null,null,null,null,null,null,null,"ТБМ АО",1,0]
[{"$f":"IF(ISNUMBER(SEARCH(F$1,B144,1)),MAX($A$1:A143)+1,0)","v":0},"Акватек","Акватек Производственная компания ООО","NULL","NULL",null,null,null,null,null,null,null,null,null,"ТБМ юг",1,0]
[{"$f":"IF(ISNUMBER(SEARCH(F$1,B145,1)),MAX($A$1:A144)+1,0)","v":0},"Акватек (верно)","Акватек Производственная компания ООО","NULL","NULL",null,null,null,null,null,null,null,null,null,"Тенткрафт",1,0]
[{"$f":"IF(ISNUMBER(SEARCH(F$1,B146,1)),MAX($A$1:A145)+1,0)","v":0},"Акватек(поддон)","Акватек(поддон)","NULL","NULL",null,null,null,null,null,null,null,null,null,"ТеплоЭлементК",1,0]
[{"$f":"IF(ISNUMBER(SEARCH(F$1,B147,1)),MAX($A$1:A146)+1,0)","v":0},"Акватон","Акватон ООО","Шабалина Е.В","Шабалина",null,null,null,null,null,null,null,null,null,"Тонар ",1,0]
[{"$f":"IF(ISNUMBER(SEARCH(F$1,B148,1)),MAX($A$1:A147)+1,0)","v":0},"Акзо Нобель","\"Акзо Нобель\" ООО","NULL","NULL",null,null,null,null,null,null,null,null,null,"ТОП-ЛАЙН",1,1]
[{"$f":"IF(ISNUMBER(SEARCH(F$1,B149,1)),MAX($A$1:A148)+1,0)","v":0},"Акзо Нобель_$","\"Акзо Нобель\"_$ ООО","NULL","NULL",null,null,null,null,null,null,null,null,null,"ТрансГарант",1,0]
[{"$f":"IF(ISNUMBER(SEARCH(F$1,B150,1)),MAX($A$1:A149)+1,0)","v":0},"АКПЛАСТ","АКПЛАСТ ООО","Маслова И.С","Голубев",null,null,null,null,null,null,null,null,null,"Трансинжиниринг",1,0]
[{"$f":"IF(ISNUMBER(SEARCH(F$1,B151,1)),MAX($A$1:A150)+1,0)","v":0},"Аксиома","Аксиома","NULL","Голубев",null,null,null,null,null,null,null,null,null,"ТРВ-инжиниринг",1,0]
[{"$f":"IF(ISNUMBER(SEARCH(F$1,B152,1)),MAX($A$1:A151)+1,0)","v":0},"АКСИС","АКСИС ООО","NULL","NULL",null,null,null,null,null,null,null,null,null,"Трейдал",1,0]
[{"$f":"IF(ISNUMBER(SEARCH(F$1,B153,1)),MAX($A$1:A152)+1,0)","v":0},"Актимиста","Актимиста ТК ООО","Халдина О.Н","NULL",null,null,null,null,null,null,null,null,null,"УСПК",1,0]
[{"$f":"IF(ISNUMBER(SEARCH(F$1,B154,1)),MAX($A$1:A153)+1,0)","v":0},"Актор -М","Актор -М ООО","Акафьева Т.","Акафьева",null,null,null,null,null,null,null,null,null,"Учмебель Белоруссия",1,0]
[{"$f":"IF(ISNUMBER(SEARCH(F$1,B155,1)),MAX($A$1:A154)+1,0)","v":0},"Акура-С","Акура-С ООО","Халдина О.Н","Халдина",null,null,null,null,null,null,null,null,null,"Уют 1",1,0]
[{"$f":"IF(ISNUMBER(SEARCH(F$1,B156,1)),MAX($A$1:A155)+1,0)","v":0},"Акцент","\"Акцент\" ООО","NULL","NULL",null,null,null,null,null,null,null,null,null,"Фасадные Решения",1,0]
[{"$f":"IF(ISNUMBER(SEARCH(F$1,B157,1)),MAX($A$1:A156)+1,0)","v":0},"АКЦЕНТ ООО","ООО \"АКЦЕНТ\"","NULL","NULL",null,null,null,null,null,null,null,null,null,"Ферипласт",1,0]
[{"$f":"IF(ISNUMBER(SEARCH(F$1,B158,1)),MAX($A$1:A157)+1,0)","v":0},"АЛ5 БИЛД","АЛ5 БИЛД ООО","Волчек Е.П","NULL",null,null,null,null,null,null,null,null,null,"Фирма Дизайн-Вектор",1,0]
[{"$f":"IF(ISNUMBER(SEARCH(F$1,B159,1)),MAX($A$1:A158)+1,0)","v":0},"АЛ5 ЮГ-МАК обороты ВКЛ","АЛ5 ЮГ-МАК обороты ВКЛ","NULL","NULL",null,null,null,null,null,null,null,null,null,"ФПК СтроитКомп",1,0]
[{"$f":"IF(ISNUMBER(SEARCH(F$1,B160,1)),MAX($A$1:A159)+1,0)","v":0},"АЛ5_консульт. услуги","АЛ5_консультационные услуги","NULL","NULL",null,null,null,null,null,null,null,null,null,"Франс Гардинер Раша",1,0]
[{"$f":"IF(ISNUMBER(SEARCH(F$1,B161,1)),MAX($A$1:A160)+1,0)","v":0},"АЛ5-СИТИ","АЛ5-СИТИ ООО ","Акафьева Т.","NULL",null,null,null,null,null,null,null,null,null,"Фристайл",1,0]
[{"$f":"IF(ISNUMBER(SEARCH(F$1,B162,1)),MAX($A$1:A161)+1,0)","v":0},"АЛ5-ЮГ","ООО \"АЛ5-ЮГ\"","Маслова И.С","Маслова",null,null,null,null,null,null,null,null,null,"Фурнитура Холдинг",1,0]
[{"$f":"IF(ISNUMBER(SEARCH(F$1,B163,1)),MAX($A$1:A162)+1,0)","v":0},"АЛ5-ЮГ лом","АЛ5_ЮГ","NULL","NULL",null,null,null,null,null,null,null,null,null,"Фэктори-ГУТЭ ВЭТЭР",1,1]
[{"$f":"IF(ISNUMBER(SEARCH(F$1,B164,1)),MAX($A$1:A163)+1,0)","v":0},"АЛ5-ЮГ ООО","АЛ5- ЮГ ООО","Маслова И.С","Маслова",null,null,null,null,null,null,null,null,null,"Халла",1,1]
[{"$f":"IF(ISNUMBER(SEARCH(F$1,B165,1)),MAX($A$1:A164)+1,0)","v":0},"АЛ5-ЮГ_займ","АЛ5-ЮГ_займ","NULL","NULL",null,null,null,null,null,null,null,null,null,"Хилти",1,0]
[{"$f":"IF(ISNUMBER(SEARCH(F$1,B166,1)),MAX($A$1:A165)+1,0)","v":0},"АЛ5-ЮГ_Транзит (Метем)","АЛ5-ЮГ_Транзит (Метем)","NULL","NULL",null,null,null,null,null,null,null,null,null,"Хилти Казахстан",1,0]
[{"$f":"IF(ISNUMBER(SEARCH(F$1,B167,1)),MAX($A$1:A166)+1,0)","v":0},"Аламеда"," \"Аламеда\" МЛК ООО","NULL","NULL",null,null,null,null,null,null,null,null,null,"ЦВЕТ-ОК Питер",1,0]
[{"$f":"IF(ISNUMBER(SEARCH(F$1,B168,1)),MAX($A$1:A167)+1,0)","v":0},"Аламеда(поддон)","Аламеда(поддон)","NULL","NULL",null,null,null,null,null,null,null,null,null,"Чкаловкий Электро Мех Завой",1,0]
[{"$f":"IF(ISNUMBER(SEARCH(F$1,B169,1)),MAX($A$1:A168)+1,0)","v":0},"Аларм Трейд","Аларм Трейд","NULL","Голубев",null,null,null,null,null,null,null,null,null,"Эгида-Радуга",1,0]
[{"$f":"IF(ISNUMBER(SEARCH(F$1,B170,1)),MAX($A$1:A169)+1,0)","v":0},"АЛБ","ООО \"АЛБ\"","Горчаков Е.М","Горчаков",null,null,null,null,null,null,null,null,null,"ЭКОСВЕТ",1,0]
[{"$f":"IF(ISNUMBER(SEARCH(F$1,B171,1)),MAX($A$1:A170)+1,0)","v":0},"АЛВЕНТ","АЛВЕНТ ООО","Халдина О.Н","NULL",null,null,null,null,null,null,null,null,null,"Экструдер Консалтинг",1,0]
[{"$f":"IF(ISNUMBER(SEARCH(F$1,B172,1)),MAX($A$1:A171)+1,0)","v":0},"А-ЛЕД.ПРО","А-ЛЕД.ПРО","Шабалина Е.В","Верхомий",null,null,null,null,null,null,null,null,null,"Электро-М",1,0]
[{"$f":"IF(ISNUMBER(SEARCH(F$1,B173,1)),MAX($A$1:A172)+1,0)","v":0},"Александровский Сад","Александровский Сад ООО","Акафьева Т.","Акафьева",null,null,null,null,null,null,null,null,null,"Эльпласт-Жалюзи",1,0]
[{"$f":"IF(ISNUMBER(SEARCH(F$1,B174,1)),MAX($A$1:A173)+1,0)","v":0},"АлексПРО","Алекс ПРО ООО","Акафьева Т.","Акафьева",null,null,null,null,null,null,null,null,null,"ЭНВОЛ",1,0]
[{"$f":"IF(ISNUMBER(SEARCH(F$1,B175,1)),MAX($A$1:A174)+1,0)","v":0},"Алинтекс","Алинтекс  ООО","Калинина Т.С","NULL",null,null,null,null,null,null,null,null,null,"ЭТЕРНА",1,0]
[{"$f":"IF(ISNUMBER(SEARCH(F$1,B176,1)),MAX($A$1:A175)+1,0)","v":0},"Алипласт","\"Алипласт\" ООО","NULL","NULL",null,null,null,null,null,null,null,null,null,"Юнистем",1,0]
[{"$f":"IF(ISNUMBER(SEARCH(F$1,B177,1)),MAX($A$1:A176)+1,0)","v":0},"Алкалсан","\"Алкалсан\" ООО","NULL","NULL"]
[{"$f":"IF(ISNUMBER(SEARCH(F$1,B178,1)),MAX($A$1:A177)+1,0)","v":0},"Алкалсан-GEOCOM","Алкалсан-GEOKOM","NULL","NULL"]
[{"$f":"IF(ISNUMBER(SEARCH(F$1,B179,1)),MAX($A$1:A178)+1,0)","v":0},"Алкалсан-GOMOZ","Алкалсан-GOMOZOV","NULL","NULL"]
[{"$f":"IF(ISNUMBER(SEARCH(F$1,B180,1)),MAX($A$1:A179)+1,0)","v":0},"Алкалсан-Импост","Алкалсан-Импост","NULL","NULL"]
[{"$f":"IF(ISNUMBER(SEARCH(F$1,B181,1)),MAX($A$1:A180)+1,0)","v":0},"Алкалсан-Юниф","Алкалсан-Юнифрейд","NULL","NULL"]
[{"$f":"IF(ISNUMBER(SEARCH(F$1,B182,1)),MAX($A$1:A181)+1,0)","v":0},"АЛКОМ Москва","АЛКОМ Москва","Кочанова Т.В","NULL"]
[{"$f":"IF(ISNUMBER(SEARCH(F$1,B183,1)),MAX($A$1:A182)+1,0)","v":0},"АЛКОМ Серпухов","АЛКОМ Серпухов","Маслова И.С","Маслова"]
[{"$f":"IF(ISNUMBER(SEARCH(F$1,B184,1)),MAX($A$1:A183)+1,0)","v":0},"АлКом(поддоны)","АлКом(поддоны)","NULL","NULL"]
[{"$f":"IF(ISNUMBER(SEARCH(F$1,B185,1)),MAX($A$1:A184)+1,0)","v":0},"АлКом-М","Алком-М ООО","Кочанова Т.В","NULL"]
[{"$f":"IF(ISNUMBER(SEARCH(F$1,B186,1)),MAX($A$1:A185)+1,0)","v":0},"Алком-Мет","Алком-Мет ООО","Маслова И.С","Маслова"]
[{"$f":"IF(ISNUMBER(SEARCH(F$1,B187,1)),MAX($A$1:A186)+1,0)","v":0},"АлКон","ООО \"АлКон\" г.Смоленск","NULL","NULL"]
[{"$f":"IF(ISNUMBER(SEARCH(F$1,B188,1)),MAX($A$1:A187)+1,0)","v":0},"АЛКОН Эл-сталь","АЛКОН Эл-сталь ООО","Голубев А.С","NULL"]
[{"$f":"IF(ISNUMBER(SEARCH(F$1,B189,1)),MAX($A$1:A188)+1,0)","v":0},"Алкотек","Алкотек","NULL","Голубев"]
[{"$f":"IF(ISNUMBER(SEARCH(F$1,B190,1)),MAX($A$1:A189)+1,0)","v":0},"Аллегри","Аллегри ООО","Халдина О.Н","Халдина"]
[{"$f":"IF(ISNUMBER(SEARCH(F$1,B191,1)),MAX($A$1:A190)+1,0)","v":0},"АлЛифтСтрой","\"АлЛифтСтрой\" ЗАО","NULL","NULL"]
[{"$f":"IF(ISNUMBER(SEARCH(F$1,B192,1)),MAX($A$1:A191)+1,0)","v":0},"Аллюра СПК","Аллюра СПК ООО","Верхомий И.Е","NULL"]
[{"$f":"IF(ISNUMBER(SEARCH(F$1,B193,1)),MAX($A$1:A192)+1,0)","v":0},"АЛМаркет","ООО \"АЛМаркет\"","NULL","NULL"]
[{"$f":"IF(ISNUMBER(SEARCH(F$1,B194,1)),MAX($A$1:A193)+1,0)","v":0},"АлМо","Алмо ООО","Маслова И.С","NULL"]
[{"$f":"IF(ISNUMBER(SEARCH(F$1,B195,1)),MAX($A$1:A194)+1,0)","v":0},"АлНорд","АлНорд ООО","Калинина Т.С","Голубев"]
[{"$f":"IF(ISNUMBER(SEARCH(F$1,B196,1)),MAX($A$1:A195)+1,0)","v":0},"АЛПИ","АЛПИ ООО","NULL","NULL"]
[{"$f":"IF(ISNUMBER(SEARCH(F$1,B197,1)),MAX($A$1:A196)+1,0)","v":0},"Ал-Профи","Ал-Профи ООО","Акафьева Т.","УК"]
[{"$f":"IF(ISNUMBER(SEARCH(F$1,B198,1)),MAX($A$1:A197)+1,0)","v":0},"Алпрофсервис","Алпрофсервис","NULL","NULL"]
[{"$f":"IF(ISNUMBER(SEARCH(F$1,B199,1)),MAX($A$1:A198)+1,0)","v":0},"АЛРОКС","АЛРОКС","Маслова И.С","NULL"]
[{"$f":"IF(ISNUMBER(SEARCH(F$1,B200,1)),MAX($A$1:A199)+1,0)","v":0},"АЛСАВ","АЛСАВ ПК_ООО","Четверткова О.","Голубев"]
[{"$f":"IF(ISNUMBER(SEARCH(F$1,B201,1)),MAX($A$1:A200)+1,0)","v":0},"Алсиб-система","ООО \"Алсиб-система\"","NULL","NULL"]
[{"$f":"IF(ISNUMBER(SEARCH(F$1,B202,1)),MAX($A$1:A201)+1,0)","v":0},"Алсико","ООО Фирма \"Алсико\"","NULL","NULL"]
[{"$f":"IF(ISNUMBER(SEARCH(F$1,B203,1)),MAX($A$1:A202)+1,0)","v":0},"АлСиКон","ООО \"АлСиКон\"","NULL","NULL"]
[{"$f":"IF(ISNUMBER(SEARCH(F$1,B204,1)),MAX($A$1:A203)+1,0)","v":0},"Алсит","Алсит ООО","Маслова И.С","Голубев"]
[{"$f":"IF(ISNUMBER(SEARCH(F$1,B205,1)),MAX($A$1:A204)+1,0)","v":0},"Алспайс","Алспайс ООО","Акафьева Т.","NULL"]
[{"$f":"IF(ISNUMBER(SEARCH(F$1,B206,1)),MAX($A$1:A205)+1,0)","v":0},"АлСток Юг","ООО \"АлСток Юг\"","NULL","NULL"]
[{"$f":"IF(ISNUMBER(SEARCH(F$1,B207,1)),MAX($A$1:A206)+1,0)","v":0},"Алстоксервис","ООО \"Алстоксервис\"","Кочанова Т.В","NULL"]
[{"$f":"IF(ISNUMBER(SEARCH(F$1,B208,1)),MAX($A$1:A207)+1,0)","v":0},"Алстрома","Алстрома ООО","Акафьева Т.","NULL"]
[{"$f":"IF(ISNUMBER(SEARCH(F$1,B209,1)),MAX($A$1:A208)+1,0)","v":0},"Ал-тек","Ал-тек ООО","Козлова Ю.К","NULL"]
[{"$f":"IF(ISNUMBER(SEARCH(F$1,B210,1)),MAX($A$1:A209)+1,0)","v":0},"АЛТЕКО","АЛТЕКО ООО","Маслова И.С","Шишкин "]
[{"$f":"IF(ISNUMBER(SEARCH(F$1,B211,1)),MAX($A$1:A210)+1,0)","v":0},"Алтехстрой","ООО \"ПСК Алтехстрой\"","NULL","NULL"]
[{"$f":"IF(ISNUMBER(SEARCH(F$1,B212,1)),MAX($A$1:A211)+1,0)","v":0},"Алтехстрой (П)","Алтехстрой (П)","NULL","NULL"]
[{"$f":"IF(ISNUMBER(SEARCH(F$1,B213,1)),MAX($A$1:A212)+1,0)","v":0},"АЛТИ","АЛТИ ООО ","Акафьева Т.","NULL"]
[{"$f":"IF(ISNUMBER(SEARCH(F$1,B214,1)),MAX($A$1:A213)+1,0)","v":0},"АлТиМаг","Алюминий Титан Магний","NULL","NULL"]
[{"$f":"IF(ISNUMBER(SEARCH(F$1,B215,1)),MAX($A$1:A214)+1,0)","v":0},"Алтимгарантстрой","Алтимгарантстрой ООО","Голубев А.С","NULL"]
[{"$f":"IF(ISNUMBER(SEARCH(F$1,B216,1)),MAX($A$1:A215)+1,0)","v":0},"АлФас","ТД АлФас ООО","Ковалев В.С","NULL"]
[{"$f":"IF(ISNUMBER(SEARCH(F$1,B217,1)),MAX($A$1:A216)+1,0)","v":0},"Алфасад","Алфасад","NULL","Голубев"]
[{"$f":"IF(ISNUMBER(SEARCH(F$1,B218,1)),MAX($A$1:A217)+1,0)","v":0},"АЛ-ХАН","АЛ-ХАН ООО","Тимофеева Н.Д","NULL"]
[{"$f":"IF(ISNUMBER(SEARCH(F$1,B219,1)),MAX($A$1:A218)+1,0)","v":0},"Алькон","Алькон ООО","Голубев А.С","Голубев"]
[{"$f":"IF(ISNUMBER(SEARCH(F$1,B220,1)),MAX($A$1:A219)+1,0)","v":0},"Альпика","Альпика","Верхомий И.Е","Голубев"]
[{"$f":"IF(ISNUMBER(SEARCH(F$1,B221,1)),MAX($A$1:A220)+1,0)","v":0},"Альтек-строй","ООО \"Альтек-строй\"","NULL","NULL"]
[{"$f":"IF(ISNUMBER(SEARCH(F$1,B222,1)),MAX($A$1:A221)+1,0)","v":0},"Альфа-Дизайн","Альфа-дизайн ООО","Халдина О.Н","Голубев"]
[{"$f":"IF(ISNUMBER(SEARCH(F$1,B223,1)),MAX($A$1:A222)+1,0)","v":0},"АЛЬФА-ЛЕД","АЛЬФА-ЛЕД ООО","Четверткова О.","Голубев"]
[{"$f":"IF(ISNUMBER(SEARCH(F$1,B224,1)),MAX($A$1:A223)+1,0)","v":0},"Альфа-Металл","Альфа-Металл ПО ООО","Верхомий И.Е","NULL"]
[{"$f":"IF(ISNUMBER(SEARCH(F$1,B225,1)),MAX($A$1:A224)+1,0)","v":0},"Альфа-Пласт","Альфа-Пласт ООО","Шабалина Е.В","Каменев"]
[{"$f":"IF(ISNUMBER(SEARCH(F$1,B226,1)),MAX($A$1:A225)+1,0)","v":0},"АльфаСтрой","АльфаСтрой ООО","Голубев А.С","NULL"]
[{"$f":"IF(ISNUMBER(SEARCH(F$1,B227,1)),MAX($A$1:A226)+1,0)","v":0},"АльфСтрой","АльфСтрой ООО","NULL","NULL"]
[{"$f":"IF(ISNUMBER(SEARCH(F$1,B228,1)),MAX($A$1:A227)+1,0)","v":0},"АльфСтрой(поддо","АльфСтрой(поддоны)","NULL","NULL"]
[{"$f":"IF(ISNUMBER(SEARCH(F$1,B229,1)),MAX($A$1:A228)+1,0)","v":0},"Альянс Мебель","ООО \"Альянс Мебель\"","Верхомий И.Е","Верхомий"]
[{"$f":"IF(ISNUMBER(SEARCH(F$1,B230,1)),MAX($A$1:A229)+1,0)","v":0},"Альянс сервис"," \"Альянс сервис\" ООО","NULL","NULL"]
[{"$f":"IF(ISNUMBER(SEARCH(F$1,B231,1)),MAX($A$1:A230)+1,0)","v":0},"Альянс-Трейд","Альянс-Трейд ТД ООО","Маслова И.С","NULL"]
[{"$f":"IF(ISNUMBER(SEARCH(F$1,B232,1)),MAX($A$1:A231)+1,0)","v":0},"Алюкон","ООО \"Алюкон\"","NULL","NULL"]
[{"$f":"IF(ISNUMBER(SEARCH(F$1,B233,1)),MAX($A$1:A232)+1,0)","v":0},"Алюм ООО","Алюм ООО","NULL","Голубев"]
[{"$f":"IF(ISNUMBER(SEARCH(F$1,B234,1)),MAX($A$1:A233)+1,0)","v":0},"АЛЮМ СТАНДАРТ","АЛЮМ СТАНДАРТ ООО","Халдина О.Н","Халдина"]
[{"$f":"IF(ISNUMBER(SEARCH(F$1,B235,1)),MAX($A$1:A234)+1,0)","v":0},"Алюм Эко","Алюм Эко","NULL","Голубев"]
[{"$f":"IF(ISNUMBER(SEARCH(F$1,B236,1)),MAX($A$1:A235)+1,0)","v":0},"Алюма","\"Алюма\" ООО","NULL","NULL"]
[{"$f":"IF(ISNUMBER(SEARCH(F$1,B237,1)),MAX($A$1:A236)+1,0)","v":0},"Алюма ТД","Алюма ТД","NULL","NULL"]
[{"$f":"IF(ISNUMBER(SEARCH(F$1,B238,1)),MAX($A$1:A237)+1,0)","v":0},"Алюмика (Феррум)","Феррум ООО","Маслова И.С","NULL"]
[{"$f":"IF(ISNUMBER(SEARCH(F$1,B239,1)),MAX($A$1:A238)+1,0)","v":0},"АлюмиКС","АлюмиКС ООО","Акафьева Т.","Акафьева"]
[{"$f":"IF(ISNUMBER(SEARCH(F$1,B240,1)),MAX($A$1:A239)+1,0)","v":0},"Алюмин Системы","Алюминиевые Системы ООО","NULL","NULL"]
[{"$f":"IF(ISNUMBER(SEARCH(F$1,B241,1)),MAX($A$1:A240)+1,0)","v":0},"Алюмин Стиль","Алюмин Стиль","NULL","Голубев"]
[{"$f":"IF(ISNUMBER(SEARCH(F$1,B242,1)),MAX($A$1:A241)+1,0)","v":0},"Алюминиевый Материал","Алюминиевый Материал ООО","Фролова А.Г","Фролова"]
[{"$f":"IF(ISNUMBER(SEARCH(F$1,B243,1)),MAX($A$1:A242)+1,0)","v":0},"АЛЮМИНИЙ ЮГ","АЛЮМИНИЙ ЮГ ООО","Халдина О.Н","Халдина"]
[{"$f":"IF(ISNUMBER(SEARCH(F$1,B244,1)),MAX($A$1:A243)+1,0)","v":0},"Алюминко","Алюминко ООО","Маслова И.С","NULL"]
[{"$f":"IF(ISNUMBER(SEARCH(F$1,B245,1)),MAX($A$1:A244)+1,0)","v":0},"Алюминстрой","Алюминстрой","NULL","Голубев"]
[{"$f":"IF(ISNUMBER(SEARCH(F$1,B246,1)),MAX($A$1:A245)+1,0)","v":0},"Алюмир Юг","ООО \"Алюмир ЮГ\"","Верхомий И.Е","Верхомий"]
[{"$f":"IF(ISNUMBER(SEARCH(F$1,B247,1)),MAX($A$1:A246)+1,0)","v":0},"АлюмКонструкции","Алюминиевые конструкции ООО","NULL","NULL"]
[{"$f":"IF(ISNUMBER(SEARCH(F$1,B248,1)),MAX($A$1:A247)+1,0)","v":0},"АлюмОпт","АлюмОпт ООО","Шабалина Е.В","Каменев"]
[{"$f":"IF(ISNUMBER(SEARCH(F$1,B249,1)),MAX($A$1:A248)+1,0)","v":0},"АлюмПрофВСМПО","ООО \"Алюминиевый профиль - ВСМПО\"","Голубев А.С","Голубев"]
[{"$f":"IF(ISNUMBER(SEARCH(F$1,B250,1)),MAX($A$1:A249)+1,0)","v":0},"АлюмСпецСервис","АлюмСпецСервис ООО","NULL","NULL"]
[{"$f":"IF(ISNUMBER(SEARCH(F$1,B251,1)),MAX($A$1:A250)+1,0)","v":0},"АлюмСтрой","АлюмСтрой ООО","Халдина О.Н","NULL"]
[{"$f":"IF(ISNUMBER(SEARCH(F$1,B252,1)),MAX($A$1:A251)+1,0)","v":0},"Алюмстрой Санкт Петербург","Алюмстрой ООО","Акафьева Т.","Голубев"]
[{"$f":"IF(ISNUMBER(SEARCH(F$1,B253,1)),MAX($A$1:A252)+1,0)","v":0},"Алюмтрансгрупп","Алюмтрансгрупп","Верхомий И.Е","NULL"]
[{"$f":"IF(ISNUMBER(SEARCH(F$1,B254,1)),MAX($A$1:A253)+1,0)","v":0},"Алюмцентр","ООО \"МИ Групп\" ","NULL","Голубев"]
[{"$f":"IF(ISNUMBER(SEARCH(F$1,B255,1)),MAX($A$1:A254)+1,0)","v":0},"Алюпласт","Алюпласт","NULL","NULL"]
[{"$f":"IF(ISNUMBER(SEARCH(F$1,B256,1)),MAX($A$1:A255)+1,0)","v":0},"АлюПроф","ООО \"АлюПроф\"","NULL","NULL"]
[{"$f":"IF(ISNUMBER(SEARCH(F$1,B257,1)),MAX($A$1:A256)+1,0)","v":0},"АЛЮР","АЛЮР ООО","Кочанова Т.В","NULL"]
[{"$f":"IF(ISNUMBER(SEARCH(F$1,B258,1)),MAX($A$1:A257)+1,0)","v":0},"Алюсит","Алюсит","NULL","Голубев"]
[{"$f":"IF(ISNUMBER(SEARCH(F$1,B259,1)),MAX($A$1:A258)+1,0)","v":0},"Алюстил","Алюстил","NULL","Голубев"]
[{"$f":"IF(ISNUMBER(SEARCH(F$1,B260,1)),MAX($A$1:A259)+1,0)","v":0},"АлюСтрой","АлюСтрой ООО","Акафьева Т.","Голубев"]
[{"$f":"IF(ISNUMBER(SEARCH(F$1,B261,1)),MAX($A$1:A260)+1,0)","v":0},"Алюстэм","Алюстэм ООО","NULL","NULL"]
[{"$f":"IF(ISNUMBER(SEARCH(F$1,B262,1)),MAX($A$1:A261)+1,0)","v":0},"Алютек","\"Алютек\" ЗАО","NULL","NULL"]
[{"$f":"IF(ISNUMBER(SEARCH(F$1,B263,1)),MAX($A$1:A262)+1,0)","v":0},"Алютек (К)","ЗАО \"Алютек\"","NULL","NULL"]
[{"$f":"IF(ISNUMBER(SEARCH(F$1,B264,1)),MAX($A$1:A263)+1,0)","v":0},"Алюфест","ООО \"Алюфест\"","NULL","NULL"]
[{"$f":"IF(ISNUMBER(SEARCH(F$1,B265,1)),MAX($A$1:A264)+1,0)","v":0},"АМА","АМА ООО","Голубев А.С","NULL"]
[{"$f":"IF(ISNUMBER(SEARCH(F$1,B266,1)),MAX($A$1:A265)+1,0)","v":0},"АМАГрупп","АМАГрупп ООО","NULL","NULL"]
[{"$f":"IF(ISNUMBER(SEARCH(F$1,B267,1)),MAX($A$1:A266)+1,0)","v":0},"АМАГрупп_В","АМАГрупп_В","Халдина О.Н","NULL"]
[{"$f":"IF(ISNUMBER(SEARCH(F$1,B268,1)),MAX($A$1:A267)+1,0)","v":0},"Амалва Ока","Амалва Ока","NULL","Голубев"]
[{"$f":"IF(ISNUMBER(SEARCH(F$1,B269,1)),MAX($A$1:A268)+1,0)","v":0},"АмбиПауэр","ООО «АмбиПауэр»","Горчаков Е.М","Горчаков"]
[{"$f":"IF(ISNUMBER(SEARCH(F$1,B270,1)),MAX($A$1:A269)+1,0)","v":0},"АМГ групп","АМГ групп ООО","Халдина О.Н","Акафьева"]
[{"$f":"IF(ISNUMBER(SEARCH(F$1,B271,1)),MAX($A$1:A270)+1,0)","v":0},"АМГ ООО","Альфа Металл Групп ООО","Калинина Т.С","NULL"]
[{"$f":"IF(ISNUMBER(SEARCH(F$1,B272,1)),MAX($A$1:A271)+1,0)","v":0},"Амелия ДП","Амедия ДП","NULL","NULL"]
[{"$f":"IF(ISNUMBER(SEARCH(F$1,B273,1)),MAX($A$1:A272)+1,0)","v":0},"Амиго","\"Амиго\" ООО","Маслова И.С","NULL"]
[{"$f":"IF(ISNUMBER(SEARCH(F$1,B274,1)),MAX($A$1:A273)+1,0)","v":0},"Амиго(поддоны)","Амиго(поддоны)","NULL","NULL"]
[{"$f":"IF(ISNUMBER(SEARCH(F$1,B275,1)),MAX($A$1:A274)+1,0)","v":0},"АМК1","\"АМК1\" ООО","NULL","NULL"]
[{"$f":"IF(ISNUMBER(SEARCH(F$1,B276,1)),MAX($A$1:A275)+1,0)","v":0},"Анкор","Анкор","NULL","Голубев"]
[{"$f":"IF(ISNUMBER(SEARCH(F$1,B277,1)),MAX($A$1:A276)+1,0)","v":0},"Аннида","ООО \"Аннида\"","NULL","NULL"]
[{"$f":"IF(ISNUMBER(SEARCH(F$1,B278,1)),MAX($A$1:A277)+1,0)","v":0},"АНОДАЛ","ООО \"АНОДАЛ\"","NULL","NULL"]
[{"$f":"IF(ISNUMBER(SEARCH(F$1,B279,1)),MAX($A$1:A278)+1,0)","v":0},"Анохин ИП","Анохин ИП","NULL","NULL"]
[{"$f":"IF(ISNUMBER(SEARCH(F$1,B280,1)),MAX($A$1:A279)+1,0)","v":0},"АНТ group","АНТ group","NULL","Голубев"]
[{"$f":"IF(ISNUMBER(SEARCH(F$1,B281,1)),MAX($A$1:A280)+1,0)","v":0},"Антарэс","ОКНА ДЛЯ ВАС ООО","Шабалина Е.В","Шишкин "]
[{"$f":"IF(ISNUMBER(SEARCH(F$1,B282,1)),MAX($A$1:A281)+1,0)","v":0},"Антей-Р ТД","\"Торговый Дом Антей-Р\" ООО","NULL","NULL"]
[{"$f":"IF(ISNUMBER(SEARCH(F$1,B283,1)),MAX($A$1:A282)+1,0)","v":0},"АНТЕК","АНТЕК ООО","Борисова Э.Б","NULL"]
[{"$f":"IF(ISNUMBER(SEARCH(F$1,B284,1)),MAX($A$1:A283)+1,0)","v":0},"Аполонов Д.Ю. ","Аполонов Д.Ю. ИП","Халдина О.Н","Голубев"]
[{"$f":"IF(ISNUMBER(SEARCH(F$1,B285,1)),MAX($A$1:A284)+1,0)","v":0},"Апрал НП","Апрал НП","Маслова И.С","Маслова"]
[{"$f":"IF(ISNUMBER(SEARCH(F$1,B286,1)),MAX($A$1:A285)+1,0)","v":0},"Априори ПТК","Априори ПТК ООО","Четверткова О.","Голубев"]
[{"$f":"IF(ISNUMBER(SEARCH(F$1,B287,1)),MAX($A$1:A286)+1,0)","v":0},"АПС","АПС ООО","NULL","NULL"]
[{"$f":"IF(ISNUMBER(SEARCH(F$1,B288,1)),MAX($A$1:A287)+1,0)","v":0},"АПТО","ООО \"Фирма АПТО\"","NULL","NULL"]
[{"$f":"IF(ISNUMBER(SEARCH(F$1,B289,1)),MAX($A$1:A288)+1,0)","v":0},"АрдатовскийСветЗавод","Ардатовский Светотехнический Завод ООО","Маслова И.С","Голубев"]
[{"$f":"IF(ISNUMBER(SEARCH(F$1,B290,1)),MAX($A$1:A289)+1,0)","v":0},"Арзамар",null,"NULL","NULL"]
[{"$f":"IF(ISNUMBER(SEARCH(F$1,B291,1)),MAX($A$1:A290)+1,0)","v":0},"АРИА Инвертор","АРИА Инвертор ООО ПКК","Козлова Ю.К","NULL"]
[{"$f":"IF(ISNUMBER(SEARCH(F$1,B292,1)),MAX($A$1:A291)+1,0)","v":0},"Арибаз ГмБХ ЗАО","Арибаз ГмБХ ЗАО","NULL","Голубев"]
[{"$f":"IF(ISNUMBER(SEARCH(F$1,B293,1)),MAX($A$1:A292)+1,0)","v":0},"Арифметика света","Арифметика света","NULL","Голубев"]
[{"$f":"IF(ISNUMBER(SEARCH(F$1,B294,1)),MAX($A$1:A293)+1,0)","v":0},"Аркто","Аркто ООО","Шабалина Е.В","Шишкин "]
[{"$f":"IF(ISNUMBER(SEARCH(F$1,B295,1)),MAX($A$1:A294)+1,0)","v":0},"Арктос","ООО \"Арктика\"","Горчаков Е.М","Голубев"]
[{"$f":"IF(ISNUMBER(SEARCH(F$1,B296,1)),MAX($A$1:A295)+1,0)","v":0},"Армада","ООО \"СК \"Армада\"","Голубев А.С","NULL"]
[{"$f":"IF(ISNUMBER(SEARCH(F$1,B297,1)),MAX($A$1:A296)+1,0)","v":0},"Арнег","Арнег ООО","Четверткова О.","Мельников"]
[{"$f":"IF(ISNUMBER(SEARCH(F$1,B298,1)),MAX($A$1:A297)+1,0)","v":0},"Арт Спейс Компани","Арт Спейс Компани ООО","Голубев А.С","Голубев"]
[{"$f":"IF(ISNUMBER(SEARCH(F$1,B299,1)),MAX($A$1:A298)+1,0)","v":0},"Арт Строй ООО","Арт Строй ООО","NULL","Голубев"]
[{"$f":"IF(ISNUMBER(SEARCH(F$1,B300,1)),MAX($A$1:A299)+1,0)","v":0},"АРТ Фасад","АРТ Фасад","NULL","Голубев"]
[{"$f":"IF(ISNUMBER(SEARCH(F$1,B301,1)),MAX($A$1:A300)+1,0)","v":0},"Арта Мебель","Арта Мебель","Верхомий И.Е","Верхомий"]
[{"$f":"IF(ISNUMBER(SEARCH(F$1,B302,1)),MAX($A$1:A301)+1,0)","v":0},"Артес Дизайн","Артес Дизайн ООО","Маслова И.С","Голубев"]
[{"$f":"IF(ISNUMBER(SEARCH(F$1,B303,1)),MAX($A$1:A302)+1,0)","v":0},"АРТИКС","ООО \"АРТИКС\"","NULL","NULL"]
[{"$f":"IF(ISNUMBER(SEARCH(F$1,B304,1)),MAX($A$1:A303)+1,0)","v":0},"АртМакс","АртМакс","Халдина О.Н","Халдина"]
[{"$f":"IF(ISNUMBER(SEARCH(F$1,B305,1)),MAX($A$1:A304)+1,0)","v":0},"АртОкнаСтиль","АртОкнаСтиль ООО","Шабалина Е.В","Каменев"]
[{"$f":"IF(ISNUMBER(SEARCH(F$1,B306,1)),MAX($A$1:A305)+1,0)","v":0},"АРТСтроЙ ООО"," АРТСтроЙ ООО","NULL","Голубев"]
[{"$f":"IF(ISNUMBER(SEARCH(F$1,B307,1)),MAX($A$1:A306)+1,0)","v":0},"Арттехавто","Арттехавто ООО","Борисова Э.Б","NULL"]
[{"$f":"IF(ISNUMBER(SEARCH(F$1,B308,1)),MAX($A$1:A307)+1,0)","v":0},"АртЭлектро","АртЭлектро ООО","Халдина О.Н","Халдина"]
[{"$f":"IF(ISNUMBER(SEARCH(F$1,B309,1)),MAX($A$1:A308)+1,0)","v":0},"Артэс","ООО \"Артэс\"","Волчек Е.П","Верхомий"]
[{"$f":"IF(ISNUMBER(SEARCH(F$1,B310,1)),MAX($A$1:A309)+1,0)","v":0},"АС МАРТ","АС МАРТ ООО","Калинина Т.С","Калинина"]
[{"$f":"IF(ISNUMBER(SEARCH(F$1,B311,1)),MAX($A$1:A310)+1,0)","v":0},"АСК","АСК","Борисова Э.Б","NULL"]
[{"$f":"IF(ISNUMBER(SEARCH(F$1,B312,1)),MAX($A$1:A311)+1,0)","v":0},"АСК ГОРИЗОНТ","АСК ГОРИЗОНТ ООО","Маслова И.С","Маслова"]
[{"$f":"IF(ISNUMBER(SEARCH(F$1,B313,1)),MAX($A$1:A312)+1,0)","v":0},"АСМ","ЗАО \"АлюмоСистем-Монолитстрой\"","NULL","NULL"]
[{"$f":"IF(ISNUMBER(SEARCH(F$1,B314,1)),MAX($A$1:A313)+1,0)","v":0},"АСП-Инжиниринг","АСП-Инжиниринг ЗАО","Акафьева Т.","Акафьева"]
[{"$f":"IF(ISNUMBER(SEARCH(F$1,B315,1)),MAX($A$1:A314)+1,0)","v":0},"Ассон Компо","ООО \"Ассон Компо\"","NULL","NULL"]
[{"$f":"IF(ISNUMBER(SEARCH(F$1,B316,1)),MAX($A$1:A315)+1,0)","v":3},"АСТ 2020","АСТ ООО","Голубев А.С","NULL"]
[{"$f":"IF(ISNUMBER(SEARCH(F$1,B317,1)),MAX($A$1:A316)+1,0)","v":0},"Астарта Престиж","Астарта Престиж ООО","Борисова Э.Б","NULL"]
[{"$f":"IF(ISNUMBER(SEARCH(F$1,B318,1)),MAX($A$1:A317)+1,0)","v":0},"Астарта-Прес(П)","Астарта-престиж","NULL","NULL"]
[{"$f":"IF(ISNUMBER(SEARCH(F$1,B319,1)),MAX($A$1:A318)+1,0)","v":0},"АСТЕР-М","АСТЕР-М 000","Акафьева Т.","Голубев"]
[{"$f":"IF(ISNUMBER(SEARCH(F$1,B320,1)),MAX($A$1:A319)+1,0)","v":0},"Астра Нова","Астра Нова ООО","Четверткова О.","Голубев"]
[{"$f":"IF(ISNUMBER(SEARCH(F$1,B321,1)),MAX($A$1:A320)+1,0)","v":0},"Астра СК_поставщик","Астра СК_поставщик","NULL","NULL"]
[{"$f":"IF(ISNUMBER(SEARCH(F$1,B322,1)),MAX($A$1:A321)+1,0)","v":0},"Астрол"," \"Астрол\" ООО","NULL","NULL"]
[{"$f":"IF(ISNUMBER(SEARCH(F$1,B323,1)),MAX($A$1:A322)+1,0)","v":0},"АСТрэвэл","\"АСТрэвэл\" ООО","NULL","NULL"]
[{"$f":"IF(ISNUMBER(SEARCH(F$1,B324,1)),MAX($A$1:A323)+1,0)","v":0},"Астрэвэл (П)","Астрэвэл (П)","NULL","NULL"]
[{"$f":"IF(ISNUMBER(SEARCH(F$1,B325,1)),MAX($A$1:A324)+1,0)","v":0},"Астэк-МТ","ООО \"Астэк-МТ\"","Кочанова Т.В","NULL"]
[{"$f":"IF(ISNUMBER(SEARCH(F$1,B326,1)),MAX($A$1:A325)+1,0)","v":0},"Атлант","ЗАО \"Атлант\" з-д холодильников","NULL","NULL"]
[{"$f":"IF(ISNUMBER(SEARCH(F$1,B327,1)),MAX($A$1:A326)+1,0)","v":0},"Атлант ТД","Атлант Торговый Дом ООО","Четверткова О.","Четверткова"]
[{"$f":"IF(ISNUMBER(SEARCH(F$1,B328,1)),MAX($A$1:A327)+1,0)","v":0},"АТЛАНТ экспо","АТЛАНТ экспо ООО","Тимофеева Н.Д","Голубев"]
[{"$f":"IF(ISNUMBER(SEARCH(F$1,B329,1)),MAX($A$1:A328)+1,0)","v":0},"АтомСвет","ООО \"АтомСвет\"","Горчаков Е.М","Горчаков"]
[{"$f":"IF(ISNUMBER(SEARCH(F$1,B330,1)),MAX($A$1:A329)+1,0)","v":0},"Атрио","Атрио ООО","NULL","NULL"]
[{"$f":"IF(ISNUMBER(SEARCH(F$1,B331,1)),MAX($A$1:A330)+1,0)","v":0},"АтрушкевичЕЛ","АтрушкевичЕЛ_ИП","Голубев А.С","NULL"]
[{"$f":"IF(ISNUMBER(SEARCH(F$1,B332,1)),MAX($A$1:A331)+1,0)","v":0},"Аттис трейд","Аттис трейд ООО","Маслова И.С","Голубев"]
[{"$f":"IF(ISNUMBER(SEARCH(F$1,B333,1)),MAX($A$1:A332)+1,0)","v":0},"АТЭРИ","АТЭРИ ПП ООО","Маслова И.С","NULL"]
[{"$f":"IF(ISNUMBER(SEARCH(F$1,B334,1)),MAX($A$1:A333)+1,0)","v":0},"АфинаПремиум","АфинаПремиум ТПГ ООО","Волчек Е.П","Голубев"]
[{"$f":"IF(ISNUMBER(SEARCH(F$1,B335,1)),MAX($A$1:A334)+1,0)","v":0},"Ашасветотехника","ОАО \"Ашасветотехника\"","Горчаков Е.М","Голубев"]
[{"$f":"IF(ISNUMBER(SEARCH(F$1,B336,1)),MAX($A$1:A335)+1,0)","v":0},"Ашинский завод светотехники","Ашинский завод светотехники","NULL","Голубев"]
[{"$f":"IF(ISNUMBER(SEARCH(F$1,B337,1)),MAX($A$1:A336)+1,0)","v":0},"АэроЛифт","АэроЛифт ООО","Четверткова О.","Голубев"]
[{"$f":"IF(ISNUMBER(SEARCH(F$1,B338,1)),MAX($A$1:A337)+1,0)","v":0},"БабкинВЮ ИП","БабкинВЮ ИП","Халдина О.Н","Голубев"]
[{"$f":"IF(ISNUMBER(SEARCH(F$1,B339,1)),MAX($A$1:A338)+1,0)","v":0},"Баварский дом","Баварский дом ЗАО","Голубев А.С","Голубев"]
[{"$f":"IF(ISNUMBER(SEARCH(F$1,B340,1)),MAX($A$1:A339)+1,0)","v":0},"Балконы и террасы","Балконы и террасы ООО","Маслова И.С","Голубев"]
[{"$f":"IF(ISNUMBER(SEARCH(F$1,B341,1)),MAX($A$1:A340)+1,0)","v":0},"Балрос","\"Балрос\" ООО","NULL","NULL"]
[{"$f":"IF(ISNUMBER(SEARCH(F$1,B342,1)),MAX($A$1:A341)+1,0)","v":0},"БАЛТ-ПРОФ Компл","\"БАЛТ-ПРОФ Комплект\"","NULL","NULL"]
[{"$f":"IF(ISNUMBER(SEARCH(F$1,B343,1)),MAX($A$1:A342)+1,0)","v":0},"Балтресурс","Балтресурс ООО","NULL","NULL"]
[{"$f":"IF(ISNUMBER(SEARCH(F$1,B344,1)),MAX($A$1:A343)+1,0)","v":0},"Барная Линия","ПОИНТ ООО","Халдина О.Н","NULL"]
[{"$f":"IF(ISNUMBER(SEARCH(F$1,B345,1)),MAX($A$1:A344)+1,0)","v":0},"БаррусГрупп","ООО «БаррусГрупп»","Горчаков Е.М","Горчаков"]
[{"$f":"IF(ISNUMBER(SEARCH(F$1,B346,1)),MAX($A$1:A345)+1,0)","v":0},"БАС","БАС","NULL","NULL"]
[{"$f":"IF(ISNUMBER(SEARCH(F$1,B347,1)),MAX($A$1:A346)+1,0)","v":0},"Баск","Баск","NULL","NULL"]
[{"$f":"IF(ISNUMBER(SEARCH(F$1,B348,1)),MAX($A$1:A347)+1,0)","v":0},"Белал","Белал","Шабалина Е.В","Шишкин "]
[{"$f":"IF(ISNUMBER(SEARCH(F$1,B349,1)),MAX($A$1:A348)+1,0)","v":0},"БЕЛАРИЯ МФ Белоруссия","БЕЛАРИЯ МФ ООО","Калинина Т.С","Голубев"]
[{"$f":"IF(ISNUMBER(SEARCH(F$1,B350,1)),MAX($A$1:A349)+1,0)","v":0},"Белва","Белва ПТК ООО","Четверткова О.","Голубев"]
[{"$f":"IF(ISNUMBER(SEARCH(F$1,B351,1)),MAX($A$1:A350)+1,0)","v":0},"БелКомин Белоруссия","БелКомин ООО","Калинина Т.С","Калинина"]
[{"$f":"IF(ISNUMBER(SEARCH(F$1,B352,1)),MAX($A$1:A351)+1,0)","v":0},"Белпрофайл Белоруссия","Белпрофайл","Шабалина Е.В","Шишкин "]
[{"$f":"IF(ISNUMBER(SEARCH(F$1,B353,1)),MAX($A$1:A352)+1,0)","v":0},"Белпрофкомплект","Белпрофкомплект ООО","Шабалина Е.В","Шишкин "]
[{"$f":"IF(ISNUMBER(SEARCH(F$1,B354,1)),MAX($A$1:A353)+1,0)","v":0},"Берег (поддон)","Берег (поддон)","NULL","NULL"]
[{"$f":"IF(ISNUMBER(SEARCH(F$1,B355,1)),MAX($A$1:A354)+1,0)","v":0},"Берег (покуп)"," \"Берег\" ПО","NULL","NULL"]
[{"$f":"IF(ISNUMBER(SEARCH(F$1,B356,1)),MAX($A$1:A355)+1,0)","v":0},"Берег 1","\"Берег1\" ПО ","NULL","NULL"]
[{"$f":"IF(ISNUMBER(SEARCH(F$1,B357,1)),MAX($A$1:A356)+1,0)","v":0},"Береста-Столица","Береста-Столица ООО","Волчек Е.П","NULL"]
[{"$f":"IF(ISNUMBER(SEARCH(F$1,B358,1)),MAX($A$1:A357)+1,0)","v":0},"БЕРМОТОРС","БЕРМОТОРС ООО","Маслова И.С","Маслова"]
[{"$f":"IF(ISNUMBER(SEARCH(F$1,B359,1)),MAX($A$1:A358)+1,0)","v":0},"Бест","Бест ООО","NULL","NULL"]
[{"$f":"IF(ISNUMBER(SEARCH(F$1,B360,1)),MAX($A$1:A359)+1,0)","v":0},"Бест (верно)","Бест ООО","Голубев А.С","NULL"]
[{"$f":"IF(ISNUMBER(SEARCH(F$1,B361,1)),MAX($A$1:A360)+1,0)","v":0},"БЕСТ РУБ","\"БЕСТ\" ООО","Голубев А.С","NULL"]
[{"$f":"IF(ISNUMBER(SEARCH(F$1,B362,1)),MAX($A$1:A361)+1,0)","v":0},"Бествинд","Бествинд ООО","Шабалина Е.В","Шишкин "]
[{"$f":"IF(ISNUMBER(SEARCH(F$1,B363,1)),MAX($A$1:A362)+1,0)","v":0},"Бествинд(П)","Бествинд(П)","NULL","NULL"]
[{"$f":"IF(ISNUMBER(SEARCH(F$1,B364,1)),MAX($A$1:A363)+1,0)","v":0},"Бествинд1","СтройКомплект ООО","NULL","NULL"]
[{"$f":"IF(ISNUMBER(SEARCH(F$1,B365,1)),MAX($A$1:A364)+1,0)","v":0},"Бествинд-2","Бествинд-2","Шабалина Е.В","Шишкин "]
[{"$f":"IF(ISNUMBER(SEARCH(F$1,B366,1)),MAX($A$1:A365)+1,0)","v":0},"БестПроф-М","БестПроф-М ООО","Шабалина Е.В","NULL"]
[{"$f":"IF(ISNUMBER(SEARCH(F$1,B367,1)),MAX($A$1:A366)+1,0)","v":0},"Би Макс","\"Би Макс\" ООО","NULL","NULL"]
[{"$f":"IF(ISNUMBER(SEARCH(F$1,B368,1)),MAX($A$1:A367)+1,0)","v":0},"БиАл группа","БиАл группа","NULL","NULL"]
[{"$f":"IF(ISNUMBER(SEARCH(F$1,B369,1)),MAX($A$1:A368)+1,0)","v":0},"БИАР","БИАР ООО","Кочанова Т.В","NULL"]
[{"$f":"IF(ISNUMBER(SEARCH(F$1,B370,1)),MAX($A$1:A369)+1,0)","v":0},"Бивольт","Бивольт ООО","Маслова И.С","Голубев"]
[{"$f":"IF(ISNUMBER(SEARCH(F$1,B371,1)),MAX($A$1:A370)+1,0)","v":0},"БИКС","БИКС ООО","NULL","NULL"]
[{"$f":"IF(ISNUMBER(SEARCH(F$1,B372,1)),MAX($A$1:A371)+1,0)","v":0},"БИКС НПО","БИКС Фирма НПО","Кочанова Т.В","NULL"]
[{"$f":"IF(ISNUMBER(SEARCH(F$1,B373,1)),MAX($A$1:A372)+1,0)","v":0},"БилдСтоун","БилдСтоун ООО","Маслова И.С","NULL"]
[{"$f":"IF(ISNUMBER(SEARCH(F$1,B374,1)),MAX($A$1:A373)+1,0)","v":0},"Бильтон"," \"Бильтон\" ЗАО","NULL","NULL"]
[{"$f":"IF(ISNUMBER(SEARCH(F$1,B375,1)),MAX($A$1:A374)+1,0)","v":0},"БиМакс РУБ"," \"БиМакс\" ООО","NULL","NULL"]
[{"$f":"IF(ISNUMBER(SEARCH(F$1,B376,1)),MAX($A$1:A375)+1,0)","v":0},"БиМакс(поддон)","БиМакс(поддон)","NULL","NULL"]
[{"$f":"IF(ISNUMBER(SEARCH(F$1,B377,1)),MAX($A$1:A376)+1,0)","v":0},"Бирюков ИП","Бирюков ИП","Халдина О.Н","Халдина"]
[{"$f":"IF(ISNUMBER(SEARCH(F$1,B378,1)),MAX($A$1:A377)+1,0)","v":0},"БиСиДи Уникальные Фасады","БиСиДи Уникальные фасады ООО","Калинина Т.С","Верхомий"]
[{"$f":"IF(ISNUMBER(SEARCH(F$1,B379,1)),MAX($A$1:A378)+1,0)","v":0},"БНК","БНК ООО","Четверткова О.","Четверткова"]
[{"$f":"IF(ISNUMBER(SEARCH(F$1,B380,1)),MAX($A$1:A379)+1,0)","v":0},"Богдашкин ИП","БогдашкинА.В ИП","Четверткова О.","NULL"]
[{"$f":"IF(ISNUMBER(SEARCH(F$1,B381,1)),MAX($A$1:A380)+1,0)","v":0},"БПВ-ОСТ","ООО \"БПВ-ОСТ\"","Верхомий И.Е","Верхомий"]
[{"$f":"IF(ISNUMBER(SEARCH(F$1,B382,1)),MAX($A$1:A381)+1,0)","v":0},"БПС Дистриб","БПС Дистрибьюшн ООО","Маслова И.С","NULL"]
[{"$f":"IF(ISNUMBER(SEARCH(F$1,B383,1)),MAX($A$1:A382)+1,0)","v":0},"Бренд маркет \"Чида\"","Бренд маркет \"Чида\" ООО","Акафьева Т.","NULL"]
[{"$f":"IF(ISNUMBER(SEARCH(F$1,B384,1)),MAX($A$1:A383)+1,0)","v":0},"БрендиталРУС","БРЕНДИТАЛ РУС ООО","Голубев А.С","NULL"]
[{"$f":"IF(ISNUMBER(SEARCH(F$1,B385,1)),MAX($A$1:A384)+1,0)","v":0},"Бронер-Рус","Бронер-Рус ООО","Калинина Т.С","NULL"]
[{"$f":"IF(ISNUMBER(SEARCH(F$1,B386,1)),MAX($A$1:A385)+1,0)","v":0},"Брянский ЭМЗ","ФГУП Брянский Электромеханический Завод","Халдина О.Н","Халдина"]
[{"$f":"IF(ISNUMBER(SEARCH(F$1,B387,1)),MAX($A$1:A386)+1,0)","v":0},"БугАлютехник","БугАлютехник","NULL","NULL"]
[{"$f":"IF(ISNUMBER(SEARCH(F$1,B388,1)),MAX($A$1:A387)+1,0)","v":0},"Булат","Булат ГК ООО","Халдина О.Н","Верхомий"]
[{"$f":"IF(ISNUMBER(SEARCH(F$1,B389,1)),MAX($A$1:A388)+1,0)","v":0},"Булат  ГК","Булат ГК ООО","Халдина О.Н","Халдина"]
[{"$f":"IF(ISNUMBER(SEARCH(F$1,B390,1)),MAX($A$1:A389)+1,0)","v":0},"Булат ООО","Булат ООО","Халдина О.Н","Халдина"]
[{"$f":"IF(ISNUMBER(SEARCH(F$1,B391,1)),MAX($A$1:A390)+1,0)","v":0},"Буров ИП","Буров ИП","NULL","Голубев"]
[{"$f":"IF(ISNUMBER(SEARCH(F$1,B392,1)),MAX($A$1:A391)+1,0)","v":0},"Вакууммаш","Вакууммаш АО","Четверткова О.","Четверткова"]
[{"$f":"IF(ISNUMBER(SEARCH(F$1,B393,1)),MAX($A$1:A392)+1,0)","v":0},"Валз","Воронежский завод","NULL","NULL"]
[{"$f":"IF(ISNUMBER(SEARCH(F$1,B394,1)),MAX($A$1:A393)+1,0)","v":0},"Валк"," \"Валк\" ООО","NULL","NULL"]
[{"$f":"IF(ISNUMBER(SEARCH(F$1,B395,1)),MAX($A$1:A394)+1,0)","v":0},"Валк 1","\"Валк\" ООО","NULL","NULL"]
[{"$f":"IF(ISNUMBER(SEARCH(F$1,B396,1)),MAX($A$1:A395)+1,0)","v":0},"ВаннБок 1","ВаннБок ООО","Волчек Е.П","NULL"]
[{"$f":"IF(ISNUMBER(SEARCH(F$1,B397,1)),MAX($A$1:A396)+1,0)","v":0},"ВаннБок(поддон)","ВаннБок(поддон)","NULL","NULL"]
[{"$f":"IF(ISNUMBER(SEARCH(F$1,B398,1)),MAX($A$1:A397)+1,0)","v":0},"Вартон","ВАРТОН ТПК ООО","Халдина О.Н","Голубев"]
[{"$f":"IF(ISNUMBER(SEARCH(F$1,B399,1)),MAX($A$1:A398)+1,0)","v":0},"ВАССЕР","ВАССЕР ООО","Голубев А.С","NULL"]
[{"$f":"IF(ISNUMBER(SEARCH(F$1,B400,1)),MAX($A$1:A399)+1,0)","v":0},"Ваш Дом","Ваш Дом","NULL","NULL"]
[{"$f":"IF(ISNUMBER(SEARCH(F$1,B401,1)),MAX($A$1:A400)+1,0)","v":0},"Вега SKS","\"Вега SKS\" ООО","NULL","NULL"]
[{"$f":"IF(ISNUMBER(SEARCH(F$1,B402,1)),MAX($A$1:A401)+1,0)","v":0},"ВегаАвангард","ВегаАвангард ООО","Шабалина Е.В","Каменев"]
[{"$f":"IF(ISNUMBER(SEARCH(F$1,B403,1)),MAX($A$1:A402)+1,0)","v":0},"Вегас-Гласс","Вегас-Гласс  ООО","Халдина О.Н","Верхомий"]
[{"$f":"IF(ISNUMBER(SEARCH(F$1,B404,1)),MAX($A$1:A403)+1,0)","v":0},"ВЕЗА ООО","ВЕЗА ООО","Четверткова О.","Голубев"]
[{"$f":"IF(ISNUMBER(SEARCH(F$1,B405,1)),MAX($A$1:A404)+1,0)","v":0},"Вектор Владим. обл.","Вектор ООО","Халдина О.Н","Халдина"]
[{"$f":"IF(ISNUMBER(SEARCH(F$1,B406,1)),MAX($A$1:A405)+1,0)","v":0},"Вектор НПО","Вектор НПО ООО","Маслова И.С","Маслова"]
[{"$f":"IF(ISNUMBER(SEARCH(F$1,B407,1)),MAX($A$1:A406)+1,0)","v":0},"Вектор-МК","Вектор-МК ООО","NULL","NULL"]
[{"$f":"IF(ISNUMBER(SEARCH(F$1,B408,1)),MAX($A$1:A407)+1,0)","v":0},"Вектор-МК(П)","Вектор-МК","NULL","NULL"]
[{"$f":"IF(ISNUMBER(SEARCH(F$1,B409,1)),MAX($A$1:A408)+1,0)","v":0},"Велес ИК","ИК Велес ООО","Голубев А.С","NULL"]
[{"$f":"IF(ISNUMBER(SEARCH(F$1,B410,1)),MAX($A$1:A409)+1,0)","v":0},"Великолукинский"," \"Великолукинский з-д быт. технологий\" ООО","NULL","NULL"]
[{"$f":"IF(ISNUMBER(SEARCH(F$1,B411,1)),MAX($A$1:A410)+1,0)","v":0},"ВеллесПроф","ВеллесПроф","NULL","NULL"]
[{"$f":"IF(ISNUMBER(SEARCH(F$1,B412,1)),MAX($A$1:A411)+1,0)","v":0},"ВЕЛТОР","ВЕЛТОР ООО","Голубев А.С","NULL"]
[{"$f":"IF(ISNUMBER(SEARCH(F$1,B413,1)),MAX($A$1:A412)+1,0)","v":0},"Вензелес","Вензелес ООО","Четверткова О.","Верхомий"]
[{"$f":"IF(ISNUMBER(SEARCH(F$1,B414,1)),MAX($A$1:A413)+1,0)","v":0},"Вензелес(поддон","Вензелес(поддон","NULL","NULL"]
[{"$f":"IF(ISNUMBER(SEARCH(F$1,B415,1)),MAX($A$1:A414)+1,0)","v":0},"Вент Альянс","ООО \"Вент Альянс\"=АрмЛайн","NULL","NULL"]
[{"$f":"IF(ISNUMBER(SEARCH(F$1,B416,1)),MAX($A$1:A415)+1,0)","v":0},"Вентана","Вентана","NULL","NULL"]
[{"$f":"IF(ISNUMBER(SEARCH(F$1,B417,1)),MAX($A$1:A416)+1,0)","v":0},"Вентмаш М","ЗАО «ВЕНТМАШ М» ","Горчаков Е.М","Голубев"]
[{"$f":"IF(ISNUMBER(SEARCH(F$1,B418,1)),MAX($A$1:A417)+1,0)","v":0},"ВЕНТОПРОММАШ","ВЕНТОПРОММАШ ООО","Халдина О.Н","Голубев"]
[{"$f":"IF(ISNUMBER(SEARCH(F$1,B419,1)),MAX($A$1:A418)+1,0)","v":0},"Версаль","Версаль Т.К. ООО","Четверткова О.","Верхомий"]
[{"$f":"IF(ISNUMBER(SEARCH(F$1,B420,1)),MAX($A$1:A419)+1,0)","v":0},"ВЕРТИКАЛЬ","ВЕРТИКАЛЬ ООО","Шабалина Е.В","Шишкин "]
[{"$f":"IF(ISNUMBER(SEARCH(F$1,B421,1)),MAX($A$1:A420)+1,0)","v":0},"ВЕРТИКАЛЬ ЮГ","КОМПАНИЯ ВЕРТИКАЛЬ ЮГ ООО","Шабалина Е.В","Шишкин "]
[{"$f":"IF(ISNUMBER(SEARCH(F$1,B422,1)),MAX($A$1:A421)+1,0)","v":0},"Верфь ДМБот","Верфь ДМБот ООО","Халдина О.Н","Халдина"]
[{"$f":"IF(ISNUMBER(SEARCH(F$1,B423,1)),MAX($A$1:A422)+1,0)","v":0},"Вест Трейдинг","Вест Трейдинг ООО","Маслова И.С","NULL"]
[{"$f":"IF(ISNUMBER(SEARCH(F$1,B424,1)),MAX($A$1:A423)+1,0)","v":0},"ВестМедГрупп","ВестМедГрупп ООО","Калинина Т.С","Верхомий"]
[{"$f":"IF(ISNUMBER(SEARCH(F$1,B425,1)),MAX($A$1:A424)+1,0)","v":0},"ВестПромСити","ВестПромСити","NULL","NULL"]
[{"$f":"IF(ISNUMBER(SEARCH(F$1,B426,1)),MAX($A$1:A425)+1,0)","v":0},"ВестТрейдинг(П)","ВестТрейдинг(П)","NULL","NULL"]
[{"$f":"IF(ISNUMBER(SEARCH(F$1,B427,1)),MAX($A$1:A426)+1,0)","v":0},"ВЗСК","ВЗСК ООО","Козлова Ю.К","Голубев"]
[{"$f":"IF(ISNUMBER(SEARCH(F$1,B428,1)),MAX($A$1:A427)+1,0)","v":0},"ВИВА Строй","ВИВА Строй ООО","Калинина Т.С","Калинина"]
[{"$f":"IF(ISNUMBER(SEARCH(F$1,B429,1)),MAX($A$1:A428)+1,0)","v":0},"ВИДЕНСЕ","ВИДЕНСЕ ООО","Халдина О.Н","Халдина"]
[{"$f":"IF(ISNUMBER(SEARCH(F$1,B430,1)),MAX($A$1:A429)+1,0)","v":0},"Виднал Самара","Виднал Самара ООО","Шабалина Е.В","NULL"]
[{"$f":"IF(ISNUMBER(SEARCH(F$1,B431,1)),MAX($A$1:A430)+1,0)","v":0},"ВидналРегион","ВидналРегион- ООО","NULL","NULL"]
[{"$f":"IF(ISNUMBER(SEARCH(F$1,B432,1)),MAX($A$1:A431)+1,0)","v":0},"ВидналРегион(П)","ВидналРегион(П)","NULL","NULL"]
[{"$f":"IF(ISNUMBER(SEARCH(F$1,B433,1)),MAX($A$1:A432)+1,0)","v":0},"Византия","Византия","NULL","Голубев"]
[{"$f":"IF(ISNUMBER(SEARCH(F$1,B434,1)),MAX($A$1:A433)+1,0)","v":0},"Визуал Маркетинг Сервис","Визуал Маркетинг Сервис","NULL","Голубев"]
[{"$f":"IF(ISNUMBER(SEARCH(F$1,B435,1)),MAX($A$1:A434)+1,0)","v":0},"Вико (поддон)","Вико (поддон)","NULL","NULL"]
[{"$f":"IF(ISNUMBER(SEARCH(F$1,B436,1)),MAX($A$1:A435)+1,0)","v":0},"ВИКО Белоруссия","\"ВИКО\" ООО","Калинина Т.С","Верхомий"]
[{"$f":"IF(ISNUMBER(SEARCH(F$1,B437,1)),MAX($A$1:A436)+1,0)","v":0},"ВикоЛюкс"," \"Вико Люкс\" ООО","NULL","NULL"]
[{"$f":"IF(ISNUMBER(SEARCH(F$1,B438,1)),MAX($A$1:A437)+1,0)","v":0},"Виктори","Виктори ООО","NULL","NULL"]
[{"$f":"IF(ISNUMBER(SEARCH(F$1,B439,1)),MAX($A$1:A438)+1,0)","v":0},"Виктори(поддон)","Виктори (поддон)","NULL","NULL"]
[{"$f":"IF(ISNUMBER(SEARCH(F$1,B440,1)),MAX($A$1:A439)+1,0)","v":0},"Виктория","Виктория ООО","Голубев А.С","Горчаков"]
[{"$f":"IF(ISNUMBER(SEARCH(F$1,B441,1)),MAX($A$1:A440)+1,0)","v":0},"ВИЛМАНН","ВИЛМАНН ООО","Голубев А.С","Голубев"]
[{"$f":"IF(ISNUMBER(SEARCH(F$1,B442,1)),MAX($A$1:A441)+1,0)","v":0},"Винал"," \"Винал\" ЗАО","NULL","NULL"]
[{"$f":"IF(ISNUMBER(SEARCH(F$1,B443,1)),MAX($A$1:A442)+1,0)","v":0},"ВИНДЕКО","ВИНДЕКО ООО","Халдина О.Н","Верхомий"]
[{"$f":"IF(ISNUMBER(SEARCH(F$1,B444,1)),MAX($A$1:A443)+1,0)","v":0},"Винк ЗАО","Винк ЗАО","NULL","Голубев"]
[{"$f":"IF(ISNUMBER(SEARCH(F$1,B445,1)),MAX($A$1:A444)+1,0)","v":0},"ВинтекПластик","Винтек Пластик ООО","Маслова И.С","Маслова"]
[{"$f":"IF(ISNUMBER(SEARCH(F$1,B446,1)),MAX($A$1:A445)+1,0)","v":0},"ВИП","ВИП ООО","Голубев А.С","Голубев"]
[{"$f":"IF(ISNUMBER(SEARCH(F$1,B447,1)),MAX($A$1:A446)+1,0)","v":0},"ВИП СТРОЙ ","ВИП СТРОЙ ООО","Четверткова О.","Четверткова"]
[{"$f":"IF(ISNUMBER(SEARCH(F$1,B448,1)),MAX($A$1:A447)+1,0)","v":0},"Вирту","ООО \"Вирту\"","NULL","NULL"]
[{"$f":"IF(ISNUMBER(SEARCH(F$1,B449,1)),MAX($A$1:A448)+1,0)","v":0},"Виртуоз-групп","Виртуоз-групп ООО","Халдина О.Н","Голубев"]
[{"$f":"IF(ISNUMBER(SEARCH(F$1,B450,1)),MAX($A$1:A449)+1,0)","v":0},"Виста (поддон)","Виста (поддон)","NULL","NULL"]
[{"$f":"IF(ISNUMBER(SEARCH(F$1,B451,1)),MAX($A$1:A450)+1,0)","v":0},"Виста руб","ВИСТА ООО","Акафьева Т.","Акафьева"]
[{"$f":"IF(ISNUMBER(SEARCH(F$1,B452,1)),MAX($A$1:A451)+1,0)","v":0},"Виста_покраска","Виста","NULL","NULL"]
[{"$f":"IF(ISNUMBER(SEARCH(F$1,B453,1)),MAX($A$1:A452)+1,0)","v":0},"ВИТ Комплект","ООО \"ВИТ Комплект\"","NULL","NULL"]
[{"$f":"IF(ISNUMBER(SEARCH(F$1,B454,1)),MAX($A$1:A453)+1,0)","v":0},"ВИТЕКС","ВИТЕКС","Голубев А.С","Голубев"]
[{"$f":"IF(ISNUMBER(SEARCH(F$1,B455,1)),MAX($A$1:A454)+1,0)","v":0},"ВКС_","ВКС ООО","Шабалина Е.В","Шишкин "]
[{"$f":"IF(ISNUMBER(SEARCH(F$1,B456,1)),MAX($A$1:A455)+1,0)","v":0},"Владасвет","ООО «Светотехнический Завод Владасвет»","Горчаков Е.М","Горчаков"]
[{"$f":"IF(ISNUMBER(SEARCH(F$1,B457,1)),MAX($A$1:A456)+1,0)","v":0},"ВЛГ1 стройгрупп","ВЛГ1 стройгрупп","NULL","Голубев"]
[{"$f":"IF(ISNUMBER(SEARCH(F$1,B458,1)),MAX($A$1:A457)+1,0)","v":0},"ВМК Инвест","ВМК Инвест ООО","Калинина Т.С","Голубев"]
[{"$f":"IF(ISNUMBER(SEARCH(F$1,B459,1)),MAX($A$1:A458)+1,0)","v":0},"ВМС-ГРУПП","ВМС-ГРУПП ООО","Халдина О.Н","Верхомий"]
[{"$f":"IF(ISNUMBER(SEARCH(F$1,B460,1)),MAX($A$1:A459)+1,0)","v":0},"ВнешТоргБанк","Торговый дом \"ВнешТоргБанк\"","NULL","NULL"]
[{"$f":"IF(ISNUMBER(SEARCH(F$1,B461,1)),MAX($A$1:A460)+1,0)","v":0},"ВНИИЭКСПОРТСТ","ВНИИЭКСПОРТСТРОЙ ООО","Халдина О.Н","NULL"]
[{"$f":"IF(ISNUMBER(SEARCH(F$1,B462,1)),MAX($A$1:A461)+1,0)","v":0},"ВНС","Высокоточные нестандартные сталеконструкции ООО","Фролова А.Г","NULL"]
[{"$f":"IF(ISNUMBER(SEARCH(F$1,B463,1)),MAX($A$1:A462)+1,0)","v":0},"Волиус","Волиус ООО","Маслова И.С","Голубев"]
[{"$f":"IF(ISNUMBER(SEARCH(F$1,B464,1)),MAX($A$1:A463)+1,0)","v":0},"Волков и Ко","Волков и Ко","NULL","NULL"]
[{"$f":"IF(ISNUMBER(SEARCH(F$1,B465,1)),MAX($A$1:A464)+1,0)","v":0},"Волсон","ООО «НПП«ВОЛСОН»","Горчаков Е.М","Горчаков"]
[{"$f":"IF(ISNUMBER(SEARCH(F$1,B466,1)),MAX($A$1:A465)+1,0)","v":0},"ВОЛСОН НПП","ВОЛСОН НПП ООО","Маслова И.С","Маслова"]
[{"$f":"IF(ISNUMBER(SEARCH(F$1,B467,1)),MAX($A$1:A466)+1,0)","v":0},"Волховец ПК ООО","Волховец ПК ООО","Четверткова О.","Верхомий"]
[{"$f":"IF(ISNUMBER(SEARCH(F$1,B468,1)),MAX($A$1:A467)+1,0)","v":0},"ВоткПромКомпания","ВоткинскаяПромКо ОАО","Маслова И.С","Маслова"]
[{"$f":"IF(ISNUMBER(SEARCH(F$1,B469,1)),MAX($A$1:A468)+1,0)","v":0},"ВОЯЖ НПО","ВОЯЖ НПО ООО","Маслова И.С","NULL"]
[{"$f":"IF(ISNUMBER(SEARCH(F$1,B470,1)),MAX($A$1:A469)+1,0)","v":0},"ВСЕСВЕТОДИОДЫ","ВСЕСВЕТОДИОДЫ ООО","Халдина О.Н","Голубев"]
[{"$f":"IF(ISNUMBER(SEARCH(F$1,B471,1)),MAX($A$1:A470)+1,0)","v":0},"ВторСплав",null,"Верхомий И.Е","NULL"]
[{"$f":"IF(ISNUMBER(SEARCH(F$1,B472,1)),MAX($A$1:A471)+1,0)","v":0},"Вуаля Студия Белоруссия","Вуаля Студия","Голубев А.С","Голубев"]
[{"$f":"IF(ISNUMBER(SEARCH(F$1,B473,1)),MAX($A$1:A472)+1,0)","v":0},"Вундеркинд","Вундеркинд ООО","Калинина Т.С","Голубев"]
[{"$f":"IF(ISNUMBER(SEARCH(F$1,B474,1)),MAX($A$1:A473)+1,0)","v":0},"Вэлан","ООО \"Вэлан\"","Верхомий И.Е","Верхомий"]
[{"$f":"IF(ISNUMBER(SEARCH(F$1,B475,1)),MAX($A$1:A474)+1,0)","v":4},"Вэлко-2000","Вэлко-2000 ПКП ООО","Маслова И.С","Голубев"]
[{"$f":"IF(ISNUMBER(SEARCH(F$1,B476,1)),MAX($A$1:A475)+1,0)","v":0},"Гагаринский светотехнический завод","ОАО «Гагаринский светотехнический завод»","Горчаков Е.М","Горчаков"]
[{"$f":"IF(ISNUMBER(SEARCH(F$1,B477,1)),MAX($A$1:A476)+1,0)","v":0},"ГазСтройИнвест","ГазСтройИнвест ООО","Голубев А.С","NULL"]
[{"$f":"IF(ISNUMBER(SEARCH(F$1,B478,1)),MAX($A$1:A477)+1,0)","v":0},"Гала Плюс РУБ","Гала-плюс ООО","Волчек Е.П","NULL"]
[{"$f":"IF(ISNUMBER(SEARCH(F$1,B479,1)),MAX($A$1:A478)+1,0)","v":0},"Галактик Синема","Галактик Синема ООО","Халдина О.Н","Голубев"]
[{"$f":"IF(ISNUMBER(SEARCH(F$1,B480,1)),MAX($A$1:A479)+1,0)","v":0},"ГАЛАКТИКА","Галактика ООО","Маслова И.С","NULL"]
[{"$f":"IF(ISNUMBER(SEARCH(F$1,B481,1)),MAX($A$1:A480)+1,0)","v":0},"Гала-плюс","Гала-плюс ООО","Маслова И.С","NULL"]
[{"$f":"IF(ISNUMBER(SEARCH(F$1,B482,1)),MAX($A$1:A481)+1,0)","v":0},"Гала-плюс(подд)","Гала-плюс(подд)","NULL","NULL"]
[{"$f":"IF(ISNUMBER(SEARCH(F$1,B483,1)),MAX($A$1:A482)+1,0)","v":0},"Галвент ","ООО «Фабрика Вентиляции ГалВент»","Горчаков Е.М","Горчаков"]
[{"$f":"IF(ISNUMBER(SEARCH(F$1,B484,1)),MAX($A$1:A483)+1,0)","v":0},"ГАЛВИНГ","ГАЛВИНГ ООО","Акафьева Т.","Верхомий"]
[{"$f":"IF(ISNUMBER(SEARCH(F$1,B485,1)),MAX($A$1:A484)+1,0)","v":0},"Галион","Алсервис\" ООО\"","NULL","Голубев"]
[{"$f":"IF(ISNUMBER(SEARCH(F$1,B486,1)),MAX($A$1:A485)+1,0)","v":0},"Галс Девелопмент","Галс Девелопмент","NULL","Голубев"]
[{"$f":"IF(ISNUMBER(SEARCH(F$1,B487,1)),MAX($A$1:A486)+1,0)","v":0},"Галс Мастер","Галс Мастер","Шабалина Е.В","Голубев"]
[{"$f":"IF(ISNUMBER(SEARCH(F$1,B488,1)),MAX($A$1:A487)+1,0)","v":0},"Гамелион","Гамелион ООО","Горовая Т.А","NULL"]
[{"$f":"IF(ISNUMBER(SEARCH(F$1,B489,1)),MAX($A$1:A488)+1,0)","v":0},"Гарантия","Гарантия ООО","Верхомий И.Е","NULL"]
[{"$f":"IF(ISNUMBER(SEARCH(F$1,B490,1)),MAX($A$1:A489)+1,0)","v":0},"Гатч.заводПОКУП","Гатчинский завод порощковых красок ООО","Кочанова Т.В","NULL"]
[{"$f":"IF(ISNUMBER(SEARCH(F$1,B491,1)),MAX($A$1:A490)+1,0)","v":0},"ГЕВА-ТРЕЙД","ГЕВА-ТРЕЙД ООО","Голубев А.С","NULL"]
[{"$f":"IF(ISNUMBER(SEARCH(F$1,B492,1)),MAX($A$1:A491)+1,0)","v":0},"Гелис М","Гелис М ООО","Калинина Т.С","Мельников"]
[{"$f":"IF(ISNUMBER(SEARCH(F$1,B493,1)),MAX($A$1:A492)+1,0)","v":0},"Гельветика","Гельветика-Т ООО","Акафьева Т.","Акафьева"]
[{"$f":"IF(ISNUMBER(SEARCH(F$1,B494,1)),MAX($A$1:A493)+1,0)","v":0},"Гельветика(под)","Гельветика(под)","NULL","NULL"]
[{"$f":"IF(ISNUMBER(SEARCH(F$1,B495,1)),MAX($A$1:A494)+1,0)","v":0},"Гельчайтис ИП","Гельчайтис ИП","Маслова И.С","Верхомий"]
[{"$f":"IF(ISNUMBER(SEARCH(F$1,B496,1)),MAX($A$1:A495)+1,0)","v":0},"Генезис ИК","Генезис ИК ООО","Акафьева Т.","Верхомий"]
[{"$f":"IF(ISNUMBER(SEARCH(F$1,B497,1)),MAX($A$1:A496)+1,0)","v":0},"Геоклима","ООО \"Геоклима\"","Горчаков Е.М","Горчаков"]
[{"$f":"IF(ISNUMBER(SEARCH(F$1,B498,1)),MAX($A$1:A497)+1,0)","v":0},"Геотор","Геотор ООО","Голубев А.С","Голубев"]
[{"$f":"IF(ISNUMBER(SEARCH(F$1,B499,1)),MAX($A$1:A498)+1,0)","v":0},"Гермес","Гермес ООО","Горовая Т.А","Голубев"]
[{"$f":"IF(ISNUMBER(SEARCH(F$1,B500,1)),MAX($A$1:A499)+1,0)","v":0},"ГермесСталь","ГермесСталь ООО","Четверткова О.","Четверткова"]
[{"$f":"IF(ISNUMBER(SEARCH(F$1,B501,1)),MAX($A$1:A500)+1,0)","v":0},"Гефест","Гефест ПЦ ООО","Акафьева Т.","Акафьева"]
[{"$f":"IF(ISNUMBER(SEARCH(F$1,B502,1)),MAX($A$1:A501)+1,0)","v":0},"Гигас","Газстройинвест","NULL","Голубев"]
[{"$f":"IF(ISNUMBER(SEARCH(F$1,B503,1)),MAX($A$1:A502)+1,0)","v":0},"Гипро-М","Гипро-М ООО","Голубев А.С","Голубев"]
[{"$f":"IF(ISNUMBER(SEARCH(F$1,B504,1)),MAX($A$1:A503)+1,0)","v":0},"Главстрой-Инжиниринг","Главстрой-Инжиниринг","NULL","Голубев"]
[{"$f":"IF(ISNUMBER(SEARCH(F$1,B505,1)),MAX($A$1:A504)+1,0)","v":0},"ГЛАСКО","ГЛАСКО ООО","Четверткова О.","Голубев"]
[{"$f":"IF(ISNUMBER(SEARCH(F$1,B506,1)),MAX($A$1:A505)+1,0)","v":0},"ГЛАССОК КРЫМ","ГЛАССОК КРЫМ ООО","Голубев А.С","NULL"]
[{"$f":"IF(ISNUMBER(SEARCH(F$1,B507,1)),MAX($A$1:A506)+1,0)","v":0},"ГЛАСС-ПАК","ГЛАСС-ПАК ООО","Волчек Е.П","Голубев"]
[{"$f":"IF(ISNUMBER(SEARCH(F$1,B508,1)),MAX($A$1:A507)+1,0)","v":0},"ГЛОБАЛ_лом","ГЛОБАЛ_лом","NULL","NULL"]
[{"$f":"IF(ISNUMBER(SEARCH(F$1,B509,1)),MAX($A$1:A508)+1,0)","v":0},"Глобалэнергострой","Глобалэнергострой ООО","Маслова И.С","NULL"]
[{"$f":"IF(ISNUMBER(SEARCH(F$1,B510,1)),MAX($A$1:A509)+1,0)","v":0},"Гольфстрим","Гольфстрим ООО","Акафьева Т.","Акафьева"]
[{"$f":"IF(ISNUMBER(SEARCH(F$1,B511,1)),MAX($A$1:A510)+1,0)","v":0},"Гольфстрим(П)","Гольфстрим(П)","NULL","NULL"]
[{"$f":"IF(ISNUMBER(SEARCH(F$1,B512,1)),MAX($A$1:A511)+1,0)","v":0},"Горизонт","Горизонт АСК ООО","Кочанова Т.В","NULL"]
[{"$f":"IF(ISNUMBER(SEARCH(F$1,B513,1)),MAX($A$1:A512)+1,0)","v":0},"Горизонт АО","Горизонт АО","Маслова И.С","Шишкин "]
[{"$f":"IF(ISNUMBER(SEARCH(F$1,B514,1)),MAX($A$1:A513)+1,0)","v":0},"Горизонт ПК","Горизонт ПК ООО","Голубев А.С","Голубев"]
[{"$f":"IF(ISNUMBER(SEARCH(F$1,B515,1)),MAX($A$1:A514)+1,0)","v":0},"Гофрокомбинат ПП","ООО \"ПП Гофрокомбинат\"","Халдина О.Н","Верхомий"]
[{"$f":"IF(ISNUMBER(SEARCH(F$1,B516,1)),MAX($A$1:A515)+1,0)","v":0},"Грайд Воронеж","Грайд Воронеж ООО","Козлова Ю.К","NULL"]
[{"$f":"IF(ISNUMBER(SEARCH(F$1,B517,1)),MAX($A$1:A516)+1,0)","v":0},"Гранд Массив","Гранд Массив ООО","NULL","NULL"]
[{"$f":"IF(ISNUMBER(SEARCH(F$1,B518,1)),MAX($A$1:A517)+1,0)","v":0},"Гранд Рубикон","\"Гранд Рубикон\" ООО","NULL","NULL"]
[{"$f":"IF(ISNUMBER(SEARCH(F$1,B519,1)),MAX($A$1:A518)+1,0)","v":0},"Гранд Фасад","Гранд Фасад","Верхомий И.Е","Верхомий"]
[{"$f":"IF(ISNUMBER(SEARCH(F$1,B520,1)),MAX($A$1:A519)+1,0)","v":0},"Грант ТВО","ТВО Грант","NULL","Голубев"]
[{"$f":"IF(ISNUMBER(SEARCH(F$1,B521,1)),MAX($A$1:A520)+1,0)","v":0},"Граста","Граста ООО","Четверткова О.","Мельников"]
[{"$f":"IF(ISNUMBER(SEARCH(F$1,B522,1)),MAX($A$1:A521)+1,0)","v":0},"Граунд","Рекламное агенство Граунд","NULL","NULL"]
[{"$f":"IF(ISNUMBER(SEARCH(F$1,B523,1)),MAX($A$1:A522)+1,0)","v":0},"ГРЕКА","ГРЕКА ООО","Маслова И.С","NULL"]
[{"$f":"IF(ISNUMBER(SEARCH(F$1,B524,1)),MAX($A$1:A523)+1,0)","v":0},"Группа ДОС","\"Группа ДОС\" ООО","NULL","NULL"]
[{"$f":"IF(ISNUMBER(SEARCH(F$1,B525,1)),MAX($A$1:A524)+1,0)","v":0},"Группа ДОС(под)","Группа ДОС(под)","NULL","NULL"]
[{"$f":"IF(ISNUMBER(SEARCH(F$1,B526,1)),MAX($A$1:A525)+1,0)","v":0},"Группа Комп АСК","Группа Компаний АСК","Маслова И.С","Шишкин "]
[{"$f":"IF(ISNUMBER(SEARCH(F$1,B527,1)),MAX($A$1:A526)+1,0)","v":0},"Грюнвальд","ООО \"Грюнвальд\"","Верхомий И.Е","Верхомий"]
[{"$f":"IF(ISNUMBER(SEARCH(F$1,B528,1)),MAX($A$1:A527)+1,0)","v":0},"ГС-Резерв СК","ГС-Резерв СК ООО","Маслова И.С","УК"]
[{"$f":"IF(ISNUMBER(SEARCH(F$1,B529,1)),MAX($A$1:A528)+1,0)","v":0},"ГУ ЦЕНТР","ГУ ЦЕНТР ООО","Маслова И.С","Маслова"]
[{"$f":"IF(ISNUMBER(SEARCH(F$1,B530,1)),MAX($A$1:A529)+1,0)","v":0},"Д Студия","Д Студия ООО","Калинина Т.С","Калинина"]
[{"$f":"IF(ISNUMBER(SEARCH(F$1,B531,1)),MAX($A$1:A530)+1,0)","v":0},"Давас-строй","ООО \"Давас-строй\"","NULL","NULL"]
[{"$f":"IF(ISNUMBER(SEARCH(F$1,B532,1)),MAX($A$1:A531)+1,0)","v":0},"ДАК","ООО \"ДАК\"","NULL","NULL"]
[{"$f":"IF(ISNUMBER(SEARCH(F$1,B533,1)),MAX($A$1:A532)+1,0)","v":0},"ДАМАСКА","ДАМАСКА ООО","Четверткова О.","NULL"]
[{"$f":"IF(ISNUMBER(SEARCH(F$1,B534,1)),MAX($A$1:A533)+1,0)","v":0},"ДБР","ДБР ООО","Калинина Т.С","Мельников"]
[{"$f":"IF(ISNUMBER(SEARCH(F$1,B535,1)),MAX($A$1:A534)+1,0)","v":0},"Двери и Стекло","Двери и Стекло ООО","Маслова И.С","Маслова"]
[{"$f":"IF(ISNUMBER(SEARCH(F$1,B536,1)),MAX($A$1:A535)+1,0)","v":0},"ДворцовВА ИП","ДворцовВА ИП","Шабалина Е.В","Каменев"]
[{"$f":"IF(ISNUMBER(SEARCH(F$1,B537,1)),MAX($A$1:A536)+1,0)","v":0},"ДДС ","ДДС Строительная Компания ООО","Шабалина Е.В","NULL"]
[{"$f":"IF(ISNUMBER(SEARCH(F$1,B538,1)),MAX($A$1:A537)+1,0)","v":0},"Дегон","Дегон-Трейд","Маслова И.С","NULL"]
[{"$f":"IF(ISNUMBER(SEARCH(F$1,B539,1)),MAX($A$1:A538)+1,0)","v":0},"ДедовскТекстиль","Дедовский Текстиль","Акафьева Т.","Голубев"]
[{"$f":"IF(ISNUMBER(SEARCH(F$1,B540,1)),MAX($A$1:A539)+1,0)","v":0},"ДекоЛюкс","\"ДекоЛюкс\" ООО","NULL","NULL"]
[{"$f":"IF(ISNUMBER(SEARCH(F$1,B541,1)),MAX($A$1:A540)+1,0)","v":0},"Деколюкс(П)","Деколюкс","NULL","NULL"]
[{"$f":"IF(ISNUMBER(SEARCH(F$1,B542,1)),MAX($A$1:A541)+1,0)","v":0},"Декопласт","ТК Декопласт М","NULL","NULL"]
[{"$f":"IF(ISNUMBER(SEARCH(F$1,B543,1)),MAX($A$1:A542)+1,0)","v":0},"Декордверь","Декордверь ООО","NULL","NULL"]
[{"$f":"IF(ISNUMBER(SEARCH(F$1,B544,1)),MAX($A$1:A543)+1,0)","v":0},"Декор-Стиль","Декор-Стиль ООО","NULL","NULL"]
[{"$f":"IF(ISNUMBER(SEARCH(F$1,B545,1)),MAX($A$1:A544)+1,0)","v":0},"Декосан","ООО \"Декосан\"","Верхомий И.Е","Верхомий"]
[{"$f":"IF(ISNUMBER(SEARCH(F$1,B546,1)),MAX($A$1:A545)+1,0)","v":0},"Дельфа СП Белоруссия","Дельфа СП ООО","Калинина Т.С","Калинина"]
[{"$f":"IF(ISNUMBER(SEARCH(F$1,B547,1)),MAX($A$1:A546)+1,0)","v":0},"Демих.маш.з-д","Демиховский Машиностроительный завод ОАО","Козлова Ю.К","Маслова"]
[{"$f":"IF(ISNUMBER(SEARCH(F$1,B548,1)),MAX($A$1:A547)+1,0)","v":0},"Дергачев ИП","Дергачев ИП","NULL","Голубев"]
[{"$f":"IF(ISNUMBER(SEARCH(F$1,B549,1)),MAX($A$1:A548)+1,0)","v":0},"Джи Эм Информ","Джи Эм Информ ЗАО","Акафьева Т.","Акафьева"]
[{"$f":"IF(ISNUMBER(SEARCH(F$1,B550,1)),MAX($A$1:A549)+1,0)","v":0},"ДЖИВОРКС","ООО \"ДЖИВОРКС\"","NULL","NULL"]
[{"$f":"IF(ISNUMBER(SEARCH(F$1,B551,1)),MAX($A$1:A550)+1,0)","v":0},"ДЗАП (Алтек)","ДЗАП (Алтек)","NULL","NULL"]
[{"$f":"IF(ISNUMBER(SEARCH(F$1,B552,1)),MAX($A$1:A551)+1,0)","v":0},"ДЗАП$","ДЗАП$","NULL","NULL"]
[{"$f":"IF(ISNUMBER(SEARCH(F$1,B553,1)),MAX($A$1:A552)+1,0)","v":0},"ДЗАП_мимо","ДЗАП_3_$","NULL","NULL"]
[{"$f":"IF(ISNUMBER(SEARCH(F$1,B554,1)),MAX($A$1:A553)+1,0)","v":0},"ДЗАП_руб.","ДЗАП_руб.","NULL","NULL"]
[{"$f":"IF(ISNUMBER(SEARCH(F$1,B555,1)),MAX($A$1:A554)+1,0)","v":0},"Диал","Диал ООО","Маслова И.С","NULL"]
[{"$f":"IF(ISNUMBER(SEARCH(F$1,B556,1)),MAX($A$1:A555)+1,0)","v":0},"ДИАН-ИНФО","ДИАН-ИНФО ООО","Халдина О.Н","Халдина"]
[{"$f":"IF(ISNUMBER(SEARCH(F$1,B557,1)),MAX($A$1:A556)+1,0)","v":0},"ДИВВ","ДИВВ ООО","NULL","NULL"]
[{"$f":"IF(ISNUMBER(SEARCH(F$1,B558,1)),MAX($A$1:A557)+1,0)","v":0},"ДИВВ (поддон)","ДИВВ (поддон)","NULL","NULL"]
[{"$f":"IF(ISNUMBER(SEARCH(F$1,B559,1)),MAX($A$1:A558)+1,0)","v":0},"ДИВВстрой","ДИВВстрой ООО","Кочанова Т.В","NULL"]
[{"$f":"IF(ISNUMBER(SEARCH(F$1,B560,1)),MAX($A$1:A559)+1,0)","v":0},"Диден Групп","Диден Групп","Верхомий И.Е","NULL"]
[{"$f":"IF(ISNUMBER(SEARCH(F$1,B561,1)),MAX($A$1:A560)+1,0)","v":0},"Динам конструк","Динамические конструкции ООО","Акафьева Т.","Акафьева"]
[{"$f":"IF(ISNUMBER(SEARCH(F$1,B562,1)),MAX($A$1:A561)+1,0)","v":0},"Динамика","Динамика АО ЦНТУ","Маслова И.С","Маслова"]
[{"$f":"IF(ISNUMBER(SEARCH(F$1,B563,1)),MAX($A$1:A562)+1,0)","v":0},"Диодекс","Диодекс ООО","NULL","NULL"]
[{"$f":"IF(ISNUMBER(SEARCH(F$1,B564,1)),MAX($A$1:A563)+1,0)","v":0},"Диора","ЗАО «Физтех-Энерго»","Горчаков Е.М","Голубев"]
[{"$f":"IF(ISNUMBER(SEARCH(F$1,B565,1)),MAX($A$1:A564)+1,0)","v":0},"ДиСи Хоум","ДиСи Хоум ООО","Верхомий И.Е","NULL"]
[{"$f":"IF(ISNUMBER(SEARCH(F$1,B566,1)),MAX($A$1:A565)+1,0)","v":0},"Дисплей Солюшнс","Дисплей Солюшнс ООО","Халдина О.Н","Верхомий"]
[{"$f":"IF(ISNUMBER(SEARCH(F$1,B567,1)),MAX($A$1:A566)+1,0)","v":5},"ДисплейСолюш2022","ООО \"Дисплей Солюшнс\"2022","Верхомий И.Е","NULL"]
[{"$f":"IF(ISNUMBER(SEARCH(F$1,B568,1)),MAX($A$1:A567)+1,0)","v":0},"ДК № 1","ОАО \"Деревообрабатывающий комбинат № 1\"","NULL","NULL"]
[{"$f":"IF(ISNUMBER(SEARCH(F$1,B569,1)),MAX($A$1:A568)+1,0)","v":0},"ДЛС","ДЛС ООО","Шабалина Е.В","Шабалина"]
[{"$f":"IF(ISNUMBER(SEARCH(F$1,B570,1)),MAX($A$1:A569)+1,0)","v":0},"ДМД Логистик","ДМД Логистик ООО","Маслова И.С","УК"]
[{"$f":"IF(ISNUMBER(SEARCH(F$1,B571,1)),MAX($A$1:A570)+1,0)","v":0},"ДМЗ","ОАО \"Демиховский машиностроительный завод\"","Маслова И.С","Маслова"]
[{"$f":"IF(ISNUMBER(SEARCH(F$1,B572,1)),MAX($A$1:A571)+1,0)","v":0},"До выяснения","До выяснения","NULL","NULL"]
[{"$f":"IF(ISNUMBER(SEARCH(F$1,B573,1)),MAX($A$1:A572)+1,0)","v":0},"ДОБУС","ДОБУС ООО","Маслова И.С","Маслова"]
[{"$f":"IF(ISNUMBER(SEARCH(F$1,B574,1)),MAX($A$1:A573)+1,0)","v":0},"Догрулар","Догрулар ООО","NULL","NULL"]
[{"$f":"IF(ISNUMBER(SEARCH(F$1,B575,1)),MAX($A$1:A574)+1,0)","v":0},"Догрулар(поддон","Догрулар(поддон","NULL","NULL"]
[{"$f":"IF(ISNUMBER(SEARCH(F$1,B576,1)),MAX($A$1:A575)+1,0)","v":0},"Догрулар1","Догрулар","NULL","NULL"]
[{"$f":"IF(ISNUMBER(SEARCH(F$1,B577,1)),MAX($A$1:A576)+1,0)","v":0},"ДОК ВОСТОК","ДОК ВОСТОК ООО","Халдина О.Н","Халдина"]
[{"$f":"IF(ISNUMBER(SEARCH(F$1,B578,1)),MAX($A$1:A577)+1,0)","v":0},"ДОКА","ДОКА ООО","Горовая Т.А","NULL"]
[{"$f":"IF(ISNUMBER(SEARCH(F$1,B579,1)),MAX($A$1:A578)+1,0)","v":0},"ДОКА (поддон)","ДОКА (поддон)","NULL","NULL"]
[{"$f":"IF(ISNUMBER(SEARCH(F$1,B580,1)),MAX($A$1:A579)+1,0)","v":6},"Дока2017","Дока 2017","NULL","NULL"]
[{"$f":"IF(ISNUMBER(SEARCH(F$1,B581,1)),MAX($A$1:A580)+1,0)","v":0},"Доксал-Проект","Доксал-Проект ООО","Маслова И.С","NULL"]
[{"$f":"IF(ISNUMBER(SEARCH(F$1,B582,1)),MAX($A$1:A581)+1,0)","v":0},"Дом Окон","Дом Окон","Верхомий И.Е","NULL"]
[{"$f":"IF(ISNUMBER(SEARCH(F$1,B583,1)),MAX($A$1:A582)+1,0)","v":0},"Домион","Домион","NULL","Голубев"]
[{"$f":"IF(ISNUMBER(SEARCH(F$1,B584,1)),MAX($A$1:A583)+1,0)","v":0},"Донской ал.(П)","Донской ал.(П)","NULL","NULL"]
[{"$f":"IF(ISNUMBER(SEARCH(F$1,B585,1)),MAX($A$1:A584)+1,0)","v":0},"Донской Алюмин","Донской алюминий ООО","Маслова И.С","Маслова"]
[{"$f":"IF(ISNUMBER(SEARCH(F$1,B586,1)),MAX($A$1:A585)+1,0)","v":0},"Дорбарьер","Дорбарьер ООО","Четверткова О.","NULL"]
[{"$f":"IF(ISNUMBER(SEARCH(F$1,B587,1)),MAX($A$1:A586)+1,0)","v":0},"ДорХан 1","ДорХан  ООО","NULL","NULL"]
[{"$f":"IF(ISNUMBER(SEARCH(F$1,B588,1)),MAX($A$1:A587)+1,0)","v":0},"ДОФ","ООО \"Группа \"ДОФ\"","NULL","NULL"]
[{"$f":"IF(ISNUMBER(SEARCH(F$1,B589,1)),MAX($A$1:A588)+1,0)","v":0},"ДП энд Партнерс Белоруссия","ДП энд Партнерс ООО","Калинина Т.С","Верхомий"]
[{"$f":"IF(ISNUMBER(SEARCH(F$1,B590,1)),MAX($A$1:A589)+1,0)","v":0},"ДЭКОЛЮКС","ДЭКОЛЮКС ООО","Халдина О.Н","Верхомий"]
[{"$f":"IF(ISNUMBER(SEARCH(F$1,B591,1)),MAX($A$1:A590)+1,0)","v":0},"ДэнкоХаппель РУ","ДэнкоХаппель РУ","Голубев А.С","NULL"]
[{"$f":"IF(ISNUMBER(SEARCH(F$1,B592,1)),MAX($A$1:A591)+1,0)","v":0},"Е-1","Мебельная компания \"Е1\"","Верхомий И.Е","Верхомий"]
[{"$f":"IF(ISNUMBER(SEARCH(F$1,B593,1)),MAX($A$1:A592)+1,0)","v":0},"Евровент","ООО «Евровент»","Горчаков Е.М","Горчаков"]
[{"$f":"IF(ISNUMBER(SEARCH(F$1,B594,1)),MAX($A$1:A593)+1,0)","v":0},"ЕВРОМЕТИЗ","ЕВРОМЕТИЗ ООО","Акафьева Т.","Голубев"]
[{"$f":"IF(ISNUMBER(SEARCH(F$1,B595,1)),MAX($A$1:A594)+1,0)","v":0},"ЕвроОкна","\"ЕвроОкна\" ООО","NULL","NULL"]
[{"$f":"IF(ISNUMBER(SEARCH(F$1,B596,1)),MAX($A$1:A595)+1,0)","v":0},"Европл. Лимитед"," \"Европл. Лимитед\" ООО","NULL","NULL"]
[{"$f":"IF(ISNUMBER(SEARCH(F$1,B597,1)),MAX($A$1:A596)+1,0)","v":0},"Евростиль-сервис","Евростиль-сервис ООО","Козлова Ю.К","NULL"]
[{"$f":"IF(ISNUMBER(SEARCH(F$1,B598,1)),MAX($A$1:A597)+1,0)","v":0},"Евростиль-Сибирь","Евростиль-Сибирь ООО","Халдина О.Н","NULL"]
[{"$f":"IF(ISNUMBER(SEARCH(F$1,B599,1)),MAX($A$1:A598)+1,0)","v":0},"Евроторг П","ООО \"Евроторг\" Поставщ.","NULL","NULL"]
[{"$f":"IF(ISNUMBER(SEARCH(F$1,B600,1)),MAX($A$1:A599)+1,0)","v":0},"Еврофасад","Еврофасад","NULL","Голубев"]
[{"$f":"IF(ISNUMBER(SEARCH(F$1,B601,1)),MAX($A$1:A600)+1,0)","v":0},"Евроформат","Евроформат","Халдина О.Н","Голубев"]
[{"$f":"IF(ISNUMBER(SEARCH(F$1,B602,1)),MAX($A$1:A601)+1,0)","v":0},"ЕдинаяАлюмКомп","Единая Алюминиевая Компания ООО","Кочанова Т.В","NULL"]
[{"$f":"IF(ISNUMBER(SEARCH(F$1,B603,1)),MAX($A$1:A602)+1,0)","v":0},"ЕЛЕГРИ","ЕЛЕГРИ ООО","Маслова И.С","Голубев"]
[{"$f":"IF(ISNUMBER(SEARCH(F$1,B604,1)),MAX($A$1:A603)+1,0)","v":0},"Жалюзи","ЖАЛЮЗИ.РУ ООО","NULL","NULL"]
[{"$f":"IF(ISNUMBER(SEARCH(F$1,B605,1)),MAX($A$1:A604)+1,0)","v":0},"Жигулевск","Стафф ООО","Козлова Ю.К","NULL"]
[{"$f":"IF(ISNUMBER(SEARCH(F$1,B606,1)),MAX($A$1:A605)+1,0)","v":0},"ЖКХ-Пущино","ЖКХ-Пущино ООО","Халдина О.Н","NULL"]
[{"$f":"IF(ISNUMBER(SEARCH(F$1,B607,1)),MAX($A$1:A606)+1,0)","v":0},"Завод","Завод","Маслова И.С","Маслова"]
[{"$f":"IF(ISNUMBER(SEARCH(F$1,B608,1)),MAX($A$1:A607)+1,0)","v":0},"Завод ВКО","Завод ВКО ООО","Калинина Т.С","Верхомий"]
[{"$f":"IF(ISNUMBER(SEARCH(F$1,B609,1)),MAX($A$1:A608)+1,0)","v":0},"Завод мет/изд","Завод металлоизделий","NULL","NULL"]
[{"$f":"IF(ISNUMBER(SEARCH(F$1,B610,1)),MAX($A$1:A609)+1,0)","v":0},"Завод мет/изд.","ОАО \"Металлоизделия\"","NULL","NULL"]
[{"$f":"IF(ISNUMBER(SEARCH(F$1,B611,1)),MAX($A$1:A610)+1,0)","v":0},"Завод ПластПроф","Пласт-Профиль Завод ООО","NULL","NULL"]
[{"$f":"IF(ISNUMBER(SEARCH(F$1,B612,1)),MAX($A$1:A611)+1,0)","v":0},"Завод Прочее План","Завод Прочее План","Маслова И.С","Маслова"]
[{"$f":"IF(ISNUMBER(SEARCH(F$1,B613,1)),MAX($A$1:A612)+1,0)","v":0},"Завод Стандарт","Завод Стандарт ООО","Маслова И.С","NULL"]
[{"$f":"IF(ISNUMBER(SEARCH(F$1,B614,1)),MAX($A$1:A613)+1,0)","v":0},"ЗАК","ЗАК","NULL","Голубев"]
[{"$f":"IF(ISNUMBER(SEARCH(F$1,B615,1)),MAX($A$1:A614)+1,0)","v":0},"ЗАО \"МАК\"","МАК ЗАО","NULL","NULL"]
[{"$f":"IF(ISNUMBER(SEARCH(F$1,B616,1)),MAX($A$1:A615)+1,0)","v":0},"Защита Плюс","ООО \"Защита Плюс\"","Верхомий И.Е","Верхомий"]
[{"$f":"IF(ISNUMBER(SEARCH(F$1,B617,1)),MAX($A$1:A616)+1,0)","v":0},"Зеленая лампа ООО","Зеленая лампа ООО","NULL","Голубев"]
[{"$f":"IF(ISNUMBER(SEARCH(F$1,B618,1)),MAX($A$1:A617)+1,0)","v":0},"Зеленоградский ЭлЛистПрибор","Зеленоградский Электро Лист Прибор","Верхомий И.Е","Верхомий"]
[{"$f":"IF(ISNUMBER(SEARCH(F$1,B619,1)),MAX($A$1:A618)+1,0)","v":0},"Зенит ООО","Зенит ООО","Кочанова Т.В","NULL"]
[{"$f":"IF(ISNUMBER(SEARCH(F$1,B620,1)),MAX($A$1:A619)+1,0)","v":7},"Зенит2019","Зенит ООО","Маслова И.С","Маслова"]
[{"$f":"IF(ISNUMBER(SEARCH(F$1,B621,1)),MAX($A$1:A620)+1,0)","v":0},"Зенон (верно)","ЗЕНОН","Четверткова О.","Шишкин "]
[{"$f":"IF(ISNUMBER(SEARCH(F$1,B622,1)),MAX($A$1:A621)+1,0)","v":0},"Зенон руб","БИЛДМАТЕК-строительные технологии ООО","Четверткова О.","NULL"]
[{"$f":"IF(ISNUMBER(SEARCH(F$1,B623,1)),MAX($A$1:A622)+1,0)","v":0},"Зет Трейд","Зет Трейд ООО","Шабалина Е.В","Шишкин "]
[{"$f":"IF(ISNUMBER(SEARCH(F$1,B624,1)),MAX($A$1:A623)+1,0)","v":0},"Зименкова ИП","ИП ЗименковаМ.С.","Маслова И.С","Голубев"]
[{"$f":"IF(ISNUMBER(SEARCH(F$1,B625,1)),MAX($A$1:A624)+1,0)","v":0},"ИВАНОВСКИЙ ЗАВОД СВЕТОТЕХНИКИ \"ЭЛЕКТРО\"","ООО \"ИВАНОВСКИЙ ЗАВОД СВЕТОТЕХНИКИ \"ЭЛЕКТРО\"","Горчаков Е.М","Голубев"]
[{"$f":"IF(ISNUMBER(SEARCH(F$1,B626,1)),MAX($A$1:A625)+1,0)","v":0},"ИВЕНС ГРУПП Украина","ИВЕНС ГРУПП ООО","Калинина Т.С","Кузнец"]
[{"$f":"IF(ISNUMBER(SEARCH(F$1,B627,1)),MAX($A$1:A626)+1,0)","v":0},"Ижев зд. анод","Ижевский завод анодирования ООО","Четверткова О.","Верхомий"]
[{"$f":"IF(ISNUMBER(SEARCH(F$1,B628,1)),MAX($A$1:A627)+1,0)","v":0},"Ижевск-2","Дорф Анна Валерьевна ИП","Четверткова О.","Четверткова"]
[{"$f":"IF(ISNUMBER(SEARCH(F$1,B629,1)),MAX($A$1:A628)+1,0)","v":0},"Ижевский з-д анод.","ООО \"Ижевский завод анодирования\"","Маслова И.С","NULL"]
[{"$f":"IF(ISNUMBER(SEARCH(F$1,B630,1)),MAX($A$1:A629)+1,0)","v":0},"ИЖЦВЕТМЕТ","ИЖЦВЕТМЕТ ООО","Фролова А.Г","Фролова"]
[{"$f":"IF(ISNUMBER(SEARCH(F$1,B631,1)),MAX($A$1:A630)+1,0)","v":0},"ИЗАН","ООО \"ИЗАН\"","NULL","NULL"]
[{"$f":"IF(ISNUMBER(SEARCH(F$1,B632,1)),MAX($A$1:A631)+1,0)","v":0},"Излишки","Излишки","NULL","NULL"]
[{"$f":"IF(ISNUMBER(SEARCH(F$1,B633,1)),MAX($A$1:A632)+1,0)","v":0},"Излишки Хилти","Излишки Хилти","NULL","NULL"]
[{"$f":"IF(ISNUMBER(SEARCH(F$1,B634,1)),MAX($A$1:A633)+1,0)","v":0},"Изотерм","Изотерм ОАО","Халдина О.Н","Голубев"]
[{"$f":"IF(ISNUMBER(SEARCH(F$1,B635,1)),MAX($A$1:A634)+1,0)","v":0},"ИЗТТ","ИЗТТ ООО","Халдина О.Н","Халдина"]
[{"$f":"IF(ISNUMBER(SEARCH(F$1,B636,1)),MAX($A$1:A635)+1,0)","v":0},"ИКК-Инкомпро","\"ИКК-Инкомпро\" ООО","NULL","NULL"]
[{"$f":"IF(ISNUMBER(SEARCH(F$1,B637,1)),MAX($A$1:A636)+1,0)","v":0},"ИЛЬИНКА ГРУПП","ИЛЬИНКА ГРУПП ООО","Маслова И.С","Маслова"]
[{"$f":"IF(ISNUMBER(SEARCH(F$1,B638,1)),MAX($A$1:A637)+1,0)","v":0},"Имекс","Имекс ТД","Халдина О.Н","NULL"]
[{"$f":"IF(ISNUMBER(SEARCH(F$1,B639,1)),MAX($A$1:A638)+1,0)","v":0},"ИМЛАЙТ-ЛАЙТТЕХНИК","ИМЛАЙТ-ЛАЙТТЕХНИК","Четверткова О.","Четверткова"]
[{"$f":"IF(ISNUMBER(SEARCH(F$1,B640,1)),MAX($A$1:A639)+1,0)","v":0},"Империя1","Империя ТСК ООО","Четверткова О.","Четверткова"]
[{"$f":"IF(ISNUMBER(SEARCH(F$1,B641,1)),MAX($A$1:A640)+1,0)","v":0},"Импер-Строй","NULL","NULL","NULL"]
[{"$f":"IF(ISNUMBER(SEARCH(F$1,B642,1)),MAX($A$1:A641)+1,0)","v":0},"ИМПУЛЬС выс тех","ИМПУЛЬС высокие технологии ООО","Шабалина Е.В","Шишкин "]
[{"$f":"IF(ISNUMBER(SEARCH(F$1,B643,1)),MAX($A$1:A642)+1,0)","v":0},"Импэкс","ИМПЕКС ООО","NULL","NULL"]
[{"$f":"IF(ISNUMBER(SEARCH(F$1,B644,1)),MAX($A$1:A643)+1,0)","v":0},"Инвент Пром","Инвент Пром ООО","NULL","NULL"]
[{"$f":"IF(ISNUMBER(SEARCH(F$1,B645,1)),MAX($A$1:A644)+1,0)","v":0},"ИнВент-Р","\"ИнВент-Р\" ООО","NULL","NULL"]
[{"$f":"IF(ISNUMBER(SEARCH(F$1,B646,1)),MAX($A$1:A645)+1,0)","v":0},"Инвертор АРИА","АРИА Инвертор","NULL","NULL"]
[{"$f":"IF(ISNUMBER(SEARCH(F$1,B647,1)),MAX($A$1:A646)+1,0)","v":0},"Инвест-Мастер-Строй","Инвест-Мастер-Строй","NULL","Голубев"]
[{"$f":"IF(ISNUMBER(SEARCH(F$1,B648,1)),MAX($A$1:A647)+1,0)","v":0},"Инвест-Трейд","ООО \"Торговый дом Инвест-Трейд\"","Борисова Э.Б","NULL"]
[{"$f":"IF(ISNUMBER(SEARCH(F$1,B649,1)),MAX($A$1:A648)+1,0)","v":0},"Индустрия","ООО Фирма \"Индустрия\"","Горчаков Е.М","Горчаков"]
[{"$f":"IF(ISNUMBER(SEARCH(F$1,B650,1)),MAX($A$1:A649)+1,0)","v":0},"ИндустрияИти","ИндустрияИти","NULL","Голубев"]
[{"$f":"IF(ISNUMBER(SEARCH(F$1,B651,1)),MAX($A$1:A650)+1,0)","v":0},"Инел-Дисплей","Инел-Дисплей ООО","Халдина О.Н","Халдина"]
[{"$f":"IF(ISNUMBER(SEARCH(F$1,B652,1)),MAX($A$1:A651)+1,0)","v":0},"Инжен Оборуд и Сист","Инженерное оборудование и системы ООО","Маслова И.С","Голубев"]
[{"$f":"IF(ISNUMBER(SEARCH(F$1,B653,1)),MAX($A$1:A652)+1,0)","v":0},"Инженер.техн.","Инженерные технологии ООО","Кочанова Т.В","NULL"]
[{"$f":"IF(ISNUMBER(SEARCH(F$1,B654,1)),MAX($A$1:A653)+1,0)","v":0},"ИнженернаяКомпанияВелес","Инженерная Компания Велес","Маслова И.С","NULL"]
[{"$f":"IF(ISNUMBER(SEARCH(F$1,B655,1)),MAX($A$1:A654)+1,0)","v":0},"Инициал Дизайн","Инициал Дизайн ООО","Калинина Т.С","Калинина"]
[{"$f":"IF(ISNUMBER(SEARCH(F$1,B656,1)),MAX($A$1:A655)+1,0)","v":0},"Инициал-М","Инициал-М ООО","Маслова И.С","Маслова"]
[{"$f":"IF(ISNUMBER(SEARCH(F$1,B657,1)),MAX($A$1:A656)+1,0)","v":0},"ИНКАРТ","ИНКАРТ ООО","Четверткова О.","NULL"]
[{"$f":"IF(ISNUMBER(SEARCH(F$1,B658,1)),MAX($A$1:A657)+1,0)","v":0},"Инком-Фасад","Инком-Фасад ООО","Четверткова О.","Голубев"]
[{"$f":"IF(ISNUMBER(SEARCH(F$1,B659,1)),MAX($A$1:A658)+1,0)","v":0},"Инлюкс","Инклюс ","NULL","NULL"]
[{"$f":"IF(ISNUMBER(SEARCH(F$1,B660,1)),MAX($A$1:A659)+1,0)","v":0},"ИНТАЛ","ИНТАЛ ООО","Маслова И.С","Голубев"]
[{"$f":"IF(ISNUMBER(SEARCH(F$1,B661,1)),MAX($A$1:A660)+1,0)","v":0},"ИнтеллекТехнол","ИнТех ЗАО","Верхомий И.Е","NULL"]
[{"$f":"IF(ISNUMBER(SEARCH(F$1,B662,1)),MAX($A$1:A661)+1,0)","v":0},"ИнтеллектМедиа","Интелллект Медиа ООО","Халдина О.Н","Халдина"]
[{"$f":"IF(ISNUMBER(SEARCH(F$1,B663,1)),MAX($A$1:A662)+1,0)","v":0},"Интер.Маст руб","Интерьер Мастер ООО","Акафьева Т.","Акафьева"]
[{"$f":"IF(ISNUMBER(SEARCH(F$1,B664,1)),MAX($A$1:A663)+1,0)","v":0},"Интернова","Интернова ООО","Шабалина Е.В","Шишкин "]
[{"$f":"IF(ISNUMBER(SEARCH(F$1,B665,1)),MAX($A$1:A664)+1,0)","v":0},"ИНТЕРПОСТАВКА","ИНТЕРПОСТАВКА ООО","Голубев А.С","Голубев"]
[{"$f":"IF(ISNUMBER(SEARCH(F$1,B666,1)),MAX($A$1:A665)+1,0)","v":0},"Интерсервис","Интерсервис ООО","Четверткова О.","Четверткова"]
[{"$f":"IF(ISNUMBER(SEARCH(F$1,B667,1)),MAX($A$1:A666)+1,0)","v":0},"Интертревэл"," \" Интертревэл\" ООО","NULL","NULL"]
[{"$f":"IF(ISNUMBER(SEARCH(F$1,B668,1)),MAX($A$1:A667)+1,0)","v":0},"Интертрейд","ООО \"Интертрейд\"","Маслова И.С","Голубев"]
[{"$f":"IF(ISNUMBER(SEARCH(F$1,B669,1)),MAX($A$1:A668)+1,0)","v":0},"ИнтерТрСтр","ИнтерТрансСтрой ООО","Козлова Ю.К","NULL"]
[{"$f":"IF(ISNUMBER(SEARCH(F$1,B670,1)),MAX($A$1:A669)+1,0)","v":0},"Интерьер","Интерьер ООО","NULL","NULL"]
[{"$f":"IF(ISNUMBER(SEARCH(F$1,B671,1)),MAX($A$1:A670)+1,0)","v":0},"Интерьер Маст(П","Интерьер Маст(П","NULL","NULL"]
[{"$f":"IF(ISNUMBER(SEARCH(F$1,B672,1)),MAX($A$1:A671)+1,0)","v":0},"ИНТЕРЬЕР Н","Браско ООО","Борисова Э.Б","NULL"]
[{"$f":"IF(ISNUMBER(SEARCH(F$1,B673,1)),MAX($A$1:A672)+1,0)","v":0},"ИнтерьерСтиль","ООО ИнтерьерСтиль","Халдина О.Н","Верхомий"]
[{"$f":"IF(ISNUMBER(SEARCH(F$1,B674,1)),MAX($A$1:A673)+1,0)","v":0},"ИНТЕССО","ООО «ТД Интессо»","Горчаков Е.М","Голубев"]
[{"$f":"IF(ISNUMBER(SEARCH(F$1,B675,1)),MAX($A$1:A674)+1,0)","v":0},"Интех ТД","ИНТЕХ ТД ООО","Четверткова О.","Голубев"]
[{"$f":"IF(ISNUMBER(SEARCH(F$1,B676,1)),MAX($A$1:A675)+1,0)","v":0},"Интком (поддон)","Интком (поддон)","NULL","NULL"]
[{"$f":"IF(ISNUMBER(SEARCH(F$1,B677,1)),MAX($A$1:A676)+1,0)","v":0},"Инткомтекс","\"Инкомтекс\" ООО","NULL","NULL"]
[{"$f":"IF(ISNUMBER(SEARCH(F$1,B678,1)),MAX($A$1:A677)+1,0)","v":0},"Инторметалл","Инторметалл ООО","Халдина О.Н","Халдина"]
[{"$f":"IF(ISNUMBER(SEARCH(F$1,B679,1)),MAX($A$1:A678)+1,0)","v":0},"ИНТЭКС","ООО \"ИНТЭКС-ТРЕЙД\" ","Горчаков Е.М","Горчаков"]
[{"$f":"IF(ISNUMBER(SEARCH(F$1,B680,1)),MAX($A$1:A679)+1,0)","v":0},"Инфопростр23","Инфопространство ООО","Калинина Т.С","NULL"]
[{"$f":"IF(ISNUMBER(SEARCH(F$1,B681,1)),MAX($A$1:A680)+1,0)","v":0},"Инфопростран","ИНФОПРОСТРАНСТВО ОО","Голубев А.С","NULL"]
[{"$f":"IF(ISNUMBER(SEARCH(F$1,B682,1)),MAX($A$1:A681)+1,0)","v":0},"ИНФОТЕХ НПЦ","ИНФОТЕХ НПЦ ООО","Маслова И.С","Маслова"]
[{"$f":"IF(ISNUMBER(SEARCH(F$1,B683,1)),MAX($A$1:A682)+1,0)","v":0},"ИП Абрашкин","Абрашкин ИП","NULL","NULL"]
[{"$f":"IF(ISNUMBER(SEARCH(F$1,B684,1)),MAX($A$1:A683)+1,0)","v":0},"ИП Аленкин","Аленкин А.В. ИП","Четверткова О.","Верхомий"]
[{"$f":"IF(ISNUMBER(SEARCH(F$1,B685,1)),MAX($A$1:A684)+1,0)","v":0},"ИП Астафьева","Астафьева Н.А. ИП","Маслова И.С","Голубев"]
[{"$f":"IF(ISNUMBER(SEARCH(F$1,B686,1)),MAX($A$1:A685)+1,0)","v":0},"ИП Бакушкин","ИП Бакушкин","Акафьева Т.","Голубев"]
[{"$f":"IF(ISNUMBER(SEARCH(F$1,B687,1)),MAX($A$1:A686)+1,0)","v":0},"ИП Бекшаев А.С.","Бекшаев Алексей Сергеевич ИП","Маслова И.С","NULL"]
[{"$f":"IF(ISNUMBER(SEARCH(F$1,B688,1)),MAX($A$1:A687)+1,0)","v":0},"ИП Белов","Белов ИП","NULL","NULL"]
[{"$f":"IF(ISNUMBER(SEARCH(F$1,B689,1)),MAX($A$1:A688)+1,0)","v":0},"ИП Бирюков 1","Бирюков ИП","NULL","NULL"]
[{"$f":"IF(ISNUMBER(SEARCH(F$1,B690,1)),MAX($A$1:A689)+1,0)","v":0},"ИП Боков А.В.","Боков А.В. ИП","NULL","NULL"]
[{"$f":"IF(ISNUMBER(SEARCH(F$1,B691,1)),MAX($A$1:A690)+1,0)","v":0},"ИП Булатов Г.М.","Булатов Гайирбег Магдиевич ИП","Четверткова О.","Голубев"]
[{"$f":"IF(ISNUMBER(SEARCH(F$1,B692,1)),MAX($A$1:A691)+1,0)","v":0},"ИП Бурмистров","Бурмистров А.В.ИП","Голубев А.С","NULL"]
[{"$f":"IF(ISNUMBER(SEARCH(F$1,B693,1)),MAX($A$1:A692)+1,0)","v":0},"ИП Виторский Белоруссия","ИП Виторский Е.Д.","Калинина Т.С","Голубев"]
[{"$f":"IF(ISNUMBER(SEARCH(F$1,B694,1)),MAX($A$1:A693)+1,0)","v":0},"ИП Волченко А.Ф.","Волченко А.Ф. ","Маслова И.С","NULL"]
[{"$f":"IF(ISNUMBER(SEARCH(F$1,B695,1)),MAX($A$1:A694)+1,0)","v":0},"ИП Галактионов А.А.","ИП Галактионов А.А.","Калинина Т.С","Голубев"]
[{"$f":"IF(ISNUMBER(SEARCH(F$1,B696,1)),MAX($A$1:A695)+1,0)","v":0},"ИП Гараян","Гараян А.С. ИП","NULL","NULL"]
[{"$f":"IF(ISNUMBER(SEARCH(F$1,B697,1)),MAX($A$1:A696)+1,0)","v":0},"ИП Гельчайтис","Гельчайтис В.Ю. ИП","Маслова И.С","NULL"]
[{"$f":"IF(ISNUMBER(SEARCH(F$1,B698,1)),MAX($A$1:A697)+1,0)","v":0},"ИП Глухов В.А.","ИП Глухов Владислав Александрович","Шабалина Е.В","Шишкин "]
[{"$f":"IF(ISNUMBER(SEARCH(F$1,B699,1)),MAX($A$1:A698)+1,0)","v":0},"ИП Горобец А.В.","ИП Горобец А.В.","Голубев А.С","NULL"]
[{"$f":"IF(ISNUMBER(SEARCH(F$1,B700,1)),MAX($A$1:A699)+1,0)","v":0},"ИП Дагирова Д.А.","ИП Дагирова Лиана Атаковна","Халдина О.Н","NULL"]
[{"$f":"IF(ISNUMBER(SEARCH(F$1,B701,1)),MAX($A$1:A700)+1,0)","v":0},"ИП Дергунов","Дергунов ИП","NULL","NULL"]
[{"$f":"IF(ISNUMBER(SEARCH(F$1,B702,1)),MAX($A$1:A701)+1,0)","v":0},"ИП Джантемиров","ИП Джантемиров М.Х.","Четверткова О.","Шишкин "]
[{"$f":"IF(ISNUMBER(SEARCH(F$1,B703,1)),MAX($A$1:A702)+1,0)","v":0},"ИП Домнин А.В.","Домнин Антон Викторович ИП","Маслова И.С","Голубев"]
[{"$f":"IF(ISNUMBER(SEARCH(F$1,B704,1)),MAX($A$1:A703)+1,0)","v":0},"ИП Домнина Е.А.","Домнина Елена Александровна ИП","Маслова И.С","Голубев"]
[{"$f":"IF(ISNUMBER(SEARCH(F$1,B705,1)),MAX($A$1:A704)+1,0)","v":0},"ИП Ильин","ИП Ильин О.В.","Халдина О.Н","Верхомий"]
[{"$f":"IF(ISNUMBER(SEARCH(F$1,B706,1)),MAX($A$1:A705)+1,0)","v":0},"ИП Капыш ЛВ","Капыш Людмила Владимировна ИП","Акафьева Т.","Акафьева"]
[{"$f":"IF(ISNUMBER(SEARCH(F$1,B707,1)),MAX($A$1:A706)+1,0)","v":0},"ИП Катаев","Катаев Андрей Александрович ИП","Кочанова Т.В","NULL"]
[{"$f":"IF(ISNUMBER(SEARCH(F$1,B708,1)),MAX($A$1:A707)+1,0)","v":0},"ИП Катанджан","Катанджан ИП","NULL","NULL"]
[{"$f":"IF(ISNUMBER(SEARCH(F$1,B709,1)),MAX($A$1:A708)+1,0)","v":0},"ИП Ковалев А. А.","Ковалев ИП","Верхомий И.Е","Верхомий"]
[{"$f":"IF(ISNUMBER(SEARCH(F$1,B710,1)),MAX($A$1:A709)+1,0)","v":0},"ИП Козловский М.Е.","ИП Козловкий М.Е.","Верхомий И.Е","Голубев"]
[{"$f":"IF(ISNUMBER(SEARCH(F$1,B711,1)),MAX($A$1:A710)+1,0)","v":0},"ИП Колдина ","ИП Колдина А.Г.","NULL","NULL"]
[{"$f":"IF(ISNUMBER(SEARCH(F$1,B712,1)),MAX($A$1:A711)+1,0)","v":0},"ИП Кудряшов","ИП Кудряшов С.Л.","Голубев А.С","NULL"]
[{"$f":"IF(ISNUMBER(SEARCH(F$1,B713,1)),MAX($A$1:A712)+1,0)","v":0},"ИП Кузнецов ","Кузнецов ИП","Маслова И.С","Маслова"]
[{"$f":"IF(ISNUMBER(SEARCH(F$1,B714,1)),MAX($A$1:A713)+1,0)","v":0},"ИП Кузьмина Ю.Н.","ИП Кузьмина Ю.Н.","Маслова И.С","Маслова"]
[{"$f":"IF(ISNUMBER(SEARCH(F$1,B715,1)),MAX($A$1:A714)+1,0)","v":0},"ИП Кулаков","ИП Кулаков","Халдина О.Н","NULL"]
[{"$f":"IF(ISNUMBER(SEARCH(F$1,B716,1)),MAX($A$1:A715)+1,0)","v":0},"ИП Лебедева","Лебедева ИП","Волчек Е.П","NULL"]
[{"$f":"IF(ISNUMBER(SEARCH(F$1,B717,1)),MAX($A$1:A716)+1,0)","v":0},"ИП Лебедева Л.М(покраска)","ИП Лебедева Л.М.","NULL","NULL"]
[{"$f":"IF(ISNUMBER(SEARCH(F$1,B718,1)),MAX($A$1:A717)+1,0)","v":0},"ИП Матросов Р","Матросов И. В. ИП","NULL","NULL"]
[{"$f":"IF(ISNUMBER(SEARCH(F$1,B719,1)),MAX($A$1:A718)+1,0)","v":0},"ИП Моисеенкова Е.А.","Моисеенкова Е.А. ИП","Маслова И.С","Маслова"]
[{"$f":"IF(ISNUMBER(SEARCH(F$1,B720,1)),MAX($A$1:A719)+1,0)","v":0},"ИП Муханбеткалиев","Муханбеткалиев А. ИП","Калинина Т.С","Калинина"]
[{"$f":"IF(ISNUMBER(SEARCH(F$1,B721,1)),MAX($A$1:A720)+1,0)","v":0},"ИП Муханбеткалиева Азиз","Муханбеткалиева Азизахон Адильжановна ИП","Калинина Т.С","Калинина"]
[{"$f":"IF(ISNUMBER(SEARCH(F$1,B722,1)),MAX($A$1:A721)+1,0)","v":0},"ИП Муханбетов","ИП Муханбетов","Калинина Т.С","Калинина"]
[{"$f":"IF(ISNUMBER(SEARCH(F$1,B723,1)),MAX($A$1:A722)+1,0)","v":0},"ИП Мухин ","ИП Мухин С.А.","Голубев А.С","NULL"]
[{"$f":"IF(ISNUMBER(SEARCH(F$1,B724,1)),MAX($A$1:A723)+1,0)","v":0},"ИП Найдина Е.И.","Найдина Е.И. ИП","Четверткова О.","Четверткова"]
[{"$f":"IF(ISNUMBER(SEARCH(F$1,B725,1)),MAX($A$1:A724)+1,0)","v":0},"ИП Охотников П.Г.","Охотников П.Г. ИП","Маслова И.С","Маслова"]
[{"$f":"IF(ISNUMBER(SEARCH(F$1,B726,1)),MAX($A$1:A725)+1,0)","v":0},"ИП Посошков","ИП Посошков","NULL","NULL"]
[{"$f":"IF(ISNUMBER(SEARCH(F$1,B727,1)),MAX($A$1:A726)+1,0)","v":0},"ИП Пронин А.С.","Пронин А.С. ИП","Акафьева Т.","Голубев"]
[{"$f":"IF(ISNUMBER(SEARCH(F$1,B728,1)),MAX($A$1:A727)+1,0)","v":0},"ИП Разуваева","Разуваева О.В. ИП","Шабалина Е.В","Голубев"]
[{"$f":"IF(ISNUMBER(SEARCH(F$1,B729,1)),MAX($A$1:A728)+1,0)","v":0},"ИП Руженков С.В.","ИП Руженков Сергей Владимирович","Маслова И.С","Голубев"]
[{"$f":"IF(ISNUMBER(SEARCH(F$1,B730,1)),MAX($A$1:A729)+1,0)","v":0},"ИП РябыхДВ","Рябых ДВ ИП","Волчек Е.П","NULL"]
[{"$f":"IF(ISNUMBER(SEARCH(F$1,B731,1)),MAX($A$1:A730)+1,0)","v":0},"ИП Сазыкин С.А.","ИП Сазыкин Семен Александрович","Шабалина Е.В","Мельников"]
[{"$f":"IF(ISNUMBER(SEARCH(F$1,B732,1)),MAX($A$1:A731)+1,0)","v":0},"ИП Секачев А.А.","Секачев ИП","Халдина О.Н","Мельников"]
[{"$f":"IF(ISNUMBER(SEARCH(F$1,B733,1)),MAX($A$1:A732)+1,0)","v":0},"ИП Склянский","Склянский ИП","NULL","NULL"]
[{"$f":"IF(ISNUMBER(SEARCH(F$1,B734,1)),MAX($A$1:A733)+1,0)","v":0},"ИП Сорокин","Сорокин ИП","Халдина О.Н","Халдина"]
[{"$f":"IF(ISNUMBER(SEARCH(F$1,B735,1)),MAX($A$1:A734)+1,0)","v":0},"ИП Спицын Андрей Владимирович","Спицын Андрей Владимирович ИП","Шабалина Е.В","Шабалина"]
[{"$f":"IF(ISNUMBER(SEARCH(F$1,B736,1)),MAX($A$1:A735)+1,0)","v":0},"ИП Фомина 1","Фомина М.П. 1 ИП","Маслова И.С","NULL"]
[{"$f":"IF(ISNUMBER(SEARCH(F$1,B737,1)),MAX($A$1:A736)+1,0)","v":0},"ИП Фомина 1(П)","ИП Фомина М.П. 1(П)","NULL","NULL"]
[{"$f":"IF(ISNUMBER(SEARCH(F$1,B738,1)),MAX($A$1:A737)+1,0)","v":0},"ИП Шевченко"," Шевченко ИП","NULL","NULL"]
[{"$f":"IF(ISNUMBER(SEARCH(F$1,B739,1)),MAX($A$1:A738)+1,0)","v":0},"ИП Шипшилей П.В.","Шипшилей Павел Васильевич ИП","Верхомий И.Е","Верхомий"]
[{"$f":"IF(ISNUMBER(SEARCH(F$1,B740,1)),MAX($A$1:A739)+1,0)","v":0},"ИП Яковлев ","Яковлев В.Б. ИП","Козлова Ю.К","NULL"]
[{"$f":"IF(ISNUMBER(SEARCH(F$1,B741,1)),MAX($A$1:A740)+1,0)","v":0},"Иплана","Иплана ООО","Халдина О.Н","Верхомий"]
[{"$f":"IF(ISNUMBER(SEARCH(F$1,B742,1)),MAX($A$1:A741)+1,0)","v":0},"Иплана  П","ЗАО \"Иплана\" Поставщик","Халдина О.Н","NULL"]
[{"$f":"IF(ISNUMBER(SEARCH(F$1,B743,1)),MAX($A$1:A742)+1,0)","v":0},"Иплана(П)","Иплана","Халдина О.Н","NULL"]
[{"$f":"IF(ISNUMBER(SEARCH(F$1,B744,1)),MAX($A$1:A743)+1,0)","v":0},"ИПЛАНА_пост.","ИПЛАНА","Халдина О.Н","NULL"]
[{"$f":"IF(ISNUMBER(SEARCH(F$1,B745,1)),MAX($A$1:A744)+1,0)","v":0},"ИпланаПро_мех.обраб","ИпанаПро_мех.обработка","NULL","NULL"]
[{"$f":"IF(ISNUMBER(SEARCH(F$1,B746,1)),MAX($A$1:A745)+1,0)","v":0},"ИПЦ","ИПЦ ООО","Голубев А.С","Голубев"]
[{"$f":"IF(ISNUMBER(SEARCH(F$1,B747,1)),MAX($A$1:A746)+1,0)","v":0},"ИРБИС Завод","ИРБИС Завод ООО","Маслова И.С","NULL"]
[{"$f":"IF(ISNUMBER(SEARCH(F$1,B748,1)),MAX($A$1:A747)+1,0)","v":0},"Ирбис Моторз","Ирбис Моторз ООО","Халдина О.Н","Халдина"]
[{"$f":"IF(ISNUMBER(SEARCH(F$1,B749,1)),MAX($A$1:A748)+1,0)","v":0},"ИРИДАН","ИРИДАН ООО","Маслова И.С","Верхомий"]
[{"$f":"IF(ISNUMBER(SEARCH(F$1,B750,1)),MAX($A$1:A749)+1,0)","v":0},"ИС-РЭГР","ИС-РЭГР","NULL","Голубев"]
[{"$f":"IF(ISNUMBER(SEARCH(F$1,B751,1)),MAX($A$1:A750)+1,0)","v":0},"Италкабина","Италкабина ООО","NULL","NULL"]
[{"$f":"IF(ISNUMBER(SEARCH(F$1,B752,1)),MAX($A$1:A751)+1,0)","v":0},"Италкабина 1","\" Италкабина\" 1 ООО","NULL","NULL"]
[{"$f":"IF(ISNUMBER(SEARCH(F$1,B753,1)),MAX($A$1:A752)+1,0)","v":0},"Италкабина(подд","Италкабина(подд","NULL","NULL"]
[{"$f":"IF(ISNUMBER(SEARCH(F$1,B754,1)),MAX($A$1:A753)+1,0)","v":0},"Итал-Проф","Итал-Проф ООО","Голубев А.С","NULL"]
[{"$f":"IF(ISNUMBER(SEARCH(F$1,B755,1)),MAX($A$1:A754)+1,0)","v":0},"ИТАЛЮМ ПРОФИЛЬ","ИТАЛЮМ ПРОФИЛЬ","Шабалина Е.В","Верхомий"]
[{"$f":"IF(ISNUMBER(SEARCH(F$1,B756,1)),MAX($A$1:A755)+1,0)","v":0},"Итерьер Маст Р","Интерьер-Мастер ООО","Акафьева Т.","NULL"]
[{"$f":"IF(ISNUMBER(SEARCH(F$1,B757,1)),MAX($A$1:A756)+1,0)","v":0},"ИТИНЕРА","ИТИНЕРА ООО","NULL","NULL"]
[{"$f":"IF(ISNUMBER(SEARCH(F$1,B758,1)),MAX($A$1:A757)+1,0)","v":0},"ИТПром","ИТПром ООО","Голубев А.С","NULL"]
[{"$f":"IF(ISNUMBER(SEARCH(F$1,B759,1)),MAX($A$1:A758)+1,0)","v":0},"КАД-М","ЗАО \"Ассоциация КАД-М\"","NULL","NULL"]
[{"$f":"IF(ISNUMBER(SEARCH(F$1,B760,1)),MAX($A$1:A759)+1,0)","v":0},"Как Дом Ваш Обуст","Как Дом Ваш Обустроить ООО","Козлова Ю.К","NULL"]
[{"$f":"IF(ISNUMBER(SEARCH(F$1,B761,1)),MAX($A$1:A760)+1,0)","v":0},"Каланча","Каланча ТД ООО","NULL","NULL"]
[{"$f":"IF(ISNUMBER(SEARCH(F$1,B762,1)),MAX($A$1:A761)+1,0)","v":0},"Каланча 1","Каланча 1 ООО","NULL","NULL"]
[{"$f":"IF(ISNUMBER(SEARCH(F$1,B763,1)),MAX($A$1:A762)+1,0)","v":0},"Калориферный завод","ОАО \"КЗ\"","Верхомий И.Е","Горчаков"]
[{"$f":"IF(ISNUMBER(SEARCH(F$1,B764,1)),MAX($A$1:A763)+1,0)","v":0},"КАЛУГАГЛАВСНАБ","КАЛУГАГЛАВСНАБ АО","Верхомий И.Е","NULL"]
[{"$f":"IF(ISNUMBER(SEARCH(F$1,B765,1)),MAX($A$1:A764)+1,0)","v":0},"Кама Комплект1","Кама Комплект ООО","NULL","NULL"]
[{"$f":"IF(ISNUMBER(SEARCH(F$1,B766,1)),MAX($A$1:A765)+1,0)","v":0},"КАМЕЛИТ","КАМЕЛИТ ООО","Маслова И.С","Маслова"]
[{"$f":"IF(ISNUMBER(SEARCH(F$1,B767,1)),MAX($A$1:A766)+1,0)","v":0},"КАМПО","КАМПО АО","Халдина О.Н","Голубев"]
[{"$f":"IF(ISNUMBER(SEARCH(F$1,B768,1)),MAX($A$1:A767)+1,0)","v":0},"Капелла"," \"Капелла\" ООО","NULL","NULL"]
[{"$f":"IF(ISNUMBER(SEARCH(F$1,B769,1)),MAX($A$1:A768)+1,0)","v":0},"Капитоль","Капитоль ООО","Маслова И.С","NULL"]
[{"$f":"IF(ISNUMBER(SEARCH(F$1,B770,1)),MAX($A$1:A769)+1,0)","v":0},"КапСтройКомпл","КапСтройКомплект ООО","Акафьева Т.","Акафьева"]
[{"$f":"IF(ISNUMBER(SEARCH(F$1,B771,1)),MAX($A$1:A770)+1,0)","v":8},"КапТехноСтрой7725726402","КапТехноСтрой ООО","Четверткова О.","Голубев"]
[{"$f":"IF(ISNUMBER(SEARCH(F$1,B772,1)),MAX($A$1:A771)+1,0)","v":9},"Каравелла 2000","\"Каравелла 2000\" ","NULL","NULL"]
[{"$f":"IF(ISNUMBER(SEARCH(F$1,B773,1)),MAX($A$1:A772)+1,0)","v":0},"Кардогрупп","Кардогрупп ООО","Голубев А.С","NULL"]
[{"$f":"IF(ISNUMBER(SEARCH(F$1,B774,1)),MAX($A$1:A773)+1,0)","v":0},"Кардогрупп(П)","ООО\"Кардогрупп\"(П)","NULL","NULL"]
[{"$f":"IF(ISNUMBER(SEARCH(F$1,B775,1)),MAX($A$1:A774)+1,0)","v":0},"Кардогрупп1","\"Кардогрупп\" ООО","NULL","NULL"]
[{"$f":"IF(ISNUMBER(SEARCH(F$1,B776,1)),MAX($A$1:A775)+1,0)","v":0},"КАРЕ СК","КАРЕ СК ООО","Голубев А.С","NULL"]
[{"$f":"IF(ISNUMBER(SEARCH(F$1,B777,1)),MAX($A$1:A776)+1,0)","v":0},"Кармаев","NULL","NULL","NULL"]
[{"$f":"IF(ISNUMBER(SEARCH(F$1,B778,1)),MAX($A$1:A777)+1,0)","v":0},"Катрис","Катрис комплект ООО","Халдина О.Н","Верхомий"]
[{"$f":"IF(ISNUMBER(SEARCH(F$1,B779,1)),MAX($A$1:A778)+1,0)","v":0},"Катрис 1","Катрис 1","NULL","NULL"]
[{"$f":"IF(ISNUMBER(SEARCH(F$1,B780,1)),MAX($A$1:A779)+1,0)","v":0},"Катрис(поддон)","ООО\"Катрис\"(поддон)","NULL","NULL"]
[{"$f":"IF(ISNUMBER(SEARCH(F$1,B781,1)),MAX($A$1:A780)+1,0)","v":0},"КАФТ ТД","КАФТ ТД ООО","Маслова И.С","Маслова"]
[{"$f":"IF(ISNUMBER(SEARCH(F$1,B782,1)),MAX($A$1:A781)+1,0)","v":0},"КВАЗАР ООО","КВАЗАР ООО","Голубев А.С","Голубев"]
[{"$f":"IF(ISNUMBER(SEARCH(F$1,B783,1)),MAX($A$1:A782)+1,0)","v":0},"КВАЗАР-ГРУПП","ООО «КВАЗАР-ГРУПП»","Горчаков Е.М","Горчаков"]
[{"$f":"IF(ISNUMBER(SEARCH(F$1,B784,1)),MAX($A$1:A783)+1,0)","v":0},"Квартет","СтройТехРесурс ООО","Козлова Ю.К","NULL"]
[{"$f":"IF(ISNUMBER(SEARCH(F$1,B785,1)),MAX($A$1:A784)+1,0)","v":0},"Квартет 1","СтройТехРесурс 1 ООО","NULL","NULL"]
[{"$f":"IF(ISNUMBER(SEARCH(F$1,B786,1)),MAX($A$1:A785)+1,0)","v":0},"Кватросис","Кватросис","NULL","Голубев"]
[{"$f":"IF(ISNUMBER(SEARCH(F$1,B787,1)),MAX($A$1:A786)+1,0)","v":0},"КВМ","КВМ ООО","Халдина О.Н","NULL"]
[{"$f":"IF(ISNUMBER(SEARCH(F$1,B788,1)),MAX($A$1:A787)+1,0)","v":0},"Кильдишов Д.В.","Кильдишов Дмитрий Вячеславович","Халдина О.Н","Голубев"]
[{"$f":"IF(ISNUMBER(SEARCH(F$1,B789,1)),MAX($A$1:A788)+1,0)","v":0},"КимАС","ООО \"КимАС\"","Горчаков Е.М","Голубев"]
[{"$f":"IF(ISNUMBER(SEARCH(F$1,B790,1)),MAX($A$1:A789)+1,0)","v":0},"ККЗ","ОФО \"Калориферный завод\"","Верхомий И.Е","Верхомий"]
[{"$f":"IF(ISNUMBER(SEARCH(F$1,B791,1)),MAX($A$1:A790)+1,0)","v":0},"Клариус","Клариус","NULL","NULL"]
[{"$f":"IF(ISNUMBER(SEARCH(F$1,B792,1)),MAX($A$1:A791)+1,0)","v":0},"Клейтон","Клейтон ООО","Маслова И.С","Маслова"]
[{"$f":"IF(ISNUMBER(SEARCH(F$1,B793,1)),MAX($A$1:A792)+1,0)","v":0},"Климатвентмаш","ООО \"Производственное объединение \"Климатвентмаш\"","Горчаков Е.М","Горчаков"]
[{"$f":"IF(ISNUMBER(SEARCH(F$1,B794,1)),MAX($A$1:A793)+1,0)","v":0},"КМП","КМП ООО","Шабалина Е.В","NULL"]
[{"$f":"IF(ISNUMBER(SEARCH(F$1,B795,1)),MAX($A$1:A794)+1,0)","v":0},"КМТ ПФ","КМТ  ПФ ОАО ","Козлова Ю.К","NULL"]
[{"$f":"IF(ISNUMBER(SEARCH(F$1,B796,1)),MAX($A$1:A795)+1,0)","v":0},"КНАИС","КНАИС ООО","NULL","NULL"]
[{"$f":"IF(ISNUMBER(SEARCH(F$1,B797,1)),MAX($A$1:A796)+1,0)","v":0},"Коин Комп(подд)","ТК Коин Комплект(поддон)","NULL","NULL"]
[{"$f":"IF(ISNUMBER(SEARCH(F$1,B798,1)),MAX($A$1:A797)+1,0)","v":0},"Коин Комплект","Коин-Комплект  ТК ООО","Халдина О.Н","Халдина"]
[{"$f":"IF(ISNUMBER(SEARCH(F$1,B799,1)),MAX($A$1:A798)+1,0)","v":0},"Колизей Технологий","ООО «Колизей технологий»","Горчаков Е.М","Горчаков"]
[{"$f":"IF(ISNUMBER(SEARCH(F$1,B800,1)),MAX($A$1:A799)+1,0)","v":0},"Колорит"," \"Колорит\" ООО","NULL","NULL"]
[{"$f":"IF(ISNUMBER(SEARCH(F$1,B801,1)),MAX($A$1:A800)+1,0)","v":0},"Колорпрокат Белоруссия","Колорпрокат","Калинина Т.С","Шишкин "]
[{"$f":"IF(ISNUMBER(SEARCH(F$1,B802,1)),MAX($A$1:A801)+1,0)","v":0},"Компания ВЕСТА","Компания ВЕСТА ООО","Кочанова Т.В","NULL"]
[{"$f":"IF(ISNUMBER(SEARCH(F$1,B803,1)),MAX($A$1:A802)+1,0)","v":0},"Компания Дверев","Компания Дверев ООО","Маслова И.С","Голубев"]
[{"$f":"IF(ISNUMBER(SEARCH(F$1,B804,1)),MAX($A$1:A803)+1,0)","v":0},"Компания Партнер-Сервис","Компания Партнер-Сервис ООО","Голубев А.С","NULL"]
[{"$f":"IF(ISNUMBER(SEARCH(F$1,B805,1)),MAX($A$1:A804)+1,0)","v":0},"Компания Синдикат","Компания Синдикат ООО","Маслова И.С","Голубев"]
[{"$f":"IF(ISNUMBER(SEARCH(F$1,B806,1)),MAX($A$1:A805)+1,0)","v":0},"Компания СтройТорг ","Компания СтройТорг ООО","Шабалина Е.В","Шишкин "]
[{"$f":"IF(ISNUMBER(SEARCH(F$1,B807,1)),MAX($A$1:A806)+1,0)","v":0},"КомпанияСтройАДС","ООО \"КОМПАНИЯ \"СТРОЙ-КОМ АДС\"","Маслова И.С","NULL"]
[{"$f":"IF(ISNUMBER(SEARCH(F$1,B808,1)),MAX($A$1:A807)+1,0)","v":0},"Компетентная Логистика","Компетентная Логистика ООО","Маслова И.С","Маслова"]
[{"$f":"IF(ISNUMBER(SEARCH(F$1,B809,1)),MAX($A$1:A808)+1,0)","v":0},"Комплект плюс","Комплект плюс ООО","Шабалина Е.В","Каменев"]
[{"$f":"IF(ISNUMBER(SEARCH(F$1,B810,1)),MAX($A$1:A809)+1,0)","v":0},"Комплект сер(П)","Комплект сервис (поддон)","NULL","NULL"]
[{"$f":"IF(ISNUMBER(SEARCH(F$1,B811,1)),MAX($A$1:A810)+1,0)","v":0},"Комплект-сервис","Комплект-сервис  ООО","NULL","NULL"]
[{"$f":"IF(ISNUMBER(SEARCH(F$1,B812,1)),MAX($A$1:A811)+1,0)","v":0},"КомплектсервисТД","Комплектсервис ТД ООО","Шабалина Е.В","Шишкин "]
[{"$f":"IF(ISNUMBER(SEARCH(F$1,B813,1)),MAX($A$1:A812)+1,0)","v":0},"Комплит М","Комплит М ООО","Волчек Е.П","Голубев"]
[{"$f":"IF(ISNUMBER(SEARCH(F$1,B814,1)),MAX($A$1:A813)+1,0)","v":0},"Комстрой","Комстрой ООО","Голубев А.С","NULL"]
[{"$f":"IF(ISNUMBER(SEARCH(F$1,B815,1)),MAX($A$1:A814)+1,0)","v":0},"Конвера","ООО \"Конвера\"","NULL","NULL"]
[{"$f":"IF(ISNUMBER(SEARCH(F$1,B816,1)),MAX($A$1:A815)+1,0)","v":0},"КОНКОРД","ООО \"ИСК \"КОНКОРД\"","NULL","NULL"]
[{"$f":"IF(ISNUMBER(SEARCH(F$1,B817,1)),MAX($A$1:A816)+1,0)","v":0},"Кононенко В.А.","Кононенко В.А.","Верхомий И.Е","NULL"]
[{"$f":"IF(ISNUMBER(SEARCH(F$1,B818,1)),MAX($A$1:A817)+1,0)","v":0},"Конструкция","КОНСТРУКЦИЯ ЗАО","Кочанова Т.В","NULL"]
[{"$f":"IF(ISNUMBER(SEARCH(F$1,B819,1)),MAX($A$1:A818)+1,0)","v":0},"Континет АЛ","Континет АЛ","NULL","Голубев"]
[{"$f":"IF(ISNUMBER(SEARCH(F$1,B820,1)),MAX($A$1:A819)+1,0)","v":0},"Концерн ГРАНИТ","Концерн ГРАНИТ АО","Калинина Т.С","Голубев"]
[{"$f":"IF(ISNUMBER(SEARCH(F$1,B821,1)),MAX($A$1:A820)+1,0)","v":0},"Концерн Медведь","ООО \"Концерн Медведь\"","Горчаков Е.М","Горчаков"]
[{"$f":"IF(ISNUMBER(SEARCH(F$1,B822,1)),MAX($A$1:A821)+1,0)","v":0},"Королан","Королан ООО","Маслова И.С","Маслова"]
[{"$f":"IF(ISNUMBER(SEARCH(F$1,B823,1)),MAX($A$1:A822)+1,0)","v":0},"КорпСолнце","Корпорация Солнца ООО","Халдина О.Н","Голубев"]
[{"$f":"IF(ISNUMBER(SEARCH(F$1,B824,1)),MAX($A$1:A823)+1,0)","v":0},"Корс","Корс ЗАО","Борисова Э.Б","NULL"]
[{"$f":"IF(ISNUMBER(SEARCH(F$1,B825,1)),MAX($A$1:A824)+1,0)","v":0},"Корс(поддон)","Корс (поддон)","NULL","NULL"]
[{"$f":"IF(ISNUMBER(SEARCH(F$1,B826,1)),MAX($A$1:A825)+1,0)","v":0},"Корс1","\"Корс\"1 ЗАО","NULL","NULL"]
[{"$f":"IF(ISNUMBER(SEARCH(F$1,B827,1)),MAX($A$1:A826)+1,0)","v":0},"Кортез Групп","Кортез Групп ООО","Борисова Э.Б","NULL"]
[{"$f":"IF(ISNUMBER(SEARCH(F$1,B828,1)),MAX($A$1:A827)+1,0)","v":0},"КрАМЗ","КрАМЗ","NULL","NULL"]
[{"$f":"IF(ISNUMBER(SEARCH(F$1,B829,1)),MAX($A$1:A828)+1,0)","v":0},"КраМос Ал","КраМос Ал ЗАО","Козлова Ю.К","NULL"]
[{"$f":"IF(ISNUMBER(SEARCH(F$1,B830,1)),MAX($A$1:A829)+1,0)","v":0},"КраМос(поддон)","КраМос (поддон)","NULL","NULL"]
[{"$f":"IF(ISNUMBER(SEARCH(F$1,B831,1)),MAX($A$1:A830)+1,0)","v":0},"Крамос(Пок)","Крамос(Пок)","NULL","NULL"]
[{"$f":"IF(ISNUMBER(SEARCH(F$1,B832,1)),MAX($A$1:A831)+1,0)","v":0},"КрасноярМеталЗавод","КраМЗ ООО","Кочанова Т.В","NULL"]
[{"$f":"IF(ISNUMBER(SEARCH(F$1,B833,1)),MAX($A$1:A832)+1,0)","v":0},"Красный Мастер","Красный Мастер ООО","Халдина О.Н","Голубев"]
[{"$f":"IF(ISNUMBER(SEARCH(F$1,B834,1)),MAX($A$1:A833)+1,0)","v":0},"Крафт Лайн","КрафтЛайн ООО","Маслова И.С","Маслова"]
[{"$f":"IF(ISNUMBER(SEARCH(F$1,B835,1)),MAX($A$1:A834)+1,0)","v":10},"Крафт2021","КРАФТВОЛ ООО","Шабалина Е.В","Шабалина"]
[{"$f":"IF(ISNUMBER(SEARCH(F$1,B836,1)),MAX($A$1:A835)+1,0)","v":0},"КРАФТВОЛ","КРАФТВОЛ ООО","Шабалина Е.В","Шабалина"]
[{"$f":"IF(ISNUMBER(SEARCH(F$1,B837,1)),MAX($A$1:A836)+1,0)","v":0},"Крепежные системы","Крепежные системы","Халдина О.Н","Голубев"]
[{"$f":"IF(ISNUMBER(SEARCH(F$1,B838,1)),MAX($A$1:A837)+1,0)","v":0},"КриАл","КриАл ООО","Калинина Т.С","Голубев"]
[{"$f":"IF(ISNUMBER(SEARCH(F$1,B839,1)),MAX($A$1:A838)+1,0)","v":0},"Кримелте","Кримелте ТК ООО","Шабалина Е.В","Шишкин "]
[{"$f":"IF(ISNUMBER(SEARCH(F$1,B840,1)),MAX($A$1:A839)+1,0)","v":0},"Кримелте ТК нет","ООО Кримелте ТК","NULL","NULL"]
[{"$f":"IF(ISNUMBER(SEARCH(F$1,B841,1)),MAX($A$1:A840)+1,0)","v":0},"КРИОТЕХ","КРИОТЕХ ООО","Маслова И.С","Голубев"]
[{"$f":"IF(ISNUMBER(SEARCH(F$1,B842,1)),MAX($A$1:A841)+1,0)","v":0},"КРИСТАЛЛ ООО","КРИСТАЛЛ ООО","Халдина О.Н","Голубев"]
[{"$f":"IF(ISNUMBER(SEARCH(F$1,B843,1)),MAX($A$1:A842)+1,0)","v":0},"Кровля и Фасады","Кровля и Фасады","NULL","NULL"]
[{"$f":"IF(ISNUMBER(SEARCH(F$1,B844,1)),MAX($A$1:A843)+1,0)","v":0},"Крокос А","Производственная компания \"Крокос А\"","Верхомий И.Е","Верхомий"]
[{"$f":"IF(ISNUMBER(SEARCH(F$1,B845,1)),MAX($A$1:A844)+1,0)","v":0},"Крона","Крона","NULL","Голубев"]
[{"$f":"IF(ISNUMBER(SEARCH(F$1,B846,1)),MAX($A$1:A845)+1,0)","v":0},"Кронос Плюс","ООО \"Кронос Плюс\"","Козлова Ю.К","NULL"]
[{"$f":"IF(ISNUMBER(SEARCH(F$1,B847,1)),MAX($A$1:A846)+1,0)","v":0},"К-СтройМАТ","NULL","NULL","NULL"]
[{"$f":"IF(ISNUMBER(SEARCH(F$1,B848,1)),MAX($A$1:A847)+1,0)","v":0},"КТМ","КТМ ООО","Фролова А.Г","NULL"]
[{"$f":"IF(ISNUMBER(SEARCH(F$1,B849,1)),MAX($A$1:A848)+1,0)","v":11},"КТМ-2000","\"КТМ-2000\" LTD","Верхомий И.Е","Верхомий"]
[{"$f":"IF(ISNUMBER(SEARCH(F$1,B850,1)),MAX($A$1:A849)+1,0)","v":0},"Кулисс","Кулисс ЗАО","NULL","NULL"]
[{"$f":"IF(ISNUMBER(SEARCH(F$1,B851,1)),MAX($A$1:A850)+1,0)","v":0},"Культура Производства","Культура Производства ООО","Четверткова О.","NULL"]
[{"$f":"IF(ISNUMBER(SEARCH(F$1,B852,1)),MAX($A$1:A851)+1,0)","v":0},"КУМЗ","NULL","NULL","NULL"]
[{"$f":"IF(ISNUMBER(SEARCH(F$1,B853,1)),MAX($A$1:A852)+1,0)","v":0},"Купец руб","Купец ООО","Шабалина Е.В","Шабалина"]
[{"$f":"IF(ISNUMBER(SEARCH(F$1,B854,1)),MAX($A$1:A853)+1,0)","v":0},"Курчанова ИП","Курчанова Н.П. ИП","NULL","NULL"]
[{"$f":"IF(ISNUMBER(SEARCH(F$1,B855,1)),MAX($A$1:A854)+1,0)","v":0},"КЭИК","КЭИК ПФ ООО","Голубев А.С","NULL"]
[{"$f":"IF(ISNUMBER(SEARCH(F$1,B856,1)),MAX($A$1:A855)+1,0)","v":0},"ЛАБРОМЕД","ЛАБРОМЕД ООО","Четверткова О.","Верхомий"]
[{"$f":"IF(ISNUMBER(SEARCH(F$1,B857,1)),MAX($A$1:A856)+1,0)","v":0},"Лавр МФ","ООО \"Лавр МФ\"","Верхомий И.Е","Верхомий"]
[{"$f":"IF(ISNUMBER(SEARCH(F$1,B858,1)),MAX($A$1:A857)+1,0)","v":0},"Ладонеж","Ладонеж ООО","Маслова И.С","NULL"]
[{"$f":"IF(ISNUMBER(SEARCH(F$1,B859,1)),MAX($A$1:A858)+1,0)","v":0},"Лайн Про","ЛАЙН ПРО ООО","Голубев А.С","Голубев"]
[{"$f":"IF(ISNUMBER(SEARCH(F$1,B860,1)),MAX($A$1:A859)+1,0)","v":0},"Лайнторг","Лайнторг ООО","Голубев А.С","NULL"]
[{"$f":"IF(ISNUMBER(SEARCH(F$1,B861,1)),MAX($A$1:A860)+1,0)","v":0},"Лайт Аудио Дизайн","ООО «Лайт Аудио Дизайн»","Голубев А.С","Горчаков"]
[{"$f":"IF(ISNUMBER(SEARCH(F$1,B862,1)),MAX($A$1:A861)+1,0)","v":0},"ЛАЙТ ВОРКС","ЛАЙТ ВОРКС ООО","Маслова И.С","Маслова"]
[{"$f":"IF(ISNUMBER(SEARCH(F$1,B863,1)),MAX($A$1:A862)+1,0)","v":0},"ЛАЙТАП","ЛАЙТАП НПП ООО","Четверткова О.","Голубев"]
[{"$f":"IF(ISNUMBER(SEARCH(F$1,B864,1)),MAX($A$1:A863)+1,0)","v":0},"Лайтрос","Лайтрос ООО","Четверткова О.","NULL"]
[{"$f":"IF(ISNUMBER(SEARCH(F$1,B865,1)),MAX($A$1:A864)+1,0)","v":0},"ЛайтСвет","ООО \"ЛайтСвет\"","Горчаков Е.М","Голубев"]
[{"$f":"IF(ISNUMBER(SEARCH(F$1,B866,1)),MAX($A$1:A865)+1,0)","v":0},"Лампирис","ООО «Завод Лампирис»","Горчаков Е.М","Горчаков"]
[{"$f":"IF(ISNUMBER(SEARCH(F$1,B867,1)),MAX($A$1:A866)+1,0)","v":0},"ЛАМСИСТЕМБРЕСТ Белоруссия","ЛАМСИСТЕМБРЕСТ ИООО","Калинина Т.С","Голубев"]
[{"$f":"IF(ISNUMBER(SEARCH(F$1,B868,1)),MAX($A$1:A867)+1,0)","v":0},"Лантис покупатель","ООО \"Лантис\"","Голубев А.С","NULL"]
[{"$f":"IF(ISNUMBER(SEARCH(F$1,B869,1)),MAX($A$1:A868)+1,0)","v":0},"ЛАОС","ЛАОС ООО","NULL","NULL"]
[{"$f":"IF(ISNUMBER(SEARCH(F$1,B870,1)),MAX($A$1:A869)+1,0)","v":0},"Лапин Трейд","Лапин Трейд ООО","Четверткова О.","Четверткова"]
[{"$f":"IF(ISNUMBER(SEARCH(F$1,B871,1)),MAX($A$1:A870)+1,0)","v":0},"ЛДМ Сталь","ЛДМ Сталь ООО","Шабалина Е.В","Каменев"]
[{"$f":"IF(ISNUMBER(SEARCH(F$1,B872,1)),MAX($A$1:A871)+1,0)","v":0},"ЛЕВ СТРОЙ","ЛЕВ СТРОЙ ООО","NULL","NULL"]
[{"$f":"IF(ISNUMBER(SEARCH(F$1,B873,1)),MAX($A$1:A872)+1,0)","v":0},"ЛЕГАС-ГРУПП","ЛЕГАС-ГРУПП ООО","Маслова И.С","Голубев"]
[{"$f":"IF(ISNUMBER(SEARCH(F$1,B874,1)),MAX($A$1:A873)+1,0)","v":0},"Ле-Гранд","Ле-Гранд ООО","Халдина О.Н","Халдина"]
[{"$f":"IF(ISNUMBER(SEARCH(F$1,B875,1)),MAX($A$1:A874)+1,0)","v":0},"Лед-Эффект","ООО «ЛЕД-Эффект»","Четверткова О.","Мельников"]
[{"$f":"IF(ISNUMBER(SEARCH(F$1,B876,1)),MAX($A$1:A875)+1,0)","v":0},"ЛЗТК","ЛЗТК ООО","Маслова И.С","NULL"]
[{"$f":"IF(ISNUMBER(SEARCH(F$1,B877,1)),MAX($A$1:A876)+1,0)","v":0},"ЛИГРА РУБ","ЛИГРА ООО","Акафьева Т.","NULL"]
[{"$f":"IF(ISNUMBER(SEARCH(F$1,B878,1)),MAX($A$1:A877)+1,0)","v":0},"Лидер Лайт","ООО \"ИНКОТЕКС Лидер Лайт\"","Горчаков Е.М","Голубев"]
[{"$f":"IF(ISNUMBER(SEARCH(F$1,B879,1)),MAX($A$1:A878)+1,0)","v":0},"ЛИДЕР Москва","ЛИДЕР ООО","Акафьева Т.","Акафьева"]
[{"$f":"IF(ISNUMBER(SEARCH(F$1,B880,1)),MAX($A$1:A879)+1,0)","v":0},"Лидер Орех-Зуево","Лидер ООО","Козлова Ю.К","NULL"]
[{"$f":"IF(ISNUMBER(SEARCH(F$1,B881,1)),MAX($A$1:A880)+1,0)","v":0},"Лилу","Лилу ООО","NULL","NULL"]
[{"$f":"IF(ISNUMBER(SEARCH(F$1,B882,1)),MAX($A$1:A881)+1,0)","v":0},"Лина Алюминиум","Лина Алюминиум ООО","Калинина Т.С","Верхомий"]
[{"$f":"IF(ISNUMBER(SEARCH(F$1,B883,1)),MAX($A$1:A882)+1,0)","v":0},"Линжери Клуб","Линжери Клуб ООО","Маслова И.С","Голубев"]
[{"$f":"IF(ISNUMBER(SEARCH(F$1,B884,1)),MAX($A$1:A883)+1,0)","v":0},"Листерн","\"Листерн\" ООО","NULL","NULL"]
[{"$f":"IF(ISNUMBER(SEARCH(F$1,B885,1)),MAX($A$1:A884)+1,0)","v":0},"ЛКП","ЛКП ООО","Маслова И.С","Мельников"]
[{"$f":"IF(ISNUMBER(SEARCH(F$1,B886,1)),MAX($A$1:A885)+1,0)","v":0},"ЛМЗ","Литейно Механический Завод ООО","Шабалина Е.В","Верхомий"]
[{"$f":"IF(ISNUMBER(SEARCH(F$1,B887,1)),MAX($A$1:A886)+1,0)","v":0},"Логотор","ЛОГОТОР ООО","Маслова И.С","Маслова"]
[{"$f":"IF(ISNUMBER(SEARCH(F$1,B888,1)),MAX($A$1:A887)+1,0)","v":0},"Локус","Локус","Халдина О.Н","Голубев"]
[{"$f":"IF(ISNUMBER(SEARCH(F$1,B889,1)),MAX($A$1:A888)+1,0)","v":0},"Локус 2","\"Локус\"2","NULL","NULL"]
[{"$f":"IF(ISNUMBER(SEARCH(F$1,B890,1)),MAX($A$1:A889)+1,0)","v":0},"Локус 2(поддон)","Локус 2 (поддон)","NULL","NULL"]
[{"$f":"IF(ISNUMBER(SEARCH(F$1,B891,1)),MAX($A$1:A890)+1,0)","v":0},"Лоск","Строительная компания \"Лоск\"","NULL","NULL"]
[{"$f":"IF(ISNUMBER(SEARCH(F$1,B892,1)),MAX($A$1:A891)+1,0)","v":0},"Лоуманн-нн","\"ЛОУМАНН-НН\" ООО","NULL","NULL"]
[{"$f":"IF(ISNUMBER(SEARCH(F$1,B893,1)),MAX($A$1:A892)+1,0)","v":0},"ЛУКСОР ПК","ЛУКСОР ПК ООО","Маслова И.С","Маслова"]
[{"$f":"IF(ISNUMBER(SEARCH(F$1,B894,1)),MAX($A$1:A893)+1,0)","v":0},"ЛЮКСОН ГК","ЛЮКСОН ГК ООО","NULL","NULL"]
[{"$f":"IF(ISNUMBER(SEARCH(F$1,B895,1)),MAX($A$1:A894)+1,0)","v":0},"Люмарт","Люмарт ООО","Голубев А.С","Голубев"]
[{"$f":"IF(ISNUMBER(SEARCH(F$1,B896,1)),MAX($A$1:A895)+1,0)","v":0},"Люминова","Люминова","NULL","Голубев"]
[{"$f":"IF(ISNUMBER(SEARCH(F$1,B897,1)),MAX($A$1:A896)+1,0)","v":0},"МАВент","МАВент","Голубев А.С","NULL"]
[{"$f":"IF(ISNUMBER(SEARCH(F$1,B898,1)),MAX($A$1:A897)+1,0)","v":0},"Магазин №121","Магазин №121 ООО","NULL","NULL"]
[{"$f":"IF(ISNUMBER(SEARCH(F$1,B899,1)),MAX($A$1:A898)+1,0)","v":0},"МАГАМАКС","МАГАМАКС ТПК АО","Фролова А.Г","NULL"]
[{"$f":"IF(ISNUMBER(SEARCH(F$1,B900,1)),MAX($A$1:A899)+1,0)","v":0},"Магер","Магер ООО","Голубев А.С","NULL"]
[{"$f":"IF(ISNUMBER(SEARCH(F$1,B901,1)),MAX($A$1:A900)+1,0)","v":0},"МагистрВитта","МагистрВитта","NULL","NULL"]
[{"$f":"IF(ISNUMBER(SEARCH(F$1,B902,1)),MAX($A$1:A901)+1,0)","v":0},"Магнес","Магнес","NULL","Голубев"]
[{"$f":"IF(ISNUMBER(SEARCH(F$1,B903,1)),MAX($A$1:A902)+1,0)","v":0},"Магнит Контроль","Магнит Контроль ООО","Козлова Ю.К","NULL"]
[{"$f":"IF(ISNUMBER(SEARCH(F$1,B904,1)),MAX($A$1:A903)+1,0)","v":0},"Магнит-контроль","\"Магнит-контроль\" ООО","NULL","NULL"]
[{"$f":"IF(ISNUMBER(SEARCH(F$1,B905,1)),MAX($A$1:A904)+1,0)","v":0},"МАДИ","МАДИ","Маслова И.С","NULL"]
[{"$f":"IF(ISNUMBER(SEARCH(F$1,B906,1)),MAX($A$1:A905)+1,0)","v":0},"Майдан Р","Майдан ООО","NULL","NULL"]
[{"$f":"IF(ISNUMBER(SEARCH(F$1,B907,1)),MAX($A$1:A906)+1,0)","v":0},"Майдан Р(верно)","Майдан ООО","Шабалина Е.В","Шишкин "]
[{"$f":"IF(ISNUMBER(SEARCH(F$1,B908,1)),MAX($A$1:A907)+1,0)","v":0},"Майдан_пост","Майдан_поставщик","NULL","NULL"]
[{"$f":"IF(ISNUMBER(SEARCH(F$1,B909,1)),MAX($A$1:A908)+1,0)","v":0},"Макон","Макон","NULL","Голубев"]
[{"$f":"IF(ISNUMBER(SEARCH(F$1,B910,1)),MAX($A$1:A909)+1,0)","v":0},"Макроком","Макроком ООО","Шабалина Е.В","Голубев"]
[{"$f":"IF(ISNUMBER(SEARCH(F$1,B911,1)),MAX($A$1:A910)+1,0)","v":0},"Макроком Инжиниринг","Макроком Инжиниринг ООО","Шабалина Е.В","Голубев"]
[{"$f":"IF(ISNUMBER(SEARCH(F$1,B912,1)),MAX($A$1:A911)+1,0)","v":0},"Макрон ТК","\"Макрон ТК\" ООО","NULL","NULL"]
[{"$f":"IF(ISNUMBER(SEARCH(F$1,B913,1)),MAX($A$1:A912)+1,0)","v":0},"Макс Энерго","Макс Энерго","NULL","Голубев"]
[{"$f":"IF(ISNUMBER(SEARCH(F$1,B914,1)),MAX($A$1:A913)+1,0)","v":0},"Манак","ООО \"МАНАК-АВТО\"","Верхомий И.Е","Верхомий"]
[{"$f":"IF(ISNUMBER(SEARCH(F$1,B915,1)),MAX($A$1:A914)+1,0)","v":0},"Мануфактура","Мануфактура ООО","Маслова И.С","NULL"]
[{"$f":"IF(ISNUMBER(SEARCH(F$1,B916,1)),MAX($A$1:A915)+1,0)","v":0},"Марихолодмаш","ОАО Контакт","Горчаков Е.М","Горчаков"]
[{"$f":"IF(ISNUMBER(SEARCH(F$1,B917,1)),MAX($A$1:A916)+1,0)","v":0},"Марти Гласс","Марти Гласс ООО","Калинина Т.С","Мельников"]
[{"$f":"IF(ISNUMBER(SEARCH(F$1,B918,1)),MAX($A$1:A917)+1,0)","v":0},"МАРТИНИ РУС","МАРТИНИ РУС","Четверткова О.","Голубев"]
[{"$f":"IF(ISNUMBER(SEARCH(F$1,B919,1)),MAX($A$1:A918)+1,0)","v":0},"Мастер Класс","Мастер Класс ООО","NULL","NULL"]
[{"$f":"IF(ISNUMBER(SEARCH(F$1,B920,1)),MAX($A$1:A919)+1,0)","v":0},"Мастер Плюс","Мастер Плюс","Халдина О.Н","Голубев"]
[{"$f":"IF(ISNUMBER(SEARCH(F$1,B921,1)),MAX($A$1:A920)+1,0)","v":0},"Мастер Техн услуги покраски","Мастер Техн услуги покраски","Маслова И.С","УК"]
[{"$f":"IF(ISNUMBER(SEARCH(F$1,B922,1)),MAX($A$1:A921)+1,0)","v":0},"Мастер Трэйдинг Компания","Мастер Трэйдинг Компания ООО","Верхомий И.Е","Верхомий"]
[{"$f":"IF(ISNUMBER(SEARCH(F$1,B923,1)),MAX($A$1:A922)+1,0)","v":0},"Мастер(Бочаров)","Мастер Технолоджи ПКФ ООО","Кочанова Т.В","NULL"]
[{"$f":"IF(ISNUMBER(SEARCH(F$1,B924,1)),MAX($A$1:A923)+1,0)","v":0},"Мастер_краска","Мастер_краска","NULL","NULL"]
[{"$f":"IF(ISNUMBER(SEARCH(F$1,B925,1)),MAX($A$1:A924)+1,0)","v":0},"Мастер-Технол(покраска)","Мастер-Технол(покраска)","Маслова И.С","УК"]
[{"$f":"IF(ISNUMBER(SEARCH(F$1,B926,1)),MAX($A$1:A925)+1,0)","v":0},"МастерТехнолодж","Мастер Технолоджи ООО","Акафьева Т.","УК"]
[{"$f":"IF(ISNUMBER(SEARCH(F$1,B927,1)),MAX($A$1:A926)+1,0)","v":0},"МашТест","ЗАО НПП \"Маштест\"","Четверткова О.","Верхомий"]
[{"$f":"IF(ISNUMBER(SEARCH(F$1,B928,1)),MAX($A$1:A927)+1,0)","v":0},"МБК ООО","ООО \"МБК\"","NULL","NULL"]
[{"$f":"IF(ISNUMBER(SEARCH(F$1,B929,1)),MAX($A$1:A928)+1,0)","v":0},"МВА","Компания  МВА-1 ООО","Халдина О.Н","Халдина"]
[{"$f":"IF(ISNUMBER(SEARCH(F$1,B930,1)),MAX($A$1:A929)+1,0)","v":0},"МВА (поддон)","МВА (поддон)","NULL","NULL"]
[{"$f":"IF(ISNUMBER(SEARCH(F$1,B931,1)),MAX($A$1:A930)+1,0)","v":0},"МВМ","Волжская оптовая комп. ООО","Халдина О.Н","NULL"]
[{"$f":"IF(ISNUMBER(SEARCH(F$1,B932,1)),MAX($A$1:A931)+1,0)","v":0},"МДМ","МДМ ООО","Четверткова О.","Четверткова"]
[{"$f":"IF(ISNUMBER(SEARCH(F$1,B933,1)),MAX($A$1:A932)+1,0)","v":0},"МДМ (поддон)","МДМ (поддон)","NULL","NULL"]
[{"$f":"IF(ISNUMBER(SEARCH(F$1,B934,1)),MAX($A$1:A933)+1,0)","v":0},"МДМ 1","\"МДМ\" ООО","NULL","NULL"]
[{"$f":"IF(ISNUMBER(SEARCH(F$1,B935,1)),MAX($A$1:A934)+1,0)","v":0},"МДМ-Лайт","ООО \"МДМ-Лайт\"","Горчаков Е.М","Горчаков"]
[{"$f":"IF(ISNUMBER(SEARCH(F$1,B936,1)),MAX($A$1:A935)+1,0)","v":0},"Мебелито","Мебелито ООО","Шабалина Е.В","Голубев"]
[{"$f":"IF(ISNUMBER(SEARCH(F$1,B937,1)),MAX($A$1:A936)+1,0)","v":0},"Мебель Soul","Мебель Soul","Верхомий И.Е","Верхомий"]
[{"$f":"IF(ISNUMBER(SEARCH(F$1,B938,1)),MAX($A$1:A937)+1,0)","v":0},"Мебельная Компания Шатура","АО \"Мебельная компания Шатура\"","Маслова И.С","Голубев"]
[{"$f":"IF(ISNUMBER(SEARCH(F$1,B939,1)),MAX($A$1:A938)+1,0)","v":0},"Мега","Мега ООО","Халдина О.Н","Голубев"]
[{"$f":"IF(ISNUMBER(SEARCH(F$1,B940,1)),MAX($A$1:A939)+1,0)","v":0},"Мега Опт","Мега Опт ООО","Халдина О.Н","Голубев"]
[{"$f":"IF(ISNUMBER(SEARCH(F$1,B941,1)),MAX($A$1:A940)+1,0)","v":0},"МегаАвальUD","МегаАваль-UD ТФ ООО","Голубев А.С","NULL"]
[{"$f":"IF(ISNUMBER(SEARCH(F$1,B942,1)),MAX($A$1:A941)+1,0)","v":0},"Мегаполис","Мегаполис ООО","Шабалина Е.В","NULL"]
[{"$f":"IF(ISNUMBER(SEARCH(F$1,B943,1)),MAX($A$1:A942)+1,0)","v":0},"Мегастил","NULL","NULL","NULL"]
[{"$f":"IF(ISNUMBER(SEARCH(F$1,B944,1)),MAX($A$1:A943)+1,0)","v":0},"Медиа Эстейт","Медиа Эстейт","Халдина О.Н","Халдина"]
[{"$f":"IF(ISNUMBER(SEARCH(F$1,B945,1)),MAX($A$1:A944)+1,0)","v":0},"Медикал инж","Медикал инжиниринг ООО","NULL","NULL"]
[{"$f":"IF(ISNUMBER(SEARCH(F$1,B946,1)),MAX($A$1:A945)+1,0)","v":0},"МедицинскаяДиагностическаяТехника","МедицинскаяДиагностическаяТехника ООО","Верхомий И.Е","NULL"]
[{"$f":"IF(ISNUMBER(SEARCH(F$1,B947,1)),MAX($A$1:A946)+1,0)","v":0},"Меезенбург 1","Меезенбург/СФС  ООО","Кочанова Т.В","NULL"]
[{"$f":"IF(ISNUMBER(SEARCH(F$1,B948,1)),MAX($A$1:A947)+1,0)","v":0},"Меезенбург 1(П)","М.Меезенбург 1(поддон)","NULL","NULL"]
[{"$f":"IF(ISNUMBER(SEARCH(F$1,B949,1)),MAX($A$1:A948)+1,0)","v":0},"Мекоштор-М","Мекоштор-М ООО","Халдина О.Н","Халдина"]
[{"$f":"IF(ISNUMBER(SEARCH(F$1,B950,1)),MAX($A$1:A949)+1,0)","v":0},"Мекро групп","Мекро групп ООО","Фролова А.Г","Фролова"]
[{"$f":"IF(ISNUMBER(SEARCH(F$1,B951,1)),MAX($A$1:A950)+1,0)","v":0},"Мелик","ООО \"Мелик\"","NULL","NULL"]
[{"$f":"IF(ISNUMBER(SEARCH(F$1,B952,1)),MAX($A$1:A951)+1,0)","v":0},"МЕНТАЛИТЕТ","МЕНТАЛИТЕТ ООО","Халдина О.Н","NULL"]
[{"$f":"IF(ISNUMBER(SEARCH(F$1,B953,1)),MAX($A$1:A952)+1,0)","v":0},"Меркаби ПГ","Меркаби ПГ ООО","Кочанова Т.В","NULL"]
[{"$f":"IF(ISNUMBER(SEARCH(F$1,B954,1)),MAX($A$1:A953)+1,0)","v":0},"Меркурий","Меркурий ООО","NULL","NULL"]
[{"$f":"IF(ISNUMBER(SEARCH(F$1,B955,1)),MAX($A$1:A954)+1,0)","v":0},"Метал-Ко","Метал-Ко","NULL","Голубев"]
[{"$f":"IF(ISNUMBER(SEARCH(F$1,B956,1)),MAX($A$1:A955)+1,0)","v":0},"Метал-Ко (П)","NULL","NULL","NULL"]
[{"$f":"IF(ISNUMBER(SEARCH(F$1,B957,1)),MAX($A$1:A956)+1,0)","v":0},"Металл пласт","NULL","NULL","NULL"]
[{"$f":"IF(ISNUMBER(SEARCH(F$1,B958,1)),MAX($A$1:A957)+1,0)","v":0},"МЕТАЛЛ СВ","МЕТАЛЛ СВ ПКФ ООО","Калинина Т.С","Мельников"]
[{"$f":"IF(ISNUMBER(SEARCH(F$1,B959,1)),MAX($A$1:A958)+1,0)","v":0},"Металлгрупп","Металлгрупп СК","NULL","NULL"]
[{"$f":"IF(ISNUMBER(SEARCH(F$1,B960,1)),MAX($A$1:A959)+1,0)","v":0},"Металл-КО","Металл-КО ООО","NULL","NULL"]
[{"$f":"IF(ISNUMBER(SEARCH(F$1,B961,1)),MAX($A$1:A960)+1,0)","v":0},"МеталлоиндустрияПГ","Металлоиндустрия ПГ ООО","Шабалина Е.В","Мельников"]
[{"$f":"IF(ISNUMBER(SEARCH(F$1,B962,1)),MAX($A$1:A961)+1,0)","v":0},"Металлолом","Металлолом","NULL","NULL"]
[{"$f":"IF(ISNUMBER(SEARCH(F$1,B963,1)),MAX($A$1:A962)+1,0)","v":0},"Металлоцентр","Металлоцентр ООО","Волчек Е.П","NULL"]
[{"$f":"IF(ISNUMBER(SEARCH(F$1,B964,1)),MAX($A$1:A963)+1,0)","v":0},"МеталлПромТрейд","ООО \"МеталлПромТрейд\"","NULL","NULL"]
[{"$f":"IF(ISNUMBER(SEARCH(F$1,B965,1)),MAX($A$1:A964)+1,0)","v":0},"МеталлургТД","МеталлургТД ООО","Голубев А.С","NULL"]
[{"$f":"IF(ISNUMBER(SEARCH(F$1,B966,1)),MAX($A$1:A965)+1,0)","v":0},"МЕТАЛЛЫ И ПЛАСТИКИ","МЕТАЛЛЫ И ПЛАСТИКИ ООО","Халдина О.Н","NULL"]
[{"$f":"IF(ISNUMBER(SEARCH(F$1,B967,1)),MAX($A$1:A966)+1,0)","v":0},"МЕТА-МИ","МЕТА-МИ ООО","Четверткова О.","NULL"]
[{"$f":"IF(ISNUMBER(SEARCH(F$1,B968,1)),MAX($A$1:A967)+1,0)","v":0},"Метапром","Метапром","NULL","NULL"]
[{"$f":"IF(ISNUMBER(SEARCH(F$1,B969,1)),MAX($A$1:A968)+1,0)","v":0},"МЕТЛЕС-ММГ","МЕТЛЕС-ММГ_ООО","Кочанова Т.В","NULL"]
[{"$f":"IF(ISNUMBER(SEARCH(F$1,B970,1)),MAX($A$1:A969)+1,0)","v":0},"МетОптТрейд СЦ","МетОптТрейдинг СЦ ООО","Акафьева Т.","Акафьева"]
[{"$f":"IF(ISNUMBER(SEARCH(F$1,B971,1)),MAX($A$1:A970)+1,0)","v":0},"МетПласт","МетПласт ООО","Шабалина Е.В","Шишкин "]
[{"$f":"IF(ISNUMBER(SEARCH(F$1,B972,1)),MAX($A$1:A971)+1,0)","v":0},"Мехинструмент","Мехинструмент НПО ООО","Халдина О.Н","NULL"]
[{"$f":"IF(ISNUMBER(SEARCH(F$1,B973,1)),MAX($A$1:A972)+1,0)","v":0},"МехТехОпт","NULL","NULL","NULL"]
[{"$f":"IF(ISNUMBER(SEARCH(F$1,B974,1)),MAX($A$1:A973)+1,0)","v":0},"МИ Групп","МИ Групп ООО","Голубев А.С","Голубев"]
[{"$f":"IF(ISNUMBER(SEARCH(F$1,B975,1)),MAX($A$1:A974)+1,0)","v":0},"Миксал","Миксал ООО","Четверткова О.","Верхомий"]
[{"$f":"IF(ISNUMBER(SEARCH(F$1,B976,1)),MAX($A$1:A975)+1,0)","v":0},"Миллер","Алюминиевые Конструкции ООО","Горовая Т.А","NULL"]
[{"$f":"IF(ISNUMBER(SEARCH(F$1,B977,1)),MAX($A$1:A976)+1,0)","v":0},"Миллер (поддон)","Миллер (поддон)","NULL","NULL"]
[{"$f":"IF(ISNUMBER(SEARCH(F$1,B978,1)),MAX($A$1:A977)+1,0)","v":12},"Минск 2019","АМИГО  Минск","Калинина Т.С","Верхомий"]
[{"$f":"IF(ISNUMBER(SEARCH(F$1,B979,1)),MAX($A$1:A978)+1,0)","v":0},"Мир Жалюзи","Мир Жалюзи ООО","Маслова И.С","NULL"]
[{"$f":"IF(ISNUMBER(SEARCH(F$1,B980,1)),MAX($A$1:A979)+1,0)","v":0},"Мир карнизов","Мир карнизов ООО","Четверткова О.","Голубев"]
[{"$f":"IF(ISNUMBER(SEARCH(F$1,B981,1)),MAX($A$1:A980)+1,0)","v":0},"Мир профиля","Мир профиля","NULL","NULL"]
[{"$f":"IF(ISNUMBER(SEARCH(F$1,B982,1)),MAX($A$1:A981)+1,0)","v":0},"МитПроф","МитПроф ООО","Халдина О.Н","Верхомий"]
[{"$f":"IF(ISNUMBER(SEARCH(F$1,B983,1)),MAX($A$1:A982)+1,0)","v":0},"МИФ","МИФ ООО","Калинина Т.С","Голубев"]
[{"$f":"IF(ISNUMBER(SEARCH(F$1,B984,1)),MAX($A$1:A983)+1,0)","v":0},"МЛГРУПП","МЛГРУПП ООО","Акафьева Т.","NULL"]
[{"$f":"IF(ISNUMBER(SEARCH(F$1,B985,1)),MAX($A$1:A984)+1,0)","v":0},"ММС-Мебель","ООО \"ММС-Мебель\"","Верхомий И.Е","Верхомий"]
[{"$f":"IF(ISNUMBER(SEARCH(F$1,B986,1)),MAX($A$1:A985)+1,0)","v":0},"МО содержание_ВГО","Содержание Московского офиса_ВГО","NULL","NULL"]
[{"$f":"IF(ISNUMBER(SEARCH(F$1,B987,1)),MAX($A$1:A986)+1,0)","v":0},"Модульн с-мы Ч","Модульные системы Произв объедин","NULL","NULL"]
[{"$f":"IF(ISNUMBER(SEARCH(F$1,B988,1)),MAX($A$1:A987)+1,0)","v":0},"Модус","ООО \"Компания Модус\"","Верхомий И.Е","Верхомий"]
[{"$f":"IF(ISNUMBER(SEARCH(F$1,B989,1)),MAX($A$1:A988)+1,0)","v":0},"Мока","Мока ООО","NULL","NULL"]
[{"$f":"IF(ISNUMBER(SEARCH(F$1,B990,1)),MAX($A$1:A989)+1,0)","v":0},"Молния","Молния ООО","Четверткова О.","Четверткова"]
[{"$f":"IF(ISNUMBER(SEARCH(F$1,B991,1)),MAX($A$1:A990)+1,0)","v":0},"МонБланк","МонБлан ООО","Козлова Ю.К","NULL"]
[{"$f":"IF(ISNUMBER(SEARCH(F$1,B992,1)),MAX($A$1:A991)+1,0)","v":0},"Монолит23","Монолит ООО","Шабалина Е.В","Шишкин "]
[{"$f":"IF(ISNUMBER(SEARCH(F$1,B993,1)),MAX($A$1:A992)+1,0)","v":0},"МОНОПОЛИЯ","МОНОПОЛИЯ ООО","Голубев А.С","NULL"]
[{"$f":"IF(ISNUMBER(SEARCH(F$1,B994,1)),MAX($A$1:A993)+1,0)","v":0},"Монтаж - Т","Монтаж - Т ООО","Маслова И.С","Маслова"]
[{"$f":"IF(ISNUMBER(SEARCH(F$1,B995,1)),MAX($A$1:A994)+1,0)","v":0},"МонтажРемСтрой","ООО \"МонтажРемСтрой\"","NULL","NULL"]
[{"$f":"IF(ISNUMBER(SEARCH(F$1,B996,1)),MAX($A$1:A995)+1,0)","v":0},"Монтаж-Т(подд)","Монтаж-Т(поддон)","NULL","NULL"]
[{"$f":"IF(ISNUMBER(SEARCH(F$1,B997,1)),MAX($A$1:A996)+1,0)","v":0},"МонтичеллиРУС","Монтичелли-РУС ООО","Маслова И.С","Халдина"]
[{"$f":"IF(ISNUMBER(SEARCH(F$1,B998,1)),MAX($A$1:A997)+1,0)","v":0},"МопТорг","МопТорг ООО","Акафьева Т.","Голубев"]
[{"$f":"IF(ISNUMBER(SEARCH(F$1,B999,1)),MAX($A$1:A998)+1,0)","v":0},"Москитка","Москитка","Шишкин  А.В","Шишкин "]
[{"$f":"IF(ISNUMBER(SEARCH(F$1,B1000,1)),MAX($A$1:A999)+1,0)","v":0},"МосМЕК","NULL","NULL","NULL"]
[{"$f":"IF(ISNUMBER(SEARCH(F$1,B1001,1)),MAX($A$1:A1000)+1,0)","v":0},"Мособлпроммонта","\"Мособлпром\" ООО","NULL","NULL"]
[{"$f":"IF(ISNUMBER(SEARCH(F$1,B1002,1)),MAX($A$1:A1001)+1,0)","v":0},"МосПромСтройМат","МосПромСтройМатериал","NULL","NULL"]
[{"$f":"IF(ISNUMBER(SEARCH(F$1,B1003,1)),MAX($A$1:A1002)+1,0)","v":0},"МосПрофТорг","МосПрофТорг ООО","Кочанова Т.В","NULL"]
[{"$f":"IF(ISNUMBER(SEARCH(F$1,B1004,1)),MAX($A$1:A1003)+1,0)","v":0},"МОССПОРТПРОМ","МОССПОРТПРОМ ПК","Козлова Ю.К","NULL"]
[{"$f":"IF(ISNUMBER(SEARCH(F$1,B1005,1)),MAX($A$1:A1004)+1,0)","v":0},"Мост Технолоджи","Мост Технолоджи ЗАО","Халдина О.Н","NULL"]
[{"$f":"IF(ISNUMBER(SEARCH(F$1,B1006,1)),MAX($A$1:A1005)+1,0)","v":0},"МСК профиль","МСК профиль","NULL","Верхомий"]
[{"$f":"IF(ISNUMBER(SEARCH(F$1,B1007,1)),MAX($A$1:A1006)+1,0)","v":0},"МС-Консалтинг","МС-Консалтинг ООО","NULL","NULL"]
[{"$f":"IF(ISNUMBER(SEARCH(F$1,B1008,1)),MAX($A$1:A1007)+1,0)","v":0},"МСС","МСС ООО","Голубев А.С","NULL"]
[{"$f":"IF(ISNUMBER(SEARCH(F$1,B1009,1)),MAX($A$1:A1008)+1,0)","v":0},"МСФ Студия ","МСФ Студия ООО","Халдина О.Н","Халдина"]
[{"$f":"IF(ISNUMBER(SEARCH(F$1,B1010,1)),MAX($A$1:A1009)+1,0)","v":0},"М-ТОРГ","М-ТОРГ ООО","Маслова И.С","Голубев"]
[{"$f":"IF(ISNUMBER(SEARCH(F$1,B1011,1)),MAX($A$1:A1010)+1,0)","v":0},"Мурадисинов","Мурадисинов ИП","NULL","NULL"]
[{"$f":"IF(ISNUMBER(SEARCH(F$1,B1012,1)),MAX($A$1:A1011)+1,0)","v":0},"МФ-Центр","МФ-Центр ООО","Четверткова О.","Четверткова"]
[{"$f":"IF(ISNUMBER(SEARCH(F$1,B1013,1)),MAX($A$1:A1012)+1,0)","v":0},"МЭЛЗ","ООО \"МЭЛЗ\"","NULL","NULL"]
[{"$f":"IF(ISNUMBER(SEARCH(F$1,B1014,1)),MAX($A$1:A1013)+1,0)","v":0},"Мюрей","Делком ООО","NULL","NULL"]
[{"$f":"IF(ISNUMBER(SEARCH(F$1,B1015,1)),MAX($A$1:A1014)+1,0)","v":0},"Надежда"," \"Надежда\" ООО","NULL","NULL"]
[{"$f":"IF(ISNUMBER(SEARCH(F$1,B1016,1)),MAX($A$1:A1015)+1,0)","v":0},"НАСА Профиль","NULL","NULL","NULL"]
[{"$f":"IF(ISNUMBER(SEARCH(F$1,B1017,1)),MAX($A$1:A1016)+1,0)","v":0},"Наталекс 1","Наталекс 1=Фристайл Технолоджи","NULL","NULL"]
[{"$f":"IF(ISNUMBER(SEARCH(F$1,B1018,1)),MAX($A$1:A1017)+1,0)","v":0},"Наталекс(подд)","Наталекс(поддон)","NULL","NULL"]
[{"$f":"IF(ISNUMBER(SEARCH(F$1,B1019,1)),MAX($A$1:A1018)+1,0)","v":0},"Национал Инвест","Национальные Инвестиции","Калинина Т.С","Калинина"]
[{"$f":"IF(ISNUMBER(SEARCH(F$1,B1020,1)),MAX($A$1:A1019)+1,0)","v":0},"Наяда 1","Наяда ООО","Четверткова О.","Шишкин "]
[{"$f":"IF(ISNUMBER(SEARCH(F$1,B1021,1)),MAX($A$1:A1020)+1,0)","v":0},"Наяда 2","ПРОЕКТЫ ОГНЕЗАЩИТЫ ООО","Четверткова О.","NULL"]
[{"$f":"IF(ISNUMBER(SEARCH(F$1,B1022,1)),MAX($A$1:A1021)+1,0)","v":0},"Наяда(поддон)","ЗАО\"Наяда\"(поддон)","NULL","NULL"]
[{"$f":"IF(ISNUMBER(SEARCH(F$1,B1023,1)),MAX($A$1:A1022)+1,0)","v":0},"НД АВТО+","НД АВТО+ ООО","Верхомий И.Е","Верхомий"]
[{"$f":"IF(ISNUMBER(SEARCH(F$1,B1024,1)),MAX($A$1:A1023)+1,0)","v":0},"Неал","Неал","NULL","Голубев"]
[{"$f":"IF(ISNUMBER(SEARCH(F$1,B1025,1)),MAX($A$1:A1024)+1,0)","v":0},"НЕВЕРНО","ИП Бирюков","NULL","NULL"]
[{"$f":"IF(ISNUMBER(SEARCH(F$1,B1026,1)),MAX($A$1:A1025)+1,0)","v":0},"Невидимые Решетки","Невидимые Решетки ООО","Шабалина Е.В","Шабалина"]
[{"$f":"IF(ISNUMBER(SEARCH(F$1,B1027,1)),MAX($A$1:A1026)+1,0)","v":0},"НевМашКорпПрод","Невские машины корпорптивные продажи ООО","Голубев А.С","Голубев"]
[{"$f":"IF(ISNUMBER(SEARCH(F$1,B1028,1)),MAX($A$1:A1027)+1,0)","v":0},"Невские Машины","ООО\"Севзапспецмаш-Прицепы\"","Верхомий И.Е","Верхомий"]
[{"$f":"IF(ISNUMBER(SEARCH(F$1,B1029,1)),MAX($A$1:A1028)+1,0)","v":0},"Немига","Немига","Кочанова Т.В","NULL"]
[{"$f":"IF(ISNUMBER(SEARCH(F$1,B1030,1)),MAX($A$1:A1029)+1,0)","v":0},"НемигаМ","НемигаМ ООО","NULL","NULL"]
[{"$f":"IF(ISNUMBER(SEARCH(F$1,B1031,1)),MAX($A$1:A1030)+1,0)","v":0},"Неотон"," \"Неотон\" ООО","NULL","NULL"]
[{"$f":"IF(ISNUMBER(SEARCH(F$1,B1032,1)),MAX($A$1:A1031)+1,0)","v":0},"НЕПЕС РУС","НЕПЕС РУС ООО","Маслова И.С","Голубев"]
[{"$f":"IF(ISNUMBER(SEARCH(F$1,B1033,1)),MAX($A$1:A1032)+1,0)","v":0},"Нефаз","ООО \"Нефтекамский автозавод\"","Верхомий И.Е","Верхомий"]
[{"$f":"IF(ISNUMBER(SEARCH(F$1,B1034,1)),MAX($A$1:A1033)+1,0)","v":0},"Нива+","Нива+ ООО","Халдина О.Н","Халдина"]
[{"$f":"IF(ISNUMBER(SEARCH(F$1,B1035,1)),MAX($A$1:A1034)+1,0)","v":0},"НИИ Спецлаб","Спецлаб НИИ ООО","NULL","NULL"]
[{"$f":"IF(ISNUMBER(SEARCH(F$1,B1036,1)),MAX($A$1:A1035)+1,0)","v":0},"Нов измер РОС","НОВОЕ ИЗМЕРЕНИЕ РОС","Маслова И.С","NULL"]
[{"$f":"IF(ISNUMBER(SEARCH(F$1,B1037,1)),MAX($A$1:A1036)+1,0)","v":0},"Новалюкс","Новалюкс ООО","Калинина Т.С","Верхомий"]
[{"$f":"IF(ISNUMBER(SEARCH(F$1,B1038,1)),MAX($A$1:A1037)+1,0)","v":0},"НоваПласт","ООО \"НоваПласт\"","Козлова Ю.К","NULL"]
[{"$f":"IF(ISNUMBER(SEARCH(F$1,B1039,1)),MAX($A$1:A1038)+1,0)","v":0},"НОВАТЕХ","НОВАТЕХ ООО","Маслова И.С","Голубев"]
[{"$f":"IF(ISNUMBER(SEARCH(F$1,B1040,1)),MAX($A$1:A1039)+1,0)","v":0},"Новая Конструкция","Новая Конструкция НПО ООО","Четверткова О.","Верхомий"]
[{"$f":"IF(ISNUMBER(SEARCH(F$1,B1041,1)),MAX($A$1:A1040)+1,0)","v":0},"Новелла","ООО \"Новелла\"","NULL","NULL"]
[{"$f":"IF(ISNUMBER(SEARCH(F$1,B1042,1)),MAX($A$1:A1041)+1,0)","v":0},"НовИзРОСНЕ ВЕРН","ООО \"Новое измерение РОС\"","NULL","NULL"]
[{"$f":"IF(ISNUMBER(SEARCH(F$1,B1043,1)),MAX($A$1:A1042)+1,0)","v":0},"Ново Импорт","Ново Импорт ООО","NULL","NULL"]
[{"$f":"IF(ISNUMBER(SEARCH(F$1,B1044,1)),MAX($A$1:A1043)+1,0)","v":0},"Новое Время","Новое время","Шабалина Е.В","Шишкин "]
[{"$f":"IF(ISNUMBER(SEARCH(F$1,B1045,1)),MAX($A$1:A1044)+1,0)","v":0},"НовоИмпорт(под)","НовоИмпорт(поддон)","NULL","NULL"]
[{"$f":"IF(ISNUMBER(SEARCH(F$1,B1046,1)),MAX($A$1:A1045)+1,0)","v":0},"Ново-Свет","ООО \"Ново-Свет\"","Горчаков Е.М","Горчаков"]
[{"$f":"IF(ISNUMBER(SEARCH(F$1,B1047,1)),MAX($A$1:A1046)+1,0)","v":0},"Новые Конструкц"," \"Новые Конструкции\" ООО","NULL","NULL"]
[{"$f":"IF(ISNUMBER(SEARCH(F$1,B1048,1)),MAX($A$1:A1047)+1,0)","v":0},"Новые Окна","Новые Окна","NULL","Голубев"]
[{"$f":"IF(ISNUMBER(SEARCH(F$1,B1049,1)),MAX($A$1:A1048)+1,0)","v":0},"Новые Трубные Технологии","Новые Трубные Технологии ООО","Голубев А.С","NULL"]
[{"$f":"IF(ISNUMBER(SEARCH(F$1,B1050,1)),MAX($A$1:A1049)+1,0)","v":0},"Новый Лидер","Новый Лидер ООО","Халдина О.Н","NULL"]
[{"$f":"IF(ISNUMBER(SEARCH(F$1,B1051,1)),MAX($A$1:A1050)+1,0)","v":0},"НОВЫЙ ПОЛЮС","НОВЫЙ ПОЛЮС ООО","Четверткова О.","Четверткова"]
[{"$f":"IF(ISNUMBER(SEARCH(F$1,B1052,1)),MAX($A$1:A1051)+1,0)","v":0},"Новый проект","Новый Проект ООО","Голубев А.С","NULL"]
[{"$f":"IF(ISNUMBER(SEARCH(F$1,B1053,1)),MAX($A$1:A1052)+1,0)","v":0},"Новый свет","ООО «Новый свет»","Голубев А.С","Голубев"]
[{"$f":"IF(ISNUMBER(SEARCH(F$1,B1054,1)),MAX($A$1:A1053)+1,0)","v":0},"НОРД","НОРД ООО","Голубев А.С","NULL"]
[{"$f":"IF(ISNUMBER(SEARCH(F$1,B1055,1)),MAX($A$1:A1054)+1,0)","v":0},"НордАл","НордАл ООО","Калинина Т.С","Голубев"]
[{"$f":"IF(ISNUMBER(SEARCH(F$1,B1056,1)),MAX($A$1:A1055)+1,0)","v":0},"НордВерк","НордВерк ООО","Акафьева Т.","Акафьева"]
[{"$f":"IF(ISNUMBER(SEARCH(F$1,B1057,1)),MAX($A$1:A1056)+1,0)","v":0},"Нордклифф","ООО \"Световые решения\"","Горчаков Е.М","Голубев"]
[{"$f":"IF(ISNUMBER(SEARCH(F$1,B1058,1)),MAX($A$1:A1057)+1,0)","v":0},"Нордсервис","Нордсервис ООО","Акафьева Т.","Акафьева"]
[{"$f":"IF(ISNUMBER(SEARCH(F$1,B1059,1)),MAX($A$1:A1058)+1,0)","v":0},"Нордфокс","Техностайл ООО","NULL","NULL"]
[{"$f":"IF(ISNUMBER(SEARCH(F$1,B1060,1)),MAX($A$1:A1059)+1,0)","v":0},"НордФолк","НордФолк ООО","NULL","NULL"]
[{"$f":"IF(ISNUMBER(SEARCH(F$1,B1061,1)),MAX($A$1:A1060)+1,0)","v":0},"НордФолк(поддон","НордФолк(поддон)","NULL","NULL"]
[{"$f":"IF(ISNUMBER(SEARCH(F$1,B1062,1)),MAX($A$1:A1061)+1,0)","v":0},"Норик (покуп)","Норик ЧП","NULL","NULL"]
[{"$f":"IF(ISNUMBER(SEARCH(F$1,B1063,1)),MAX($A$1:A1062)+1,0)","v":0},"Нортекс 1","Нортекс ООО","Шабалина Е.В","Шишкин "]
[{"$f":"IF(ISNUMBER(SEARCH(F$1,B1064,1)),MAX($A$1:A1063)+1,0)","v":0},"НПО Лавочкина","НПО Лавочкина ФГУП","Верхомий И.Е","NULL"]
[{"$f":"IF(ISNUMBER(SEARCH(F$1,B1065,1)),MAX($A$1:A1064)+1,0)","v":0},"НПО Маш (подд)","НПО Машиностроение (поддон)","NULL","NULL"]
[{"$f":"IF(ISNUMBER(SEARCH(F$1,B1066,1)),MAX($A$1:A1065)+1,0)","v":0},"НПО Машиностр 1","НПО Машиностроения","Маслова И.С","Маслова"]
[{"$f":"IF(ISNUMBER(SEARCH(F$1,B1067,1)),MAX($A$1:A1066)+1,0)","v":0},"НТЦ Опалубка","NULL","NULL","NULL"]
[{"$f":"IF(ISNUMBER(SEARCH(F$1,B1068,1)),MAX($A$1:A1067)+1,0)","v":0},"Нью Технолоджиз М","ООО \"Нью Технолоджиз М\"","NULL","NULL"]
[{"$f":"IF(ISNUMBER(SEARCH(F$1,B1069,1)),MAX($A$1:A1068)+1,0)","v":0},"Оглаенд Систем","Оглаенд Систем ООО","Маслова И.С","УК"]
[{"$f":"IF(ISNUMBER(SEARCH(F$1,B1070,1)),MAX($A$1:A1069)+1,0)","v":0},"ОЗМК","ОЗМК ООО","Четверткова О.","Верхомий"]
[{"$f":"IF(ISNUMBER(SEARCH(F$1,B1071,1)),MAX($A$1:A1070)+1,0)","v":0},"Оки-доки","Оки-доки","NULL","Голубев"]
[{"$f":"IF(ISNUMBER(SEARCH(F$1,B1072,1)),MAX($A$1:A1071)+1,0)","v":0},"ОКНА ДОМКОМ","ОКНА ДОМКОМ ООО","Шабалина Е.В","Верхомий"]
[{"$f":"IF(ISNUMBER(SEARCH(F$1,B1073,1)),MAX($A$1:A1072)+1,0)","v":0},"Окна от Морозов","NULL","NULL","NULL"]
[{"$f":"IF(ISNUMBER(SEARCH(F$1,B1074,1)),MAX($A$1:A1073)+1,0)","v":0},"ОКНА СТОЛИЦЫ","ОКНА СТОЛИЦЫ ПК ООО","Шабалина Е.В","Шабалина"]
[{"$f":"IF(ISNUMBER(SEARCH(F$1,B1075,1)),MAX($A$1:A1074)+1,0)","v":0},"Окна Шуко","Окна Шуко ООО","Козлова Ю.К","NULL"]
[{"$f":"IF(ISNUMBER(SEARCH(F$1,B1076,1)),MAX($A$1:A1075)+1,0)","v":0},"Окна-супер","Окна-супер ПКК ОО","NULL","NULL"]
[{"$f":"IF(ISNUMBER(SEARCH(F$1,B1077,1)),MAX($A$1:A1076)+1,0)","v":0},"Оконн.комплектация","ООО \"Оконная комплектация\"","Козлова Ю.К","NULL"]
[{"$f":"IF(ISNUMBER(SEARCH(F$1,B1078,1)),MAX($A$1:A1077)+1,0)","v":0},"ОконнаяМануфактура1871","Оконная Мануфактура ООО","Шабалина Е.В","Шишкин "]
[{"$f":"IF(ISNUMBER(SEARCH(F$1,B1079,1)),MAX($A$1:A1078)+1,0)","v":0},"оконные технол.","Оконные Технологии","Маслова И.С","NULL"]
[{"$f":"IF(ISNUMBER(SEARCH(F$1,B1080,1)),MAX($A$1:A1079)+1,0)","v":0},"Оконные технологии","Оконные технологии ООО","Шабалина Е.В","NULL"]
[{"$f":"IF(ISNUMBER(SEARCH(F$1,B1081,1)),MAX($A$1:A1080)+1,0)","v":0},"ОлВайтПро Белоруссия","ОлВайтПро ООО","Калинина Т.С","Голубев"]
[{"$f":"IF(ISNUMBER(SEARCH(F$1,B1082,1)),MAX($A$1:A1081)+1,0)","v":0},"Олимп","ПФ \"Олимп\" ООО","Козлова Ю.К","NULL"]
[{"$f":"IF(ISNUMBER(SEARCH(F$1,B1083,1)),MAX($A$1:A1082)+1,0)","v":0},"Олимп (поддон)","Олимп (поддон)","NULL","NULL"]
[{"$f":"IF(ISNUMBER(SEARCH(F$1,B1084,1)),MAX($A$1:A1083)+1,0)","v":0},"Олимп 1","Олимп 1","NULL","NULL"]
[{"$f":"IF(ISNUMBER(SEARCH(F$1,B1085,1)),MAX($A$1:A1084)+1,0)","v":0},"Олимп Сити","Олимп Сити МГ ООО","Козлова Ю.К","NULL"]
[{"$f":"IF(ISNUMBER(SEARCH(F$1,B1086,1)),MAX($A$1:A1085)+1,0)","v":0},"ОЛСИСПОРТ","ОЛСИСПОРТ ООО","Халдина О.Н","Халдина"]
[{"$f":"IF(ISNUMBER(SEARCH(F$1,B1087,1)),MAX($A$1:A1086)+1,0)","v":0},"ООО \"ССК\"","ООО \"ССК\"","Шабалина Е.В","Голубев"]
[{"$f":"IF(ISNUMBER(SEARCH(F$1,B1088,1)),MAX($A$1:A1087)+1,0)","v":0},"ООО «НЕКО Инжиниринг»","ООО «НЕКО Инжиниринг»","NULL","Голубев"]
[{"$f":"IF(ISNUMBER(SEARCH(F$1,B1089,1)),MAX($A$1:A1088)+1,0)","v":13},"ООО «РемиЛинг 2000»","ООО «РемиЛинг 2000»","NULL","Голубев"]
[{"$f":"IF(ISNUMBER(SEARCH(F$1,B1090,1)),MAX($A$1:A1089)+1,0)","v":0},"Оптикум","NULL","NULL","NULL"]
[{"$f":"IF(ISNUMBER(SEARCH(F$1,B1091,1)),MAX($A$1:A1090)+1,0)","v":0},"ОПТСТРОЙМАРКЕТ"," ОПТСТРОЙМАРКЕТ ТД ООО","Голубев А.С","NULL"]
[{"$f":"IF(ISNUMBER(SEARCH(F$1,B1092,1)),MAX($A$1:A1091)+1,0)","v":0},"ОргТехСтрой","NULL","NULL","NULL"]
[{"$f":"IF(ISNUMBER(SEARCH(F$1,B1093,1)),MAX($A$1:A1092)+1,0)","v":0},"Орис","Орис ООО","Шабалина Е.В","Шишкин "]
[{"$f":"IF(ISNUMBER(SEARCH(F$1,B1094,1)),MAX($A$1:A1093)+1,0)","v":0},"ОР-Пласт","ООО \"ОР-Пласт\"","Маслова И.С","NULL"]
[{"$f":"IF(ISNUMBER(SEARCH(F$1,B1095,1)),MAX($A$1:A1094)+1,0)","v":0},"ОРТ НаучПроизФирма","ОРТ Научно произв фирма ООО","Маслова И.С","NULL"]
[{"$f":"IF(ISNUMBER(SEARCH(F$1,B1096,1)),MAX($A$1:A1095)+1,0)","v":0},"ОСНОВАНИЕ-Т","ОСНОВАНИЕ-Т ООО","Четверткова О.","Четверткова"]
[{"$f":"IF(ISNUMBER(SEARCH(F$1,B1097,1)),MAX($A$1:A1096)+1,0)","v":0},"Отис-Лифт","\"Отис-Лифт\" ООО","NULL","NULL"]
[{"$f":"IF(ISNUMBER(SEARCH(F$1,B1098,1)),MAX($A$1:A1097)+1,0)","v":0},"Отрада","Отрада ООО","Маслова И.С","NULL"]
[{"$f":"IF(ISNUMBER(SEARCH(F$1,B1099,1)),MAX($A$1:A1098)+1,0)","v":0},"Палладио","Палладио ООО","NULL","NULL"]
[{"$f":"IF(ISNUMBER(SEARCH(F$1,B1100,1)),MAX($A$1:A1099)+1,0)","v":0},"Панорама ТМ","Панорама ТМ ООО","Маслова И.С","NULL"]
[{"$f":"IF(ISNUMBER(SEARCH(F$1,B1101,1)),MAX($A$1:A1100)+1,0)","v":0},"Панорама(перего","NULL","NULL","NULL"]
[{"$f":"IF(ISNUMBER(SEARCH(F$1,B1102,1)),MAX($A$1:A1101)+1,0)","v":0},"Паритет$","\"Паритет\" ООО","NULL","NULL"]
[{"$f":"IF(ISNUMBER(SEARCH(F$1,B1103,1)),MAX($A$1:A1102)+1,0)","v":0},"Партнер1","Партнер ООО","Маслова И.С","Голубев"]
[{"$f":"IF(ISNUMBER(SEARCH(F$1,B1104,1)),MAX($A$1:A1103)+1,0)","v":0},"Пегас","\"Пегас\" ООО","NULL","NULL"]
[{"$f":"IF(ISNUMBER(SEARCH(F$1,B1105,1)),MAX($A$1:A1104)+1,0)","v":0},"Пегас Электромеханический Завод","Пегас Электромеханический Завод ЗАО","Маслова И.С","Маслова"]
[{"$f":"IF(ISNUMBER(SEARCH(F$1,B1106,1)),MAX($A$1:A1105)+1,0)","v":0},"Пелегрим","ООО \"Пелегрим\"","Верхомий И.Е","Верхомий"]
[{"$f":"IF(ISNUMBER(SEARCH(F$1,B1107,1)),MAX($A$1:A1106)+1,0)","v":0},"Первый проф з-д"," \"Первый профильный з-д\" ЗАО","NULL","NULL"]
[{"$f":"IF(ISNUMBER(SEARCH(F$1,B1108,1)),MAX($A$1:A1107)+1,0)","v":0},"Перегородки ","Перегородки и двери","Голубев А.С","Голубев"]
[{"$f":"IF(ISNUMBER(SEARCH(F$1,B1109,1)),MAX($A$1:A1108)+1,0)","v":0},"ПЕРИ","ПЕРИ ООО","NULL","NULL"]
[{"$f":"IF(ISNUMBER(SEARCH(F$1,B1110,1)),MAX($A$1:A1109)+1,0)","v":0},"ПЕРОФ 2","ПЕРОФ 2","Халдина О.Н","Голубев"]
[{"$f":"IF(ISNUMBER(SEARCH(F$1,B1111,1)),MAX($A$1:A1110)+1,0)","v":0},"Пероф и Ко","Пероф и Ко ООО","Халдина О.Н","Голубев"]
[{"$f":"IF(ISNUMBER(SEARCH(F$1,B1112,1)),MAX($A$1:A1111)+1,0)","v":0},"Петралюм 1","Петралюм ООО","Шабалина Е.В","Шишкин "]
[{"$f":"IF(ISNUMBER(SEARCH(F$1,B1113,1)),MAX($A$1:A1112)+1,0)","v":0},"ПетроПром-М","ПетроПром-М ООО","Шабалина Е.В","Шишкин "]
[{"$f":"IF(ISNUMBER(SEARCH(F$1,B1114,1)),MAX($A$1:A1113)+1,0)","v":0},"Петроснаб","ООО \"Петроснаб\"","NULL","NULL"]
[{"$f":"IF(ISNUMBER(SEARCH(F$1,B1115,1)),MAX($A$1:A1114)+1,0)","v":0},"ПКС НПП","Передовые Конструктивные Системы НПП ООО","Четверткова О.","NULL"]
[{"$f":"IF(ISNUMBER(SEARCH(F$1,B1116,1)),MAX($A$1:A1115)+1,0)","v":0},"ПКФ Алюминий ВПК ","ПКФ Алюминий ВПК ООО","Халдина О.Н","Халдина"]
[{"$f":"IF(ISNUMBER(SEARCH(F$1,B1117,1)),MAX($A$1:A1116)+1,0)","v":0},"ПЛАЗМА","ПЛАЗМА ООО","Голубев А.С","NULL"]
[{"$f":"IF(ISNUMBER(SEARCH(F$1,B1118,1)),MAX($A$1:A1117)+1,0)","v":0},"Планета","ВДП ООО","Шабалина Е.В","Шишкин "]
[{"$f":"IF(ISNUMBER(SEARCH(F$1,B1119,1)),MAX($A$1:A1118)+1,0)","v":0},"Планета Климат","ООО «Планета Климат»","Горчаков Е.М","Горчаков"]
[{"$f":"IF(ISNUMBER(SEARCH(F$1,B1120,1)),MAX($A$1:A1119)+1,0)","v":0},"Планета Сид","Планета Сид АО","Халдина О.Н","Голубев"]
[{"$f":"IF(ISNUMBER(SEARCH(F$1,B1121,1)),MAX($A$1:A1120)+1,0)","v":0},"Пласт Сервис","Пласт Сервис ООО","NULL","NULL"]
[{"$f":"IF(ISNUMBER(SEARCH(F$1,B1122,1)),MAX($A$1:A1121)+1,0)","v":0},"Пластал","ПЛАСТАЛ","NULL","NULL"]
[{"$f":"IF(ISNUMBER(SEARCH(F$1,B1123,1)),MAX($A$1:A1122)+1,0)","v":0},"Пласт-Комплект","ООО \"Пласт-Комплект\"","Козлова Ю.К","NULL"]
[{"$f":"IF(ISNUMBER(SEARCH(F$1,B1124,1)),MAX($A$1:A1123)+1,0)","v":0},"Пласткомфорт","Пласткомфорт ООО","Волчек Е.П","NULL"]
[{"$f":"IF(ISNUMBER(SEARCH(F$1,B1125,1)),MAX($A$1:A1124)+1,0)","v":0},"ПодольскМеталлПроект","ПодольскМеталлПроект ООО","Голубев А.С","NULL"]
[{"$f":"IF(ISNUMBER(SEARCH(F$1,B1126,1)),MAX($A$1:A1125)+1,0)","v":0},"ПодрядСтр(П)","ПодрядСтройИнвест","NULL","NULL"]
[{"$f":"IF(ISNUMBER(SEARCH(F$1,B1127,1)),MAX($A$1:A1126)+1,0)","v":0},"Подрядстройинве","Подрядстройинвест ООО","NULL","NULL"]
[{"$f":"IF(ISNUMBER(SEARCH(F$1,B1128,1)),MAX($A$1:A1127)+1,0)","v":0},"Позитор Групп","Позитор Групп","NULL","NULL"]
[{"$f":"IF(ISNUMBER(SEARCH(F$1,B1129,1)),MAX($A$1:A1128)+1,0)","v":0},"ПОЛАИР","ПОЛАИР АО","Горчаков Е.М","Голубев"]
[{"$f":"IF(ISNUMBER(SEARCH(F$1,B1130,1)),MAX($A$1:A1129)+1,0)","v":0},"Поликвартстрой","ООО \"Поликвартстрой ХХI\"","NULL","NULL"]
[{"$f":"IF(ISNUMBER(SEARCH(F$1,B1131,1)),MAX($A$1:A1130)+1,0)","v":0},"ПОЛИНА","ПОЛИНА ООО","Маслова И.С","NULL"]
[{"$f":"IF(ISNUMBER(SEARCH(F$1,B1132,1)),MAX($A$1:A1131)+1,0)","v":0},"Полистрой","\"Полистрой\" ООО","NULL","NULL"]
[{"$f":"IF(ISNUMBER(SEARCH(F$1,B1133,1)),MAX($A$1:A1132)+1,0)","v":0},"Политех","Политех ООО","NULL","NULL"]
[{"$f":"IF(ISNUMBER(SEARCH(F$1,B1134,1)),MAX($A$1:A1133)+1,0)","v":0},"Пономарев В.А","Пономарев В.А ЧП","Козлова Ю.К","NULL"]
[{"$f":"IF(ISNUMBER(SEARCH(F$1,B1135,1)),MAX($A$1:A1134)+1,0)","v":0},"Пономарев(подд)","ЧП Пономарев(поддон)","NULL","NULL"]
[{"$f":"IF(ISNUMBER(SEARCH(F$1,B1136,1)),MAX($A$1:A1135)+1,0)","v":0},"ПОС- системы","ПОС- системы ООО","NULL","NULL"]
[{"$f":"IF(ISNUMBER(SEARCH(F$1,B1137,1)),MAX($A$1:A1136)+1,0)","v":0},"ПОСМ Сист(подд)","ПОСМ Сист(поддон)","NULL","NULL"]
[{"$f":"IF(ISNUMBER(SEARCH(F$1,B1138,1)),MAX($A$1:A1137)+1,0)","v":0},"Пост Профит","Пост Профит ООО","Маслова И.С","Голубев"]
[{"$f":"IF(ISNUMBER(SEARCH(F$1,B1139,1)),MAX($A$1:A1138)+1,0)","v":0},"Поток","Поток ООО","Шабалина Е.В","NULL"]
[{"$f":"IF(ISNUMBER(SEARCH(F$1,B1140,1)),MAX($A$1:A1139)+1,0)","v":0},"Поток Компания","Поток Компания ООО","NULL","NULL"]
[{"$f":"IF(ISNUMBER(SEARCH(F$1,B1141,1)),MAX($A$1:A1140)+1,0)","v":0},"Поток(поддон)","Поток(поддон)","NULL","NULL"]
[{"$f":"IF(ISNUMBER(SEARCH(F$1,B1142,1)),MAX($A$1:A1141)+1,0)","v":0},"ППСХ","ППСХ ООО","Халдина О.Н","Фролова"]
[{"$f":"IF(ISNUMBER(SEARCH(F$1,B1143,1)),MAX($A$1:A1142)+1,0)","v":0},"Пр.Черн (поддон","Профиль Черноземья (поддон)","NULL","NULL"]
[{"$f":"IF(ISNUMBER(SEARCH(F$1,B1144,1)),MAX($A$1:A1143)+1,0)","v":0},"Пр.Черн.(покуп)","Профиль Черноземья ООО (покупатель)","NULL","NULL"]
[{"$f":"IF(ISNUMBER(SEARCH(F$1,B1145,1)),MAX($A$1:A1144)+1,0)","v":0},"Практик Групп","Практик Групп ООО","Шабалина Е.В","Шишкин "]
[{"$f":"IF(ISNUMBER(SEARCH(F$1,B1146,1)),MAX($A$1:A1145)+1,0)","v":0},"ПРАТО","ООО \"ПРАТО\"","Горчаков Е.М","Горчаков"]
[{"$f":"IF(ISNUMBER(SEARCH(F$1,B1147,1)),MAX($A$1:A1146)+1,0)","v":0},"Предприятие ВИРА","Предприятие ВИРА","NULL","Голубев"]
[{"$f":"IF(ISNUMBER(SEARCH(F$1,B1148,1)),MAX($A$1:A1147)+1,0)","v":0},"Премиал","ФК Алюминиевые Системы ОО","Верхомий И.Е","NULL"]
[{"$f":"IF(ISNUMBER(SEARCH(F$1,B1149,1)),MAX($A$1:A1148)+1,0)","v":0},"Премиум","Премиум ООО","Волчек Е.П","NULL"]
[{"$f":"IF(ISNUMBER(SEARCH(F$1,B1150,1)),MAX($A$1:A1149)+1,0)","v":0},"Премиум(поддон)","Премиум(поддон)","NULL","NULL"]
[{"$f":"IF(ISNUMBER(SEARCH(F$1,B1151,1)),MAX($A$1:A1150)+1,0)","v":0},"ПремСервис","Премиум Сервис ООО","NULL","NULL"]
[{"$f":"IF(ISNUMBER(SEARCH(F$1,B1152,1)),MAX($A$1:A1151)+1,0)","v":0},"ПремьерКомп (П)","Премьер-Комплект (поддон)","NULL","NULL"]
[{"$f":"IF(ISNUMBER(SEARCH(F$1,B1153,1)),MAX($A$1:A1152)+1,0)","v":0},"Премьер-Комплек","Премьер-Комплект ООО","NULL","NULL"]
[{"$f":"IF(ISNUMBER(SEARCH(F$1,B1154,1)),MAX($A$1:A1153)+1,0)","v":0},"Пресса","Пресса ООО","NULL","NULL"]
[{"$f":"IF(ISNUMBER(SEARCH(F$1,B1155,1)),MAX($A$1:A1154)+1,0)","v":0},"Престиж","Престиж ООО","Верхомий И.Е","NULL"]
[{"$f":"IF(ISNUMBER(SEARCH(F$1,B1156,1)),MAX($A$1:A1155)+1,0)","v":0},"Прибортехника","Прибортехника ПТП ООО","NULL","NULL"]
[{"$f":"IF(ISNUMBER(SEARCH(F$1,B1157,1)),MAX($A$1:A1156)+1,0)","v":0},"ПРИВАТ ГЛАСС","ПРИВАТ ГЛАСС ЗАО","Верхомий И.Е","NULL"]
[{"$f":"IF(ISNUMBER(SEARCH(F$1,B1158,1)),MAX($A$1:A1157)+1,0)","v":0},"Призматрон","Омский з-д гр.Призматрон","NULL","NULL"]
[{"$f":"IF(ISNUMBER(SEARCH(F$1,B1159,1)),MAX($A$1:A1158)+1,0)","v":0},"проба","проба","NULL","Голубев"]
[{"$f":"IF(ISNUMBER(SEARCH(F$1,B1160,1)),MAX($A$1:A1159)+1,0)","v":0},"Проведаль","Проведаль","Шишкин  А.В","Шишкин "]
[{"$f":"IF(ISNUMBER(SEARCH(F$1,B1161,1)),MAX($A$1:A1160)+1,0)","v":0},"Продакт Металл","Продакт Металл ООО","Акафьева Т.","Акафьева"]
[{"$f":"IF(ISNUMBER(SEARCH(F$1,B1162,1)),MAX($A$1:A1161)+1,0)","v":0},"ПРОЖЕКТ","прожект ООО","Шабалина Е.В","Верхомий"]
[{"$f":"IF(ISNUMBER(SEARCH(F$1,B1163,1)),MAX($A$1:A1162)+1,0)","v":0},"Прозрачный мир","Прозвачный мир","NULL","Голубев"]
[{"$f":"IF(ISNUMBER(SEARCH(F$1,B1164,1)),MAX($A$1:A1163)+1,0)","v":0},"Прокомфорт Минск","Бирило Павел Георгиевич ИП","Калинина Т.С","Калинина"]
[{"$f":"IF(ISNUMBER(SEARCH(F$1,B1165,1)),MAX($A$1:A1164)+1,0)","v":0},"ПроЛаб","ПроЛаб-Центр ООО","Четверткова О.","Четверткова"]
[{"$f":"IF(ISNUMBER(SEARCH(F$1,B1166,1)),MAX($A$1:A1165)+1,0)","v":0},"Пром Капитал","Промышленный Капитал ООО","Горовая Т.А","NULL"]
[{"$f":"IF(ISNUMBER(SEARCH(F$1,B1167,1)),MAX($A$1:A1166)+1,0)","v":0},"Пром Конструктор","Промышленный Конструктор ООО","Акафьева Т.","Акафьева"]
[{"$f":"IF(ISNUMBER(SEARCH(F$1,B1168,1)),MAX($A$1:A1167)+1,0)","v":0},"Прома","Прома ООО","Борисова Э.Б","NULL"]
[{"$f":"IF(ISNUMBER(SEARCH(F$1,B1169,1)),MAX($A$1:A1168)+1,0)","v":0},"Прома (поддон)","Прома (поддон)","NULL","NULL"]
[{"$f":"IF(ISNUMBER(SEARCH(F$1,B1170,1)),MAX($A$1:A1169)+1,0)","v":0},"ПРОМА ПТК","ПРОМА ПТК ООО","Четверткова О.","Голубев"]
[{"$f":"IF(ISNUMBER(SEARCH(F$1,B1171,1)),MAX($A$1:A1170)+1,0)","v":0},"ПромГрупп","ПромГрупп","NULL","NULL"]
[{"$f":"IF(ISNUMBER(SEARCH(F$1,B1172,1)),MAX($A$1:A1171)+1,0)","v":0},"Промлаб","Промлаб ООО","Акафьева Т.","Голубев"]
[{"$f":"IF(ISNUMBER(SEARCH(F$1,B1173,1)),MAX($A$1:A1172)+1,0)","v":0},"ПРОММЕТ","ПРОММЕТ ТД ООО","Халдина О.Н","Верхомий"]
[{"$f":"IF(ISNUMBER(SEARCH(F$1,B1174,1)),MAX($A$1:A1173)+1,0)","v":0},"ПромМеталлИнвес"," \"ПромМеталлИнвес\"ООО","NULL","NULL"]
[{"$f":"IF(ISNUMBER(SEARCH(F$1,B1175,1)),MAX($A$1:A1174)+1,0)","v":0},"Проммехкомплект","Проммехкомплект ООО","Шабалина Е.В","NULL"]
[{"$f":"IF(ISNUMBER(SEARCH(F$1,B1176,1)),MAX($A$1:A1175)+1,0)","v":0},"Промпанель","Промпанель ООО","Маслова И.С","Маслова"]
[{"$f":"IF(ISNUMBER(SEARCH(F$1,B1177,1)),MAX($A$1:A1176)+1,0)","v":0},"ПромСтрМатер","Промстрмат ООО","NULL","NULL"]
[{"$f":"IF(ISNUMBER(SEARCH(F$1,B1178,1)),MAX($A$1:A1177)+1,0)","v":0},"ПромтехДубна","ПромтехДубна АО","Четверткова О.","NULL"]
[{"$f":"IF(ISNUMBER(SEARCH(F$1,B1179,1)),MAX($A$1:A1178)+1,0)","v":0},"ПромТоргГалактика","ПромТоргГалактика ООО","Голубев А.С","NULL"]
[{"$f":"IF(ISNUMBER(SEARCH(F$1,B1180,1)),MAX($A$1:A1179)+1,0)","v":0},"ПромтрейдЮг","ПромтрейдЮгООО","Верхомий И.Е","NULL"]
[{"$f":"IF(ISNUMBER(SEARCH(F$1,B1181,1)),MAX($A$1:A1180)+1,0)","v":0},"ПромТрест","ПромТрест ООО","Акафьева Т.","NULL"]
[{"$f":"IF(ISNUMBER(SEARCH(F$1,B1182,1)),MAX($A$1:A1181)+1,0)","v":0},"ПромЦветМет","КоПромЦветМет ООО","NULL","Верхомий"]
[{"$f":"IF(ISNUMBER(SEARCH(F$1,B1183,1)),MAX($A$1:A1182)+1,0)","v":0},"Промышленные полы","ООО \"Промышленные полы\"","Маслова И.С","Маслова"]
[{"$f":"IF(ISNUMBER(SEARCH(F$1,B1184,1)),MAX($A$1:A1183)+1,0)","v":0},"Проплекс ТД","Проплекс ТД ООО","Шабалина Е.В","Шишкин "]
[{"$f":"IF(ISNUMBER(SEARCH(F$1,B1185,1)),MAX($A$1:A1184)+1,0)","v":0},"Проплекс-Экон","Проплекс ООО","NULL","NULL"]
[{"$f":"IF(ISNUMBER(SEARCH(F$1,B1186,1)),MAX($A$1:A1185)+1,0)","v":0},"ПроРадиоСистем","ПроРадиоСистемНПФ ООО","Голубев А.С","Голубев"]
[{"$f":"IF(ISNUMBER(SEARCH(F$1,B1187,1)),MAX($A$1:A1186)+1,0)","v":0},"Протек","Компания Протек ООО","NULL","NULL"]
[{"$f":"IF(ISNUMBER(SEARCH(F$1,B1188,1)),MAX($A$1:A1187)+1,0)","v":0},"Протект","Протект ООО","Шабалина Е.В","Шишкин "]
[{"$f":"IF(ISNUMBER(SEARCH(F$1,B1189,1)),MAX($A$1:A1188)+1,0)","v":0},"Протект (поддон","Протект (поддон)","NULL","NULL"]
[{"$f":"IF(ISNUMBER(SEARCH(F$1,B1190,1)),MAX($A$1:A1189)+1,0)","v":0},"Протект 1","Протект 1 ООО","NULL","NULL"]
[{"$f":"IF(ISNUMBER(SEARCH(F$1,B1191,1)),MAX($A$1:A1190)+1,0)","v":0},"Протект(Выст)","Протект(Выст)","NULL","NULL"]
[{"$f":"IF(ISNUMBER(SEARCH(F$1,B1192,1)),MAX($A$1:A1191)+1,0)","v":0},"Протект_документы","Протект_документы","NULL","NULL"]
[{"$f":"IF(ISNUMBER(SEARCH(F$1,B1193,1)),MAX($A$1:A1192)+1,0)","v":0},"ПроТех ","ПроТех ООО","Акафьева Т.","Акафьева"]
[{"$f":"IF(ISNUMBER(SEARCH(F$1,B1194,1)),MAX($A$1:A1193)+1,0)","v":0},"Проток 1","Проток 1 ООО","NULL","NULL"]
[{"$f":"IF(ISNUMBER(SEARCH(F$1,B1195,1)),MAX($A$1:A1194)+1,0)","v":0},"Протон_1 ","ЗАО \"Протон\"","Горчаков Е.М","Горчаков"]
[{"$f":"IF(ISNUMBER(SEARCH(F$1,B1196,1)),MAX($A$1:A1195)+1,0)","v":0},"Протон_2","АО «Протон» ","Горчаков Е.М","Горчаков"]
[{"$f":"IF(ISNUMBER(SEARCH(F$1,B1197,1)),MAX($A$1:A1196)+1,0)","v":0},"Проф АСС","ООО \"Проф АСС\"","NULL","NULL"]
[{"$f":"IF(ISNUMBER(SEARCH(F$1,B1198,1)),MAX($A$1:A1197)+1,0)","v":0},"Профиль +","профиль +","Верхомий И.Е","Верхомий"]
[{"$f":"IF(ISNUMBER(SEARCH(F$1,B1199,1)),MAX($A$1:A1198)+1,0)","v":0},"Профиль Саратов","Профиль Саратов ООО","NULL","NULL"]
[{"$f":"IF(ISNUMBER(SEARCH(F$1,B1200,1)),MAX($A$1:A1199)+1,0)","v":0},"Профиль сервис","Профиль сервис ООО","Четверткова О.","Шишкин "]
[{"$f":"IF(ISNUMBER(SEARCH(F$1,B1201,1)),MAX($A$1:A1200)+1,0)","v":0},"Профиль ХХI век","Профиль ХХI век ООО","NULL","NULL"]
[{"$f":"IF(ISNUMBER(SEARCH(F$1,B1202,1)),MAX($A$1:A1201)+1,0)","v":0},"ПрофильДизайн","ПрофильДизайн ООО","NULL","NULL"]
[{"$f":"IF(ISNUMBER(SEARCH(F$1,B1203,1)),MAX($A$1:A1202)+1,0)","v":0},"ПрофильМакс","ПрофильМакс ООО","NULL","NULL"]
[{"$f":"IF(ISNUMBER(SEARCH(F$1,B1204,1)),MAX($A$1:A1203)+1,0)","v":0},"ПРОФИЛЬ-МК","ПРОФИЛЬ-МК ООО","Голубев А.С","Голубев"]
[{"$f":"IF(ISNUMBER(SEARCH(F$1,B1205,1)),MAX($A$1:A1204)+1,0)","v":0},"Профильные Системы","Профильные Системы ООО","Маслова И.С","Голубев"]
[{"$f":"IF(ISNUMBER(SEARCH(F$1,B1206,1)),MAX($A$1:A1205)+1,0)","v":0},"Профильрегион М","Профильрегион М ООО","NULL","NULL"]
[{"$f":"IF(ISNUMBER(SEARCH(F$1,B1207,1)),MAX($A$1:A1206)+1,0)","v":0},"Профиль-трейд","Профиль-трейд ООО","Шабалина Е.В","NULL"]
[{"$f":"IF(ISNUMBER(SEARCH(F$1,B1208,1)),MAX($A$1:A1207)+1,0)","v":0},"ПрофиМеталл","ПрофиМеталл","NULL","Голубев"]
[{"$f":"IF(ISNUMBER(SEARCH(F$1,B1209,1)),MAX($A$1:A1208)+1,0)","v":0},"Профинтерметалл ООО","Профинтерметалл ООО","NULL","Голубев"]
[{"$f":"IF(ISNUMBER(SEARCH(F$1,B1210,1)),MAX($A$1:A1209)+1,0)","v":0},"ПРОФИ-Т СПБ","ПРОФИ-Т СПБ ООО","NULL","NULL"]
[{"$f":"IF(ISNUMBER(SEARCH(F$1,B1211,1)),MAX($A$1:A1210)+1,0)","v":0},"Проф-Лайн","Проф-Лайн ООО","Шабалина Е.В","Шишкин "]
[{"$f":"IF(ISNUMBER(SEARCH(F$1,B1212,1)),MAX($A$1:A1211)+1,0)","v":0},"Профлитекс","\"Профлитекс\" ООО","NULL","NULL"]
[{"$f":"IF(ISNUMBER(SEARCH(F$1,B1213,1)),MAX($A$1:A1212)+1,0)","v":0},"Проф-Решение","NULL","NULL","NULL"]
[{"$f":"IF(ISNUMBER(SEARCH(F$1,B1214,1)),MAX($A$1:A1213)+1,0)","v":0},"Процесс","Процесс ЗАО","NULL","NULL"]
[{"$f":"IF(ISNUMBER(SEARCH(F$1,B1215,1)),MAX($A$1:A1214)+1,0)","v":0},"ПроЭнергоСвет","ООО «ПроЭнергоСвет»","Горчаков Е.М","Горчаков"]
[{"$f":"IF(ISNUMBER(SEARCH(F$1,B1216,1)),MAX($A$1:A1215)+1,0)","v":0},"ПСК-М","ПСК-М ООО","Волчек Е.П","NULL"]
[{"$f":"IF(ISNUMBER(SEARCH(F$1,B1217,1)),MAX($A$1:A1216)+1,0)","v":0},"Пумос","Пумос АО","Халдина О.Н","Халдина"]
[{"$f":"IF(ISNUMBER(SEARCH(F$1,B1218,1)),MAX($A$1:A1217)+1,0)","v":0},"Равта","Равта ТД ООО","Халдина О.Н","Голубев"]
[{"$f":"IF(ISNUMBER(SEARCH(F$1,B1219,1)),MAX($A$1:A1218)+1,0)","v":0},"РАДА-М","РАДА-М ООО","NULL","NULL"]
[{"$f":"IF(ISNUMBER(SEARCH(F$1,B1220,1)),MAX($A$1:A1219)+1,0)","v":0},"Радиан","Завод Радиан АО","Маслова И.С","NULL"]
[{"$f":"IF(ISNUMBER(SEARCH(F$1,B1221,1)),MAX($A$1:A1220)+1,0)","v":0},"Радиосервис","НПФ \"Радиосервис\" ООО","NULL","NULL"]
[{"$f":"IF(ISNUMBER(SEARCH(F$1,B1222,1)),MAX($A$1:A1221)+1,0)","v":0},"Радиотехника","Радиотехника","NULL","NULL"]
[{"$f":"IF(ISNUMBER(SEARCH(F$1,B1223,1)),MAX($A$1:A1222)+1,0)","v":0},"Радуга","Радуга ООО","Четверткова О.","Голубев"]
[{"$f":"IF(ISNUMBER(SEARCH(F$1,B1224,1)),MAX($A$1:A1223)+1,0)","v":0},"Рамитана","NULL","NULL","NULL"]
[{"$f":"IF(ISNUMBER(SEARCH(F$1,B1225,1)),MAX($A$1:A1224)+1,0)","v":0},"Рассвет","Рассвет ООО","Четверткова О.","Верхомий"]
[{"$f":"IF(ISNUMBER(SEARCH(F$1,B1226,1)),MAX($A$1:A1225)+1,0)","v":0},"РАСТ","РАСТ ЗАО","Халдина О.Н","Голубев"]
[{"$f":"IF(ISNUMBER(SEARCH(F$1,B1227,1)),MAX($A$1:A1226)+1,0)","v":0},"РБП-ГЛАСС","РБП-ГЛАСС ООО","Халдина О.Н","Голубев"]
[{"$f":"IF(ISNUMBER(SEARCH(F$1,B1228,1)),MAX($A$1:A1227)+1,0)","v":0},"РВЭ","РВЭ ООО","Шабалина Е.В","Мельников"]
[{"$f":"IF(ISNUMBER(SEARCH(F$1,B1229,1)),MAX($A$1:A1228)+1,0)","v":0},"Реалит","Реалит","NULL","NULL"]
[{"$f":"IF(ISNUMBER(SEARCH(F$1,B1230,1)),MAX($A$1:A1229)+1,0)","v":0},"Реалит ЗАП","ООО \"ЗАП\" Реалит\"","NULL","NULL"]
[{"$f":"IF(ISNUMBER(SEARCH(F$1,B1231,1)),MAX($A$1:A1230)+1,0)","v":0},"Реалит$","Реалит$","NULL","NULL"]
[{"$f":"IF(ISNUMBER(SEARCH(F$1,B1232,1)),MAX($A$1:A1231)+1,0)","v":0},"РеАлПроф","ООО \"РеАлПроф\"","NULL","NULL"]
[{"$f":"IF(ISNUMBER(SEARCH(F$1,B1233,1)),MAX($A$1:A1232)+1,0)","v":0},"Ревалюкс","Ревалюкс ООО","Калинина Т.С","NULL"]
[{"$f":"IF(ISNUMBER(SEARCH(F$1,B1234,1)),MAX($A$1:A1233)+1,0)","v":0},"РЕВДИНСКИЙ ЗАВОД светотехнических изделий","РЕВДИНСКИЙ ЗАВОД светотехнических изделий","NULL","Голубев"]
[{"$f":"IF(ISNUMBER(SEARCH(F$1,B1235,1)),MAX($A$1:A1234)+1,0)","v":0},"Револайт","ООО «Револайт» ","Горчаков Е.М","Горчаков"]
[{"$f":"IF(ISNUMBER(SEARCH(F$1,B1236,1)),MAX($A$1:A1235)+1,0)","v":0},"РЕГАЛ","РЕГАЛ ООО","Маслова И.С","Маслова"]
[{"$f":"IF(ISNUMBER(SEARCH(F$1,B1237,1)),MAX($A$1:A1236)+1,0)","v":0},"Регион сервис","NULL","NULL","NULL"]
[{"$f":"IF(ISNUMBER(SEARCH(F$1,B1238,1)),MAX($A$1:A1237)+1,0)","v":0},"Регион-Поволжье","Регион Поволжье","NULL","NULL"]
[{"$f":"IF(ISNUMBER(SEARCH(F$1,B1239,1)),MAX($A$1:A1238)+1,0)","v":0},"Ред (поддоны)","Ред (поддоны)","NULL","NULL"]
[{"$f":"IF(ISNUMBER(SEARCH(F$1,B1240,1)),MAX($A$1:A1239)+1,0)","v":0},"Ред 1","Ред ООО","NULL","NULL"]
[{"$f":"IF(ISNUMBER(SEARCH(F$1,B1241,1)),MAX($A$1:A1240)+1,0)","v":0},"Результат","Результат ООО","Шабалина Е.В","Каменев"]
[{"$f":"IF(ISNUMBER(SEARCH(F$1,B1242,1)),MAX($A$1:A1241)+1,0)","v":0},"РЕИНВЕСТ","РЕИНВЕСТ Фирма ООО","Козлова Ю.К","NULL"]
[{"$f":"IF(ISNUMBER(SEARCH(F$1,B1243,1)),MAX($A$1:A1242)+1,0)","v":0},"Рейнарс Алюминиум Рус","Рейнарс Алюминиум Рус ООО","Верхомий И.Е","NULL"]
[{"$f":"IF(ISNUMBER(SEARCH(F$1,B1244,1)),MAX($A$1:A1243)+1,0)","v":0},"Рекада","Рекада","NULL","Голубев"]
[{"$f":"IF(ISNUMBER(SEARCH(F$1,B1245,1)),MAX($A$1:A1244)+1,0)","v":0},"Реклама-Воронеж ТД","Реклама-воронеж ТД ООО","Акафьева Т.","NULL"]
[{"$f":"IF(ISNUMBER(SEARCH(F$1,B1246,1)),MAX($A$1:A1245)+1,0)","v":0},"РекламИнвестГрупп Казахстан","РекламИнвестГрупп","Калинина Т.С","Голубев"]
[{"$f":"IF(ISNUMBER(SEARCH(F$1,B1247,1)),MAX($A$1:A1246)+1,0)","v":0},"РЕМИЗ","ЗАО \"РЕМИЗ\"","NULL","NULL"]
[{"$f":"IF(ISNUMBER(SEARCH(F$1,B1248,1)),MAX($A$1:A1247)+1,0)","v":14},"РемиЛинг 2000","РемиЛинг 2000","NULL","Голубев"]
[{"$f":"IF(ISNUMBER(SEARCH(F$1,B1249,1)),MAX($A$1:A1248)+1,0)","v":0},"Ремстройцентр","Ремстройцентр","NULL","NULL"]
[{"$f":"IF(ISNUMBER(SEARCH(F$1,B1250,1)),MAX($A$1:A1249)+1,0)","v":0},"Ремтехмаш","Ремтехмаш Фирма ООО","Волчек Е.П","NULL"]
[{"$f":"IF(ISNUMBER(SEARCH(F$1,B1251,1)),MAX($A$1:A1250)+1,0)","v":0},"РЕНТ ФО ИВЕНТ","РЕТ ФО ИВЕНТ ООО","Маслова И.С","Маслова"]
[{"$f":"IF(ISNUMBER(SEARCH(F$1,B1252,1)),MAX($A$1:A1251)+1,0)","v":0},"Рехау Продукцион","Рехау ПродукционООО","Шабалина Е.В","Верхомий"]
[{"$f":"IF(ISNUMBER(SEARCH(F$1,B1253,1)),MAX($A$1:A1252)+1,0)","v":0},"Рехенау Пласт","ООО \"Рехенау Пласт\"","NULL","NULL"]
[{"$f":"IF(ISNUMBER(SEARCH(F$1,B1254,1)),MAX($A$1:A1253)+1,0)","v":0},"Решение для окон Москва","Решение для окон ООО","Халдина О.Н","Верхомий"]
[{"$f":"IF(ISNUMBER(SEARCH(F$1,B1255,1)),MAX($A$1:A1254)+1,0)","v":0},"РешенияДляОкон","Решения для окон ООО","Халдина О.Н","Верхомий"]
[{"$f":"IF(ISNUMBER(SEARCH(F$1,B1256,1)),MAX($A$1:A1255)+1,0)","v":0},"Риамет","ООО \"Риамет\"","NULL","NULL"]
[{"$f":"IF(ISNUMBER(SEARCH(F$1,B1257,1)),MAX($A$1:A1256)+1,0)","v":0},"РИМИ","Филтех ТД ООО","Халдина О.Н","Халдина"]
[{"$f":"IF(ISNUMBER(SEARCH(F$1,B1258,1)),MAX($A$1:A1257)+1,0)","v":0},"РИТМ-2","РИТМ-2 ООО","Четверткова О.","Голубев"]
[{"$f":"IF(ISNUMBER(SEARCH(F$1,B1259,1)),MAX($A$1:A1258)+1,0)","v":0},"РИЧ РОЛ ","РИЧ РОЛ ООО","Маслова И.С","Голубев"]
[{"$f":"IF(ISNUMBER(SEARCH(F$1,B1260,1)),MAX($A$1:A1259)+1,0)","v":0},"Рич-Прим","Рич-Прим ООО","NULL","NULL"]
[{"$f":"IF(ISNUMBER(SEARCH(F$1,B1261,1)),MAX($A$1:A1260)+1,0)","v":0},"Ровен","ООО \"Ровен-Регионы\"","Верхомий И.Е","Верхомий"]
[{"$f":"IF(ISNUMBER(SEARCH(F$1,B1262,1)),MAX($A$1:A1261)+1,0)","v":0},"Родники Литье","Родники Литье ООО","Голубев А.С","Голубев"]
[{"$f":"IF(ISNUMBER(SEARCH(F$1,B1263,1)),MAX($A$1:A1262)+1,0)","v":0},"РОЗМЫСЕЛ","РОЗМЫСЕЛ ООО","Акафьева Т.","NULL"]
[{"$f":"IF(ISNUMBER(SEARCH(F$1,B1264,1)),MAX($A$1:A1263)+1,0)","v":0},"Ролл Техно","Ролл Техно","NULL","Голубев"]
[{"$f":"IF(ISNUMBER(SEARCH(F$1,B1265,1)),MAX($A$1:A1264)+1,0)","v":0},"РОЛЛО ФЦ","\"РОЛЛО ФЦ\" ООО","NULL","NULL"]
[{"$f":"IF(ISNUMBER(SEARCH(F$1,B1266,1)),MAX($A$1:A1265)+1,0)","v":0},"РОМЗ","РОМЗ ЗАО","NULL","NULL"]
[{"$f":"IF(ISNUMBER(SEARCH(F$1,B1267,1)),MAX($A$1:A1266)+1,0)","v":0},"Росла","Росла","Верхомий И.Е","Верхомий"]
[{"$f":"IF(ISNUMBER(SEARCH(F$1,B1268,1)),MAX($A$1:A1267)+1,0)","v":0},"РосНатПотолки","Российские НатяжныеПотолки","NULL","NULL"]
[{"$f":"IF(ISNUMBER(SEARCH(F$1,B1269,1)),MAX($A$1:A1268)+1,0)","v":0},"Росслав","Росслав ООО","Маслова И.С","NULL"]
[{"$f":"IF(ISNUMBER(SEARCH(F$1,B1270,1)),MAX($A$1:A1269)+1,0)","v":0},"РостАлпроф","РостАлпроф ООО","Борисова Э.Б","NULL"]
[{"$f":"IF(ISNUMBER(SEARCH(F$1,B1271,1)),MAX($A$1:A1270)+1,0)","v":0},"Росттехпром","Росттехпром ООО","Халдина О.Н","Голубев"]
[{"$f":"IF(ISNUMBER(SEARCH(F$1,B1272,1)),MAX($A$1:A1271)+1,0)","v":0},"РОТО ФРАНК","РОТО ФРАНК ООО","Голубев А.С","NULL"]
[{"$f":"IF(ISNUMBER(SEARCH(F$1,B1273,1)),MAX($A$1:A1272)+1,0)","v":0},"РТД","Антарес ООО","Кочанова Т.В","Шабалина"]
[{"$f":"IF(ISNUMBER(SEARCH(F$1,B1274,1)),MAX($A$1:A1273)+1,0)","v":0},"РТД Сервис","РТД Сервис ООО","Шабалина Е.В","Шишкин "]
[{"$f":"IF(ISNUMBER(SEARCH(F$1,B1275,1)),MAX($A$1:A1274)+1,0)","v":0},"РТД-Байкал","РТД-Байкал ООО","Шабалина Е.В","Шишкин "]
[{"$f":"IF(ISNUMBER(SEARCH(F$1,B1276,1)),MAX($A$1:A1275)+1,0)","v":0},"РТД-Комплект","РТД-Комплект ООО","Шабалина Е.В","Шишкин "]
[{"$f":"IF(ISNUMBER(SEARCH(F$1,B1277,1)),MAX($A$1:A1276)+1,0)","v":0},"РТИ-Пушкино","РТИ-Пушкино ООО","Акафьева Т.","Акафьева"]
[{"$f":"IF(ISNUMBER(SEARCH(F$1,B1278,1)),MAX($A$1:A1277)+1,0)","v":0},"РТО","Российское Туалетное Объединение","NULL","NULL"]
[{"$f":"IF(ISNUMBER(SEARCH(F$1,B1279,1)),MAX($A$1:A1278)+1,0)","v":0},"РТС","ПРОФИЛЬСЕРВИС","Четверткова О.","Четверткова"]
[{"$f":"IF(ISNUMBER(SEARCH(F$1,B1280,1)),MAX($A$1:A1279)+1,0)","v":0},"Руглас","Руглас ООО","Маслова И.С","Маслова"]
[{"$f":"IF(ISNUMBER(SEARCH(F$1,B1281,1)),MAX($A$1:A1280)+1,0)","v":0},"Рузхиммаш","Рузхиммш АО","Калинина Т.С","Верхомий"]
[{"$f":"IF(ISNUMBER(SEARCH(F$1,B1282,1)),MAX($A$1:A1281)+1,0)","v":0},"Рус.Алюм.Менед","ОАО \"Русский Алюминий Менеджмент\"","NULL","NULL"]
[{"$f":"IF(ISNUMBER(SEARCH(F$1,B1283,1)),MAX($A$1:A1282)+1,0)","v":0},"РусАл","РусАл","NULL","NULL"]
[{"$f":"IF(ISNUMBER(SEARCH(F$1,B1284,1)),MAX($A$1:A1283)+1,0)","v":0},"Русимпульс Проект","Русимпульс Проект ООО","Шабалина Е.В","Голубев"]
[{"$f":"IF(ISNUMBER(SEARCH(F$1,B1285,1)),MAX($A$1:A1284)+1,0)","v":0},"РусКонТест","РусКонТест ООО","Шабалина Е.В","Шабалина"]
[{"$f":"IF(ISNUMBER(SEARCH(F$1,B1286,1)),MAX($A$1:A1285)+1,0)","v":0},"Рус-Радиатор","Рус-Радиатор","NULL","Голубев"]
[{"$f":"IF(ISNUMBER(SEARCH(F$1,B1287,1)),MAX($A$1:A1286)+1,0)","v":0},"Русск.проф.руб","Русский профиль ООО","NULL","NULL"]
[{"$f":"IF(ISNUMBER(SEARCH(F$1,B1288,1)),MAX($A$1:A1287)+1,0)","v":0},"Русский Шинопровод","Русский Шинопровод","NULL","Голубев"]
[{"$f":"IF(ISNUMBER(SEARCH(F$1,B1289,1)),MAX($A$1:A1288)+1,0)","v":0},"Русстрой-МТ","Русстрой-МТ ООО","NULL","NULL"]
[{"$f":"IF(ISNUMBER(SEARCH(F$1,B1290,1)),MAX($A$1:A1289)+1,0)","v":0},"Русстрой-МТ1","\"Русстрой-МТ\" ООО","NULL","NULL"]
[{"$f":"IF(ISNUMBER(SEARCH(F$1,B1291,1)),MAX($A$1:A1290)+1,0)","v":0},"РУСТЕПЛОПОЛ","РУСТЕПЛОПОЛ ООО","Шабалина Е.В","Верхомий"]
[{"$f":"IF(ISNUMBER(SEARCH(F$1,B1292,1)),MAX($A$1:A1291)+1,0)","v":0},"РусьНовоСтрой","NULL","NULL","NULL"]
[{"$f":"IF(ISNUMBER(SEARCH(F$1,B1293,1)),MAX($A$1:A1292)+1,0)","v":0},"Рухтехм Белоруссия","ООО «Рухтех»","Калинина Т.С","Голубев"]
[{"$f":"IF(ISNUMBER(SEARCH(F$1,B1294,1)),MAX($A$1:A1293)+1,0)","v":0},"РЭИ","РЭИ ООО","NULL","NULL"]
[{"$f":"IF(ISNUMBER(SEARCH(F$1,B1295,1)),MAX($A$1:A1294)+1,0)","v":0},"РЭИ-Алюмпроект","NULL","NULL","NULL"]
[{"$f":"IF(ISNUMBER(SEARCH(F$1,B1296,1)),MAX($A$1:A1295)+1,0)","v":0},"Рэйлюкс","Рэйлюкс ООО","Четверткова О.","Голубев"]
[{"$f":"IF(ISNUMBER(SEARCH(F$1,B1297,1)),MAX($A$1:A1296)+1,0)","v":0},"С.Т.О.","ООО \"С.Т.О.\"","NULL","NULL"]
[{"$f":"IF(ISNUMBER(SEARCH(F$1,B1298,1)),MAX($A$1:A1297)+1,0)","v":0},"САГ-Композит","САГ-КОМПОЗИТ ООО","Шабалина Е.В","NULL"]
[{"$f":"IF(ISNUMBER(SEARCH(F$1,B1299,1)),MAX($A$1:A1298)+1,0)","v":0},"Салинокс гласс","Салинокс гласс ООО","Четверткова О.","Голубев"]
[{"$f":"IF(ISNUMBER(SEARCH(F$1,B1300,1)),MAX($A$1:A1299)+1,0)","v":0},"Салон дверей Мичуринский","Салон дверей Мичуринский ООО","Четверткова О.","NULL"]
[{"$f":"IF(ISNUMBER(SEARCH(F$1,B1301,1)),MAX($A$1:A1300)+1,0)","v":0},"Салюме Лимитед","Салюме Лимитед ООО","NULL","NULL"]
[{"$f":"IF(ISNUMBER(SEARCH(F$1,B1302,1)),MAX($A$1:A1301)+1,0)","v":0},"САМ-МЕТ","САМ-МЕТ ООО","Маслова И.С","NULL"]
[{"$f":"IF(ISNUMBER(SEARCH(F$1,B1303,1)),MAX($A$1:A1302)+1,0)","v":0},"САН ПРО","САН ПРО ООО","Халдина О.Н","Халдина"]
[{"$f":"IF(ISNUMBER(SEARCH(F$1,B1304,1)),MAX($A$1:A1303)+1,0)","v":0},"Сангард","Сангард ООО","Борисова Э.Б","NULL"]
[{"$f":"IF(ISNUMBER(SEARCH(F$1,B1305,1)),MAX($A$1:A1304)+1,0)","v":0},"СанинскийДОК","Санинский ДОК ООО","Борисова Э.Б","NULL"]
[{"$f":"IF(ISNUMBER(SEARCH(F$1,B1306,1)),MAX($A$1:A1305)+1,0)","v":0},"Сан-Системс","Сан-Системс","Борисова Э.Б","Верхомий"]
[{"$f":"IF(ISNUMBER(SEARCH(F$1,B1307,1)),MAX($A$1:A1306)+1,0)","v":0},"Сантехпром","Сантехпром","NULL","Голубев"]
[{"$f":"IF(ISNUMBER(SEARCH(F$1,B1308,1)),MAX($A$1:A1307)+1,0)","v":0},"САНТИ","САНТИ ООО","Голубев А.С","NULL"]
[{"$f":"IF(ISNUMBER(SEARCH(F$1,B1309,1)),MAX($A$1:A1308)+1,0)","v":0},"Сантэл (поддоны","Сантэл (поддоны)","NULL","NULL"]
[{"$f":"IF(ISNUMBER(SEARCH(F$1,B1310,1)),MAX($A$1:A1309)+1,0)","v":0},"Сантэл 1","Сантэл ООО","Голубев А.С","NULL"]
[{"$f":"IF(ISNUMBER(SEARCH(F$1,B1311,1)),MAX($A$1:A1310)+1,0)","v":0},"Сапиторг ТД","Сапиторг ТД","NULL","Голубев"]
[{"$f":"IF(ISNUMBER(SEARCH(F$1,B1312,1)),MAX($A$1:A1311)+1,0)","v":0},"Сапфир"," \"Сапфир\" ООО","NULL","NULL"]
[{"$f":"IF(ISNUMBER(SEARCH(F$1,B1313,1)),MAX($A$1:A1312)+1,0)","v":0},"Сарайлы-М","Сарайлы-М","Верхомий И.Е","Верхомий"]
[{"$f":"IF(ISNUMBER(SEARCH(F$1,B1314,1)),MAX($A$1:A1313)+1,0)","v":0},"Сармант-ЮГ","Сармант-Юг ООО","Халдина О.Н","NULL"]
[{"$f":"IF(ISNUMBER(SEARCH(F$1,B1315,1)),MAX($A$1:A1314)+1,0)","v":0},"Сатурн","Сатурн ООО","Акафьева Т.","Акафьева"]
[{"$f":"IF(ISNUMBER(SEARCH(F$1,B1316,1)),MAX($A$1:A1315)+1,0)","v":0},"Сатурн (ЗАО)","ЗАО \"Светотехнический завод \"Сатурн\"","Горчаков Е.М","Горчаков"]
[{"$f":"IF(ISNUMBER(SEARCH(F$1,B1317,1)),MAX($A$1:A1316)+1,0)","v":0},"СБЛ- Регион"," \"СБЛ- Регион\" ООО","NULL","NULL"]
[{"$f":"IF(ISNUMBER(SEARCH(F$1,B1318,1)),MAX($A$1:A1317)+1,0)","v":0},"СБН-Конст (П)","СБН-Конструкция (поддон)","NULL","NULL"]
[{"$f":"IF(ISNUMBER(SEARCH(F$1,B1319,1)),MAX($A$1:A1318)+1,0)","v":0},"СБН-Конструк 1","СБН-Конструкция ООО","NULL","NULL"]
[{"$f":"IF(ISNUMBER(SEARCH(F$1,B1320,1)),MAX($A$1:A1319)+1,0)","v":0},"СБН-Конструкция","\"СБН-Конструкция\" ООО","NULL","NULL"]
[{"$f":"IF(ISNUMBER(SEARCH(F$1,B1321,1)),MAX($A$1:A1320)+1,0)","v":0},"СВА-Групп","СВА-Групп ООО","Четверткова О.","Голубев"]
[{"$f":"IF(ISNUMBER(SEARCH(F$1,B1322,1)),MAX($A$1:A1321)+1,0)","v":0},"Свет НН ","Свет НН ТД ООО","Калинина Т.С","Голубев"]
[{"$f":"IF(ISNUMBER(SEARCH(F$1,B1323,1)),MAX($A$1:A1322)+1,0)","v":0},"СВЕТ НПО","СВЕТ НПО ООО","Четверткова О.","NULL"]
[{"$f":"IF(ISNUMBER(SEARCH(F$1,B1324,1)),MAX($A$1:A1323)+1,0)","v":0},"СветЕвроСтиль","СветЕвроСтиль ООО","Голубев А.С","Голубев"]
[{"$f":"IF(ISNUMBER(SEARCH(F$1,B1325,1)),MAX($A$1:A1324)+1,0)","v":0},"СветКорпТесла","Световая корпорация Тесла ООО","Голубев А.С","NULL"]
[{"$f":"IF(ISNUMBER(SEARCH(F$1,B1326,1)),MAX($A$1:A1325)+1,0)","v":0},"СВЕТЛЫЕ ИДЕИ","СВЕТЛЫЕ ИДЕИ ООО","Шабалина Е.В","Голубев"]
[{"$f":"IF(ISNUMBER(SEARCH(F$1,B1327,1)),MAX($A$1:A1326)+1,0)","v":0},"Световод","ООО \"СВЕТОВОД\"","Горчаков Е.М","Горчаков"]
[{"$f":"IF(ISNUMBER(SEARCH(F$1,B1328,1)),MAX($A$1:A1327)+1,0)","v":0},"Световые Техн","\"Завод \"Световые технологии\"","NULL","NULL"]
[{"$f":"IF(ISNUMBER(SEARCH(F$1,B1329,1)),MAX($A$1:A1328)+1,0)","v":0},"Световые Технологии","Световые Технологии","NULL","Голубев"]
[{"$f":"IF(ISNUMBER(SEARCH(F$1,B1330,1)),MAX($A$1:A1329)+1,0)","v":0},"Светодиод-Люкс","Светодиод-Люкс ООО","Акафьева Т.","NULL"]
[{"$f":"IF(ISNUMBER(SEARCH(F$1,B1331,1)),MAX($A$1:A1330)+1,0)","v":0},"Светозар Завод","Светозар Завод ООО","Верхомий И.Е","NULL"]
[{"$f":"IF(ISNUMBER(SEARCH(F$1,B1332,1)),MAX($A$1:A1331)+1,0)","v":0},"Светон","ООО \"Светон\"","Горчаков Е.М","Горчаков"]
[{"$f":"IF(ISNUMBER(SEARCH(F$1,B1333,1)),MAX($A$1:A1332)+1,0)","v":0},"СветоПром","СветоПром ООО","Волчек Е.П","Голубев"]
[{"$f":"IF(ISNUMBER(SEARCH(F$1,B1334,1)),MAX($A$1:A1333)+1,0)","v":0},"Светорус","ООО «СВЕТОРУС»","Горчаков Е.М","Горчаков"]
[{"$f":"IF(ISNUMBER(SEARCH(F$1,B1335,1)),MAX($A$1:A1334)+1,0)","v":0},"Светотроника","Светотроника","NULL","Голубев"]
[{"$f":"IF(ISNUMBER(SEARCH(F$1,B1336,1)),MAX($A$1:A1335)+1,0)","v":0},"Светоч","ООО \"Светоч\"","Горчаков Е.М","Голубев"]
[{"$f":"IF(ISNUMBER(SEARCH(F$1,B1337,1)),MAX($A$1:A1336)+1,0)","v":0},"СВЕТРОН","ООО \"СВЕТРОН\"","Горчаков Е.М","Верхомий"]
[{"$f":"IF(ISNUMBER(SEARCH(F$1,B1338,1)),MAX($A$1:A1337)+1,0)","v":0},"СВЕТТЕХНОРЕСУРС","СВЕТТЕХНОРЕСУРС ООО ПК","Волчек Е.П","NULL"]
[{"$f":"IF(ISNUMBER(SEARCH(F$1,B1339,1)),MAX($A$1:A1338)+1,0)","v":0},"Свияна","Свияна ООО","Голубев А.С","Голубев"]
[{"$f":"IF(ISNUMBER(SEARCH(F$1,B1340,1)),MAX($A$1:A1339)+1,0)","v":0},"СВФ","СВФ ТОО","Калинина Т.С","Голубев"]
[{"$f":"IF(ISNUMBER(SEARCH(F$1,B1341,1)),MAX($A$1:A1340)+1,0)","v":0},"Святок-профи","РоксСити ООО","Борисова Э.Б","NULL"]
[{"$f":"IF(ISNUMBER(SEARCH(F$1,B1342,1)),MAX($A$1:A1341)+1,0)","v":0},"Северный Луч","Северный Луч ООО","Кочанова Т.В","NULL"]
[{"$f":"IF(ISNUMBER(SEARCH(F$1,B1343,1)),MAX($A$1:A1342)+1,0)","v":0},"Сегал ЛПЗ","ООО \"Литейно-Прессовый Завод \"Сегал\"","Тимофеева Н.Д","NULL"]
[{"$f":"IF(ISNUMBER(SEARCH(F$1,B1344,1)),MAX($A$1:A1343)+1,0)","v":0},"Сегал ТК","ООО \"Торговая компания \"Сегал\"","NULL","NULL"]
[{"$f":"IF(ISNUMBER(SEARCH(F$1,B1345,1)),MAX($A$1:A1344)+1,0)","v":0},"Сегал-Нева","Сегал-Нева  ООО","NULL","NULL"]
[{"$f":"IF(ISNUMBER(SEARCH(F$1,B1346,1)),MAX($A$1:A1345)+1,0)","v":0},"СЕДИНА НПК","НПК ИМ.СЕДИНА ООО","Акафьева Т.","Акафьева"]
[{"$f":"IF(ISNUMBER(SEARCH(F$1,B1347,1)),MAX($A$1:A1346)+1,0)","v":0},"СЕЛЕНА ооо","СЕЛЕНА ООО","Голубев А.С","NULL"]
[{"$f":"IF(ISNUMBER(SEARCH(F$1,B1348,1)),MAX($A$1:A1347)+1,0)","v":0},"Селена ТД","Селена ТД","NULL","NULL"]
[{"$f":"IF(ISNUMBER(SEARCH(F$1,B1349,1)),MAX($A$1:A1348)+1,0)","v":0},"СЕРВИС ПРЕМИУМ","СЕРВИС ПРЕМИУМ ООО","NULL","NULL"]
[{"$f":"IF(ISNUMBER(SEARCH(F$1,B1350,1)),MAX($A$1:A1349)+1,0)","v":0},"Сервиском","Сервиском ООО","Акафьева Т.","Акафьева"]
[{"$f":"IF(ISNUMBER(SEARCH(F$1,B1351,1)),MAX($A$1:A1350)+1,0)","v":0},"Серго","Завод имени Серго ООО","NULL","NULL"]
[{"$f":"IF(ISNUMBER(SEARCH(F$1,B1352,1)),MAX($A$1:A1351)+1,0)","v":0},"СерпуховМехЗд","Серпуховский механический завод","Акафьева Т.","Голубев"]
[{"$f":"IF(ISNUMBER(SEARCH(F$1,B1353,1)),MAX($A$1:A1352)+1,0)","v":0},"СИАЛ-Профиль","ООО \"СИАЛ-Профиль\"","NULL","NULL"]
[{"$f":"IF(ISNUMBER(SEARCH(F$1,B1354,1)),MAX($A$1:A1353)+1,0)","v":0},"Сибирь Карниз","Сибирь Карниз","Голубев А.С","Голубев"]
[{"$f":"IF(ISNUMBER(SEARCH(F$1,B1355,1)),MAX($A$1:A1354)+1,0)","v":0},"СИВ Трансхолод Дистрибьюшн","СИВ Трансхолод Дистрибьюшн ООО","Маслова И.С","Маслова"]
[{"$f":"IF(ISNUMBER(SEARCH(F$1,B1356,1)),MAX($A$1:A1355)+1,0)","v":0},"Сигмаком","Сигмаком ЗАО","NULL","NULL"]
[{"$f":"IF(ISNUMBER(SEARCH(F$1,B1357,1)),MAX($A$1:A1356)+1,0)","v":0},"Симплекс","Симплекс ООО","Жигач А.А","NULL"]
[{"$f":"IF(ISNUMBER(SEARCH(F$1,B1358,1)),MAX($A$1:A1357)+1,0)","v":0},"Симплекс (П)","Симплекс (поддон)","NULL","NULL"]
[{"$f":"IF(ISNUMBER(SEARCH(F$1,B1359,1)),MAX($A$1:A1358)+1,0)","v":0},"Симплекс 1","\"Симплекс\" ООО","NULL","NULL"]
[{"$f":"IF(ISNUMBER(SEARCH(F$1,B1360,1)),MAX($A$1:A1359)+1,0)","v":0},"Синдикат","Синдикат ООО","Маслова И.С","Голубев"]
[{"$f":"IF(ISNUMBER(SEARCH(F$1,B1361,1)),MAX($A$1:A1360)+1,0)","v":0},"Синекс","Синекс ООО","NULL","NULL"]
[{"$f":"IF(ISNUMBER(SEARCH(F$1,B1362,1)),MAX($A$1:A1361)+1,0)","v":0},"Синэкс","NULL","NULL","NULL"]
[{"$f":"IF(ISNUMBER(SEARCH(F$1,B1363,1)),MAX($A$1:A1362)+1,0)","v":0},"СИРИС","СИРИС ООО","Кочанова Т.В","NULL"]
[{"$f":"IF(ISNUMBER(SEARCH(F$1,B1364,1)),MAX($A$1:A1363)+1,0)","v":0},"Сириус Воронеж","Сириус ООО","Маслова И.С","NULL"]
[{"$f":"IF(ISNUMBER(SEARCH(F$1,B1365,1)),MAX($A$1:A1364)+1,0)","v":0},"Системный алюминий","Системный алюминий ЗАО","Маслова И.С","Маслова"]
[{"$f":"IF(ISNUMBER(SEARCH(F$1,B1366,1)),MAX($A$1:A1365)+1,0)","v":0},"Системы Автоматизации Производства","Системы Автоматизации Производства ООО","Халдина О.Н","Халдина"]
[{"$f":"IF(ISNUMBER(SEARCH(F$1,B1367,1)),MAX($A$1:A1366)+1,0)","v":0},"Системы КОДО","СИСТЕМЫ ОСВЕЩЕНИЯ КОДО","Козлова Ю.К","NULL"]
[{"$f":"IF(ISNUMBER(SEARCH(F$1,B1368,1)),MAX($A$1:A1367)+1,0)","v":0},"Системы ЛМК"," \"Системы ЛМК\" ООО","NULL","NULL"]
[{"$f":"IF(ISNUMBER(SEARCH(F$1,B1369,1)),MAX($A$1:A1368)+1,0)","v":0},"Системы Подачи Технических Газов","Системы Подачи Технических Газов ООО","Четверткова О.","Верхомий"]
[{"$f":"IF(ISNUMBER(SEARCH(F$1,B1370,1)),MAX($A$1:A1369)+1,0)","v":0},"СитиЛайф","СитиЛайф ООО","NULL","NULL"]
[{"$f":"IF(ISNUMBER(SEARCH(F$1,B1371,1)),MAX($A$1:A1370)+1,0)","v":0},"Сити-Лайф(подд)","Сити-Лайф (поддон)","NULL","NULL"]
[{"$f":"IF(ISNUMBER(SEARCH(F$1,B1372,1)),MAX($A$1:A1371)+1,0)","v":0},"Сити-тент","Сити-тент","NULL","NULL"]
[{"$f":"IF(ISNUMBER(SEARCH(F$1,B1373,1)),MAX($A$1:A1372)+1,0)","v":0},"СИТРОМА","СИТРОМА ООО","Акафьева Т.","NULL"]
[{"$f":"IF(ISNUMBER(SEARCH(F$1,B1374,1)),MAX($A$1:A1373)+1,0)","v":0},"СК \"Раяна\"","СК \"Раяна\"","Верхомий И.Е","Верхомий"]
[{"$f":"IF(ISNUMBER(SEARCH(F$1,B1375,1)),MAX($A$1:A1374)+1,0)","v":0},"СК Комфорт+","Строит Компания Комфорт ПлюсООО","Голубев А.С","NULL"]
[{"$f":"IF(ISNUMBER(SEARCH(F$1,B1376,1)),MAX($A$1:A1375)+1,0)","v":0},"СК Ленинград","СК Ленинград","Акафьева Т.","УК"]
[{"$f":"IF(ISNUMBER(SEARCH(F$1,B1377,1)),MAX($A$1:A1376)+1,0)","v":0},"СК ООО","\"СК\" ООО","Голубев А.С","NULL"]
[{"$f":"IF(ISNUMBER(SEARCH(F$1,B1378,1)),MAX($A$1:A1377)+1,0)","v":0},"СК СПЕЦСТРОЙ 16","ООО \"СК СПЕЦСТРОЙ 16\"","Верхомий И.Е","Верхомий"]
[{"$f":"IF(ISNUMBER(SEARCH(F$1,B1379,1)),MAX($A$1:A1378)+1,0)","v":0},"СК.Механизация","ООО \"СК Механизация\"","Верхомий И.Е","Верхомий"]
[{"$f":"IF(ISNUMBER(SEARCH(F$1,B1380,1)),MAX($A$1:A1379)+1,0)","v":0},"СКАЙ-ЛАЙТ ","СКАЙ-ЛАЙТ ООО","Верхомий И.Е","NULL"]
[{"$f":"IF(ISNUMBER(SEARCH(F$1,B1381,1)),MAX($A$1:A1380)+1,0)","v":0},"СК-БОНДА","СК-БОНДА ООО","Голубев А.С","NULL"]
[{"$f":"IF(ISNUMBER(SEARCH(F$1,B1382,1)),MAX($A$1:A1381)+1,0)","v":0},"СКС- Штакузит","СКС- Штакузит ООО","Горовая Т.А","NULL"]
[{"$f":"IF(ISNUMBER(SEARCH(F$1,B1383,1)),MAX($A$1:A1382)+1,0)","v":0},"СКС ШтакузитВ","СКС Штакузит  ООО","Шабалина Е.В","Шабалина"]
[{"$f":"IF(ISNUMBER(SEARCH(F$1,B1384,1)),MAX($A$1:A1383)+1,0)","v":0},"СКС2","СКС-Штакузит ООО","NULL","NULL"]
[{"$f":"IF(ISNUMBER(SEARCH(F$1,B1385,1)),MAX($A$1:A1384)+1,0)","v":0},"СКС-Штакуз (П)","СКС-Штакузит (поддон)","NULL","NULL"]
[{"$f":"IF(ISNUMBER(SEARCH(F$1,B1386,1)),MAX($A$1:A1385)+1,0)","v":0},"СКС-Штакузит 1","СКС-Штакузит 1ООО","NULL","NULL"]
[{"$f":"IF(ISNUMBER(SEARCH(F$1,B1387,1)),MAX($A$1:A1386)+1,0)","v":0},"СмартМ","СмартМ ООО","Маслова И.С","Маслова"]
[{"$f":"IF(ISNUMBER(SEARCH(F$1,B1388,1)),MAX($A$1:A1387)+1,0)","v":0},"СМАРТСТРОЙ","СМАРТСТРОЙ ООО","Маслова И.С","Верхомий"]
[{"$f":"IF(ISNUMBER(SEARCH(F$1,B1389,1)),MAX($A$1:A1388)+1,0)","v":0},"СМК","СМК ООО","Халдина О.Н","Халдина"]
[{"$f":"IF(ISNUMBER(SEARCH(F$1,B1390,1)),MAX($A$1:A1389)+1,0)","v":0},"Снабсервис руб","Снабсервис ООО","Шабалина Е.В","Шишкин "]
[{"$f":"IF(ISNUMBER(SEARCH(F$1,B1391,1)),MAX($A$1:A1390)+1,0)","v":0},"СОВАГРОТЕХ","СОВАГРОТЕХ ООО","Козлова Ю.К","NULL"]
[{"$f":"IF(ISNUMBER(SEARCH(F$1,B1392,1)),MAX($A$1:A1391)+1,0)","v":0},"Совиталпродмаш","Завод Совиталпродмаш ЗАО","Голубев А.С","NULL"]
[{"$f":"IF(ISNUMBER(SEARCH(F$1,B1393,1)),MAX($A$1:A1392)+1,0)","v":0},"СОДРУЖЕСТВО-ЯП","СОДРУЖЕСТВО-ЯП ООО","Козлова Ю.К","NULL"]
[{"$f":"IF(ISNUMBER(SEARCH(F$1,B1394,1)),MAX($A$1:A1393)+1,0)","v":0},"Солнцезащитные системы","Солнцезащитные системы ООО","Маслова И.С","Маслова"]
[{"$f":"IF(ISNUMBER(SEARCH(F$1,B1395,1)),MAX($A$1:A1394)+1,0)","v":0},"СолнцезащсистМинск","Солнцезащитные Системы ООО минск","Калинина Т.С","Голубев"]
[{"$f":"IF(ISNUMBER(SEARCH(F$1,B1396,1)),MAX($A$1:A1395)+1,0)","v":0},"СОЛО","Соло ООО","Голубев А.С","Голубев"]
[{"$f":"IF(ISNUMBER(SEARCH(F$1,B1397,1)),MAX($A$1:A1396)+1,0)","v":0},"Сотис"," \"Сотис\" ООО","NULL","NULL"]
[{"$f":"IF(ISNUMBER(SEARCH(F$1,B1398,1)),MAX($A$1:A1397)+1,0)","v":0},"СОФИТО","СОФИТО ООО","Голубев А.С","Голубев"]
[{"$f":"IF(ISNUMBER(SEARCH(F$1,B1399,1)),MAX($A$1:A1398)+1,0)","v":0},"Софос","Софос ЗАО ","Четверткова О.","Четверткова"]
[{"$f":"IF(ISNUMBER(SEARCH(F$1,B1400,1)),MAX($A$1:A1399)+1,0)","v":0},"Софос (поддоны)","Софос (поддоны)","NULL","NULL"]
[{"$f":"IF(ISNUMBER(SEARCH(F$1,B1401,1)),MAX($A$1:A1400)+1,0)","v":0},"Софос 1","Софос ПСК ООО","NULL","NULL"]
[{"$f":"IF(ISNUMBER(SEARCH(F$1,B1402,1)),MAX($A$1:A1401)+1,0)","v":0},"Союз Производителей Овощей","Национальный Союз Производителей Овощей","Верхомий И.Е","Верхомий"]
[{"$f":"IF(ISNUMBER(SEARCH(F$1,B1403,1)),MAX($A$1:A1402)+1,0)","v":0},"СоюзТехноТорг","СоюзТехноТорг","NULL","Голубев"]
[{"$f":"IF(ISNUMBER(SEARCH(F$1,B1404,1)),MAX($A$1:A1403)+1,0)","v":0},"СП СИТИ","СП СИТИ ООО","Шабалина Е.В","NULL"]
[{"$f":"IF(ISNUMBER(SEARCH(F$1,B1405,1)),MAX($A$1:A1404)+1,0)","v":0},"СПЕКТР СП","СПЕКТР СП ООО","Маслова И.С","Маслова"]
[{"$f":"IF(ISNUMBER(SEARCH(F$1,B1406,1)),MAX($A$1:A1405)+1,0)","v":0},"Спецавтотехника Белоруссия","ОАО  «Спецавтотехника», г. Бобруйск ","Калинина Т.С","Голубев"]
[{"$f":"IF(ISNUMBER(SEARCH(F$1,B1407,1)),MAX($A$1:A1406)+1,0)","v":0},"СпецГрупп-М","СпецГрупп-М ООО","Калинина Т.С","Голубев"]
[{"$f":"IF(ISNUMBER(SEARCH(F$1,B1408,1)),MAX($A$1:A1407)+1,0)","v":0},"Специальная Металлургия","Специальная Металлургия СПБ НПК","Четверткова О.","Голубев"]
[{"$f":"IF(ISNUMBER(SEARCH(F$1,B1409,1)),MAX($A$1:A1408)+1,0)","v":0},"СпецИмпульс","СпецимпульС ООО","Голубев А.С","Голубев"]
[{"$f":"IF(ISNUMBER(SEARCH(F$1,B1410,1)),MAX($A$1:A1409)+1,0)","v":0},"Спецкомплект_1","Спецкомплект ООО","Четверткова О.","Голубев"]
[{"$f":"IF(ISNUMBER(SEARCH(F$1,B1411,1)),MAX($A$1:A1410)+1,0)","v":0},"СпецМонтаж Газс","СпецМонтаж Газстрой","NULL","NULL"]
[{"$f":"IF(ISNUMBER(SEARCH(F$1,B1412,1)),MAX($A$1:A1411)+1,0)","v":0},"Спецсплав","\"Спецсплавиндустрия\" ООО","NULL","NULL"]
[{"$f":"IF(ISNUMBER(SEARCH(F$1,B1413,1)),MAX($A$1:A1412)+1,0)","v":0},"СПК Астра-ТМ","СПК Астра-ТМ","NULL","Голубев"]
[{"$f":"IF(ISNUMBER(SEARCH(F$1,B1414,1)),MAX($A$1:A1413)+1,0)","v":0},"СПК нев","СтройПластКонструкция ООО","NULL","NULL"]
[{"$f":"IF(ISNUMBER(SEARCH(F$1,B1415,1)),MAX($A$1:A1414)+1,0)","v":0},"СПК Р","СПК Р","Кочанова Т.В","NULL"]
[{"$f":"IF(ISNUMBER(SEARCH(F$1,B1416,1)),MAX($A$1:A1415)+1,0)","v":0},"Спорт Макс","Спорт Макс ООО","Четверткова О.","Голубев"]
[{"$f":"IF(ISNUMBER(SEARCH(F$1,B1417,1)),MAX($A$1:A1416)+1,0)","v":0},"СпортПродукт","СпортПродукт ООО","NULL","NULL"]
[{"$f":"IF(ISNUMBER(SEARCH(F$1,B1418,1)),MAX($A$1:A1417)+1,0)","v":0},"СПС","СПС Фирма ООО ","NULL","NULL"]
[{"$f":"IF(ISNUMBER(SEARCH(F$1,B1419,1)),MAX($A$1:A1418)+1,0)","v":0},"ССК ТД","Торговый дом ССК","Шабалина Е.В","NULL"]
[{"$f":"IF(ISNUMBER(SEARCH(F$1,B1420,1)),MAX($A$1:A1419)+1,0)","v":0},"Сталко ТД","СТАЛКО ТД ООО","Акафьева Т.","Акафьева"]
[{"$f":"IF(ISNUMBER(SEARCH(F$1,B1421,1)),MAX($A$1:A1420)+1,0)","v":0},"Стандарт","Стандарт ООО","Акафьева Т.","Акафьева"]
[{"$f":"IF(ISNUMBER(SEARCH(F$1,B1422,1)),MAX($A$1:A1421)+1,0)","v":0},"Стандарт-Электрик","Стандарт-Электрик ООО","Калинина Т.С","Верхомий"]
[{"$f":"IF(ISNUMBER(SEARCH(F$1,B1423,1)),MAX($A$1:A1422)+1,0)","v":0},"Станкомашстрой","Станкомашстрой","NULL","Голубев"]
[{"$f":"IF(ISNUMBER(SEARCH(F$1,B1424,1)),MAX($A$1:A1423)+1,0)","v":0},"Станкорич","Станкорич ООО","Голубев А.С","NULL"]
[{"$f":"IF(ISNUMBER(SEARCH(F$1,B1425,1)),MAX($A$1:A1424)+1,0)","v":0},"Старлекс","Старлекс ООО","Акафьева Т.","NULL"]
[{"$f":"IF(ISNUMBER(SEARCH(F$1,B1426,1)),MAX($A$1:A1425)+1,0)","v":0},"Стекло Групп","Стекло групп","NULL","Голубев"]
[{"$f":"IF(ISNUMBER(SEARCH(F$1,B1427,1)),MAX($A$1:A1426)+1,0)","v":0},"Стекломаш","Стекломаш ООО","Шабалина Е.В","Шабалина"]
[{"$f":"IF(ISNUMBER(SEARCH(F$1,B1428,1)),MAX($A$1:A1427)+1,0)","v":0},"Стекломаш (П)","Стекломаш (поддон)","NULL","NULL"]
[{"$f":"IF(ISNUMBER(SEARCH(F$1,B1429,1)),MAX($A$1:A1428)+1,0)","v":0},"Стекломаш -61","Стекломаш-61 ООО","Горовая Т.А","NULL"]
[{"$f":"IF(ISNUMBER(SEARCH(F$1,B1430,1)),MAX($A$1:A1429)+1,0)","v":0},"Стекломаш 7","Стекломаш 7 ООО","NULL","NULL"]
[{"$f":"IF(ISNUMBER(SEARCH(F$1,B1431,1)),MAX($A$1:A1430)+1,0)","v":0},"Стекломаш -81","Стекломаш -81 ООО","Горовая Т.А","NULL"]
[{"$f":"IF(ISNUMBER(SEARCH(F$1,B1432,1)),MAX($A$1:A1431)+1,0)","v":0},"Стекломаш-52","Стекломаш-52 ООО","NULL","NULL"]
[{"$f":"IF(ISNUMBER(SEARCH(F$1,B1433,1)),MAX($A$1:A1432)+1,0)","v":15},"СТИ 2023","СТИ ООО","Фролова А.Г","Фролова"]
[{"$f":"IF(ISNUMBER(SEARCH(F$1,B1434,1)),MAX($A$1:A1433)+1,0)","v":0},"СТИЛ","СТИЛ ООО","Маслова И.С","Голубев"]
[{"$f":"IF(ISNUMBER(SEARCH(F$1,B1435,1)),MAX($A$1:A1434)+1,0)","v":0},"Стилэкс Групп","Стилэкс Групп ООО","Халдина О.Н","Шишкин "]
[{"$f":"IF(ISNUMBER(SEARCH(F$1,B1436,1)),MAX($A$1:A1435)+1,0)","v":0},"Стимул К","Стимул К ООО","Кочанова Т.В","Голубев"]
[{"$f":"IF(ISNUMBER(SEARCH(F$1,B1437,1)),MAX($A$1:A1436)+1,0)","v":0},"Стинер","Стинер ООО ","Четверткова О.","Голубев"]
[{"$f":"IF(ISNUMBER(SEARCH(F$1,B1438,1)),MAX($A$1:A1437)+1,0)","v":0},"СТК Системы освещения","\"СТК Системы освещения\"","Горчаков Е.М","Горчаков"]
[{"$f":"IF(ISNUMBER(SEARCH(F$1,B1439,1)),MAX($A$1:A1438)+1,0)","v":0},"СторХан","СторХан ООО","Халдина О.Н","Голубев"]
[{"$f":"IF(ISNUMBER(SEARCH(F$1,B1440,1)),MAX($A$1:A1439)+1,0)","v":0},"Стрела","Стрела АО НПП","Горовая Т.А","NULL"]
[{"$f":"IF(ISNUMBER(SEARCH(F$1,B1441,1)),MAX($A$1:A1440)+1,0)","v":0},"Строй Навигатор","Строй Навигатор ООО","NULL","NULL"]
[{"$f":"IF(ISNUMBER(SEARCH(F$1,B1442,1)),MAX($A$1:A1441)+1,0)","v":0},"СТРОЙВЕНТЭЛ","СТРОЙВЕНТЭЛ ООО","Халдина О.Н","Голубев"]
[{"$f":"IF(ISNUMBER(SEARCH(F$1,B1443,1)),MAX($A$1:A1442)+1,0)","v":0},"СтройГазМонтаж","СтройГазМонтаж ООО","Голубев А.С","NULL"]
[{"$f":"IF(ISNUMBER(SEARCH(F$1,B1444,1)),MAX($A$1:A1443)+1,0)","v":0},"СтройГранд","NULL","NULL","NULL"]
[{"$f":"IF(ISNUMBER(SEARCH(F$1,B1445,1)),MAX($A$1:A1444)+1,0)","v":0},"Стройкомплекс","Стройкомплекс ООО","Четверткова О.","Мельников"]
[{"$f":"IF(ISNUMBER(SEARCH(F$1,B1446,1)),MAX($A$1:A1445)+1,0)","v":0},"Строймаркет_покраска","ООО \"Строймаркет\"","NULL","NULL"]
[{"$f":"IF(ISNUMBER(SEARCH(F$1,B1447,1)),MAX($A$1:A1446)+1,0)","v":0},"Строймода","Строймода ООО","Халдина О.Н","Голубев"]
[{"$f":"IF(ISNUMBER(SEARCH(F$1,B1448,1)),MAX($A$1:A1447)+1,0)","v":0},"СтройМонтаж1","СтройМонтаж","Голубев А.С","Голубев"]
[{"$f":"IF(ISNUMBER(SEARCH(F$1,B1449,1)),MAX($A$1:A1448)+1,0)","v":0},"СтройНавигатор","СтройНавигатор ХХI век ЗАО","NULL","NULL"]
[{"$f":"IF(ISNUMBER(SEARCH(F$1,B1450,1)),MAX($A$1:A1449)+1,0)","v":0},"СтройПласт","СтройПласт ООО","Маслова И.С","Верхомий"]
[{"$f":"IF(ISNUMBER(SEARCH(F$1,B1451,1)),MAX($A$1:A1450)+1,0)","v":0},"Стройремавто Белоруссия","Стройремавто УЧПП","Калинина Т.С","Голубев"]
[{"$f":"IF(ISNUMBER(SEARCH(F$1,B1452,1)),MAX($A$1:A1451)+1,0)","v":0},"СтройТехРесурсР","СтройТехРесурс ООО","Четверткова О.","Четверткова"]
[{"$f":"IF(ISNUMBER(SEARCH(F$1,B1453,1)),MAX($A$1:A1452)+1,0)","v":0},"СТРОЙТЭКС РУБ","СТРОЙТЭКС ООО","NULL","NULL"]
[{"$f":"IF(ISNUMBER(SEARCH(F$1,B1454,1)),MAX($A$1:A1453)+1,0)","v":0},"СТРОЙЭКО","СТРОЙЭКО ООО","Шабалина Е.В","Шабалина"]
[{"$f":"IF(ISNUMBER(SEARCH(F$1,B1455,1)),MAX($A$1:A1454)+1,0)","v":0},"СтрРесурс","СТРОЙРЕСУРС ООО","Верхомий И.Е","NULL"]
[{"$f":"IF(ISNUMBER(SEARCH(F$1,B1456,1)),MAX($A$1:A1455)+1,0)","v":0},"СтрСервис","Стройсервис ООО","NULL","NULL"]
[{"$f":"IF(ISNUMBER(SEARCH(F$1,B1457,1)),MAX($A$1:A1456)+1,0)","v":0},"СтрТех рубли","СтройТехРесурс ООО","NULL","NULL"]
[{"$f":"IF(ISNUMBER(SEARCH(F$1,B1458,1)),MAX($A$1:A1457)+1,0)","v":0},"СТ-Трейд","СТ-Трейд ООО","Четверткова О.","Четверткова"]
[{"$f":"IF(ISNUMBER(SEARCH(F$1,B1459,1)),MAX($A$1:A1458)+1,0)","v":0},"Ступинский Торговый Дом","Ступинский Торговый Дом ООО","Маслова И.С","Маслова"]
[{"$f":"IF(ISNUMBER(SEARCH(F$1,B1460,1)),MAX($A$1:A1459)+1,0)","v":0},"СУП","СУП АО","Четверткова О.","Голубев"]
[{"$f":"IF(ISNUMBER(SEARCH(F$1,B1461,1)),MAX($A$1:A1460)+1,0)","v":0},"СУПЕРБА Украина","СУПЕРБА  ООО","Калинина Т.С","Верхомий"]
[{"$f":"IF(ISNUMBER(SEARCH(F$1,B1462,1)),MAX($A$1:A1461)+1,0)","v":0},"Супермаркет Фурнитуры","Супермаркет Фурнитуры ООО","Маслова И.С","NULL"]
[{"$f":"IF(ISNUMBER(SEARCH(F$1,B1463,1)),MAX($A$1:A1462)+1,0)","v":0},"СФЕРА ТД","СФЕРА ТД ООО","Шабалина Е.В","NULL"]
[{"$f":"IF(ISNUMBER(SEARCH(F$1,B1464,1)),MAX($A$1:A1463)+1,0)","v":0},"Сферра","Сферра ООО","Верхомий И.Е","NULL"]
[{"$f":"IF(ISNUMBER(SEARCH(F$1,B1465,1)),MAX($A$1:A1464)+1,0)","v":0},"Сыроегин Г.Ю.","ВОГ-Трейд Кампания ООО","Кочанова Т.В","NULL"]
[{"$f":"IF(ISNUMBER(SEARCH(F$1,B1466,1)),MAX($A$1:A1465)+1,0)","v":0},"Сыроегин руб 1","Сыроегин Г.Ю.ПЮБОИЛ ","Маслова И.С","NULL"]
[{"$f":"IF(ISNUMBER(SEARCH(F$1,B1467,1)),MAX($A$1:A1466)+1,0)","v":0},"С-ЭЛИТА","С-ЭЛИТА ООО","Голубев А.С","NULL"]
[{"$f":"IF(ISNUMBER(SEARCH(F$1,B1468,1)),MAX($A$1:A1467)+1,0)","v":0},"Т.Б.М. Бел"," \"Т.Б.М. Бел\" ООО","NULL","NULL"]
[{"$f":"IF(ISNUMBER(SEARCH(F$1,B1469,1)),MAX($A$1:A1468)+1,0)","v":0},"Т.Б.М.-Логистик АО","АО \"Т.Б.М.-Логистик\"","NULL","Верхомий"]
[{"$f":"IF(ISNUMBER(SEARCH(F$1,B1470,1)),MAX($A$1:A1469)+1,0)","v":0},"Т.С.Т.","ЗАО \"Т.С.Т.\"","Горчаков Е.М","Горчаков"]
[{"$f":"IF(ISNUMBER(SEARCH(F$1,B1471,1)),MAX($A$1:A1470)+1,0)","v":0},"Тадаз","Тадаз","NULL","NULL"]
[{"$f":"IF(ISNUMBER(SEARCH(F$1,B1472,1)),MAX($A$1:A1471)+1,0)","v":0},"ТадКон (покуп)","\"ТадКон\" ООО","NULL","NULL"]
[{"$f":"IF(ISNUMBER(SEARCH(F$1,B1473,1)),MAX($A$1:A1472)+1,0)","v":0},"Талисман ПОК Украина","Талисман ПОК","Калинина Т.С","Калинина"]
[{"$f":"IF(ISNUMBER(SEARCH(F$1,B1474,1)),MAX($A$1:A1473)+1,0)","v":0},"ТапанарТрейдПОК","ТапанарТрейдПОК","NULL","NULL"]
[{"$f":"IF(ISNUMBER(SEARCH(F$1,B1475,1)),MAX($A$1:A1474)+1,0)","v":0},"ТАТПРОФ","ТАТПРОФ АО","Кочанова Т.В","NULL"]
[{"$f":"IF(ISNUMBER(SEARCH(F$1,B1476,1)),MAX($A$1:A1475)+1,0)","v":0},"ТатСтройСталь","ТатСтройСталь ООО","NULL","NULL"]
[{"$f":"IF(ISNUMBER(SEARCH(F$1,B1477,1)),MAX($A$1:A1476)+1,0)","v":0},"ТБМ АО","ТБМ-Логистик АО","Шабалина Е.В","УК"]
[{"$f":"IF(ISNUMBER(SEARCH(F$1,B1478,1)),MAX($A$1:A1477)+1,0)","v":0},"ТБМ Бел","NULL","NULL","NULL"]
[{"$f":"IF(ISNUMBER(SEARCH(F$1,B1479,1)),MAX($A$1:A1478)+1,0)","v":0},"ТБМ ДАЛЬ","ТБМ ДАЛЬ ООО","Борисова Э.Б","Верхомий"]
[{"$f":"IF(ISNUMBER(SEARCH(F$1,B1480,1)),MAX($A$1:A1479)+1,0)","v":0},"ТБМ ООО","ТБМ ООО","Шабалина Е.В","УК"]
[{"$f":"IF(ISNUMBER(SEARCH(F$1,B1481,1)),MAX($A$1:A1480)+1,0)","v":0},"ТБМ Поволжье","ТБМ Поволжье ООО","Борисова Э.Б","Верхомий"]
[{"$f":"IF(ISNUMBER(SEARCH(F$1,B1482,1)),MAX($A$1:A1481)+1,0)","v":0},"ТБМ Урал","Т.Б.М. - Урал ООО","Шабалина Е.В","Верхомий"]
[{"$f":"IF(ISNUMBER(SEARCH(F$1,B1483,1)),MAX($A$1:A1482)+1,0)","v":0},"ТБМ Черноз руб","ТБМ-Черноземье ООО","Борисова Э.Б","Верхомий"]
[{"$f":"IF(ISNUMBER(SEARCH(F$1,B1484,1)),MAX($A$1:A1483)+1,0)","v":0},"ТБМ юг","Т.Б.М.-Юг ООО","Шабалина Е.В","Верхомий"]
[{"$f":"IF(ISNUMBER(SEARCH(F$1,B1485,1)),MAX($A$1:A1484)+1,0)","v":0},"тбм(поставщик)","тбм(поставщик)","NULL","NULL"]
[{"$f":"IF(ISNUMBER(SEARCH(F$1,B1486,1)),MAX($A$1:A1485)+1,0)","v":0},"ТБМ1","Дэникс ООО","NULL","NULL"]
[{"$f":"IF(ISNUMBER(SEARCH(F$1,B1487,1)),MAX($A$1:A1486)+1,0)","v":0},"ТБМ-Питер","ТБМ-Петербург ООО","NULL","Верхомий"]
[{"$f":"IF(ISNUMBER(SEARCH(F$1,B1488,1)),MAX($A$1:A1487)+1,0)","v":0},"ТБМ-Приволжье","ТБМ-Приволжье ООО","Борисова Э.Б","Верхомий"]
[{"$f":"IF(ISNUMBER(SEARCH(F$1,B1489,1)),MAX($A$1:A1488)+1,0)","v":0},"ТБМ-Север","ТБМ-Север ООО","Борисова Э.Б","Верхомий"]
[{"$f":"IF(ISNUMBER(SEARCH(F$1,B1490,1)),MAX($A$1:A1489)+1,0)","v":0},"ТБМ-Сибирь","ТБМ-Сибирь ООО","Борисова Э.Б","Верхомий"]
[{"$f":"IF(ISNUMBER(SEARCH(F$1,B1491,1)),MAX($A$1:A1490)+1,0)","v":0},"ТБМ-Черноземье","ТБМ-Черноземье ООО","Борисова Э.Б","Верхомий"]
[{"$f":"IF(ISNUMBER(SEARCH(F$1,B1492,1)),MAX($A$1:A1491)+1,0)","v":16},"ТверБульв0837","Тверской Бульвар0837","Голубев А.С","Голубев"]
[{"$f":"IF(ISNUMBER(SEARCH(F$1,B1493,1)),MAX($A$1:A1492)+1,0)","v":0},"Тверской бульвар","Тверкой бульвар ООО","Голубев А.С","Голубев"]
[{"$f":"IF(ISNUMBER(SEARCH(F$1,B1494,1)),MAX($A$1:A1493)+1,0)","v":0},"ТВО Грант","ТВО Грант ООО","NULL","NULL"]
[{"$f":"IF(ISNUMBER(SEARCH(F$1,B1495,1)),MAX($A$1:A1494)+1,0)","v":0},"ТВЭЛ-ИНВЕСТ","ТВЭЛ-ИНВЕСТ ЗАО","NULL","NULL"]
[{"$f":"IF(ISNUMBER(SEARCH(F$1,B1496,1)),MAX($A$1:A1495)+1,0)","v":0},"ТД  АГАТ","Агат Торговый дом ООО","NULL","NULL"]
[{"$f":"IF(ISNUMBER(SEARCH(F$1,B1497,1)),MAX($A$1:A1496)+1,0)","v":0},"ТД Радикаль","РадикальТД ООО","NULL","NULL"]
[{"$f":"IF(ISNUMBER(SEARCH(F$1,B1498,1)),MAX($A$1:A1497)+1,0)","v":0},"Тегас Электрик","ООО \"Тегас Электрик\"","Верхомий И.Е","Верхомий"]
[{"$f":"IF(ISNUMBER(SEARCH(F$1,B1499,1)),MAX($A$1:A1498)+1,0)","v":0},"Тека Энтерпрайз","Тека Энтерпрайз ООО","Голубев А.С","NULL"]
[{"$f":"IF(ISNUMBER(SEARCH(F$1,B1500,1)),MAX($A$1:A1499)+1,0)","v":0},"ТЕКНАЛ","СтройКомплект","NULL","NULL"]
[{"$f":"IF(ISNUMBER(SEARCH(F$1,B1501,1)),MAX($A$1:A1500)+1,0)","v":0},"Текта","Текта ООО","Борисова Э.Б","NULL"]
[{"$f":"IF(ISNUMBER(SEARCH(F$1,B1502,1)),MAX($A$1:A1501)+1,0)","v":0},"ТЕНТЕК","ТЕНТЕК ООО","Голубев А.С","NULL"]
[{"$f":"IF(ISNUMBER(SEARCH(F$1,B1503,1)),MAX($A$1:A1502)+1,0)","v":0},"Тенткрафт","Тенткрафт ООО","Четверткова О.","Четверткова"]
[{"$f":"IF(ISNUMBER(SEARCH(F$1,B1504,1)),MAX($A$1:A1503)+1,0)","v":0},"Теплицы Люкс","Теплицы Люкс","NULL","Голубев"]
[{"$f":"IF(ISNUMBER(SEARCH(F$1,B1505,1)),MAX($A$1:A1504)+1,0)","v":0},"Тепло для Дома","Тепло для Дома","NULL","Голубев"]
[{"$f":"IF(ISNUMBER(SEARCH(F$1,B1506,1)),MAX($A$1:A1505)+1,0)","v":0},"Тепло стиль","Тепло Стиль","NULL","Голубев"]
[{"$f":"IF(ISNUMBER(SEARCH(F$1,B1507,1)),MAX($A$1:A1506)+1,0)","v":0},"ТеплоЛюкс","ТеплоЛюкс ООО","NULL","NULL"]
[{"$f":"IF(ISNUMBER(SEARCH(F$1,B1508,1)),MAX($A$1:A1507)+1,0)","v":0},"Тепломекс","Тепломекс","NULL","Голубев"]
[{"$f":"IF(ISNUMBER(SEARCH(F$1,B1509,1)),MAX($A$1:A1508)+1,0)","v":0},"Тепломир","Тепломир ООО","Жигач А.А","NULL"]
[{"$f":"IF(ISNUMBER(SEARCH(F$1,B1510,1)),MAX($A$1:A1509)+1,0)","v":0},"Теплорада ","Теплорада ООО","Четверткова О.","NULL"]
[{"$f":"IF(ISNUMBER(SEARCH(F$1,B1511,1)),MAX($A$1:A1510)+1,0)","v":0},"ТеплоЭлементК","ТеплоЭлементК ООО","Маслова И.С","Маслова"]
[{"$f":"IF(ISNUMBER(SEARCH(F$1,B1512,1)),MAX($A$1:A1511)+1,0)","v":0},"ТЕРМОИНТЕХ","ТЕРМОИНТЕХ ООО","Верхомий И.Е","NULL"]
[{"$f":"IF(ISNUMBER(SEARCH(F$1,B1513,1)),MAX($A$1:A1512)+1,0)","v":0},"Термопроф","Термопроф ООО","Козлова Ю.К","NULL"]
[{"$f":"IF(ISNUMBER(SEARCH(F$1,B1514,1)),MAX($A$1:A1513)+1,0)","v":0},"Термосервис"," МП \" Термосервис\" ООО","NULL","NULL"]
[{"$f":"IF(ISNUMBER(SEARCH(F$1,B1515,1)),MAX($A$1:A1514)+1,0)","v":0},"Территория уюта","Территория уюта ООО","Верхомий И.Е","NULL"]
[{"$f":"IF(ISNUMBER(SEARCH(F$1,B1516,1)),MAX($A$1:A1515)+1,0)","v":0},"ТехЛайт","ТехЛайт ООО","Борисова Э.Б","Голубев"]
[{"$f":"IF(ISNUMBER(SEARCH(F$1,B1517,1)),MAX($A$1:A1516)+1,0)","v":0},"Техно Логика ООО","Техно Логика","NULL","Голубев"]
[{"$f":"IF(ISNUMBER(SEARCH(F$1,B1518,1)),MAX($A$1:A1517)+1,0)","v":17},"ТЕХНО2015","\"ТЕХНО\" ООО","Четверткова О.","Голубев"]
[{"$f":"IF(ISNUMBER(SEARCH(F$1,B1519,1)),MAX($A$1:A1518)+1,0)","v":0},"Техноимпульс","Техноимпульс","NULL","Голубев"]
[{"$f":"IF(ISNUMBER(SEARCH(F$1,B1520,1)),MAX($A$1:A1519)+1,0)","v":0},"Техноком","\"ТД Техноком\" ООО","NULL","NULL"]
[{"$f":"IF(ISNUMBER(SEARCH(F$1,B1521,1)),MAX($A$1:A1520)+1,0)","v":0},"Технокомплект","Технокомплект ДВ ООО","Шабалина Е.В","NULL"]
[{"$f":"IF(ISNUMBER(SEARCH(F$1,B1522,1)),MAX($A$1:A1521)+1,0)","v":0},"Технокон ОПК","Технокон ОПК ООО","Кочанова Т.В","NULL"]
[{"$f":"IF(ISNUMBER(SEARCH(F$1,B1523,1)),MAX($A$1:A1522)+1,0)","v":0},"Технолайт","Технолайт","Голубев А.С","NULL"]
[{"$f":"IF(ISNUMBER(SEARCH(F$1,B1524,1)),MAX($A$1:A1523)+1,0)","v":0},"Технологии света","Технологии света","NULL","Голубев"]
[{"$f":"IF(ISNUMBER(SEARCH(F$1,B1525,1)),MAX($A$1:A1524)+1,0)","v":0},"Техно-Логика","ТЕХНО-ЛОГИКА ООО","Маслова И.С","Маслова"]
[{"$f":"IF(ISNUMBER(SEARCH(F$1,B1526,1)),MAX($A$1:A1525)+1,0)","v":0},"Технология Простран","Технология Пространства ООО","Голубев А.С","NULL"]
[{"$f":"IF(ISNUMBER(SEARCH(F$1,B1527,1)),MAX($A$1:A1526)+1,0)","v":0},"Технология ПТК","Технология ПТК ООО","Маслова И.С","Маслова"]
[{"$f":"IF(ISNUMBER(SEARCH(F$1,B1528,1)),MAX($A$1:A1527)+1,0)","v":0},"Технология успеха","Технология успеха ООО","Козлова Ю.К","NULL"]
[{"$f":"IF(ISNUMBER(SEARCH(F$1,B1529,1)),MAX($A$1:A1528)+1,0)","v":0},"ТЕХНОМАШ","ТЕХНОМАШ ООО","Маслова И.С","Голубев"]
[{"$f":"IF(ISNUMBER(SEARCH(F$1,B1530,1)),MAX($A$1:A1529)+1,0)","v":0},"ТехноМостИнжиниринг","ТехноМостИнжиниринг ООО","Шабалина Е.В","NULL"]
[{"$f":"IF(ISNUMBER(SEARCH(F$1,B1531,1)),MAX($A$1:A1530)+1,0)","v":0},"Техноплекс","Техноплекс ООО","Калинина Т.С","Голубев"]
[{"$f":"IF(ISNUMBER(SEARCH(F$1,B1532,1)),MAX($A$1:A1531)+1,0)","v":0},"ТЕХНОРЕСУРС","ТЕХНОРЕСУРС ООО","NULL","NULL"]
[{"$f":"IF(ISNUMBER(SEARCH(F$1,B1533,1)),MAX($A$1:A1532)+1,0)","v":0},"Техносвет групп","Техносвет групп ООО","Маслова И.С","Мельников"]
[{"$f":"IF(ISNUMBER(SEARCH(F$1,B1534,1)),MAX($A$1:A1533)+1,0)","v":0},"Техносити","Техносити","Халдина О.Н","NULL"]
[{"$f":"IF(ISNUMBER(SEARCH(F$1,B1535,1)),MAX($A$1:A1534)+1,0)","v":0},"Техностиль",null,"Акафьева Т.","NULL"]
[{"$f":"IF(ISNUMBER(SEARCH(F$1,B1536,1)),MAX($A$1:A1535)+1,0)","v":0},"ТЕХНОТЕМП","ТЕХНОТЕМП ООО","Калинина Т.С","Калинина"]
[{"$f":"IF(ISNUMBER(SEARCH(F$1,B1537,1)),MAX($A$1:A1536)+1,0)","v":0},"Технохолод","Технохолод ООО","Маслова И.С","NULL"]
[{"$f":"IF(ISNUMBER(SEARCH(F$1,B1538,1)),MAX($A$1:A1537)+1,0)","v":0},"Техноцентр","Техноцентр Компания ООО","NULL","NULL"]
[{"$f":"IF(ISNUMBER(SEARCH(F$1,B1539,1)),MAX($A$1:A1538)+1,0)","v":0},"ТехПромИмпорт","ТехПромИмпорт","Халдина О.Н","Голубев"]
[{"$f":"IF(ISNUMBER(SEARCH(F$1,B1540,1)),MAX($A$1:A1539)+1,0)","v":0},"Техсервис","Техсервис ООО","NULL","NULL"]
[{"$f":"IF(ISNUMBER(SEARCH(F$1,B1541,1)),MAX($A$1:A1540)+1,0)","v":0},"ТехСтройМонтаж","ТехСтройМонтаж ООО","Кочанова Т.В","NULL"]
[{"$f":"IF(ISNUMBER(SEARCH(F$1,B1542,1)),MAX($A$1:A1541)+1,0)","v":0},"ТехСтройПроект","ООО \"ТехСтройПроект\"","NULL","NULL"]
[{"$f":"IF(ISNUMBER(SEARCH(F$1,B1543,1)),MAX($A$1:A1542)+1,0)","v":0},"Техстройпроект2","\"Техстройпроект\" ООО","NULL","NULL"]
[{"$f":"IF(ISNUMBER(SEARCH(F$1,B1544,1)),MAX($A$1:A1543)+1,0)","v":0},"ТехстройпроектВ","Техстройпроект ООО","NULL","NULL"]
[{"$f":"IF(ISNUMBER(SEARCH(F$1,B1545,1)),MAX($A$1:A1544)+1,0)","v":0},"ТИАНА","ТИАНА-Полимер ООО","Борисова Э.Б","NULL"]
[{"$f":"IF(ISNUMBER(SEARCH(F$1,B1546,1)),MAX($A$1:A1545)+1,0)","v":0},"Тимберлэнд","Тимберлэнд СОДО","Верхомий И.Е","NULL"]
[{"$f":"IF(ISNUMBER(SEARCH(F$1,B1547,1)),MAX($A$1:A1546)+1,0)","v":18},"Титан_16.08.2018","титан ООО","Четверткова О.","Четверткова"]
[{"$f":"IF(ISNUMBER(SEARCH(F$1,B1548,1)),MAX($A$1:A1547)+1,0)","v":19},"Титан2015","Титан","Четверткова О.","Голубев"]
[{"$f":"IF(ISNUMBER(SEARCH(F$1,B1549,1)),MAX($A$1:A1548)+1,0)","v":0},"ТМ Системс ","ТМ Системс ООО","Волчек Е.П","NULL"]
[{"$f":"IF(ISNUMBER(SEARCH(F$1,B1550,1)),MAX($A$1:A1549)+1,0)","v":0},"ТМИ","ТМИ ООО","Голубев А.С","NULL"]
[{"$f":"IF(ISNUMBER(SEARCH(F$1,B1551,1)),MAX($A$1:A1550)+1,0)","v":0},"ТольяттиТехСтекло","ТольяттиТехСтекло","NULL","Голубев"]
[{"$f":"IF(ISNUMBER(SEARCH(F$1,B1552,1)),MAX($A$1:A1551)+1,0)","v":0},"Тонар ","Тонар МашСтроит Завод ООО ","Халдина О.Н","Голубев"]
[{"$f":"IF(ISNUMBER(SEARCH(F$1,B1553,1)),MAX($A$1:A1552)+1,0)","v":0},"Тонар БУФЕР","Тонар БУФЕР","Голубев А.С","NULL"]
[{"$f":"IF(ISNUMBER(SEARCH(F$1,B1554,1)),MAX($A$1:A1553)+1,0)","v":0},"Топ ГласПок","Топ ГласПок","NULL","NULL"]
[{"$f":"IF(ISNUMBER(SEARCH(F$1,B1555,1)),MAX($A$1:A1554)+1,0)","v":0},"ТОП ПРОФИЛЬ","ТОП ПРОФИЛЬ ООО","Халдина О.Н","NULL"]
[{"$f":"IF(ISNUMBER(SEARCH(F$1,B1556,1)),MAX($A$1:A1555)+1,0)","v":0},"ТОП-ЛАЙН","ТОП-ЛАЙН","Халдина О.Н","Голубев"]
[{"$f":"IF(ISNUMBER(SEARCH(F$1,B1557,1)),MAX($A$1:A1556)+1,0)","v":0},"ТопливоБартерКо","Топливо бартерная компания ООО","NULL","NULL"]
[{"$f":"IF(ISNUMBER(SEARCH(F$1,B1558,1)),MAX($A$1:A1557)+1,0)","v":0},"Тор. Дом \"МАК\"","NULL","NULL","NULL"]
[{"$f":"IF(ISNUMBER(SEARCH(F$1,B1559,1)),MAX($A$1:A1558)+1,0)","v":0},"ТОРГКОМПЛЕКТ","ТОРГКОМПЛЕКТ ООО","Козлова Ю.К","NULL"]
[{"$f":"IF(ISNUMBER(SEARCH(F$1,B1560,1)),MAX($A$1:A1559)+1,0)","v":0},"Торговое оборуд","NULL","NULL","NULL"]
[{"$f":"IF(ISNUMBER(SEARCH(F$1,B1561,1)),MAX($A$1:A1560)+1,0)","v":0},"ТОРГОВЫЙ ДОМ ССК","ТОРГОВЫЙ ДОМ ССК","Борисова Э.Б","Шишкин "]
[{"$f":"IF(ISNUMBER(SEARCH(F$1,B1562,1)),MAX($A$1:A1561)+1,0)","v":0},"Тотал","Тотал ООО","Жигач А.А","NULL"]
[{"$f":"IF(ISNUMBER(SEARCH(F$1,B1563,1)),MAX($A$1:A1562)+1,0)","v":0},"Тотал М","Тотал М ООО","Голубев А.С","NULL"]
[{"$f":"IF(ISNUMBER(SEARCH(F$1,B1564,1)),MAX($A$1:A1563)+1,0)","v":0},"Тотал_покраска","Тотал_покраска","NULL","NULL"]
[{"$f":"IF(ISNUMBER(SEARCH(F$1,B1565,1)),MAX($A$1:A1564)+1,0)","v":0},"Точмаш","ВПО Точмаш","NULL","NULL"]
[{"$f":"IF(ISNUMBER(SEARCH(F$1,B1566,1)),MAX($A$1:A1565)+1,0)","v":0},"Травира","Травира ООО","NULL","NULL"]
[{"$f":"IF(ISNUMBER(SEARCH(F$1,B1567,1)),MAX($A$1:A1566)+1,0)","v":0},"Травира_Групп","Травира Групп ОДО","NULL","NULL"]
[{"$f":"IF(ISNUMBER(SEARCH(F$1,B1568,1)),MAX($A$1:A1567)+1,0)","v":0},"Тракон","ЗАО \"Тракон\"","Горчаков Е.М","Горчаков"]
[{"$f":"IF(ISNUMBER(SEARCH(F$1,B1569,1)),MAX($A$1:A1568)+1,0)","v":0},"ТрансГарант","ТрансГарант ООО","Калинина Т.С","Верхомий"]
[{"$f":"IF(ISNUMBER(SEARCH(F$1,B1570,1)),MAX($A$1:A1569)+1,0)","v":0},"Трансинжиниринг","Трансинжиниринг ОО","Голубев А.С","Голубев"]
[{"$f":"IF(ISNUMBER(SEARCH(F$1,B1571,1)),MAX($A$1:A1570)+1,0)","v":0},"Транском","ООО \"Производственно-коммерческая фирма \"Транском\"","Верхомий И.Е","Верхомий"]
[{"$f":"IF(ISNUMBER(SEARCH(F$1,B1572,1)),MAX($A$1:A1571)+1,0)","v":0},"Транскомплектац","Транскомплектация ООО","NULL","NULL"]
[{"$f":"IF(ISNUMBER(SEARCH(F$1,B1573,1)),MAX($A$1:A1572)+1,0)","v":0},"Транспрогрес","Транспрогресс","Козлова Ю.К","NULL"]
[{"$f":"IF(ISNUMBER(SEARCH(F$1,B1574,1)),MAX($A$1:A1573)+1,0)","v":0},"ТРВ-инжиниринг","ТРВ-инжиниринг АО","Маслова И.С","Верхомий"]
[{"$f":"IF(ISNUMBER(SEARCH(F$1,B1575,1)),MAX($A$1:A1574)+1,0)","v":0},"Трейдал","Трейдал ООО","Шабалина Е.В","Шишкин "]
[{"$f":"IF(ISNUMBER(SEARCH(F$1,B1576,1)),MAX($A$1:A1575)+1,0)","v":0},"Трейлер"," \"Трейлер\" ООО","NULL","NULL"]
[{"$f":"IF(ISNUMBER(SEARCH(F$1,B1577,1)),MAX($A$1:A1576)+1,0)","v":0},"ТРЕСТ","ТРЕСТ-Фурнитура","NULL","NULL"]
[{"$f":"IF(ISNUMBER(SEARCH(F$1,B1578,1)),MAX($A$1:A1577)+1,0)","v":0},"Тривитек","Тривитек ООО","Акафьева Т.","NULL"]
[{"$f":"IF(ISNUMBER(SEARCH(F$1,B1579,1)),MAX($A$1:A1578)+1,0)","v":0},"Тритон","Тритон ООО","Маслова И.С","Голубев"]
[{"$f":"IF(ISNUMBER(SEARCH(F$1,B1580,1)),MAX($A$1:A1579)+1,0)","v":0},"Три-эл","\"Три-эл\" ООО","NULL","NULL"]
[{"$f":"IF(ISNUMBER(SEARCH(F$1,B1581,1)),MAX($A$1:A1580)+1,0)","v":0},"ТрубноеРешение","Трубное Решение ПО ООО","Голубев А.С","NULL"]
[{"$f":"IF(ISNUMBER(SEARCH(F$1,B1582,1)),MAX($A$1:A1581)+1,0)","v":0},"ТСК ООО","Технологическая Сервисная Компания ООО","Маслова И.С","NULL"]
[{"$f":"IF(ISNUMBER(SEARCH(F$1,B1583,1)),MAX($A$1:A1582)+1,0)","v":0},"ТЭН ОАО","ТЭН ОАО","Четверткова О.","Голубев"]
[{"$f":"IF(ISNUMBER(SEARCH(F$1,B1584,1)),MAX($A$1:A1583)+1,0)","v":0},"УКРЛЕД Украина","УКРЛЕД ООО","Калинина Т.С","Калинина"]
[{"$f":"IF(ISNUMBER(SEARCH(F$1,B1585,1)),MAX($A$1:A1584)+1,0)","v":0},"Укрпроф Украина","Укрпроф ООО","Калинина Т.С","Калинина"]
[{"$f":"IF(ISNUMBER(SEARCH(F$1,B1586,1)),MAX($A$1:A1585)+1,0)","v":0},"Универсал-Аэро","Универсал-Аэро ЗАО","Четверткова О.","Мельников"]
[{"$f":"IF(ISNUMBER(SEARCH(F$1,B1587,1)),MAX($A$1:A1586)+1,0)","v":0},"УниверсалЭнерго","ООО \"УниверсалЭнерго\"","Горчаков Е.М","Горчаков"]
[{"$f":"IF(ISNUMBER(SEARCH(F$1,B1588,1)),MAX($A$1:A1587)+1,0)","v":0},"УниСтрой","NULL","NULL","NULL"]
[{"$f":"IF(ISNUMBER(SEARCH(F$1,B1589,1)),MAX($A$1:A1588)+1,0)","v":0},"Урал Металл Экспорт","Урал Металл Экспорт ООО","Маслова И.С","Голубев"]
[{"$f":"IF(ISNUMBER(SEARCH(F$1,B1590,1)),MAX($A$1:A1589)+1,0)","v":0},"УралЗаводЭлектротех","УЗЭТ ООО","Акафьева Т.","Голубев"]
[{"$f":"IF(ISNUMBER(SEARCH(F$1,B1591,1)),MAX($A$1:A1590)+1,0)","v":0},"Уралтехнокомплект","Уралтехнокомплект","NULL","Голубев"]
[{"$f":"IF(ISNUMBER(SEARCH(F$1,B1592,1)),MAX($A$1:A1591)+1,0)","v":0},"УРОВЕНЬ","УРОВЕНЬ ООО","Шабалина Е.В","NULL"]
[{"$f":"IF(ISNUMBER(SEARCH(F$1,B1593,1)),MAX($A$1:A1592)+1,0)","v":0},"УСПК","УСПК ООО","Халдина О.Н","Халдина"]
[{"$f":"IF(ISNUMBER(SEARCH(F$1,B1594,1)),MAX($A$1:A1593)+1,0)","v":0},"УТДК","УТДК ООО","Халдина О.Н","Голубев"]
[{"$f":"IF(ISNUMBER(SEARCH(F$1,B1595,1)),MAX($A$1:A1594)+1,0)","v":0},"Учмебель Белоруссия","Учмебель ООО","Калинина Т.С","Голубев"]
[{"$f":"IF(ISNUMBER(SEARCH(F$1,B1596,1)),MAX($A$1:A1595)+1,0)","v":0},"Уют (поддоны)","Уют (поддоны)","NULL","NULL"]
[{"$f":"IF(ISNUMBER(SEARCH(F$1,B1597,1)),MAX($A$1:A1596)+1,0)","v":0},"Уют 1","Уют ЗАО","Халдина О.Н","Верхомий"]
[{"$f":"IF(ISNUMBER(SEARCH(F$1,B1598,1)),MAX($A$1:A1597)+1,0)","v":0},"Уют_покраска","Уют_покраска","NULL","NULL"]
[{"$f":"IF(ISNUMBER(SEARCH(F$1,B1599,1)),MAX($A$1:A1598)+1,0)","v":0},"ф","\"Формат\" ООО","NULL","Голубев"]
[{"$f":"IF(ISNUMBER(SEARCH(F$1,B1600,1)),MAX($A$1:A1599)+1,0)","v":0},"Фабер","ГАЛАН ООО","Верхомий И.Е","Верхомий"]
[{"$f":"IF(ISNUMBER(SEARCH(F$1,B1601,1)),MAX($A$1:A1600)+1,0)","v":0},"Фабрика Жалюзи","ООО \"Фабрика Жалюзи\"","Верхомий И.Е","Верхомий"]
[{"$f":"IF(ISNUMBER(SEARCH(F$1,B1602,1)),MAX($A$1:A1601)+1,0)","v":0},"Фабрика Мебели","Фабрика Мебели ООО","Халдина О.Н","Халдина"]
[{"$f":"IF(ISNUMBER(SEARCH(F$1,B1603,1)),MAX($A$1:A1602)+1,0)","v":0},"ФабрикаРеклГрейх","Фабрика рекламы Грейхаунд ООО","Акафьева Т.","Акафьева"]
[{"$f":"IF(ISNUMBER(SEARCH(F$1,B1604,1)),MAX($A$1:A1603)+1,0)","v":0},"Фавор-Гарант","Фавор-Гарант ООО","Маслова И.С","Маслова"]
[{"$f":"IF(ISNUMBER(SEARCH(F$1,B1605,1)),MAX($A$1:A1604)+1,0)","v":0},"ФаворитКомплект","ФаворитКомплект ООО","Шабалина Е.В","Голубев"]
[{"$f":"IF(ISNUMBER(SEARCH(F$1,B1606,1)),MAX($A$1:A1605)+1,0)","v":0},"Фаворит-Юг","Фаворит-Юг ООО","Шабалина Е.В","Голубев"]
[{"$f":"IF(ISNUMBER(SEARCH(F$1,B1607,1)),MAX($A$1:A1606)+1,0)","v":0},"Фам Групп","Фам Групп","NULL","Голубев"]
[{"$f":"IF(ISNUMBER(SEARCH(F$1,B1608,1)),MAX($A$1:A1607)+1,0)","v":0},"ФАРОС","ФАРОС ООО","Четверткова О.","Голубев"]
[{"$f":"IF(ISNUMBER(SEARCH(F$1,B1609,1)),MAX($A$1:A1608)+1,0)","v":0},"Фасад Сисмемс","Фасад Системс ООО","NULL","NULL"]
[{"$f":"IF(ISNUMBER(SEARCH(F$1,B1610,1)),MAX($A$1:A1609)+1,0)","v":0},"Фасад Строй","Фасад Строй ООО","Халдина О.Н","NULL"]
[{"$f":"IF(ISNUMBER(SEARCH(F$1,B1611,1)),MAX($A$1:A1610)+1,0)","v":20},"ФАСАД СТРОЙ 7704409716","ФАСАД СТРОЙ ООО","Маслова И.С","NULL"]
[{"$f":"IF(ISNUMBER(SEARCH(F$1,B1612,1)),MAX($A$1:A1611)+1,0)","v":0},"Фасадные Решения","Фасадные Решения ООО","Маслова И.С","Верхомий"]
[{"$f":"IF(ISNUMBER(SEARCH(F$1,B1613,1)),MAX($A$1:A1612)+1,0)","v":0},"Фасадные технологии","Фасадные технологии","NULL","Голубев"]
[{"$f":"IF(ISNUMBER(SEARCH(F$1,B1614,1)),MAX($A$1:A1613)+1,0)","v":0},"ФАСАДЫ","ФАСАДЫ ООО","Акафьева Т.","NULL"]
[{"$f":"IF(ISNUMBER(SEARCH(F$1,B1615,1)),MAX($A$1:A1614)+1,0)","v":0},"Фасады ООО","Фасады ООО","NULL","Голубев"]
[{"$f":"IF(ISNUMBER(SEARCH(F$1,B1616,1)),MAX($A$1:A1615)+1,0)","v":0},"ФАУБЕХА","NULL","NULL","NULL"]
[{"$f":"IF(ISNUMBER(SEARCH(F$1,B1617,1)),MAX($A$1:A1616)+1,0)","v":0},"Феликс","Феликс ООО","NULL","NULL"]
[{"$f":"IF(ISNUMBER(SEARCH(F$1,B1618,1)),MAX($A$1:A1617)+1,0)","v":0},"Феник-М","Феникс-М","Верхомий И.Е","Верхомий"]
[{"$f":"IF(ISNUMBER(SEARCH(F$1,B1619,1)),MAX($A$1:A1618)+1,0)","v":0},"ФЕНИКС ООО","ФЕНИКС ООО","Кочанова Т.В","NULL"]
[{"$f":"IF(ISNUMBER(SEARCH(F$1,B1620,1)),MAX($A$1:A1619)+1,0)","v":0},"Феодор","Феодор ЗАО","NULL","NULL"]
[{"$f":"IF(ISNUMBER(SEARCH(F$1,B1621,1)),MAX($A$1:A1620)+1,0)","v":0},"Ферекс ТД","Ферекс ТД ООО","Маслова И.С","Голубев"]
[{"$f":"IF(ISNUMBER(SEARCH(F$1,B1622,1)),MAX($A$1:A1621)+1,0)","v":0},"Ферипласт","Ферипласт ООО","Шабалина Е.В","Верхомий"]
[{"$f":"IF(ISNUMBER(SEARCH(F$1,B1623,1)),MAX($A$1:A1622)+1,0)","v":0},"Ферум","Ферум ООО","Голубев А.С","NULL"]
[{"$f":"IF(ISNUMBER(SEARCH(F$1,B1624,1)),MAX($A$1:A1623)+1,0)","v":0},"ФинишСнаб","ФинишСнаб ООО","Волчек Е.П","NULL"]
[{"$f":"IF(ISNUMBER(SEARCH(F$1,B1625,1)),MAX($A$1:A1624)+1,0)","v":0},"Финмаркт","Финмаркт ООО","Калинина Т.С","Верхомий"]
[{"$f":"IF(ISNUMBER(SEARCH(F$1,B1626,1)),MAX($A$1:A1625)+1,0)","v":0},"Фирма Алюмина"," \"Фирма \"Алюмина\" ООО","NULL","NULL"]
[{"$f":"IF(ISNUMBER(SEARCH(F$1,B1627,1)),MAX($A$1:A1626)+1,0)","v":0},"Фирма Дизайн-Вектор","Фирма Дизайн-Вектор ООО","Четверткова О.","Голубев"]
[{"$f":"IF(ISNUMBER(SEARCH(F$1,B1628,1)),MAX($A$1:A1627)+1,0)","v":0},"Фирма Логос","Фирма Логос","Тимофеева Н.Д","NULL"]
[{"$f":"IF(ISNUMBER(SEARCH(F$1,B1629,1)),MAX($A$1:A1628)+1,0)","v":0},"ФлагТрейд","ООО \"ФлагТрейд\"","NULL","NULL"]
[{"$f":"IF(ISNUMBER(SEARCH(F$1,B1630,1)),MAX($A$1:A1629)+1,0)","v":0},"Флайг+Хоммель","Флайг+Хоммель ООО","Шабалина Е.В","Голубев"]
[{"$f":"IF(ISNUMBER(SEARCH(F$1,B1631,1)),MAX($A$1:A1630)+1,0)","v":0},"Флеш и Ко","Флеш и Ко ООО","Верхомий И.Е","NULL"]
[{"$f":"IF(ISNUMBER(SEARCH(F$1,B1632,1)),MAX($A$1:A1631)+1,0)","v":0},"Флоу Инжиниринг","Флоу Инжиниринг ООО","Шабалина Е.В","Верхомий"]
[{"$f":"IF(ISNUMBER(SEARCH(F$1,B1633,1)),MAX($A$1:A1632)+1,0)","v":0},"Фокус","ООО «Фокус»","Горчаков Е.М","Голубев"]
[{"$f":"IF(ISNUMBER(SEARCH(F$1,B1634,1)),MAX($A$1:A1633)+1,0)","v":0},"Фокус (свет)","Фокус","NULL","NULL"]
[{"$f":"IF(ISNUMBER(SEARCH(F$1,B1635,1)),MAX($A$1:A1634)+1,0)","v":0},"ФОКУС ТД","ФОКУС ТД ООО","Маслова И.С","NULL"]
[{"$f":"IF(ISNUMBER(SEARCH(F$1,B1636,1)),MAX($A$1:A1635)+1,0)","v":0},"Фомина ИП","Фомина ИП","Халдина О.Н","Халдина"]
[{"$f":"IF(ISNUMBER(SEARCH(F$1,B1637,1)),MAX($A$1:A1636)+1,0)","v":0},"ФОРВАРД-Л","ФОРВАРД-Л ООО","Верхомий И.Е","NULL"]
[{"$f":"IF(ISNUMBER(SEARCH(F$1,B1638,1)),MAX($A$1:A1637)+1,0)","v":0},"Форис","Форис","Кочанова Т.В","NULL"]
[{"$f":"IF(ISNUMBER(SEARCH(F$1,B1639,1)),MAX($A$1:A1638)+1,0)","v":0},"Формопласт М","Формопласт М ООО","Голубев А.С","Голубев"]
[{"$f":"IF(ISNUMBER(SEARCH(F$1,B1640,1)),MAX($A$1:A1639)+1,0)","v":0},"Форм-Хаус","Форм-Хаус","NULL","NULL"]
[{"$f":"IF(ISNUMBER(SEARCH(F$1,B1641,1)),MAX($A$1:A1640)+1,0)","v":0},"ФОРС ТСК","ФОРС ТСК","Халдина О.Н","Голубев"]
[{"$f":"IF(ISNUMBER(SEARCH(F$1,B1642,1)),MAX($A$1:A1641)+1,0)","v":0},"Фортресс"," \"Алюформ\" ООО","NULL","NULL"]
[{"$f":"IF(ISNUMBER(SEARCH(F$1,B1643,1)),MAX($A$1:A1642)+1,0)","v":0},"Фортресс (П)","Фортресс (поддон)","NULL","NULL"]
[{"$f":"IF(ISNUMBER(SEARCH(F$1,B1644,1)),MAX($A$1:A1643)+1,0)","v":21},"ФОТОТЕХ 2018","ФОТОТЕХ ООО","Халдина О.Н","Халдина"]
[{"$f":"IF(ISNUMBER(SEARCH(F$1,B1645,1)),MAX($A$1:A1644)+1,0)","v":0},"ФПК СтроитКомп","ФПК Строительная компания ООО","Маслова И.С","Маслова"]
[{"$f":"IF(ISNUMBER(SEARCH(F$1,B1646,1)),MAX($A$1:A1645)+1,0)","v":0},"Фр.Стст.","ФронтСистем ООО","Голубев А.С","NULL"]
[{"$f":"IF(ISNUMBER(SEARCH(F$1,B1647,1)),MAX($A$1:A1646)+1,0)","v":0},"Франс Гардинер Раша","ФРАНС ГАРДИНЕР РАША ООО","Калинина Т.С","Калинина"]
[{"$f":"IF(ISNUMBER(SEARCH(F$1,B1648,1)),MAX($A$1:A1647)+1,0)","v":0},"Фриго Гласс","ООО \"Фриго Гласс\"","Верхомий И.Е","Верхомий"]
[{"$f":"IF(ISNUMBER(SEARCH(F$1,B1649,1)),MAX($A$1:A1648)+1,0)","v":0},"Фригогласс","\"Фригогласс Евразия\" ООО","NULL","NULL"]
[{"$f":"IF(ISNUMBER(SEARCH(F$1,B1650,1)),MAX($A$1:A1649)+1,0)","v":0},"Фристайл","Фристайл  ООО","Четверткова О.","Четверткова"]
[{"$f":"IF(ISNUMBER(SEARCH(F$1,B1651,1)),MAX($A$1:A1650)+1,0)","v":0},"Фристайл(Выст)","Фристайл(Выст)","NULL","NULL"]
[{"$f":"IF(ISNUMBER(SEARCH(F$1,B1652,1)),MAX($A$1:A1651)+1,0)","v":0},"Фристайл-Технол(покраска)","Фристайл-Технол(покраска)","Четверткова О.","Четверткова"]
[{"$f":"IF(ISNUMBER(SEARCH(F$1,B1653,1)),MAX($A$1:A1652)+1,0)","v":0},"ФрязинсЭксперЗавод","ФрязинскийЭкспериментальныйЗавод АО","Четверткова О.","NULL"]
[{"$f":"IF(ISNUMBER(SEARCH(F$1,B1654,1)),MAX($A$1:A1653)+1,0)","v":0},"ФСК Инжиниринг","ФСК Инжиниринг ООО","Маслова И.С","Маслова"]
[{"$f":"IF(ISNUMBER(SEARCH(F$1,B1655,1)),MAX($A$1:A1654)+1,0)","v":0},"ФторМет","ООО \"ФторМет\"","NULL","NULL"]
[{"$f":"IF(ISNUMBER(SEARCH(F$1,B1656,1)),MAX($A$1:A1655)+1,0)","v":0},"Фурнитекс","Фурнитекс","Верхомий И.Е","Верхомий"]
[{"$f":"IF(ISNUMBER(SEARCH(F$1,B1657,1)),MAX($A$1:A1656)+1,0)","v":0},"Фурнитрейд","Фурнитрейд ООО","Фролова А.Г","Фролова"]
[{"$f":"IF(ISNUMBER(SEARCH(F$1,B1658,1)),MAX($A$1:A1657)+1,0)","v":0},"Фурниту","Фурниту ООО","Четверткова О.","Верхомий"]
[{"$f":"IF(ISNUMBER(SEARCH(F$1,B1659,1)),MAX($A$1:A1658)+1,0)","v":0},"Фурниту 1"," \"Фурниту 1\" ООО","NULL","NULL"]
[{"$f":"IF(ISNUMBER(SEARCH(F$1,B1660,1)),MAX($A$1:A1659)+1,0)","v":0},"Фурниту(поддон)","Фурниту (поддон)","NULL","NULL"]
[{"$f":"IF(ISNUMBER(SEARCH(F$1,B1661,1)),MAX($A$1:A1660)+1,0)","v":0},"Фурнитура Холдинг","Фурнитура Холдинг ООО","Шабалина Е.В","Шабалина"]
[{"$f":"IF(ISNUMBER(SEARCH(F$1,B1662,1)),MAX($A$1:A1661)+1,0)","v":0},"Фэктори-ГУТЭ ВЭТЭР","Фэктори-ГУТЭ ВЭТЭР","Маслова И.С","Шишкин "]
[{"$f":"IF(ISNUMBER(SEARCH(F$1,B1663,1)),MAX($A$1:A1662)+1,0)","v":0},"Халла","Халла ООО","Акафьева Т.","Голубев"]
[{"$f":"IF(ISNUMBER(SEARCH(F$1,B1664,1)),MAX($A$1:A1663)+1,0)","v":0},"Халла(П)","Халла","NULL","NULL"]
[{"$f":"IF(ISNUMBER(SEARCH(F$1,B1665,1)),MAX($A$1:A1664)+1,0)","v":0},"Хамелион","Хамелион","NULL","Верхомий"]
[{"$f":"IF(ISNUMBER(SEARCH(F$1,B1666,1)),MAX($A$1:A1665)+1,0)","v":0},"Ханса Групп","Ханса Групп ООО","Маслова И.С","Мельников"]
[{"$f":"IF(ISNUMBER(SEARCH(F$1,B1667,1)),MAX($A$1:A1666)+1,0)","v":0},"Харсар","NULL","NULL","NULL"]
[{"$f":"IF(ISNUMBER(SEARCH(F$1,B1668,1)),MAX($A$1:A1667)+1,0)","v":0},"Хилал","ООО \"Хилал Алюминиум Юкрейн\"","Верхомий И.Е","Верхомий"]
[{"$f":"IF(ISNUMBER(SEARCH(F$1,B1669,1)),MAX($A$1:A1668)+1,0)","v":0},"Хилти","Хилти Дистрибьюшн ЛТД ЗАО","Четверткова О.","УК"]
[{"$f":"IF(ISNUMBER(SEARCH(F$1,B1670,1)),MAX($A$1:A1669)+1,0)","v":0},"Хилти Австрия","Хилти Австрия","Волчек Е.П","NULL"]
[{"$f":"IF(ISNUMBER(SEARCH(F$1,B1671,1)),MAX($A$1:A1670)+1,0)","v":0},"Хилти БиУай","Хилти БиУай ИООО","Волчек Е.П","NULL"]
[{"$f":"IF(ISNUMBER(SEARCH(F$1,B1672,1)),MAX($A$1:A1671)+1,0)","v":0},"Хилти Казахстан","Хилти Казахстан ТОО","Калинина Т.С","УК"]
[{"$f":"IF(ISNUMBER(SEARCH(F$1,B1673,1)),MAX($A$1:A1672)+1,0)","v":0},"Хилти Украина","Хилти Украина ООО","Калинина Т.С","УК"]
[{"$f":"IF(ISNUMBER(SEARCH(F$1,B1674,1)),MAX($A$1:A1673)+1,0)","v":0},"Химпромтрейд+","Химпромтрейд+ ООО","Маслова И.С","Голубев"]
[{"$f":"IF(ISNUMBER(SEARCH(F$1,B1675,1)),MAX($A$1:A1674)+1,0)","v":0},"ХИМПЭК","ХИМПЭК ПК ООО","Акафьева Т.","Голубев"]
[{"$f":"IF(ISNUMBER(SEARCH(F$1,B1676,1)),MAX($A$1:A1675)+1,0)","v":0},"холдинг ЕгорьЕвский","холдинг ЕгорьЕвский","NULL","Голубев"]
[{"$f":"IF(ISNUMBER(SEARCH(F$1,B1677,1)),MAX($A$1:A1676)+1,0)","v":0},"ХОЛДИНГ ПК","ХОЛДИНГ ПК ООО","Голубев А.С","NULL"]
[{"$f":"IF(ISNUMBER(SEARCH(F$1,B1678,1)),MAX($A$1:A1677)+1,0)","v":0},"ХРАМ","ХРАМ","Голубев А.С","Голубев"]
[{"$f":"IF(ISNUMBER(SEARCH(F$1,B1679,1)),MAX($A$1:A1678)+1,0)","v":0},"ХХI-ВЕК","ХХI-ВЕК ООО","Халдина О.Н","NULL"]
[{"$f":"IF(ISNUMBER(SEARCH(F$1,B1680,1)),MAX($A$1:A1679)+1,0)","v":0},"ЦветКомплексМеталл ТД","ЦветКомплексМеталл ТД ООО","NULL","NULL"]
[{"$f":"IF(ISNUMBER(SEARCH(F$1,B1681,1)),MAX($A$1:A1680)+1,0)","v":0},"ЦветМет и сплав","NULL","NULL","NULL"]
[{"$f":"IF(ISNUMBER(SEARCH(F$1,B1682,1)),MAX($A$1:A1681)+1,0)","v":0},"ЦветМетМаш","ЦветМетМаш ЗАО","Кочанова Т.В","NULL"]
[{"$f":"IF(ISNUMBER(SEARCH(F$1,B1683,1)),MAX($A$1:A1682)+1,0)","v":0},"ЦветМетМаш (П)","ЦветМетМаш (поддон)","NULL","NULL"]
[{"$f":"IF(ISNUMBER(SEARCH(F$1,B1684,1)),MAX($A$1:A1683)+1,0)","v":0},"ЦВЕТ-ОК НТЦ","ООО \"НТЦ \"ЦВЕТ-ОК\"","NULL","NULL"]
[{"$f":"IF(ISNUMBER(SEARCH(F$1,B1685,1)),MAX($A$1:A1684)+1,0)","v":0},"ЦВЕТ-ОК Питер","ЦВЕТ-ОК ООО Питер","Акафьева Т.","УК"]
[{"$f":"IF(ISNUMBER(SEARCH(F$1,B1686,1)),MAX($A$1:A1685)+1,0)","v":0},"Центральный офис (товар)","Центральный офис (товар)","NULL","NULL"]
[{"$f":"IF(ISNUMBER(SEARCH(F$1,B1687,1)),MAX($A$1:A1686)+1,0)","v":0},"Центрстройсвет","ЗАО \"Центрстройсвет\"","Горчаков Е.М","Горчаков"]
[{"$f":"IF(ISNUMBER(SEARCH(F$1,B1688,1)),MAX($A$1:A1687)+1,0)","v":0},"ЦентрЭксим","ЦентрЭксим ООО","Шабалина Е.В","Голубев"]
[{"$f":"IF(ISNUMBER(SEARCH(F$1,B1689,1)),MAX($A$1:A1688)+1,0)","v":0},"Церс","OOO \"Церс Энерго\" ","Горчаков Е.М","Горчаков"]
[{"$f":"IF(ISNUMBER(SEARCH(F$1,B1690,1)),MAX($A$1:A1689)+1,0)","v":0},"ЦИКЛ","ЦИКЛ фирма ООО ","Шабалина Е.В","Голубев"]
[{"$f":"IF(ISNUMBER(SEARCH(F$1,B1691,1)),MAX($A$1:A1690)+1,0)","v":0},"Чайка Сервис","Чайка Сервис","Верхомий И.Е","Верхомий"]
[{"$f":"IF(ISNUMBER(SEARCH(F$1,B1692,1)),MAX($A$1:A1691)+1,0)","v":0},"Черноземье","ТБМ-Черноземье ООО","Шабалина Е.В","NULL"]
[{"$f":"IF(ISNUMBER(SEARCH(F$1,B1693,1)),MAX($A$1:A1692)+1,0)","v":0},"Чирада","Чирада ООО","NULL","NULL"]
[{"$f":"IF(ISNUMBER(SEARCH(F$1,B1694,1)),MAX($A$1:A1693)+1,0)","v":0},"Чирада(поддоны)","Чирада (поддоны)","NULL","NULL"]
[{"$f":"IF(ISNUMBER(SEARCH(F$1,B1695,1)),MAX($A$1:A1694)+1,0)","v":0},"Чкаловкий Электро Мех Завой","Чкаловский Электромеханический Завод ООО","Маслова И.С","Мельников"]
[{"$f":"IF(ISNUMBER(SEARCH(F$1,B1696,1)),MAX($A$1:A1695)+1,0)","v":0},"ЧП Ахмедханов А"," Ахмедханов А.А. ЧП","NULL","NULL"]
[{"$f":"IF(ISNUMBER(SEARCH(F$1,B1697,1)),MAX($A$1:A1696)+1,0)","v":0},"ЧП Опранич"," Опранич ЧП","NULL","NULL"]
[{"$f":"IF(ISNUMBER(SEARCH(F$1,B1698,1)),MAX($A$1:A1697)+1,0)","v":0},"ЧП Сыроегин (П)","ЧП Сыроегин (поддон)","NULL","NULL"]
[{"$f":"IF(ISNUMBER(SEARCH(F$1,B1699,1)),MAX($A$1:A1698)+1,0)","v":0},"ЧП Трифонов (П)","ЧП Трифонов (поддон)","NULL","NULL"]
[{"$f":"IF(ISNUMBER(SEARCH(F$1,B1700,1)),MAX($A$1:A1699)+1,0)","v":0},"ЧП Трифонов С.В","Трифонов С.В. ЧП","NULL","NULL"]
[{"$f":"IF(ISNUMBER(SEARCH(F$1,B1701,1)),MAX($A$1:A1700)+1,0)","v":0},"ЧП Фортенко","NULL","NULL","NULL"]
[{"$f":"IF(ISNUMBER(SEARCH(F$1,B1702,1)),MAX($A$1:A1701)+1,0)","v":0},"ЧП Чёрный","ЧП Чёрный","NULL","NULL"]
[{"$f":"IF(ISNUMBER(SEARCH(F$1,B1703,1)),MAX($A$1:A1702)+1,0)","v":0},"Чудо Окна"," \"Чудо Окна\" ООО","NULL","NULL"]
[{"$f":"IF(ISNUMBER(SEARCH(F$1,B1704,1)),MAX($A$1:A1703)+1,0)","v":0},"Шапкин А.М. ИП","Шапкин АМ ИП","Халдина О.Н","NULL"]
[{"$f":"IF(ISNUMBER(SEARCH(F$1,B1705,1)),MAX($A$1:A1704)+1,0)","v":0},"Шатры и тенты","Шатры и Тенты ООО","Маслова И.С","Верхомий"]
[{"$f":"IF(ISNUMBER(SEARCH(F$1,B1706,1)),MAX($A$1:A1705)+1,0)","v":0},"ШЕМБЕРГ","ШЕМБЕРГ ООО","NULL","NULL"]
[{"$f":"IF(ISNUMBER(SEARCH(F$1,B1707,1)),MAX($A$1:A1706)+1,0)","v":0},"Эвотрейд"," \"Эвотрейд\" ООО","NULL","NULL"]
[{"$f":"IF(ISNUMBER(SEARCH(F$1,B1708,1)),MAX($A$1:A1707)+1,0)","v":0},"Эгида-Радуга","Эгида-Радуга ООО","Акафьева Т.","Акафьева"]
[{"$f":"IF(ISNUMBER(SEARCH(F$1,B1709,1)),MAX($A$1:A1708)+1,0)","v":0},"Эдванс","Эдванс ООО","Халдина О.Н","Голубев"]
[{"$f":"IF(ISNUMBER(SEARCH(F$1,B1710,1)),MAX($A$1:A1709)+1,0)","v":0},"ЭДЕМ","ЭДЕМ ООО","Кочанова Т.В","NULL"]
[{"$f":"IF(ISNUMBER(SEARCH(F$1,B1711,1)),MAX($A$1:A1710)+1,0)","v":0},"ЭкоДом","ЭкоДом ООО","NULL","NULL"]
[{"$f":"IF(ISNUMBER(SEARCH(F$1,B1712,1)),MAX($A$1:A1711)+1,0)","v":0},"Эконика-Техно(П","Эконика-Техно(поддон)","NULL","NULL"]
[{"$f":"IF(ISNUMBER(SEARCH(F$1,B1713,1)),MAX($A$1:A1712)+1,0)","v":0},"Экон-Техно(пок)","Эконика-Техно (покупатели)","NULL","NULL"]
[{"$f":"IF(ISNUMBER(SEARCH(F$1,B1714,1)),MAX($A$1:A1713)+1,0)","v":0},"Экоплас","Экопласт ООО","NULL","NULL"]
[{"$f":"IF(ISNUMBER(SEARCH(F$1,B1715,1)),MAX($A$1:A1714)+1,0)","v":0},"Экопроект","Экопроект","NULL","Голубев"]
[{"$f":"IF(ISNUMBER(SEARCH(F$1,B1716,1)),MAX($A$1:A1715)+1,0)","v":0},"ЭКОСВЕТ","ЭКОСВЕТ ТД ООО","Четверткова О.","Голубев"]
[{"$f":"IF(ISNUMBER(SEARCH(F$1,B1717,1)),MAX($A$1:A1716)+1,0)","v":0},"ЭКОЭЛ","ООО \"ЭКОЭЛ\"","Горчаков Е.М","Горчаков"]
[{"$f":"IF(ISNUMBER(SEARCH(F$1,B1718,1)),MAX($A$1:A1717)+1,0)","v":0},"ЭксклюзивСтрой","ООО \"Завод Металлоконструкций Эксклюзивстрой\"","Кочанова Т.В","NULL"]
[{"$f":"IF(ISNUMBER(SEARCH(F$1,B1719,1)),MAX($A$1:A1718)+1,0)","v":0},"ЭкслюзивСтр.","ЭксклюзивСтрой","NULL","NULL"]
[{"$f":"IF(ISNUMBER(SEARCH(F$1,B1720,1)),MAX($A$1:A1719)+1,0)","v":0},"экспогрант","экспогрант","NULL","Голубев"]
[{"$f":"IF(ISNUMBER(SEARCH(F$1,B1721,1)),MAX($A$1:A1720)+1,0)","v":0},"Экструдер Консалтинг","Экструдер Консалтинг ООО","Маслова И.С","Шишкин "]
[{"$f":"IF(ISNUMBER(SEARCH(F$1,B1722,1)),MAX($A$1:A1721)+1,0)","v":0},"Элайз Сервис","\"Элайз Сервис\" ООО","NULL","NULL"]
[{"$f":"IF(ISNUMBER(SEARCH(F$1,B1723,1)),MAX($A$1:A1722)+1,0)","v":0},"ЭЛАМ","ЭЛАМ ООО","Халдина О.Н","Верхомий"]
[{"$f":"IF(ISNUMBER(SEARCH(F$1,B1724,1)),MAX($A$1:A1723)+1,0)","v":0},"Элеконд","Элеконд","NULL","Голубев"]
[{"$f":"IF(ISNUMBER(SEARCH(F$1,B1725,1)),MAX($A$1:A1724)+1,0)","v":0},"Электрикофф","ООО МК «Электрикофф»","Горчаков Е.М","Горчаков"]
[{"$f":"IF(ISNUMBER(SEARCH(F$1,B1726,1)),MAX($A$1:A1725)+1,0)","v":0},"Электролуч","Электролуч ЗАО","Голубев А.С","NULL"]
[{"$f":"IF(ISNUMBER(SEARCH(F$1,B1727,1)),MAX($A$1:A1726)+1,0)","v":0},"Электро-М","РТК-ЭЛЕКТРО-М ООО","Четверткова О.","Голубев"]
[{"$f":"IF(ISNUMBER(SEARCH(F$1,B1728,1)),MAX($A$1:A1727)+1,0)","v":0},"Элеон","Элеон ЭОЭЗ ООО","NULL","NULL"]
[{"$f":"IF(ISNUMBER(SEARCH(F$1,B1729,1)),MAX($A$1:A1728)+1,0)","v":0},"Элеон (поддон)","Элеон (поддон)","NULL","NULL"]
[{"$f":"IF(ISNUMBER(SEARCH(F$1,B1730,1)),MAX($A$1:A1729)+1,0)","v":0},"ЭЛИС","ЭЛИС ООО","NULL","NULL"]
[{"$f":"IF(ISNUMBER(SEARCH(F$1,B1731,1)),MAX($A$1:A1730)+1,0)","v":0},"Элит Форм","NULL","NULL","NULL"]
[{"$f":"IF(ISNUMBER(SEARCH(F$1,B1732,1)),MAX($A$1:A1731)+1,0)","v":0},"ЭлитКомпл","\"ЭлитКомплект\" ООО","Шабалина Е.В","Шишкин "]
[{"$f":"IF(ISNUMBER(SEARCH(F$1,B1733,1)),MAX($A$1:A1732)+1,0)","v":0},"ЭЛЛИОН","ЭЛЛИОН ООО","NULL","NULL"]
[{"$f":"IF(ISNUMBER(SEARCH(F$1,B1734,1)),MAX($A$1:A1733)+1,0)","v":0},"Элмаш ЗАО","\"Элмаш\" ЗАО","NULL","NULL"]
[{"$f":"IF(ISNUMBER(SEARCH(F$1,B1735,1)),MAX($A$1:A1734)+1,0)","v":0},"Эл-Технология","Эл-Технология ООО","Четверткова О.","Четверткова"]
[{"$f":"IF(ISNUMBER(SEARCH(F$1,B1736,1)),MAX($A$1:A1735)+1,0)","v":0},"Эль Пако ООО","Эль Пако ООО","Маслова И.С","Голубев"]
[{"$f":"IF(ISNUMBER(SEARCH(F$1,B1737,1)),MAX($A$1:A1736)+1,0)","v":0},"Эльпласт-Жалюзи","Эльпласт-Жалюзи ООО","Голубев А.С","Голубев"]
[{"$f":"IF(ISNUMBER(SEARCH(F$1,B1738,1)),MAX($A$1:A1737)+1,0)","v":0},"ЭМБИ","ЭМБИ-XXI ООО","NULL","NULL"]
[{"$f":"IF(ISNUMBER(SEARCH(F$1,B1739,1)),MAX($A$1:A1738)+1,0)","v":0},"ЭНВЕТ","ЭНВЕТ ПК ООО","Халдина О.Н","Голубев"]
[{"$f":"IF(ISNUMBER(SEARCH(F$1,B1740,1)),MAX($A$1:A1739)+1,0)","v":0},"ЭНВОЛ","ЭНВОЛ ООО","Калинина Т.С","Верхомий"]
[{"$f":"IF(ISNUMBER(SEARCH(F$1,B1741,1)),MAX($A$1:A1740)+1,0)","v":0},"ЭНЕРГЕТИК","ЭНЕРГЕТИК ООО","NULL","NULL"]
[{"$f":"IF(ISNUMBER(SEARCH(F$1,B1742,1)),MAX($A$1:A1741)+1,0)","v":0},"ЭНЕРГИЯ НВБ","ЭНЕРГИЯ НВБ АО","NULL","NULL"]
[{"$f":"IF(ISNUMBER(SEARCH(F$1,B1743,1)),MAX($A$1:A1742)+1,0)","v":0},"Энергомаш","\"Энергомаш\" ООО","NULL","NULL"]
[{"$f":"IF(ISNUMBER(SEARCH(F$1,B1744,1)),MAX($A$1:A1743)+1,0)","v":0},"ЭнергосберегК","Энергосберегающая Компания","NULL","NULL"]
[{"$f":"IF(ISNUMBER(SEARCH(F$1,B1745,1)),MAX($A$1:A1744)+1,0)","v":0},"ЭнергоСвет","ЭнергоСвет ООО","Маслова И.С","Голубев"]
[{"$f":"IF(ISNUMBER(SEARCH(F$1,B1746,1)),MAX($A$1:A1745)+1,0)","v":0},"Энергоснаб","\" Энергоснаб\" ООО","NULL","NULL"]
[{"$f":"IF(ISNUMBER(SEARCH(F$1,B1747,1)),MAX($A$1:A1746)+1,0)","v":0},"Энерготехмаш","Энерготехмаш ООО","NULL","NULL"]
[{"$f":"IF(ISNUMBER(SEARCH(F$1,B1748,1)),MAX($A$1:A1747)+1,0)","v":0},"Энерготехмаш 1","ТехСтройПроэкт 1 ООО","NULL","NULL"]
[{"$f":"IF(ISNUMBER(SEARCH(F$1,B1749,1)),MAX($A$1:A1748)+1,0)","v":0},"Энерготехмаш ТД"," \"Энерготехмаш ТД\" ООО","NULL","NULL"]
[{"$f":"IF(ISNUMBER(SEARCH(F$1,B1750,1)),MAX($A$1:A1749)+1,0)","v":0},"Энерготехмаш(П)","Энерготехмаш(поддон)","NULL","NULL"]
[{"$f":"IF(ISNUMBER(SEARCH(F$1,B1751,1)),MAX($A$1:A1750)+1,0)","v":0},"ЭНЕРГОЦЕПЬ","ЭНЕРГОЦЕПЬ ООО","Акафьева Т.","Голубев"]
[{"$f":"IF(ISNUMBER(SEARCH(F$1,B1752,1)),MAX($A$1:A1751)+1,0)","v":0},"ЭНСЭЙВ РУС","ЭНСЭЙВ РУС ООО","Акафьева Т.","УК"]
[{"$f":"IF(ISNUMBER(SEARCH(F$1,B1753,1)),MAX($A$1:A1752)+1,0)","v":0},"Эприл","ЭПРИЛ ООО","Борисова Э.Б","NULL"]
[{"$f":"IF(ISNUMBER(SEARCH(F$1,B1754,1)),MAX($A$1:A1753)+1,0)","v":0},"Эрал","Эрал ООО","NULL","NULL"]
[{"$f":"IF(ISNUMBER(SEARCH(F$1,B1755,1)),MAX($A$1:A1754)+1,0)","v":0},"Эрал (поддон)","Эрал (поддон)","NULL","NULL"]
[{"$f":"IF(ISNUMBER(SEARCH(F$1,B1756,1)),MAX($A$1:A1755)+1,0)","v":0},"Эрал 1","Эрал ООО","NULL","NULL"]
[{"$f":"IF(ISNUMBER(SEARCH(F$1,B1757,1)),MAX($A$1:A1756)+1,0)","v":0},"ЭРГ"," \"ЭРГ\" ООО","NULL","Голубев"]
[{"$f":"IF(ISNUMBER(SEARCH(F$1,B1758,1)),MAX($A$1:A1757)+1,0)","v":0},"ЭрСиДжи","Эр Си Джи ООО","Халдина О.Н","Халдина"]
[{"$f":"IF(ISNUMBER(SEARCH(F$1,B1759,1)),MAX($A$1:A1758)+1,0)","v":0},"Эста Констракшен","Эста Констракшен ООО","Маслова И.С","Каменев"]
[{"$f":"IF(ISNUMBER(SEARCH(F$1,B1760,1)),MAX($A$1:A1759)+1,0)","v":0},"Эстет","ООО \"Эстет\"","Верхомий И.Е","Верхомий"]
[{"$f":"IF(ISNUMBER(SEARCH(F$1,B1761,1)),MAX($A$1:A1760)+1,0)","v":0},"ЭТЕРНА","ЭТЕРНА ООО","Маслова И.С","Мельников"]
[{"$f":"IF(ISNUMBER(SEARCH(F$1,B1762,1)),MAX($A$1:A1761)+1,0)","v":0},"ЭТМ","ООО ТК \"ЭТМ\"","Козлова Ю.К","NULL"]
[{"$f":"IF(ISNUMBER(SEARCH(F$1,B1763,1)),MAX($A$1:A1762)+1,0)","v":0},"Эфесто","Эфесто ООО","Маслова И.С","Голубев"]
[{"$f":"IF(ISNUMBER(SEARCH(F$1,B1764,1)),MAX($A$1:A1763)+1,0)","v":0},"ЭФФЕСТ","Группа компаний \"ЭФФЕСТ\"","Горчаков Е.М","Голубев"]
[{"$f":"IF(ISNUMBER(SEARCH(F$1,B1765,1)),MAX($A$1:A1764)+1,0)","v":0},"ЮГ Технологии","ЮГ Технологии ООО","NULL","NULL"]
[{"$f":"IF(ISNUMBER(SEARCH(F$1,B1766,1)),MAX($A$1:A1765)+1,0)","v":0},"Юнистем","Юнистем ООО","Акафьева Т.","Голубев"]
[{"$f":"IF(ISNUMBER(SEARCH(F$1,B1767,1)),MAX($A$1:A1766)+1,0)","v":0},"ЮФК","Южная Фурнитурная Компания","Верхомий И.Е","Верхомий"]

{"sheet":"Классификатор","index":2,"n_rows":75,"n_cols":21,"rows_kept":75,"cut":false,"hidden":true,"merged":[]}
["Дублер","Диаметр матрицы","Сложность (А,B,C,D)","Усилие пресса","Комплектация","Валюта","Изготовитель","Менеджер","Заказчик","Галки","Сплав","Состояние поставки","Вид покрытия","Год","Месяц","День","Назначение профиля","Нормативная документация","Причина рекламации","Принятое решение по реклам","№ пресса"]
["Да",200,"A",1000,"Держатель упорных шайб (оправа)","Руб","ATS","Акафьева","Анод завод","ü","1050A","Т","анод декор",2023,"Январь",1,"01.01. Общестроительный профиль","22233-2018","Несоответствие чертежу","Возврат изготовителю","I"]
["Нет",450,"B",1500,"Кольцо","€","AKS","Вяльшина","Доксал","û","АД0","Т1","анод защит.",2024,"Февраль",2,"03.01. Светопрозрачные системы (в т.ч.фасады)",null,"Несоответствие твердости","Снижение стоимости","II"]
[null,"230*200","C",4000,"Конус",null,"IM","Верхомий","ИПЛАНА",null,"АД0E","Т4","неокр.",null,"Март",3,"03.02. Системы вентиляции",null,null,"Рекламация не принята","III"]
[null,180,"D",null,"Комплект",null,"FRX","Голубев","Авангард",null,"АД31","Т5","под анод.",null,"Апрель",4,"03.03. Быстровозводимые, самонесущие конструкции",null,null,"Доработка матрицы своими силами","IV"]
[null,330,"S",null,"Матрица+рассекатель",null,"LBB","Зражевский","ВЭЛКО",null,"АД31Е","Т6","окраш.",null,"Май",5,"03.04. Опалубка строительная",null,null,"Изготовление новой ","V"]
[null,"278*125","нет",null,"Матрица",null,"ПрИн","Калинина","А-ЛЕД-ПРО",null,"АД33","Т64",null,null,"Июнь",6,"03.05. Лифты"]
[null,"380*260",null,null,"Матрицедержатель (пакет)",null,null,"Маслова","ИП Бакушкин ",null,"АД35","Т66",null,null,"Июль",7,"03.06. Прочее для стройки"]
[null,"240*95",null,null,"Прессшайба пресс 3",null,null,"Мельников","Мастер",null,"6005А",null,null,null,"Август",8,"03.06.1. Сантехническое оборудование (ванны и др.)"]
[null,380,null,null,"Предкамера",null,null,"ПДО","Алтек",null,6060,null,null,null,"Сентябрь",9,"03.06.2. Фурнитура и комплектующие"]
[null,228,null,null,"Прессшайба пресс 4",null,null,"Фролова","ГАЛВИНГ",null,6061,null,null,null,"Октябрь",10,"03.06.3. Остановки общественного транспорта"]
[null,"330*130",null,null,"Прессштемпель",null,null,"Халдина","Версаль",null,6063,null,null,null,"Ноябрь",11,"03.07. Навесные вентилируемые фасады"]
[null,"380*130",null,null,"Прессшайба пресс 2",null,null,"Четверткова","Митпроф",null,6082,null,null,null,"Декабрь",12,"04.01. Дорожное ограждение, звуковые барьеры, ограждающие конструкции"]
[null,280,null,null,"Прессшайба пресс 1",null,null,"Тарлыкова","Наяда",null,null,null,null,null,null,13,"05.01. Офисные перегородки и двери"]
[null,null,null,null,"Подкладка",null,null,"Тимофеева","НОВАЯ КОНСТРУКЦИЯ",null,null,null,null,null,null,14,"05.02. Двери межкомнатные; окна\\двери"]
[null,null,null,null,"Рассекатель",null,null,"Шабалина","ООО «ГУ Центр»",null,null,null,null,null,null,15,"06.01. Provedal"]
[null,null,null,null,"Упорная шайба",null,null,"Шишкин","Промед/Логос",null,null,null,null,null,null,16,"06.02. Безрамное остекление"]
[null,null,null,null,null,null,null,null,"Проммет",null,null,null,null,null,null,17,"07.01. Москитная сетка"]
[null,null,null,null,null,null,null,null,"РУЗХИММАШ",null,null,null,null,null,null,18,"08.01. Вертикальные жалюзи"]
[null,null,null,null,null,null,null,null,"ТБМ",null,null,null,null,null,null,19,"08.02. Рулонные жалюзи"]
[null,null,null,null,null,null,null,null,"Тонар",null,null,null,null,null,null,20,"08.03. Карнизы шторные"]
[null,null,null,null,null,null,null,null,"Флагман",null,null,null,null,null,null,21,"08.04. Роллетные конструкции"]
[null,null,null,null,null,null,null,null,"ХИЛТИ",null,null,null,null,null,null,22,"08.05. Перила"]
[null,null,null,null,null,null,null,null,"РВМ",null,null,null,null,null,null,23,"08.06. Напольно-стеновые элементы (в т.ч.пороги)"]
[null,null,null,null,null,null,null,null,"ЛПЗ Сегал",null,null,null,null,null,null,24,"08.07. Потолочные элементы"]
[null,null,null,null,null,null,null,null,"КТМ",null,null,null,null,null,null,25,"09.01. Шкафы-купе"]
[null,null,null,null,null,null,null,null,"ДБР",null,null,null,null,null,null,26,"09.02. Торгово-выставочное оборудование"]
[null,null,null,null,null,null,null,null,"Фристайл",null,null,null,null,null,null,27,"09.03. Корпусная и прочее для мебели"]
[null,null,null,null,null,null,null,null,"Нортекс",null,null,null,null,null,null,28,"09.04. Конструкционный профиль"]
[null,null,null,null,null,null,null,null,"Рич Ролл",null,null,null,null,null,null,29,"10.01. Станкостроение"]
[null,null,null,null,null,null,null,null,"Марти Глас",null,null,null,null,null,null,30,"10.02. Приборостроение"]
[null,null,null,null,null,null,null,null,"Инфопространство",null,null,null,null,null,null,31,"10.03. Прочее для машиностроения и промышленности (в т.ч.нефтехим)"]
[null,null,null,null,null,null,null,null,"ЦветОк",null,null,null,null,null,null,null,"11.01. Светильники"]
[null,null,null,null,null,null,null,null,"Техностайл",null,null,null,null,null,null,null,"11.02. Радиаторы охлаждения"]
[null,null,null,null,null,null,null,null,"Масттех",null,null,null,null,null,null,null,"11.03. Холодильное оборудование"]
[null,null,null,null,null,null,null,null,"Стандарт",null,null,null,null,null,null,null,"11.04. Шины электротехнические"]
[null,null,null,null,null,null,null,null,"Алвент",null,null,null,null,null,null,null,"11.05. Бытовая техника"]
[null,null,null,null,null,null,null,null,"ИП Земина",null,null,null,null,null,null,null,"11.06. Радиаторы отопления"]
[null,null,null,null,null,null,null,null,"Алсит",null,null,null,null,null,null,null,"11.07. Трубы под оребрение"]
[null,null,null,null,null,null,null,null,"ИнтерьерСтиль",null,null,null,null,null,null,null,"11.08. Опоры освещения и флагштоки"]
[null,null,null,null,null,null,null,null,"РусДеко",null,null,null,null,null,null,null,"11.09. Прочее (в т.ч. ТАСы)"]
[null,null,null,null,null,null,null,null,"ООО \"ДЕЛЬФА СП\"",null,null,null,null,null,null,null,"11.10. Профиль с контролем электропроводности, но не шины"]
[null,null,null,null,null,null,null,null,"ИП Пробачай",null,null,null,null,null,null,null,"12.01. Автомобилестроение (пороги, багажники, обвес, реленги и др.)"]
[null,null,null,null,null,null,null,null,"Бронер-РУС",null,null,null,null,null,null,null,"12.02. Автомобилестроение (борта) "]
[null,null,null,null,null,null,null,null,"Франс Гардинер Раша",null,null,null,null,null,null,null,"12.03. Автомобилестроение (общественный транспорт)"]
[null,null,null,null,null,null,null,null,"Автокемпер Пром",null,null,null,null,null,null,null,"12.04. Вагоностроение"]
[null,null,null,null,null,null,null,null,"Мартини Рус",null,null,null,null,null,null,null,"12.05. Авиастроение"]
[null,null,null,null,null,null,null,null,"ДЛС",null,null,null,null,null,null,null,"12.06. Судостроение"]
[null,null,null,null,null,null,null,null,"Ал5Юг",null,null,null,null,null,null,null,"12.07. Велосипеды"]
[null,null,null,null,null,null,null,null,"Экструдер Консалдинг",null,null,null,null,null,null,null,"12.08. Спецтехника"]
[null,null,null,null,null,null,null,null,"Магамакс",null,null,null,null,null,null,null,"12.09. Прочее для транспорта"]
[null,null,null,null,null,null,null,null,"Росттехпром",null,null,null,null,null,null,null,"13.01. Профиль для рекламы"]
[null,null,null,null,null,null,null,null,"СТИНЕР",null,null,null,null,null,null,null,"14.01. Медицинское оборудование"]
[null,null,null,null,null,null,null,null,"Трансинжиниринг",null,null,null,null,null,null,null,"14.02. Чистые комнаты (медицина) "]
[null,null,null,null,null,null,null,null,"ДиСи Хоум",null,null,null,null,null,null,null,"15.01. ВПК"]
[null,null,null,null,null,null,null,null,"ОлВайтПро",null,null,null,null,null,null,null,"16.01. Правила, уровни, прочий инструмент"]
[null,null,null,null,null,null,null,null,"ООО ВНС",null,null,null,null,null,null,null,"17.01. Фототехника"]
[null,null,null,null,null,null,null,null,"Партнер Сервис",null,null,null,null,null,null,null,"17.02. Спортивный, туристический, садовый инвентарь"]
[null,null,null,null,null,null,null,null,"МИТПРОФ",null,null,null,null,null,null,null,"17.03. Антенны телевизионные"]
[null,null,null,null,null,null,null,null,"Алком",null,null,null,null,null,null,null,"17.04. Прочее для потребления"]
[null,null,null,null,null,null,null,null,"Виндеко",null,null,null,null,null,null,null,"18.01. Растеневодство (теплицы, грибницы и т.д.) и животноводство"]
[null,null,null,null,null,null,null,null,"ИП Горбылев",null,null,null,null,null,null,null,"18.02. Сельскохозяйственное оборудование"]
[null,null,null,null,null,null,null,null,"ФОРТИС",null,null,null,null,null,null,null,"19.01. Солнечные панели (батареи)"]
[null,null,null,null,null,null,null,null,"БПК",null,null,null,null,null,null,null,"20.01. Лестницы \\ стремянки"]
[null,null,null,null,null,null,null,null,"РЕХАУ"]
[null,null,null,null,null,null,null,null,"Флортек"]
[null,null,null,null,null,null,null,null,"Прайм Механика"]
[null,null,null,null,null,null,null,null,"Еврометиз"]
[null,null,null,null,null,null,null,null,"Реал Групп"]
[null,null,null,null,null,null,null,null,"Техпромимпорт"]
[null,null,null,null,null,null,null,null,"ФДТ"]
[null,null,null,null,null,null,null,null,"Ава-Трейд (Вектор Фасад)"]
[null,null,null,null,null,null,null,null,"Сталко"]
[null,null,null,null,null,null,null,null,"Завод ВКО"]
[null,null,null,null,null,null,null,null,"Квалитет"]

{"sheet":"Лист2","index":3,"n_rows":3146,"n_cols":8,"rows_kept":3146,"cut":false,"hidden":false,"merged":[]}
[{"$f":"Реестр!B3","v":"Дата получения запроса от менеджера КО на изготовление чертежа, эскиза, образца"},{"$f":"Реестр!AM3","v":"Габаритные размеры инстр-та, мм"},{"$f":"Реестр!AZ3","v":"Изготовитель"},{"$f":"Реестр!AN3","v":"Категория сложности матрицы"},{"$f":"Реестр!G3","v":"Кол-во к заказу"},{"$f":"Реестр!#REF!","v":{"$error":"#REF!"}},{"$f":"Реестр!J3","v":"Ст-ть матрицы от производителя, руб"},"Произв-е"]
[{"$f":"(Реестр!B6)+0","v":"2023-10-02"},{"$f":"Реестр!AM6","v":"230х200"},{"$f":"Реестр!AZ6","v":"FRX"},{"$f":"Реестр!AN6","v":"B"},{"$f":"Реестр!G6","v":0},{"$f":"IF(Реестр!#REF!=\"I\",\"Ф152\",IF(Реестр!#REF!=\"II\",\"Ф127\",IF(Реестр!#REF!=\"III\",\"Ф127\",IF(Реестр!#REF!=\"IV\",\"Ф228\",IF(Реестр!#REF!=\"V\",\"Ф127\",\"\")))))","v":{"$error":"#REF!"}},{"$f":"Реестр!J6","v":0},{"$f":"E2*G2","v":0}]
[{"$f":"(Реестр!B7)+0","v":"2023-10-02"},{"$f":"Реестр!AM7","v":"450х260"},{"$f":"Реестр!AZ7","v":"IM"},{"$f":"Реестр!AN7","v":"D"},{"$f":"Реестр!G7","v":0},{"$f":"IF(Реестр!#REF!=\"I\",\"Ф152\",IF(Реестр!#REF!=\"II\",\"Ф127\",IF(Реестр!#REF!=\"III\",\"Ф127\",IF(Реестр!#REF!=\"IV\",\"Ф228\",IF(Реестр!#REF!=\"V\",\"Ф127\",\"\")))))","v":{"$error":"#REF!"}},{"$f":"Реестр!J7","v":0},0]
[{"$f":"(Реестр!B8)+0","v":"2023-10-02"},{"$f":"Реестр!AM8","v":"180х140"},{"$f":"Реестр!AZ8","v":"ПрИн"},{"$f":"Реестр!AN8","v":"C"},{"$f":"Реестр!G8","v":0},{"$f":"IF(Реестр!#REF!=\"I\",\"Ф152\",IF(Реестр!#REF!=\"II\",\"Ф127\",IF(Реестр!#REF!=\"III\",\"Ф127\",IF(Реестр!#REF!=\"IV\",\"Ф228\",IF(Реестр!#REF!=\"V\",\"Ф127\",\"\")))))","v":{"$error":"#REF!"}},{"$f":"Реестр!J8","v":0},0]
[{"$f":"(Реестр!B9)+0","v":"2023-10-02"},{"$f":"Реестр!AM9","v":"200х140"},{"$f":"Реестр!AZ9","v":"COMES"},{"$f":"Реестр!AN9","v":"C"},{"$f":"Реестр!G9","v":1},{"$f":"IF(Реестр!#REF!=\"I\",\"Ф152\",IF(Реестр!#REF!=\"II\",\"Ф127\",IF(Реестр!#REF!=\"III\",\"Ф127\",IF(Реестр!#REF!=\"IV\",\"Ф228\",IF(Реестр!#REF!=\"V\",\"Ф127\",\"\")))))","v":{"$error":"#REF!"}},{"$f":"Реестр!J9","v":126888.59999999999},126888.59999999999]
[{"$f":"(Реестр!B10)+0","v":"2023-10-02"},{"$f":"Реестр!AM10","v":"450х260"},{"$f":"Реестр!AZ10","v":"ПрИн"},{"$f":"Реестр!AN10","v":"C"},{"$f":"Реестр!G10","v":0},{"$f":"IF(Реестр!#REF!=\"I\",\"Ф152\",IF(Реестр!#REF!=\"II\",\"Ф127\",IF(Реестр!#REF!=\"III\",\"Ф127\",IF(Реестр!#REF!=\"IV\",\"Ф228\",IF(Реестр!#REF!=\"V\",\"Ф127\",\"\")))))","v":{"$error":"#REF!"}},{"$f":"Реестр!J10","v":0},0]
[{"$f":"(Реестр!B11)+0","v":"2023-10-03"},{"$f":"Реестр!AM11","v":"180х140"},{"$f":"Реестр!AZ11","v":"FRX"},{"$f":"Реестр!AN11","v":"B"},{"$f":"Реестр!G11","v":0},{"$f":"IF(Реестр!#REF!=\"I\",\"Ф152\",IF(Реестр!#REF!=\"II\",\"Ф127\",IF(Реестр!#REF!=\"III\",\"Ф127\",IF(Реестр!#REF!=\"IV\",\"Ф228\",IF(Реестр!#REF!=\"V\",\"Ф127\",\"\")))))","v":{"$error":"#REF!"}},{"$f":"Реестр!J11","v":0},0]
[{"$f":"(Реестр!B12)+0","v":"2023-10-03"},{"$f":"Реестр!AM12","v":"180х140"},{"$f":"Реестр!AZ12","v":"EXP"},{"$f":"Реестр!AN12","v":"C"},{"$f":"Реестр!G12","v":0},{"$f":"IF(Реестр!#REF!=\"I\",\"Ф152\",IF(Реестр!#REF!=\"II\",\"Ф127\",IF(Реестр!#REF!=\"III\",\"Ф127\",IF(Реестр!#REF!=\"IV\",\"Ф228\",IF(Реестр!#REF!=\"V\",\"Ф127\",\"\")))))","v":{"$error":"#REF!"}},{"$f":"Реестр!J12","v":0},0]
[{"$f":"(Реестр!B13)+0","v":"2023-10-03"},{"$f":"Реестр!AM13","v":"180х140"},{"$f":"Реестр!AZ13","v":"COMES"},{"$f":"Реестр!AN13","v":"B"},{"$f":"Реестр!G13","v":0},{"$f":"IF(Реестр!#REF!=\"I\",\"Ф152\",IF(Реестр!#REF!=\"II\",\"Ф127\",IF(Реестр!#REF!=\"III\",\"Ф127\",IF(Реестр!#REF!=\"IV\",\"Ф228\",IF(Реестр!#REF!=\"V\",\"Ф127\",\"\")))))","v":{"$error":"#REF!"}},{"$f":"Реестр!J13","v":0},0]
[{"$f":"(Реестр!B14)+0","v":"2023-10-03"},{"$f":"Реестр!AM14","v":"200х140"},{"$f":"Реестр!AZ14","v":"COMES"},{"$f":"Реестр!AN14","v":"B"},{"$f":"Реестр!G14","v":0},{"$f":"IF(Реестр!#REF!=\"I\",\"Ф152\",IF(Реестр!#REF!=\"II\",\"Ф127\",IF(Реестр!#REF!=\"III\",\"Ф127\",IF(Реестр!#REF!=\"IV\",\"Ф228\",IF(Реестр!#REF!=\"V\",\"Ф127\",\"\")))))","v":{"$error":"#REF!"}},{"$f":"Реестр!J14","v":0},0]
[{"$f":"(Реестр!B15)+0","v":"2023-10-04"},{"$f":"Реестр!AM15","v":"200х140"},{"$f":"Реестр!AZ15","v":"FRX"},{"$f":"Реестр!AN15","v":"C"},{"$f":"Реестр!G15","v":0},{"$f":"IF(Реестр!#REF!=\"I\",\"Ф152\",IF(Реестр!#REF!=\"II\",\"Ф127\",IF(Реестр!#REF!=\"III\",\"Ф127\",IF(Реестр!#REF!=\"IV\",\"Ф228\",IF(Реестр!#REF!=\"V\",\"Ф127\",\"\")))))","v":{"$error":"#REF!"}},{"$f":"Реестр!J15","v":0},0]
[{"$f":"(Реестр!B16)+0","v":"2023-10-05"},{"$f":"Реестр!AM16","v":"200х140"},{"$f":"Реестр!AZ16","v":"IM"},{"$f":"Реестр!AN16","v":"B"},{"$f":"Реестр!G16","v":0},{"$f":"IF(Реестр!#REF!=\"I\",\"Ф152\",IF(Реестр!#REF!=\"II\",\"Ф127\",IF(Реестр!#REF!=\"III\",\"Ф127\",IF(Реестр!#REF!=\"IV\",\"Ф228\",IF(Реестр!#REF!=\"V\",\"Ф127\",\"\")))))","v":{"$error":"#REF!"}},{"$f":"Реестр!J16","v":0},0]
[{"$f":"(Реестр!B17)+0","v":"2023-10-05"},{"$f":"Реестр!AM17","v":"230х140"},{"$f":"Реестр!AZ17","v":"FRX"},{"$f":"Реестр!AN17","v":"C"},{"$f":"Реестр!G17","v":0},{"$f":"IF(Реестр!#REF!=\"I\",\"Ф152\",IF(Реестр!#REF!=\"II\",\"Ф127\",IF(Реестр!#REF!=\"III\",\"Ф127\",IF(Реестр!#REF!=\"IV\",\"Ф228\",IF(Реестр!#REF!=\"V\",\"Ф127\",\"\")))))","v":{"$error":"#REF!"}},{"$f":"Реестр!J17","v":0},0]
[{"$f":"(Реестр!B18)+0","v":"2023-10-05"},{"$f":"Реестр!AM18","v":"200х140"},{"$f":"Реестр!AZ18","v":"ПрИн"},{"$f":"Реестр!AN18","v":"C"},{"$f":"Реестр!G18","v":0},{"$f":"IF(Реестр!#REF!=\"I\",\"Ф152\",IF(Реестр!#REF!=\"II\",\"Ф127\",IF(Реестр!#REF!=\"III\",\"Ф127\",IF(Реестр!#REF!=\"IV\",\"Ф228\",IF(Реестр!#REF!=\"V\",\"Ф127\",\"\")))))","v":{"$error":"#REF!"}},{"$f":"Реестр!J18","v":0},0]
[{"$f":"(Реестр!B19)+0","v":"2023-10-05"},{"$f":"Реестр!AM19","v":"230х140"},{"$f":"Реестр!AZ19","v":"FRX"},{"$f":"Реестр!AN19","v":"C"},{"$f":"Реестр!G19","v":0},{"$f":"IF(Реестр!#REF!=\"I\",\"Ф152\",IF(Реестр!#REF!=\"II\",\"Ф127\",IF(Реестр!#REF!=\"III\",\"Ф127\",IF(Реестр!#REF!=\"IV\",\"Ф228\",IF(Реестр!#REF!=\"V\",\"Ф127\",\"\")))))","v":{"$error":"#REF!"}},{"$f":"Реестр!J19","v":0},0]
[{"$f":"(Реестр!B20)+0","v":"2023-10-05"},{"$f":"Реестр!AM20","v":"200х140"},{"$f":"Реестр!AZ20","v":"IM"},{"$f":"Реестр!AN20","v":"C"},{"$f":"Реестр!G20","v":0},{"$f":"IF(Реестр!#REF!=\"I\",\"Ф152\",IF(Реестр!#REF!=\"II\",\"Ф127\",IF(Реестр!#REF!=\"III\",\"Ф127\",IF(Реестр!#REF!=\"IV\",\"Ф228\",IF(Реестр!#REF!=\"V\",\"Ф127\",\"\")))))","v":{"$error":"#REF!"}},{"$f":"Реестр!J20","v":0},0]
[{"$f":"(Реестр!B21)+0","v":"2023-10-05"},{"$f":"Реестр!AM21","v":"180х140"},{"$f":"Реестр!AZ21","v":"IM"},{"$f":"Реестр!AN21","v":"B"},{"$f":"Реестр!G21","v":0},{"$f":"IF(Реестр!#REF!=\"I\",\"Ф152\",IF(Реестр!#REF!=\"II\",\"Ф127\",IF(Реестр!#REF!=\"III\",\"Ф127\",IF(Реестр!#REF!=\"IV\",\"Ф228\",IF(Реестр!#REF!=\"V\",\"Ф127\",\"\")))))","v":{"$error":"#REF!"}},{"$f":"Реестр!J21","v":0},0]
[{"$f":"(Реестр!B22)+0","v":"2023-10-06"},{"$f":"Реестр!AM22","v":"230х200"},{"$f":"Реестр!AZ22","v":"FRX"},{"$f":"Реестр!AN22","v":"B"},{"$f":"Реестр!G22","v":1},{"$f":"IF(Реестр!#REF!=\"I\",\"Ф152\",IF(Реестр!#REF!=\"II\",\"Ф127\",IF(Реестр!#REF!=\"III\",\"Ф127\",IF(Реестр!#REF!=\"IV\",\"Ф228\",IF(Реестр!#REF!=\"V\",\"Ф127\",\"\")))))","v":{"$error":"#REF!"}},{"$f":"Реестр!J22","v":78798.399999999994},78798.399999999994]
[{"$f":"(Реестр!B23)+0","v":"2023-10-06"},{"$f":"Реестр!AM23","v":"230х200"},{"$f":"Реестр!AZ23","v":"IM"},{"$f":"Реестр!AN23","v":"B"},{"$f":"Реестр!G23","v":1},{"$f":"IF(Реестр!#REF!=\"I\",\"Ф152\",IF(Реестр!#REF!=\"II\",\"Ф127\",IF(Реестр!#REF!=\"III\",\"Ф127\",IF(Реестр!#REF!=\"IV\",\"Ф228\",IF(Реестр!#REF!=\"V\",\"Ф127\",\"\")))))","v":{"$error":"#REF!"}},{"$f":"Реестр!J23","v":75322},75322]
[{"$f":"(Реестр!B24)+0","v":"2023-10-09"},{"$f":"Реестр!AM24","v":"230х200"},{"$f":"Реестр!AZ24","v":"ПрИн"},{"$f":"Реестр!AN24","v":"C"},{"$f":"Реестр!G24","v":1},{"$f":"IF(Реестр!#REF!=\"I\",\"Ф152\",IF(Реестр!#REF!=\"II\",\"Ф127\",IF(Реестр!#REF!=\"III\",\"Ф127\",IF(Реестр!#REF!=\"IV\",\"Ф228\",IF(Реестр!#REF!=\"V\",\"Ф127\",\"\")))))","v":{"$error":"#REF!"}},{"$f":"Реестр!J24","v":208584},208584]
[{"$f":"(Реестр!B25)+0","v":"2023-10-09"},{"$f":"Реестр!AM25","v":"280х200"},{"$f":"Реестр!AZ25","v":"FRX"},{"$f":"Реестр!AN25","v":"B"},{"$f":"Реестр!G25","v":1},{"$f":"IF(Реестр!#REF!=\"I\",\"Ф152\",IF(Реестр!#REF!=\"II\",\"Ф127\",IF(Реестр!#REF!=\"III\",\"Ф127\",IF(Реестр!#REF!=\"IV\",\"Ф228\",IF(Реестр!#REF!=\"V\",\"Ф127\",\"\")))))","v":{"$error":"#REF!"}},{"$f":"Реестр!J25","v":138476.6},138476.6]
[{"$f":"(Реестр!B26)+0","v":"2023-10-09"},{"$f":"Реестр!AM26","v":"380х200"},{"$f":"Реестр!AZ26","v":"ПрИн"},{"$f":"Реестр!AN26","v":"D"},{"$f":"Реестр!G26","v":1},{"$f":"IF(Реестр!#REF!=\"I\",\"Ф152\",IF(Реестр!#REF!=\"II\",\"Ф127\",IF(Реестр!#REF!=\"III\",\"Ф127\",IF(Реестр!#REF!=\"IV\",\"Ф228\",IF(Реестр!#REF!=\"V\",\"Ф127\",\"\")))))","v":{"$error":"#REF!"}},{"$f":"Реестр!J26","v":383794.56},383794.56]
[{"$f":"(Реестр!B27)+0","v":"2023-10-09"},{"$f":"Реестр!AM27","v":"380х200"},{"$f":"Реестр!AZ27","v":"ПрИн"},{"$f":"Реестр!AN27","v":"D"},{"$f":"Реестр!G27","v":1},{"$f":"IF(Реестр!#REF!=\"I\",\"Ф152\",IF(Реестр!#REF!=\"II\",\"Ф127\",IF(Реестр!#REF!=\"III\",\"Ф127\",IF(Реестр!#REF!=\"IV\",\"Ф228\",IF(Реестр!#REF!=\"V\",\"Ф127\",\"\")))))","v":{"$error":"#REF!"}},{"$f":"Реестр!J27","v":441363.74400000001},441363.74400000001]
[{"$f":"(Реестр!B28)+0","v":"2023-10-09"},{"$f":"Реестр!AM28","v":"230х200"},{"$f":"Реестр!AZ28","v":"FRX"},{"$f":"Реестр!AN28","v":"A"},{"$f":"Реестр!G28","v":1},{"$f":"IF(Реестр!#REF!=\"I\",\"Ф152\",IF(Реестр!#REF!=\"II\",\"Ф127\",IF(Реестр!#REF!=\"III\",\"Ф127\",IF(Реестр!#REF!=\"IV\",\"Ф228\",IF(Реестр!#REF!=\"V\",\"Ф127\",\"\")))))","v":{"$error":"#REF!"}},{"$f":"Реестр!J28","v":108927.2},108927.2]
[{"$f":"(Реестр!B29)+0","v":"2023-10-09"},{"$f":"Реестр!AM29","v":"200х140"},{"$f":"Реестр!AZ29","v":"IM"},{"$f":"Реестр!AN29","v":"B"},{"$f":"Реестр!G29","v":1},{"$f":"IF(Реестр!#REF!=\"I\",\"Ф152\",IF(Реестр!#REF!=\"II\",\"Ф127\",IF(Реестр!#REF!=\"III\",\"Ф127\",IF(Реестр!#REF!=\"IV\",\"Ф228\",IF(Реестр!#REF!=\"V\",\"Ф127\",\"\")))))","v":{"$error":"#REF!"}},{"$f":"Реестр!J29","v":51566.6},51566.6]
[{"$f":"(Реестр!B30)+0","v":"2023-10-09"},{"$f":"Реестр!AM30","v":"450х260"},{"$f":"Реестр!AZ30","v":"COMES"},{"$f":"Реестр!AN30","v":"C"},{"$f":"Реестр!G30","v":1},{"$f":"IF(Реестр!#REF!=\"I\",\"Ф152\",IF(Реестр!#REF!=\"II\",\"Ф127\",IF(Реестр!#REF!=\"III\",\"Ф127\",IF(Реестр!#REF!=\"IV\",\"Ф228\",IF(Реестр!#REF!=\"V\",\"Ф127\",\"\")))))","v":{"$error":"#REF!"}},{"$f":"Реестр!J30","v":412996.32},412996.32]
[{"$f":"(Реестр!B31)+0","v":"2023-10-09"},{"$f":"Реестр!AM31","v":"450х260"},{"$f":"Реестр!AZ31","v":"EXP"},{"$f":"Реестр!AN31","v":"C"},{"$f":"Реестр!G31","v":1},{"$f":"IF(Реестр!#REF!=\"I\",\"Ф152\",IF(Реестр!#REF!=\"II\",\"Ф127\",IF(Реестр!#REF!=\"III\",\"Ф127\",IF(Реестр!#REF!=\"IV\",\"Ф228\",IF(Реестр!#REF!=\"V\",\"Ф127\",\"\")))))","v":{"$error":"#REF!"}},{"$f":"Реестр!J31","v":412996.32},412996.32]
[{"$f":"(Реестр!B32)+0","v":"2023-10-09"},{"$f":"Реестр!AM32","v":"180х140"},{"$f":"Реестр!AZ32","v":"FRX"},{"$f":"Реестр!AN32","v":"B"},{"$f":"Реестр!G32","v":1},{"$f":"IF(Реестр!#REF!=\"I\",\"Ф152\",IF(Реестр!#REF!=\"II\",\"Ф127\",IF(Реестр!#REF!=\"III\",\"Ф127\",IF(Реестр!#REF!=\"IV\",\"Ф228\",IF(Реестр!#REF!=\"V\",\"Ф127\",\"\")))))","v":{"$error":"#REF!"}},{"$f":"Реестр!J32","v":60837},60837]
[{"$f":"(Реестр!B595)+0","v":"00:00:00"},{"$f":"Реестр!AM595","v":0},{"$f":"Реестр!AZ595","v":0},{"$f":"Реестр!AN595","v":0},{"$f":"Реестр!G595","v":0},{"$f":"IF(Реестр!#REF!=\"I\",\"Ф152\",IF(Реестр!#REF!=\"II\",\"Ф127\",IF(Реестр!#REF!=\"III\",\"Ф127\",IF(Реестр!#REF!=\"IV\",\"Ф228\",IF(Реестр!#REF!=\"V\",\"Ф127\",\"\")))))","v":{"$error":"#REF!"}},{"$f":"Реестр!J595","v":0},{"$f":"E29*G29","v":0}]
[{"$f":"(Реестр!B596)+0","v":"00:00:00"},{"$f":"Реестр!AM596","v":0},{"$f":"Реестр!AZ596","v":0},{"$f":"Реестр!AN596","v":0},{"$f":"Реестр!G596","v":0},{"$f":"IF(Реестр!#REF!=\"I\",\"Ф152\",IF(Реестр!#REF!=\"II\",\"Ф127\",IF(Реестр!#REF!=\"III\",\"Ф127\",IF(Реестр!#REF!=\"IV\",\"Ф228\",IF(Реестр!#REF!=\"V\",\"Ф127\",\"\")))))","v":{"$error":"#REF!"}},{"$f":"Реестр!J596","v":0},0]
[{"$f":"(Реестр!B597)+0","v":"00:00:00"},{"$f":"Реестр!AM597","v":0},{"$f":"Реестр!AZ597","v":0},{"$f":"Реестр!AN597","v":0},{"$f":"Реестр!G597","v":0},{"$f":"IF(Реестр!#REF!=\"I\",\"Ф152\",IF(Реестр!#REF!=\"II\",\"Ф127\",IF(Реестр!#REF!=\"III\",\"Ф127\",IF(Реестр!#REF!=\"IV\",\"Ф228\",IF(Реестр!#REF!=\"V\",\"Ф127\",\"\")))))","v":{"$error":"#REF!"}},{"$f":"Реестр!J597","v":0},0]
[{"$f":"(Реестр!B598)+0","v":"00:00:00"},{"$f":"Реестр!AM598","v":0},{"$f":"Реестр!AZ598","v":0},{"$f":"Реестр!AN598","v":0},{"$f":"Реестр!G598","v":0},{"$f":"IF(Реестр!#REF!=\"I\",\"Ф152\",IF(Реестр!#REF!=\"II\",\"Ф127\",IF(Реестр!#REF!=\"III\",\"Ф127\",IF(Реестр!#REF!=\"IV\",\"Ф228\",IF(Реестр!#REF!=\"V\",\"Ф127\",\"\")))))","v":{"$error":"#REF!"}},{"$f":"Реестр!J598","v":0},0]
[{"$f":"(Реестр!B599)+0","v":"00:00:00"},{"$f":"Реестр!AM599","v":0},{"$f":"Реестр!AZ599","v":0},{"$f":"Реестр!AN599","v":0},{"$f":"Реестр!G599","v":0},{"$f":"IF(Реестр!#REF!=\"I\",\"Ф152\",IF(Реестр!#REF!=\"II\",\"Ф127\",IF(Реестр!#REF!=\"III\",\"Ф127\",IF(Реестр!#REF!=\"IV\",\"Ф228\",IF(Реестр!#REF!=\"V\",\"Ф127\",\"\")))))","v":{"$error":"#REF!"}},{"$f":"Реестр!J599","v":0},0]
[{"$f":"(Реестр!B600)+0","v":"00:00:00"},{"$f":"Реестр!AM600","v":0},{"$f":"Реестр!AZ600","v":0},{"$f":"Реестр!AN600","v":0},{"$f":"Реестр!G600","v":0},{"$f":"IF(Реестр!#REF!=\"I\",\"Ф152\",IF(Реестр!#REF!=\"II\",\"Ф127\",IF(Реестр!#REF!=\"III\",\"Ф127\",IF(Реестр!#REF!=\"IV\",\"Ф228\",IF(Реестр!#REF!=\"V\",\"Ф127\",\"\")))))","v":{"$error":"#REF!"}},{"$f":"Реестр!J600","v":0},0]
[{"$f":"(Реестр!B601)+0","v":"00:00:00"},{"$f":"Реестр!AM601","v":0},{"$f":"Реестр!AZ601","v":0},{"$f":"Реестр!AN601","v":0},{"$f":"Реестр!G601","v":0},{"$f":"IF(Реестр!#REF!=\"I\",\"Ф152\",IF(Реестр!#REF!=\"II\",\"Ф127\",IF(Реестр!#REF!=\"III\",\"Ф127\",IF(Реестр!#REF!=\"IV\",\"Ф228\",IF(Реестр!#REF!=\"V\",\"Ф127\",\"\")))))","v":{"$error":"#REF!"}},{"$f":"Реестр!J601","v":0},0]
[{"$f":"(Реестр!B602)+0","v":"00:00:00"},{"$f":"Реестр!AM602","v":0},{"$f":"Реестр!AZ602","v":0},{"$f":"Реестр!AN602","v":0},{"$f":"Реестр!G602","v":0},{"$f":"IF(Реестр!#REF!=\"I\",\"Ф152\",IF(Реестр!#REF!=\"II\",\"Ф127\",IF(Реестр!#REF!=\"III\",\"Ф127\",IF(Реестр!#REF!=\"IV\",\"Ф228\",IF(Реестр!#REF!=\"V\",\"Ф127\",\"\")))))","v":{"$error":"#REF!"}},{"$f":"Реестр!J602","v":0},0]
[{"$f":"(Реестр!B603)+0","v":"00:00:00"},{"$f":"Реестр!AM603","v":0},{"$f":"Реестр!AZ603","v":0},{"$f":"Реестр!AN603","v":0},{"$f":"Реестр!G603","v":0},{"$f":"IF(Реестр!#REF!=\"I\",\"Ф152\",IF(Реестр!#REF!=\"II\",\"Ф127\",IF(Реестр!#REF!=\"III\",\"Ф127\",IF(Реестр!#REF!=\"IV\",\"Ф228\",IF(Реестр!#REF!=\"V\",\"Ф127\",\"\")))))","v":{"$error":"#REF!"}},{"$f":"Реестр!J603","v":0},0]
[{"$f":"(Реестр!B604)+0","v":"00:00:00"},{"$f":"Реестр!AM604","v":0},{"$f":"Реестр!AZ604","v":0},{"$f":"Реестр!AN604","v":0},{"$f":"Реестр!G604","v":0},{"$f":"IF(Реестр!#REF!=\"I\",\"Ф152\",IF(Реестр!#REF!=\"II\",\"Ф127\",IF(Реестр!#REF!=\"III\",\"Ф127\",IF(Реестр!#REF!=\"IV\",\"Ф228\",IF(Реестр!#REF!=\"V\",\"Ф127\",\"\")))))","v":{"$error":"#REF!"}},{"$f":"Реестр!J604","v":0},0]
[{"$f":"(Реестр!B605)+0","v":"00:00:00"},{"$f":"Реестр!AM605","v":0},{"$f":"Реестр!AZ605","v":0},{"$f":"Реестр!AN605","v":0},{"$f":"Реестр!G605","v":0},{"$f":"IF(Реестр!#REF!=\"I\",\"Ф152\",IF(Реестр!#REF!=\"II\",\"Ф127\",IF(Реестр!#REF!=\"III\",\"Ф127\",IF(Реестр!#REF!=\"IV\",\"Ф228\",IF(Реестр!#REF!=\"V\",\"Ф127\",\"\")))))","v":{"$error":"#REF!"}},{"$f":"Реестр!J605","v":0},0]
[{"$f":"(Реестр!B606)+0","v":"00:00:00"},{"$f":"Реестр!AM606","v":0},{"$f":"Реестр!AZ606","v":0},{"$f":"Реестр!AN606","v":0},{"$f":"Реестр!G606","v":0},{"$f":"IF(Реестр!#REF!=\"I\",\"Ф152\",IF(Реестр!#REF!=\"II\",\"Ф127\",IF(Реестр!#REF!=\"III\",\"Ф127\",IF(Реестр!#REF!=\"IV\",\"Ф228\",IF(Реестр!#REF!=\"V\",\"Ф127\",\"\")))))","v":{"$error":"#REF!"}},{"$f":"Реестр!J606","v":0},0]
[{"$f":"(Реестр!B607)+0","v":"00:00:00"},{"$f":"Реестр!AM607","v":0},{"$f":"Реестр!AZ607","v":0},{"$f":"Реестр!AN607","v":0},{"$f":"Реестр!G607","v":0},{"$f":"IF(Реестр!#REF!=\"I\",\"Ф152\",IF(Реестр!#REF!=\"II\",\"Ф127\",IF(Реестр!#REF!=\"III\",\"Ф127\",IF(Реестр!#REF!=\"IV\",\"Ф228\",IF(Реестр!#REF!=\"V\",\"Ф127\",\"\")))))","v":{"$error":"#REF!"}},{"$f":"Реестр!J607","v":0},0]
[{"$f":"(Реестр!B608)+0","v":"00:00:00"},{"$f":"Реестр!AM608","v":0},{"$f":"Реестр!AZ608","v":0},{"$f":"Реестр!AN608","v":0},{"$f":"Реестр!G608","v":0},{"$f":"IF(Реестр!#REF!=\"I\",\"Ф152\",IF(Реестр!#REF!=\"II\",\"Ф127\",IF(Реестр!#REF!=\"III\",\"Ф127\",IF(Реестр!#REF!=\"IV\",\"Ф228\",IF(Реестр!#REF!=\"V\",\"Ф127\",\"\")))))","v":{"$error":"#REF!"}},{"$f":"Реестр!J608","v":0},0]
[{"$f":"(Реестр!B609)+0","v":"00:00:00"},{"$f":"Реестр!AM609","v":0},{"$f":"Реестр!AZ609","v":0},{"$f":"Реестр!AN609","v":0},{"$f":"Реестр!G609","v":0},{"$f":"IF(Реестр!#REF!=\"I\",\"Ф152\",IF(Реестр!#REF!=\"II\",\"Ф127\",IF(Реестр!#REF!=\"III\",\"Ф127\",IF(Реестр!#REF!=\"IV\",\"Ф228\",IF(Реестр!#REF!=\"V\",\"Ф127\",\"\")))))","v":{"$error":"#REF!"}},{"$f":"Реестр!J609","v":0},0]
[{"$f":"(Реестр!B610)+0","v":"00:00:00"},{"$f":"Реестр!AM610","v":0},{"$f":"Реестр!AZ610","v":0},{"$f":"Реестр!AN610","v":0},{"$f":"Реестр!G610","v":0},{"$f":"IF(Реестр!#REF!=\"I\",\"Ф152\",IF(Реестр!#REF!=\"II\",\"Ф127\",IF(Реестр!#REF!=\"III\",\"Ф127\",IF(Реестр!#REF!=\"IV\",\"Ф228\",IF(Реестр!#REF!=\"V\",\"Ф127\",\"\")))))","v":{"$error":"#REF!"}},{"$f":"Реестр!J610","v":0},0]
[{"$f":"(Реестр!B611)+0","v":"00:00:00"},{"$f":"Реестр!AM611","v":0},{"$f":"Реестр!AZ611","v":0},{"$f":"Реестр!AN611","v":0},{"$f":"Реестр!G611","v":0},{"$f":"IF(Реестр!#REF!=\"I\",\"Ф152\",IF(Реестр!#REF!=\"II\",\"Ф127\",IF(Реестр!#REF!=\"III\",\"Ф127\",IF(Реестр!#REF!=\"IV\",\"Ф228\",IF(Реестр!#REF!=\"V\",\"Ф127\",\"\")))))","v":{"$error":"#REF!"}},{"$f":"Реестр!J611","v":0},0]
[{"$f":"(Реестр!B612)+0","v":"00:00:00"},{"$f":"Реестр!AM612","v":0},{"$f":"Реестр!AZ612","v":0},{"$f":"Реестр!AN612","v":0},{"$f":"Реестр!G612","v":0},{"$f":"IF(Реестр!#REF!=\"I\",\"Ф152\",IF(Реестр!#REF!=\"II\",\"Ф127\",IF(Реестр!#REF!=\"III\",\"Ф127\",IF(Реестр!#REF!=\"IV\",\"Ф228\",IF(Реестр!#REF!=\"V\",\"Ф127\",\"\")))))","v":{"$error":"#REF!"}},{"$f":"Реестр!J612","v":0},0]
[{"$f":"(Реестр!B613)+0","v":"00:00:00"},{"$f":"Реестр!AM613","v":0},{"$f":"Реестр!AZ613","v":0},{"$f":"Реестр!AN613","v":0},{"$f":"Реестр!G613","v":0},{"$f":"IF(Реестр!#REF!=\"I\",\"Ф152\",IF(Реестр!#REF!=\"II\",\"Ф127\",IF(Реестр!#REF!=\"III\",\"Ф127\",IF(Реестр!#REF!=\"IV\",\"Ф228\",IF(Реестр!#REF!=\"V\",\"Ф127\",\"\")))))","v":{"$error":"#REF!"}},{"$f":"Реестр!J613","v":0},0]
[{"$f":"(Реестр!B614)+0","v":"00:00:00"},{"$f":"Реестр!AM614","v":0},{"$f":"Реестр!AZ614","v":0},{"$f":"Реестр!AN614","v":0},{"$f":"Реестр!G614","v":0},{"$f":"IF(Реестр!#REF!=\"I\",\"Ф152\",IF(Реестр!#REF!=\"II\",\"Ф127\",IF(Реестр!#REF!=\"III\",\"Ф127\",IF(Реестр!#REF!=\"IV\",\"Ф228\",IF(Реестр!#REF!=\"V\",\"Ф127\",\"\")))))","v":{"$error":"#REF!"}},{"$f":"Реестр!J614","v":0},0]
[{"$f":"(Реестр!B615)+0","v":"00:00:00"},{"$f":"Реестр!AM615","v":0},{"$f":"Реестр!AZ615","v":0},{"$f":"Реестр!AN615","v":0},{"$f":"Реестр!G615","v":0},{"$f":"IF(Реестр!#REF!=\"I\",\"Ф152\",IF(Реестр!#REF!=\"II\",\"Ф127\",IF(Реестр!#REF!=\"III\",\"Ф127\",IF(Реестр!#REF!=\"IV\",\"Ф228\",IF(Реестр!#REF!=\"V\",\"Ф127\",\"\")))))","v":{"$error":"#REF!"}},{"$f":"Реестр!J615","v":0},0]
[{"$f":"(Реестр!B616)+0","v":"00:00:00"},{"$f":"Реестр!AM616","v":0},{"$f":"Реестр!AZ616","v":0},{"$f":"Реестр!AN616","v":0},{"$f":"Реестр!G616","v":0},{"$f":"IF(Реестр!#REF!=\"I\",\"Ф152\",IF(Реестр!#REF!=\"II\",\"Ф127\",IF(Реестр!#REF!=\"III\",\"Ф127\",IF(Реестр!#REF!=\"IV\",\"Ф228\",IF(Реестр!#REF!=\"V\",\"Ф127\",\"\")))))","v":{"$error":"#REF!"}},{"$f":"Реестр!J616","v":0},0]
[{"$f":"(Реестр!B617)+0","v":"00:00:00"},{"$f":"Реестр!AM617","v":0},{"$f":"Реестр!AZ617","v":0},{"$f":"Реестр!AN617","v":0},{"$f":"Реестр!G617","v":0},{"$f":"IF(Реестр!#REF!=\"I\",\"Ф152\",IF(Реестр!#REF!=\"II\",\"Ф127\",IF(Реестр!#REF!=\"III\",\"Ф127\",IF(Реестр!#REF!=\"IV\",\"Ф228\",IF(Реестр!#REF!=\"V\",\"Ф127\",\"\")))))","v":{"$error":"#REF!"}},{"$f":"Реестр!J617","v":0},0]
[{"$f":"(Реестр!B618)+0","v":"00:00:00"},{"$f":"Реестр!AM618","v":0},{"$f":"Реестр!AZ618","v":0},{"$f":"Реестр!AN618","v":0},{"$f":"Реестр!G618","v":0},{"$f":"IF(Реестр!#REF!=\"I\",\"Ф152\",IF(Реестр!#REF!=\"II\",\"Ф127\",IF(Реестр!#REF!=\"III\",\"Ф127\",IF(Реестр!#REF!=\"IV\",\"Ф228\",IF(Реестр!#REF!=\"V\",\"Ф127\",\"\")))))","v":{"$error":"#REF!"}},{"$f":"Реестр!J618","v":0},0]
[{"$f":"(Реестр!B619)+0","v":"00:00:00"},{"$f":"Реестр!AM619","v":0},{"$f":"Реестр!AZ619","v":0},{"$f":"Реестр!AN619","v":0},{"$f":"Реестр!G619","v":0},{"$f":"IF(Реестр!#REF!=\"I\",\"Ф152\",IF(Реестр!#REF!=\"II\",\"Ф127\",IF(Реестр!#REF!=\"III\",\"Ф127\",IF(Реестр!#REF!=\"IV\",\"Ф228\",IF(Реестр!#REF!=\"V\",\"Ф127\",\"\")))))","v":{"$error":"#REF!"}},{"$f":"Реестр!J619","v":0},0]
[{"$f":"(Реестр!B620)+0","v":"00:00:00"},{"$f":"Реестр!AM620","v":0},{"$f":"Реестр!AZ620","v":0},{"$f":"Реестр!AN620","v":0},{"$f":"Реестр!G620","v":0},{"$f":"IF(Реестр!#REF!=\"I\",\"Ф152\",IF(Реестр!#REF!=\"II\",\"Ф127\",IF(Реестр!#REF!=\"III\",\"Ф127\",IF(Реестр!#REF!=\"IV\",\"Ф228\",IF(Реестр!#REF!=\"V\",\"Ф127\",\"\")))))","v":{"$error":"#REF!"}},{"$f":"Реестр!J620","v":0},0]
[{"$f":"(Реестр!B621)+0","v":"00:00:00"},{"$f":"Реестр!AM621","v":0},{"$f":"Реестр!AZ621","v":0},{"$f":"Реестр!AN621","v":0},{"$f":"Реестр!G621","v":0},{"$f":"IF(Реестр!#REF!=\"I\",\"Ф152\",IF(Реестр!#REF!=\"II\",\"Ф127\",IF(Реестр!#REF!=\"III\",\"Ф127\",IF(Реестр!#REF!=\"IV\",\"Ф228\",IF(Реестр!#REF!=\"V\",\"Ф127\",\"\")))))","v":{"$error":"#REF!"}},{"$f":"Реестр!J621","v":0},0]
[{"$f":"(Реестр!B622)+0","v":"00:00:00"},{"$f":"Реестр!AM622","v":0},{"$f":"Реестр!AZ622","v":0},{"$f":"Реестр!AN622","v":0},{"$f":"Реестр!G622","v":0},{"$f":"IF(Реестр!#REF!=\"I\",\"Ф152\",IF(Реестр!#REF!=\"II\",\"Ф127\",IF(Реестр!#REF!=\"III\",\"Ф127\",IF(Реестр!#REF!=\"IV\",\"Ф228\",IF(Реестр!#REF!=\"V\",\"Ф127\",\"\")))))","v":{"$error":"#REF!"}},{"$f":"Реестр!J622","v":0},0]
[{"$f":"(Реестр!B623)+0","v":"00:00:00"},{"$f":"Реестр!AM623","v":0},{"$f":"Реестр!AZ623","v":0},{"$f":"Реестр!AN623","v":0},{"$f":"Реестр!G623","v":0},{"$f":"IF(Реестр!#REF!=\"I\",\"Ф152\",IF(Реестр!#REF!=\"II\",\"Ф127\",IF(Реестр!#REF!=\"III\",\"Ф127\",IF(Реестр!#REF!=\"IV\",\"Ф228\",IF(Реестр!#REF!=\"V\",\"Ф127\",\"\")))))","v":{"$error":"#REF!"}},{"$f":"Реестр!J623","v":0},0]
[{"$f":"(Реестр!B624)+0","v":"00:00:00"},{"$f":"Реестр!AM624","v":0},{"$f":"Реестр!AZ624","v":0},{"$f":"Реестр!AN624","v":0},{"$f":"Реестр!G624","v":0},{"$f":"IF(Реестр!#REF!=\"I\",\"Ф152\",IF(Реестр!#REF!=\"II\",\"Ф127\",IF(Реестр!#REF!=\"III\",\"Ф127\",IF(Реестр!#REF!=\"IV\",\"Ф228\",IF(Реестр!#REF!=\"V\",\"Ф127\",\"\")))))","v":{"$error":"#REF!"}},{"$f":"Реестр!J624","v":0},0]
[{"$f":"(Реестр!B625)+0","v":"00:00:00"},{"$f":"Реестр!AM625","v":0},{"$f":"Реестр!AZ625","v":0},{"$f":"Реестр!AN625","v":0},{"$f":"Реестр!G625","v":0},{"$f":"IF(Реестр!#REF!=\"I\",\"Ф152\",IF(Реестр!#REF!=\"II\",\"Ф127\",IF(Реестр!#REF!=\"III\",\"Ф127\",IF(Реестр!#REF!=\"IV\",\"Ф228\",IF(Реестр!#REF!=\"V\",\"Ф127\",\"\")))))","v":{"$error":"#REF!"}},{"$f":"Реестр!J625","v":0},0]
[{"$f":"(Реестр!B626)+0","v":"00:00:00"},{"$f":"Реестр!AM626","v":0},{"$f":"Реестр!AZ626","v":0},{"$f":"Реестр!AN626","v":0},{"$f":"Реестр!G626","v":0},{"$f":"IF(Реестр!#REF!=\"I\",\"Ф152\",IF(Реестр!#REF!=\"II\",\"Ф127\",IF(Реестр!#REF!=\"III\",\"Ф127\",IF(Реестр!#REF!=\"IV\",\"Ф228\",IF(Реестр!#REF!=\"V\",\"Ф127\",\"\")))))","v":{"$error":"#REF!"}},{"$f":"Реестр!J626","v":0},0]
[{"$f":"(Реестр!B627)+0","v":"00:00:00"},{"$f":"Реестр!AM627","v":0},{"$f":"Реестр!AZ627","v":0},{"$f":"Реестр!AN627","v":0},{"$f":"Реестр!G627","v":0},{"$f":"IF(Реестр!#REF!=\"I\",\"Ф152\",IF(Реестр!#REF!=\"II\",\"Ф127\",IF(Реестр!#REF!=\"III\",\"Ф127\",IF(Реестр!#REF!=\"IV\",\"Ф228\",IF(Реестр!#REF!=\"V\",\"Ф127\",\"\")))))","v":{"$error":"#REF!"}},{"$f":"Реестр!J627","v":0},0]
[{"$f":"(Реестр!B628)+0","v":"00:00:00"},{"$f":"Реестр!AM628","v":0},{"$f":"Реестр!AZ628","v":0},{"$f":"Реестр!AN628","v":0},{"$f":"Реестр!G628","v":0},{"$f":"IF(Реестр!#REF!=\"I\",\"Ф152\",IF(Реестр!#REF!=\"II\",\"Ф127\",IF(Реестр!#REF!=\"III\",\"Ф127\",IF(Реестр!#REF!=\"IV\",\"Ф228\",IF(Реестр!#REF!=\"V\",\"Ф127\",\"\")))))","v":{"$error":"#REF!"}},{"$f":"Реестр!J628","v":0},0]
[{"$f":"(Реестр!B629)+0","v":"00:00:00"},{"$f":"Реестр!AM629","v":0},{"$f":"Реестр!AZ629","v":0},{"$f":"Реестр!AN629","v":0},{"$f":"Реестр!G629","v":0},{"$f":"IF(Реестр!#REF!=\"I\",\"Ф152\",IF(Реестр!#REF!=\"II\",\"Ф127\",IF(Реестр!#REF!=\"III\",\"Ф127\",IF(Реестр!#REF!=\"IV\",\"Ф228\",IF(Реестр!#REF!=\"V\",\"Ф127\",\"\")))))","v":{"$error":"#REF!"}},{"$f":"Реестр!J629","v":0},0]
[{"$f":"(Реестр!B630)+0","v":"00:00:00"},{"$f":"Реестр!AM630","v":0},{"$f":"Реестр!AZ630","v":0},{"$f":"Реестр!AN630","v":0},{"$f":"Реестр!G630","v":0},{"$f":"IF(Реестр!#REF!=\"I\",\"Ф152\",IF(Реестр!#REF!=\"II\",\"Ф127\",IF(Реестр!#REF!=\"III\",\"Ф127\",IF(Реестр!#REF!=\"IV\",\"Ф228\",IF(Реестр!#REF!=\"V\",\"Ф127\",\"\")))))","v":{"$error":"#REF!"}},{"$f":"Реестр!J630","v":0},0]
[{"$f":"(Реестр!B631)+0","v":"00:00:00"},{"$f":"Реестр!AM631","v":0},{"$f":"Реестр!AZ631","v":0},{"$f":"Реестр!AN631","v":0},{"$f":"Реестр!G631","v":0},{"$f":"IF(Реестр!#REF!=\"I\",\"Ф152\",IF(Реестр!#REF!=\"II\",\"Ф127\",IF(Реестр!#REF!=\"III\",\"Ф127\",IF(Реестр!#REF!=\"IV\",\"Ф228\",IF(Реестр!#REF!=\"V\",\"Ф127\",\"\")))))","v":{"$error":"#REF!"}},{"$f":"Реестр!J631","v":0},0]
[{"$f":"(Реестр!B632)+0","v":"00:00:00"},{"$f":"Реестр!AM632","v":0},{"$f":"Реестр!AZ632","v":0},{"$f":"Реестр!AN632","v":0},{"$f":"Реестр!G632","v":0},{"$f":"IF(Реестр!#REF!=\"I\",\"Ф152\",IF(Реестр!#REF!=\"II\",\"Ф127\",IF(Реестр!#REF!=\"III\",\"Ф127\",IF(Реестр!#REF!=\"IV\",\"Ф228\",IF(Реестр!#REF!=\"V\",\"Ф127\",\"\")))))","v":{"$error":"#REF!"}},{"$f":"Реестр!J632","v":0},0]
[{"$f":"(Реестр!B633)+0","v":"00:00:00"},{"$f":"Реестр!AM633","v":0},{"$f":"Реестр!AZ633","v":0},{"$f":"Реестр!AN633","v":0},{"$f":"Реестр!G633","v":0},{"$f":"IF(Реестр!#REF!=\"I\",\"Ф152\",IF(Реестр!#REF!=\"II\",\"Ф127\",IF(Реестр!#REF!=\"III\",\"Ф127\",IF(Реестр!#REF!=\"IV\",\"Ф228\",IF(Реестр!#REF!=\"V\",\"Ф127\",\"\")))))","v":{"$error":"#REF!"}},{"$f":"Реестр!J633","v":0},0]
[{"$f":"(Реестр!B634)+0","v":"00:00:00"},{"$f":"Реестр!AM634","v":0},{"$f":"Реестр!AZ634","v":0},{"$f":"Реестр!AN634","v":0},{"$f":"Реестр!G634","v":0},{"$f":"IF(Реестр!#REF!=\"I\",\"Ф152\",IF(Реестр!#REF!=\"II\",\"Ф127\",IF(Реестр!#REF!=\"III\",\"Ф127\",IF(Реестр!#REF!=\"IV\",\"Ф228\",IF(Реестр!#REF!=\"V\",\"Ф127\",\"\")))))","v":{"$error":"#REF!"}},{"$f":"Реестр!J634","v":0},0]
[{"$f":"(Реестр!B635)+0","v":"00:00:00"},{"$f":"Реестр!AM635","v":0},{"$f":"Реестр!AZ635","v":0},{"$f":"Реестр!AN635","v":0},{"$f":"Реестр!G635","v":0},{"$f":"IF(Реестр!#REF!=\"I\",\"Ф152\",IF(Реестр!#REF!=\"II\",\"Ф127\",IF(Реестр!#REF!=\"III\",\"Ф127\",IF(Реестр!#REF!=\"IV\",\"Ф228\",IF(Реестр!#REF!=\"V\",\"Ф127\",\"\")))))","v":{"$error":"#REF!"}},{"$f":"Реестр!J635","v":0},0]
[{"$f":"(Реестр!B636)+0","v":"00:00:00"},{"$f":"Реестр!AM636","v":0},{"$f":"Реестр!AZ636","v":0},{"$f":"Реестр!AN636","v":0},{"$f":"Реестр!G636","v":0},{"$f":"IF(Реестр!#REF!=\"I\",\"Ф152\",IF(Реестр!#REF!=\"II\",\"Ф127\",IF(Реестр!#REF!=\"III\",\"Ф127\",IF(Реестр!#REF!=\"IV\",\"Ф228\",IF(Реестр!#REF!=\"V\",\"Ф127\",\"\")))))","v":{"$error":"#REF!"}},{"$f":"Реестр!J636","v":0},0]
[{"$f":"(Реестр!B637)+0","v":"00:00:00"},{"$f":"Реестр!AM637","v":0},{"$f":"Реестр!AZ637","v":0},{"$f":"Реестр!AN637","v":0},{"$f":"Реестр!G637","v":0},{"$f":"IF(Реестр!#REF!=\"I\",\"Ф152\",IF(Реестр!#REF!=\"II\",\"Ф127\",IF(Реестр!#REF!=\"III\",\"Ф127\",IF(Реестр!#REF!=\"IV\",\"Ф228\",IF(Реестр!#REF!=\"V\",\"Ф127\",\"\")))))","v":{"$error":"#REF!"}},{"$f":"Реестр!J637","v":0},0]
[{"$f":"(Реестр!B638)+0","v":"00:00:00"},{"$f":"Реестр!AM638","v":0},{"$f":"Реестр!AZ638","v":0},{"$f":"Реестр!AN638","v":0},{"$f":"Реестр!G638","v":0},{"$f":"IF(Реестр!#REF!=\"I\",\"Ф152\",IF(Реестр!#REF!=\"II\",\"Ф127\",IF(Реестр!#REF!=\"III\",\"Ф127\",IF(Реестр!#REF!=\"IV\",\"Ф228\",IF(Реестр!#REF!=\"V\",\"Ф127\",\"\")))))","v":{"$error":"#REF!"}},{"$f":"Реестр!J638","v":0},0]
[{"$f":"(Реестр!B639)+0","v":"00:00:00"},{"$f":"Реестр!AM639","v":0},{"$f":"Реестр!AZ639","v":0},{"$f":"Реестр!AN639","v":0},{"$f":"Реестр!G639","v":0},{"$f":"IF(Реестр!#REF!=\"I\",\"Ф152\",IF(Реестр!#REF!=\"II\",\"Ф127\",IF(Реестр!#REF!=\"III\",\"Ф127\",IF(Реестр!#REF!=\"IV\",\"Ф228\",IF(Реестр!#REF!=\"V\",\"Ф127\",\"\")))))","v":{"$error":"#REF!"}},{"$f":"Реестр!J639","v":0},{"$f":"E73*G73","v":0}]
[{"$f":"(Реестр!B640)+0","v":"00:00:00"},{"$f":"Реестр!AM640","v":0},{"$f":"Реестр!AZ640","v":0},{"$f":"Реестр!AN640","v":0},{"$f":"Реестр!G640","v":0},{"$f":"IF(Реестр!#REF!=\"I\",\"Ф152\",IF(Реестр!#REF!=\"II\",\"Ф127\",IF(Реестр!#REF!=\"III\",\"Ф127\",IF(Реестр!#REF!=\"IV\",\"Ф228\",IF(Реестр!#REF!=\"V\",\"Ф127\",\"\")))))","v":{"$error":"#REF!"}},{"$f":"Реестр!J640","v":0},0]
[{"$f":"(Реестр!B641)+0","v":"00:00:00"},{"$f":"Реестр!AM641","v":0},{"$f":"Реестр!AZ641","v":0},{"$f":"Реестр!AN641","v":0},{"$f":"Реестр!G641","v":0},{"$f":"IF(Реестр!#REF!=\"I\",\"Ф152\",IF(Реестр!#REF!=\"II\",\"Ф127\",IF(Реестр!#REF!=\"III\",\"Ф127\",IF(Реестр!#REF!=\"IV\",\"Ф228\",IF(Реестр!#REF!=\"V\",\"Ф127\",\"\")))))","v":{"$error":"#REF!"}},{"$f":"Реестр!J641","v":0},0]
[{"$f":"(Реестр!B642)+0","v":"00:00:00"},{"$f":"Реестр!AM642","v":0},{"$f":"Реестр!AZ642","v":0},{"$f":"Реестр!AN642","v":0},{"$f":"Реестр!G642","v":0},{"$f":"IF(Реестр!#REF!=\"I\",\"Ф152\",IF(Реестр!#REF!=\"II\",\"Ф127\",IF(Реестр!#REF!=\"III\",\"Ф127\",IF(Реестр!#REF!=\"IV\",\"Ф228\",IF(Реестр!#REF!=\"V\",\"Ф127\",\"\")))))","v":{"$error":"#REF!"}},{"$f":"Реестр!J642","v":0},0]
[{"$f":"(Реестр!B643)+0","v":"00:00:00"},{"$f":"Реестр!AM643","v":0},{"$f":"Реестр!AZ643","v":0},{"$f":"Реестр!AN643","v":0},{"$f":"Реестр!G643","v":0},{"$f":"IF(Реестр!#REF!=\"I\",\"Ф152\",IF(Реестр!#REF!=\"II\",\"Ф127\",IF(Реестр!#REF!=\"III\",\"Ф127\",IF(Реестр!#REF!=\"IV\",\"Ф228\",IF(Реестр!#REF!=\"V\",\"Ф127\",\"\")))))","v":{"$error":"#REF!"}},{"$f":"Реестр!J643","v":0},0]
[{"$f":"(Реестр!B644)+0","v":"00:00:00"},{"$f":"Реестр!AM644","v":0},{"$f":"Реестр!AZ644","v":0},{"$f":"Реестр!AN644","v":0},{"$f":"Реестр!G644","v":0},{"$f":"IF(Реестр!#REF!=\"I\",\"Ф152\",IF(Реестр!#REF!=\"II\",\"Ф127\",IF(Реестр!#REF!=\"III\",\"Ф127\",IF(Реестр!#REF!=\"IV\",\"Ф228\",IF(Реестр!#REF!=\"V\",\"Ф127\",\"\")))))","v":{"$error":"#REF!"}},{"$f":"Реестр!J644","v":0},0]
[{"$f":"(Реестр!B645)+0","v":"00:00:00"},{"$f":"Реестр!AM645","v":0},{"$f":"Реестр!AZ645","v":0},{"$f":"Реестр!AN645","v":0},{"$f":"Реестр!G645","v":0},{"$f":"IF(Реестр!#REF!=\"I\",\"Ф152\",IF(Реестр!#REF!=\"II\",\"Ф127\",IF(Реестр!#REF!=\"III\",\"Ф127\",IF(Реестр!#REF!=\"IV\",\"Ф228\",IF(Реестр!#REF!=\"V\",\"Ф127\",\"\")))))","v":{"$error":"#REF!"}},{"$f":"Реестр!J645","v":0},0]
[{"$f":"(Реестр!B646)+0","v":"00:00:00"},{"$f":"Реестр!AM646","v":0},{"$f":"Реестр!AZ646","v":0},{"$f":"Реестр!AN646","v":0},{"$f":"Реестр!G646","v":0},{"$f":"IF(Реестр!#REF!=\"I\",\"Ф152\",IF(Реестр!#REF!=\"II\",\"Ф127\",IF(Реестр!#REF!=\"III\",\"Ф127\",IF(Реестр!#REF!=\"IV\",\"Ф228\",IF(Реестр!#REF!=\"V\",\"Ф127\",\"\")))))","v":{"$error":"#REF!"}},{"$f":"Реестр!J646","v":0},0]
[{"$f":"(Реестр!B647)+0","v":"00:00:00"},{"$f":"Реестр!AM647","v":0},{"$f":"Реестр!AZ647","v":0},{"$f":"Реестр!AN647","v":0},{"$f":"Реестр!G647","v":0},{"$f":"IF(Реестр!#REF!=\"I\",\"Ф152\",IF(Реестр!#REF!=\"II\",\"Ф127\",IF(Реестр!#REF!=\"III\",\"Ф127\",IF(Реестр!#REF!=\"IV\",\"Ф228\",IF(Реестр!#REF!=\"V\",\"Ф127\",\"\")))))","v":{"$error":"#REF!"}},{"$f":"Реестр!J647","v":0},0]
[{"$f":"(Реестр!B648)+0","v":"00:00:00"},{"$f":"Реестр!AM648","v":0},{"$f":"Реестр!AZ648","v":0},{"$f":"Реестр!AN648","v":0},{"$f":"Реестр!G648","v":0},{"$f":"IF(Реестр!#REF!=\"I\",\"Ф152\",IF(Реестр!#REF!=\"II\",\"Ф127\",IF(Реестр!#REF!=\"III\",\"Ф127\",IF(Реестр!#REF!=\"IV\",\"Ф228\",IF(Реестр!#REF!=\"V\",\"Ф127\",\"\")))))","v":{"$error":"#REF!"}},{"$f":"Реестр!J648","v":0},0]
[{"$f":"(Реестр!B649)+0","v":"00:00:00"},{"$f":"Реестр!AM649","v":0},{"$f":"Реестр!AZ649","v":0},{"$f":"Реестр!AN649","v":0},{"$f":"Реестр!G649","v":0},{"$f":"IF(Реестр!#REF!=\"I\",\"Ф152\",IF(Реестр!#REF!=\"II\",\"Ф127\",IF(Реестр!#REF!=\"III\",\"Ф127\",IF(Реестр!#REF!=\"IV\",\"Ф228\",IF(Реестр!#REF!=\"V\",\"Ф127\",\"\")))))","v":{"$error":"#REF!"}},{"$f":"Реестр!J649","v":0},0]
[{"$f":"(Реестр!B650)+0","v":"00:00:00"},{"$f":"Реестр!AM650","v":0},{"$f":"Реестр!AZ650","v":0},{"$f":"Реестр!AN650","v":0},{"$f":"Реестр!G650","v":0},{"$f":"IF(Реестр!#REF!=\"I\",\"Ф152\",IF(Реестр!#REF!=\"II\",\"Ф127\",IF(Реестр!#REF!=\"III\",\"Ф127\",IF(Реестр!#REF!=\"IV\",\"Ф228\",IF(Реестр!#REF!=\"V\",\"Ф127\",\"\")))))","v":{"$error":"#REF!"}},{"$f":"Реестр!J650","v":0},0]
[{"$f":"(Реестр!B651)+0","v":"00:00:00"},{"$f":"Реестр!AM651","v":0},{"$f":"Реестр!AZ651","v":0},{"$f":"Реестр!AN651","v":0},{"$f":"Реестр!G651","v":0},{"$f":"IF(Реестр!#REF!=\"I\",\"Ф152\",IF(Реестр!#REF!=\"II\",\"Ф127\",IF(Реестр!#REF!=\"III\",\"Ф127\",IF(Реестр!#REF!=\"IV\",\"Ф228\",IF(Реестр!#REF!=\"V\",\"Ф127\",\"\")))))","v":{"$error":"#REF!"}},{"$f":"Реестр!J651","v":0},0]
[{"$f":"(Реестр!B652)+0","v":"00:00:00"},{"$f":"Реестр!AM652","v":0},{"$f":"Реестр!AZ652","v":0},{"$f":"Реестр!AN652","v":0},{"$f":"Реестр!G652","v":0},{"$f":"IF(Реестр!#REF!=\"I\",\"Ф152\",IF(Реестр!#REF!=\"II\",\"Ф127\",IF(Реестр!#REF!=\"III\",\"Ф127\",IF(Реестр!#REF!=\"IV\",\"Ф228\",IF(Реестр!#REF!=\"V\",\"Ф127\",\"\")))))","v":{"$error":"#REF!"}},{"$f":"Реестр!J652","v":0},0]
[{"$f":"(Реестр!B653)+0","v":"00:00:00"},{"$f":"Реестр!AM653","v":0},{"$f":"Реестр!AZ653","v":0},{"$f":"Реестр!AN653","v":0},{"$f":"Реестр!G653","v":0},{"$f":"IF(Реестр!#REF!=\"I\",\"Ф152\",IF(Реестр!#REF!=\"II\",\"Ф127\",IF(Реестр!#REF!=\"III\",\"Ф127\",IF(Реестр!#REF!=\"IV\",\"Ф228\",IF(Реестр!#REF!=\"V\",\"Ф127\",\"\")))))","v":{"$error":"#REF!"}},{"$f":"Реестр!J653","v":0},0]
[{"$f":"(Реестр!B654)+0","v":"00:00:00"},{"$f":"Реестр!AM654","v":0},{"$f":"Реестр!AZ654","v":0},{"$f":"Реестр!AN654","v":0},{"$f":"Реестр!G654","v":0},{"$f":"IF(Реестр!#REF!=\"I\",\"Ф152\",IF(Реестр!#REF!=\"II\",\"Ф127\",IF(Реестр!#REF!=\"III\",\"Ф127\",IF(Реестр!#REF!=\"IV\",\"Ф228\",IF(Реестр!#REF!=\"V\",\"Ф127\",\"\")))))","v":{"$error":"#REF!"}},{"$f":"Реестр!J654","v":0},0]
[{"$f":"(Реестр!B655)+0","v":"00:00:00"},{"$f":"Реестр!AM655","v":0},{"$f":"Реестр!AZ655","v":0},{"$f":"Реестр!AN655","v":0},{"$f":"Реестр!G655","v":0},{"$f":"IF(Реестр!#REF!=\"I\",\"Ф152\",IF(Реестр!#REF!=\"II\",\"Ф127\",IF(Реестр!#REF!=\"III\",\"Ф127\",IF(Реестр!#REF!=\"IV\",\"Ф228\",IF(Реестр!#REF!=\"V\",\"Ф127\",\"\")))))","v":{"$error":"#REF!"}},{"$f":"Реестр!J655","v":0},0]
[{"$f":"(Реестр!B656)+0","v":"00:00:00"},{"$f":"Реестр!AM656","v":0},{"$f":"Реестр!AZ656","v":0},{"$f":"Реестр!AN656","v":0},{"$f":"Реестр!G656","v":0},{"$f":"IF(Реестр!#REF!=\"I\",\"Ф152\",IF(Реестр!#REF!=\"II\",\"Ф127\",IF(Реестр!#REF!=\"III\",\"Ф127\",IF(Реестр!#REF!=\"IV\",\"Ф228\",IF(Реестр!#REF!=\"V\",\"Ф127\",\"\")))))","v":{"$error":"#REF!"}},{"$f":"Реестр!J656","v":0},0]
[{"$f":"(Реестр!B657)+0","v":"00:00:00"},{"$f":"Реестр!AM657","v":0},{"$f":"Реестр!AZ657","v":0},{"$f":"Реестр!AN657","v":0},{"$f":"Реестр!G657","v":0},{"$f":"IF(Реестр!#REF!=\"I\",\"Ф152\",IF(Реестр!#REF!=\"II\",\"Ф127\",IF(Реестр!#REF!=\"III\",\"Ф127\",IF(Реестр!#REF!=\"IV\",\"Ф228\",IF(Реестр!#REF!=\"V\",\"Ф127\",\"\")))))","v":{"$error":"#REF!"}},{"$f":"Реестр!J657","v":0},0]
[{"$f":"(Реестр!B658)+0","v":"00:00:00"},{"$f":"Реестр!AM658","v":0},{"$f":"Реестр!AZ658","v":0},{"$f":"Реестр!AN658","v":0},{"$f":"Реестр!G658","v":0},{"$f":"IF(Реестр!#REF!=\"I\",\"Ф152\",IF(Реестр!#REF!=\"II\",\"Ф127\",IF(Реестр!#REF!=\"III\",\"Ф127\",IF(Реестр!#REF!=\"IV\",\"Ф228\",IF(Реестр!#REF!=\"V\",\"Ф127\",\"\")))))","v":{"$error":"#REF!"}},{"$f":"Реестр!J658","v":0},0]
[{"$f":"(Реестр!B659)+0","v":"00:00:00"},{"$f":"Реестр!AM659","v":0},{"$f":"Реестр!AZ659","v":0},{"$f":"Реестр!AN659","v":0},{"$f":"Реестр!G659","v":0},{"$f":"IF(Реестр!#REF!=\"I\",\"Ф152\",IF(Реестр!#REF!=\"II\",\"Ф127\",IF(Реестр!#REF!=\"III\",\"Ф127\",IF(Реестр!#REF!=\"IV\",\"Ф228\",IF(Реестр!#REF!=\"V\",\"Ф127\",\"\")))))","v":{"$error":"#REF!"}},{"$f":"Реестр!J659","v":0},0]
[{"$f":"(Реестр!B660)+0","v":"00:00:00"},{"$f":"Реестр!AM660","v":0},{"$f":"Реестр!AZ660","v":0},{"$f":"Реестр!AN660","v":0},{"$f":"Реестр!G660","v":0},{"$f":"IF(Реестр!#REF!=\"I\",\"Ф152\",IF(Реестр!#REF!=\"II\",\"Ф127\",IF(Реестр!#REF!=\"III\",\"Ф127\",IF(Реестр!#REF!=\"IV\",\"Ф228\",IF(Реестр!#REF!=\"V\",\"Ф127\",\"\")))))","v":{"$error":"#REF!"}},{"$f":"Реестр!J660","v":0},0]
[{"$f":"(Реестр!B661)+0","v":"00:00:00"},{"$f":"Реестр!AM661","v":0},{"$f":"Реестр!AZ661","v":0},{"$f":"Реестр!AN661","v":0},{"$f":"Реестр!G661","v":0},{"$f":"IF(Реестр!#REF!=\"I\",\"Ф152\",IF(Реестр!#REF!=\"II\",\"Ф127\",IF(Реестр!#REF!=\"III\",\"Ф127\",IF(Реестр!#REF!=\"IV\",\"Ф228\",IF(Реестр!#REF!=\"V\",\"Ф127\",\"\")))))","v":{"$error":"#REF!"}},{"$f":"Реестр!J661","v":0},0]
[{"$f":"(Реестр!B662)+0","v":"00:00:00"},{"$f":"Реестр!AM662","v":0},{"$f":"Реестр!AZ662","v":0},{"$f":"Реестр!AN662","v":0},{"$f":"Реестр!G662","v":0},{"$f":"IF(Реестр!#REF!=\"I\",\"Ф152\",IF(Реестр!#REF!=\"II\",\"Ф127\",IF(Реестр!#REF!=\"III\",\"Ф127\",IF(Реестр!#REF!=\"IV\",\"Ф228\",IF(Реестр!#REF!=\"V\",\"Ф127\",\"\")))))","v":{"$error":"#REF!"}},{"$f":"Реестр!J662","v":0},0]
[{"$f":"(Реестр!B663)+0","v":"00:00:00"},{"$f":"Реестр!AM663","v":0},{"$f":"Реестр!AZ663","v":0},{"$f":"Реестр!AN663","v":0},{"$f":"Реестр!G663","v":0},{"$f":"IF(Реестр!#REF!=\"I\",\"Ф152\",IF(Реестр!#REF!=\"II\",\"Ф127\",IF(Реестр!#REF!=\"III\",\"Ф127\",IF(Реестр!#REF!=\"IV\",\"Ф228\",IF(Реестр!#REF!=\"V\",\"Ф127\",\"\")))))","v":{"$error":"#REF!"}},{"$f":"Реестр!J663","v":0},0]
[{"$f":"(Реестр!B664)+0","v":"00:00:00"},{"$f":"Реестр!AM664","v":0},{"$f":"Реестр!AZ664","v":0},{"$f":"Реестр!AN664","v":0},{"$f":"Реестр!G664","v":0},{"$f":"IF(Реестр!#REF!=\"I\",\"Ф152\",IF(Реестр!#REF!=\"II\",\"Ф127\",IF(Реестр!#REF!=\"III\",\"Ф127\",IF(Реестр!#REF!=\"IV\",\"Ф228\",IF(Реестр!#REF!=\"V\",\"Ф127\",\"\")))))","v":{"$error":"#REF!"}},{"$f":"Реестр!J664","v":0},0]
[{"$f":"(Реестр!B665)+0","v":"00:00:00"},{"$f":"Реестр!AM665","v":0},{"$f":"Реестр!AZ665","v":0},{"$f":"Реестр!AN665","v":0},{"$f":"Реестр!G665","v":0},{"$f":"IF(Реестр!#REF!=\"I\",\"Ф152\",IF(Реестр!#REF!=\"II\",\"Ф127\",IF(Реестр!#REF!=\"III\",\"Ф127\",IF(Реестр!#REF!=\"IV\",\"Ф228\",IF(Реестр!#REF!=\"V\",\"Ф127\",\"\")))))","v":{"$error":"#REF!"}},{"$f":"Реестр!J665","v":0},0]
[{"$f":"(Реестр!B666)+0","v":"00:00:00"},{"$f":"Реестр!AM666","v":0},{"$f":"Реестр!AZ666","v":0},{"$f":"Реестр!AN666","v":0},{"$f":"Реестр!G666","v":0},{"$f":"IF(Реестр!#REF!=\"I\",\"Ф152\",IF(Реестр!#REF!=\"II\",\"Ф127\",IF(Реестр!#REF!=\"III\",\"Ф127\",IF(Реестр!#REF!=\"IV\",\"Ф228\",IF(Реестр!#REF!=\"V\",\"Ф127\",\"\")))))","v":{"$error":"#REF!"}},{"$f":"Реестр!J666","v":0},0]
[{"$f":"(Реестр!B667)+0","v":"00:00:00"},{"$f":"Реестр!AM667","v":0},{"$f":"Реестр!AZ667","v":0},{"$f":"Реестр!AN667","v":0},{"$f":"Реестр!G667","v":0},{"$f":"IF(Реестр!#REF!=\"I\",\"Ф152\",IF(Реестр!#REF!=\"II\",\"Ф127\",IF(Реестр!#REF!=\"III\",\"Ф127\",IF(Реестр!#REF!=\"IV\",\"Ф228\",IF(Реестр!#REF!=\"V\",\"Ф127\",\"\")))))","v":{"$error":"#REF!"}},{"$f":"Реестр!J667","v":0},0]
[{"$f":"(Реестр!B668)+0","v":"00:00:00"},{"$f":"Реестр!AM668","v":0},{"$f":"Реестр!AZ668","v":0},{"$f":"Реестр!AN668","v":0},{"$f":"Реестр!G668","v":0},{"$f":"IF(Реестр!#REF!=\"I\",\"Ф152\",IF(Реестр!#REF!=\"II\",\"Ф127\",IF(Реестр!#REF!=\"III\",\"Ф127\",IF(Реестр!#REF!=\"IV\",\"Ф228\",IF(Реестр!#REF!=\"V\",\"Ф127\",\"\")))))","v":{"$error":"#REF!"}},{"$f":"Реестр!J668","v":0},0]
[{"$f":"(Реестр!B669)+0","v":"00:00:00"},{"$f":"Реестр!AM669","v":0},{"$f":"Реестр!AZ669","v":0},{"$f":"Реестр!AN669","v":0},{"$f":"Реестр!G669","v":0},{"$f":"IF(Реестр!#REF!=\"I\",\"Ф152\",IF(Реестр!#REF!=\"II\",\"Ф127\",IF(Реестр!#REF!=\"III\",\"Ф127\",IF(Реестр!#REF!=\"IV\",\"Ф228\",IF(Реестр!#REF!=\"V\",\"Ф127\",\"\")))))","v":{"$error":"#REF!"}},{"$f":"Реестр!J669","v":0},0]
[{"$f":"(Реестр!B670)+0","v":"00:00:00"},{"$f":"Реестр!AM670","v":0},{"$f":"Реестр!AZ670","v":0},{"$f":"Реестр!AN670","v":0},{"$f":"Реестр!G670","v":0},{"$f":"IF(Реестр!#REF!=\"I\",\"Ф152\",IF(Реестр!#REF!=\"II\",\"Ф127\",IF(Реестр!#REF!=\"III\",\"Ф127\",IF(Реестр!#REF!=\"IV\",\"Ф228\",IF(Реестр!#REF!=\"V\",\"Ф127\",\"\")))))","v":{"$error":"#REF!"}},{"$f":"Реестр!J670","v":0},0]
[{"$f":"(Реестр!B671)+0","v":"00:00:00"},{"$f":"Реестр!AM671","v":0},{"$f":"Реестр!AZ671","v":0},{"$f":"Реестр!AN671","v":0},{"$f":"Реестр!G671","v":0},{"$f":"IF(Реестр!#REF!=\"I\",\"Ф152\",IF(Реестр!#REF!=\"II\",\"Ф127\",IF(Реестр!#REF!=\"III\",\"Ф127\",IF(Реестр!#REF!=\"IV\",\"Ф228\",IF(Реестр!#REF!=\"V\",\"Ф127\",\"\")))))","v":{"$error":"#REF!"}},{"$f":"Реестр!J671","v":0},0]
[{"$f":"(Реестр!B672)+0","v":"00:00:00"},{"$f":"Реестр!AM672","v":0},{"$f":"Реестр!AZ672","v":0},{"$f":"Реестр!AN672","v":0},{"$f":"Реестр!G672","v":0},{"$f":"IF(Реестр!#REF!=\"I\",\"Ф152\",IF(Реестр!#REF!=\"II\",\"Ф127\",IF(Реестр!#REF!=\"III\",\"Ф127\",IF(Реестр!#REF!=\"IV\",\"Ф228\",IF(Реестр!#REF!=\"V\",\"Ф127\",\"\")))))","v":{"$error":"#REF!"}},{"$f":"Реестр!J672","v":0},0]
[{"$f":"(Реестр!B673)+0","v":"00:00:00"},{"$f":"Реестр!AM673","v":0},{"$f":"Реестр!AZ673","v":0},{"$f":"Реестр!AN673","v":0},{"$f":"Реестр!G673","v":0},{"$f":"IF(Реестр!#REF!=\"I\",\"Ф152\",IF(Реестр!#REF!=\"II\",\"Ф127\",IF(Реестр!#REF!=\"III\",\"Ф127\",IF(Реестр!#REF!=\"IV\",\"Ф228\",IF(Реестр!#REF!=\"V\",\"Ф127\",\"\")))))","v":{"$error":"#REF!"}},{"$f":"Реестр!J673","v":0},0]
[{"$f":"(Реестр!B674)+0","v":"00:00:00"},{"$f":"Реестр!AM674","v":0},{"$f":"Реестр!AZ674","v":0},{"$f":"Реестр!AN674","v":0},{"$f":"Реестр!G674","v":0},{"$f":"IF(Реестр!#REF!=\"I\",\"Ф152\",IF(Реестр!#REF!=\"II\",\"Ф127\",IF(Реестр!#REF!=\"III\",\"Ф127\",IF(Реестр!#REF!=\"IV\",\"Ф228\",IF(Реестр!#REF!=\"V\",\"Ф127\",\"\")))))","v":{"$error":"#REF!"}},{"$f":"Реестр!J674","v":0},0]
[{"$f":"(Реестр!B675)+0","v":"00:00:00"},{"$f":"Реестр!AM675","v":0},{"$f":"Реестр!AZ675","v":0},{"$f":"Реестр!AN675","v":0},{"$f":"Реестр!G675","v":0},{"$f":"IF(Реестр!#REF!=\"I\",\"Ф152\",IF(Реестр!#REF!=\"II\",\"Ф127\",IF(Реестр!#REF!=\"III\",\"Ф127\",IF(Реестр!#REF!=\"IV\",\"Ф228\",IF(Реестр!#REF!=\"V\",\"Ф127\",\"\")))))","v":{"$error":"#REF!"}},{"$f":"Реестр!J675","v":0},0]
[{"$f":"(Реестр!B676)+0","v":"00:00:00"},{"$f":"Реестр!AM676","v":0},{"$f":"Реестр!AZ676","v":0},{"$f":"Реестр!AN676","v":0},{"$f":"Реестр!G676","v":0},{"$f":"IF(Реестр!#REF!=\"I\",\"Ф152\",IF(Реестр!#REF!=\"II\",\"Ф127\",IF(Реестр!#REF!=\"III\",\"Ф127\",IF(Реестр!#REF!=\"IV\",\"Ф228\",IF(Реестр!#REF!=\"V\",\"Ф127\",\"\")))))","v":{"$error":"#REF!"}},{"$f":"Реестр!J676","v":0},0]
[{"$f":"(Реестр!B677)+0","v":"00:00:00"},{"$f":"Реестр!AM677","v":0},{"$f":"Реестр!AZ677","v":0},{"$f":"Реестр!AN677","v":0},{"$f":"Реестр!G677","v":0},{"$f":"IF(Реестр!#REF!=\"I\",\"Ф152\",IF(Реестр!#REF!=\"II\",\"Ф127\",IF(Реестр!#REF!=\"III\",\"Ф127\",IF(Реестр!#REF!=\"IV\",\"Ф228\",IF(Реестр!#REF!=\"V\",\"Ф127\",\"\")))))","v":{"$error":"#REF!"}},{"$f":"Реестр!J677","v":0},0]
[{"$f":"(Реестр!B678)+0","v":"00:00:00"},{"$f":"Реестр!AM678","v":0},{"$f":"Реестр!AZ678","v":0},{"$f":"Реестр!AN678","v":0},{"$f":"Реестр!G678","v":0},{"$f":"IF(Реестр!#REF!=\"I\",\"Ф152\",IF(Реестр!#REF!=\"II\",\"Ф127\",IF(Реестр!#REF!=\"III\",\"Ф127\",IF(Реестр!#REF!=\"IV\",\"Ф228\",IF(Реестр!#REF!=\"V\",\"Ф127\",\"\")))))","v":{"$error":"#REF!"}},{"$f":"Реестр!J678","v":0},0]
[{"$f":"(Реестр!B679)+0","v":"00:00:00"},{"$f":"Реестр!AM679","v":0},{"$f":"Реестр!AZ679","v":0},{"$f":"Реестр!AN679","v":0},{"$f":"Реестр!G679","v":0},{"$f":"IF(Реестр!#REF!=\"I\",\"Ф152\",IF(Реестр!#REF!=\"II\",\"Ф127\",IF(Реестр!#REF!=\"III\",\"Ф127\",IF(Реестр!#REF!=\"IV\",\"Ф228\",IF(Реестр!#REF!=\"V\",\"Ф127\",\"\")))))","v":{"$error":"#REF!"}},{"$f":"Реестр!J679","v":0},0]
[{"$f":"(Реестр!B680)+0","v":"00:00:00"},{"$f":"Реестр!AM680","v":0},{"$f":"Реестр!AZ680","v":0},{"$f":"Реестр!AN680","v":0},{"$f":"Реестр!G680","v":0},{"$f":"IF(Реестр!#REF!=\"I\",\"Ф152\",IF(Реестр!#REF!=\"II\",\"Ф127\",IF(Реестр!#REF!=\"III\",\"Ф127\",IF(Реестр!#REF!=\"IV\",\"Ф228\",IF(Реестр!#REF!=\"V\",\"Ф127\",\"\")))))","v":{"$error":"#REF!"}},{"$f":"Реестр!J680","v":0},0]
[{"$f":"(Реестр!B681)+0","v":"00:00:00"},{"$f":"Реестр!AM681","v":0},{"$f":"Реестр!AZ681","v":0},{"$f":"Реестр!AN681","v":0},{"$f":"Реестр!G681","v":0},{"$f":"IF(Реестр!#REF!=\"I\",\"Ф152\",IF(Реестр!#REF!=\"II\",\"Ф127\",IF(Реестр!#REF!=\"III\",\"Ф127\",IF(Реестр!#REF!=\"IV\",\"Ф228\",IF(Реестр!#REF!=\"V\",\"Ф127\",\"\")))))","v":{"$error":"#REF!"}},{"$f":"Реестр!J681","v":0},0]
[{"$f":"(Реестр!B682)+0","v":"00:00:00"},{"$f":"Реестр!AM682","v":0},{"$f":"Реестр!AZ682","v":0},{"$f":"Реестр!AN682","v":0},{"$f":"Реестр!G682","v":0},{"$f":"IF(Реестр!#REF!=\"I\",\"Ф152\",IF(Реестр!#REF!=\"II\",\"Ф127\",IF(Реестр!#REF!=\"III\",\"Ф127\",IF(Реестр!#REF!=\"IV\",\"Ф228\",IF(Реестр!#REF!=\"V\",\"Ф127\",\"\")))))","v":{"$error":"#REF!"}},{"$f":"Реестр!J682","v":0},0]
[{"$f":"(Реестр!B683)+0","v":"00:00:00"},{"$f":"Реестр!AM683","v":0},{"$f":"Реестр!AZ683","v":0},{"$f":"Реестр!AN683","v":0},{"$f":"Реестр!G683","v":0},{"$f":"IF(Реестр!#REF!=\"I\",\"Ф152\",IF(Реестр!#REF!=\"II\",\"Ф127\",IF(Реестр!#REF!=\"III\",\"Ф127\",IF(Реестр!#REF!=\"IV\",\"Ф228\",IF(Реестр!#REF!=\"V\",\"Ф127\",\"\")))))","v":{"$error":"#REF!"}},{"$f":"Реестр!J683","v":0},0]
[{"$f":"(Реестр!B684)+0","v":"00:00:00"},{"$f":"Реестр!AM684","v":0},{"$f":"Реестр!AZ684","v":0},{"$f":"Реестр!AN684","v":0},{"$f":"Реестр!G684","v":0},{"$f":"IF(Реестр!#REF!=\"I\",\"Ф152\",IF(Реестр!#REF!=\"II\",\"Ф127\",IF(Реестр!#REF!=\"III\",\"Ф127\",IF(Реестр!#REF!=\"IV\",\"Ф228\",IF(Реестр!#REF!=\"V\",\"Ф127\",\"\")))))","v":{"$error":"#REF!"}},{"$f":"Реестр!J684","v":0},0]
[{"$f":"(Реестр!B685)+0","v":"00:00:00"},{"$f":"Реестр!AM685","v":0},{"$f":"Реестр!AZ685","v":0},{"$f":"Реестр!AN685","v":0},{"$f":"Реестр!G685","v":0},{"$f":"IF(Реестр!#REF!=\"I\",\"Ф152\",IF(Реестр!#REF!=\"II\",\"Ф127\",IF(Реестр!#REF!=\"III\",\"Ф127\",IF(Реестр!#REF!=\"IV\",\"Ф228\",IF(Реестр!#REF!=\"V\",\"Ф127\",\"\")))))","v":{"$error":"#REF!"}},{"$f":"Реестр!J685","v":0},0]
[{"$f":"(Реестр!B686)+0","v":"00:00:00"},{"$f":"Реестр!AM686","v":0},{"$f":"Реестр!AZ686","v":0},{"$f":"Реестр!AN686","v":0},{"$f":"Реестр!G686","v":0},{"$f":"IF(Реестр!#REF!=\"I\",\"Ф152\",IF(Реестр!#REF!=\"II\",\"Ф127\",IF(Реестр!#REF!=\"III\",\"Ф127\",IF(Реестр!#REF!=\"IV\",\"Ф228\",IF(Реестр!#REF!=\"V\",\"Ф127\",\"\")))))","v":{"$error":"#REF!"}},{"$f":"Реестр!J686","v":0},0]
[{"$f":"(Реестр!B687)+0","v":"00:00:00"},{"$f":"Реестр!AM687","v":0},{"$f":"Реестр!AZ687","v":0},{"$f":"Реестр!AN687","v":0},{"$f":"Реестр!G687","v":0},{"$f":"IF(Реестр!#REF!=\"I\",\"Ф152\",IF(Реестр!#REF!=\"II\",\"Ф127\",IF(Реестр!#REF!=\"III\",\"Ф127\",IF(Реестр!#REF!=\"IV\",\"Ф228\",IF(Реестр!#REF!=\"V\",\"Ф127\",\"\")))))","v":{"$error":"#REF!"}},{"$f":"Реестр!J687","v":0},0]
[{"$f":"(Реестр!B688)+0","v":"00:00:00"},{"$f":"Реестр!AM688","v":0},{"$f":"Реестр!AZ688","v":0},{"$f":"Реестр!AN688","v":0},{"$f":"Реестр!G688","v":0},{"$f":"IF(Реестр!#REF!=\"I\",\"Ф152\",IF(Реестр!#REF!=\"II\",\"Ф127\",IF(Реестр!#REF!=\"III\",\"Ф127\",IF(Реестр!#REF!=\"IV\",\"Ф228\",IF(Реестр!#REF!=\"V\",\"Ф127\",\"\")))))","v":{"$error":"#REF!"}},{"$f":"Реестр!J688","v":0},0]
[{"$f":"(Реестр!B689)+0","v":"00:00:00"},{"$f":"Реестр!AM689","v":0},{"$f":"Реестр!AZ689","v":0},{"$f":"Реестр!AN689","v":0},{"$f":"Реестр!G689","v":0},{"$f":"IF(Реестр!#REF!=\"I\",\"Ф152\",IF(Реестр!#REF!=\"II\",\"Ф127\",IF(Реестр!#REF!=\"III\",\"Ф127\",IF(Реестр!#REF!=\"IV\",\"Ф228\",IF(Реестр!#REF!=\"V\",\"Ф127\",\"\")))))","v":{"$error":"#REF!"}},{"$f":"Реестр!J689","v":0},0]
[{"$f":"(Реестр!B690)+0","v":"00:00:00"},{"$f":"Реестр!AM690","v":0},{"$f":"Реестр!AZ690","v":0},{"$f":"Реестр!AN690","v":0},{"$f":"Реестр!G690","v":0},{"$f":"IF(Реестр!#REF!=\"I\",\"Ф152\",IF(Реестр!#REF!=\"II\",\"Ф127\",IF(Реестр!#REF!=\"III\",\"Ф127\",IF(Реестр!#REF!=\"IV\",\"Ф228\",IF(Реестр!#REF!=\"V\",\"Ф127\",\"\")))))","v":{"$error":"#REF!"}},{"$f":"Реестр!J690","v":0},0]
[{"$f":"(Реестр!B691)+0","v":"00:00:00"},{"$f":"Реестр!AM691","v":0},{"$f":"Реестр!AZ691","v":0},{"$f":"Реестр!AN691","v":0},{"$f":"Реестр!G691","v":0},{"$f":"IF(Реестр!#REF!=\"I\",\"Ф152\",IF(Реестр!#REF!=\"II\",\"Ф127\",IF(Реестр!#REF!=\"III\",\"Ф127\",IF(Реестр!#REF!=\"IV\",\"Ф228\",IF(Реестр!#REF!=\"V\",\"Ф127\",\"\")))))","v":{"$error":"#REF!"}},{"$f":"Реестр!J691","v":0},0]
[{"$f":"(Реестр!B692)+0","v":"00:00:00"},{"$f":"Реестр!AM692","v":0},{"$f":"Реестр!AZ692","v":0},{"$f":"Реестр!AN692","v":0},{"$f":"Реестр!G692","v":0},{"$f":"IF(Реестр!#REF!=\"I\",\"Ф152\",IF(Реестр!#REF!=\"II\",\"Ф127\",IF(Реестр!#REF!=\"III\",\"Ф127\",IF(Реестр!#REF!=\"IV\",\"Ф228\",IF(Реестр!#REF!=\"V\",\"Ф127\",\"\")))))","v":{"$error":"#REF!"}},{"$f":"Реестр!J692","v":0},0]
[{"$f":"(Реестр!B693)+0","v":"00:00:00"},{"$f":"Реестр!AM693","v":0},{"$f":"Реестр!AZ693","v":0},{"$f":"Реестр!AN693","v":0},{"$f":"Реестр!G693","v":0},{"$f":"IF(Реестр!#REF!=\"I\",\"Ф152\",IF(Реестр!#REF!=\"II\",\"Ф127\",IF(Реестр!#REF!=\"III\",\"Ф127\",IF(Реестр!#REF!=\"IV\",\"Ф228\",IF(Реестр!#REF!=\"V\",\"Ф127\",\"\")))))","v":{"$error":"#REF!"}},{"$f":"Реестр!J693","v":0},0]
[{"$f":"(Реестр!B694)+0","v":"00:00:00"},{"$f":"Реестр!AM694","v":0},{"$f":"Реестр!AZ694","v":0},{"$f":"Реестр!AN694","v":0},{"$f":"Реестр!G694","v":0},{"$f":"IF(Реестр!#REF!=\"I\",\"Ф152\",IF(Реестр!#REF!=\"II\",\"Ф127\",IF(Реестр!#REF!=\"III\",\"Ф127\",IF(Реестр!#REF!=\"IV\",\"Ф228\",IF(Реестр!#REF!=\"V\",\"Ф127\",\"\")))))","v":{"$error":"#REF!"}},{"$f":"Реестр!J694","v":0},0]
[{"$f":"(Реестр!B695)+0","v":"00:00:00"},{"$f":"Реестр!AM695","v":0},{"$f":"Реестр!AZ695","v":0},{"$f":"Реестр!AN695","v":0},{"$f":"Реестр!G695","v":0},{"$f":"IF(Реестр!#REF!=\"I\",\"Ф152\",IF(Реестр!#REF!=\"II\",\"Ф127\",IF(Реестр!#REF!=\"III\",\"Ф127\",IF(Реестр!#REF!=\"IV\",\"Ф228\",IF(Реестр!#REF!=\"V\",\"Ф127\",\"\")))))","v":{"$error":"#REF!"}},{"$f":"Реестр!J695","v":0},0]
[{"$f":"(Реестр!B696)+0","v":"00:00:00"},{"$f":"Реестр!AM696","v":0},{"$f":"Реестр!AZ696","v":0},{"$f":"Реестр!AN696","v":0},{"$f":"Реестр!G696","v":0},{"$f":"IF(Реестр!#REF!=\"I\",\"Ф152\",IF(Реестр!#REF!=\"II\",\"Ф127\",IF(Реестр!#REF!=\"III\",\"Ф127\",IF(Реестр!#REF!=\"IV\",\"Ф228\",IF(Реестр!#REF!=\"V\",\"Ф127\",\"\")))))","v":{"$error":"#REF!"}},{"$f":"Реестр!J696","v":0},0]
[{"$f":"(Реестр!B697)+0","v":"00:00:00"},{"$f":"Реестр!AM697","v":0},{"$f":"Реестр!AZ697","v":0},{"$f":"Реестр!AN697","v":0},{"$f":"Реестр!G697","v":0},{"$f":"IF(Реестр!#REF!=\"I\",\"Ф152\",IF(Реестр!#REF!=\"II\",\"Ф127\",IF(Реестр!#REF!=\"III\",\"Ф127\",IF(Реестр!#REF!=\"IV\",\"Ф228\",IF(Реестр!#REF!=\"V\",\"Ф127\",\"\")))))","v":{"$error":"#REF!"}},{"$f":"Реестр!J697","v":0},0]
[{"$f":"(Реестр!B698)+0","v":"00:00:00"},{"$f":"Реестр!AM698","v":0},{"$f":"Реестр!AZ698","v":0},{"$f":"Реестр!AN698","v":0},{"$f":"Реестр!G698","v":0},{"$f":"IF(Реестр!#REF!=\"I\",\"Ф152\",IF(Реестр!#REF!=\"II\",\"Ф127\",IF(Реестр!#REF!=\"III\",\"Ф127\",IF(Реестр!#REF!=\"IV\",\"Ф228\",IF(Реестр!#REF!=\"V\",\"Ф127\",\"\")))))","v":{"$error":"#REF!"}},{"$f":"Реестр!J698","v":0},0]
[{"$f":"(Реестр!B699)+0","v":"00:00:00"},{"$f":"Реестр!AM699","v":0},{"$f":"Реестр!AZ699","v":0},{"$f":"Реестр!AN699","v":0},{"$f":"Реестр!G699","v":0},{"$f":"IF(Реестр!#REF!=\"I\",\"Ф152\",IF(Реестр!#REF!=\"II\",\"Ф127\",IF(Реестр!#REF!=\"III\",\"Ф127\",IF(Реестр!#REF!=\"IV\",\"Ф228\",IF(Реестр!#REF!=\"V\",\"Ф127\",\"\")))))","v":{"$error":"#REF!"}},{"$f":"Реестр!J699","v":0},0]
[{"$f":"(Реестр!B700)+0","v":"00:00:00"},{"$f":"Реестр!AM700","v":0},{"$f":"Реестр!AZ700","v":0},{"$f":"Реестр!AN700","v":0},{"$f":"Реестр!G700","v":0},{"$f":"IF(Реестр!#REF!=\"I\",\"Ф152\",IF(Реестр!#REF!=\"II\",\"Ф127\",IF(Реестр!#REF!=\"III\",\"Ф127\",IF(Реестр!#REF!=\"IV\",\"Ф228\",IF(Реестр!#REF!=\"V\",\"Ф127\",\"\")))))","v":{"$error":"#REF!"}},{"$f":"Реестр!J700","v":0},0]
[{"$f":"(Реестр!B701)+0","v":"00:00:00"},{"$f":"Реестр!AM701","v":0},{"$f":"Реестр!AZ701","v":0},{"$f":"Реестр!AN701","v":0},{"$f":"Реестр!G701","v":0},{"$f":"IF(Реестр!#REF!=\"I\",\"Ф152\",IF(Реестр!#REF!=\"II\",\"Ф127\",IF(Реестр!#REF!=\"III\",\"Ф127\",IF(Реестр!#REF!=\"IV\",\"Ф228\",IF(Реестр!#REF!=\"V\",\"Ф127\",\"\")))))","v":{"$error":"#REF!"}},{"$f":"Реестр!J701","v":0},0]
[{"$f":"(Реестр!B702)+0","v":"00:00:00"},{"$f":"Реестр!AM702","v":0},{"$f":"Реестр!AZ702","v":0},{"$f":"Реестр!AN702","v":0},{"$f":"Реестр!G702","v":0},{"$f":"IF(Реестр!#REF!=\"I\",\"Ф152\",IF(Реестр!#REF!=\"II\",\"Ф127\",IF(Реестр!#REF!=\"III\",\"Ф127\",IF(Реестр!#REF!=\"IV\",\"Ф228\",IF(Реестр!#REF!=\"V\",\"Ф127\",\"\")))))","v":{"$error":"#REF!"}},{"$f":"Реестр!J702","v":0},0]
[{"$f":"(Реестр!B703)+0","v":"00:00:00"},{"$f":"Реестр!AM703","v":0},{"$f":"Реестр!AZ703","v":0},{"$f":"Реестр!AN703","v":0},{"$f":"Реестр!G703","v":0},{"$f":"IF(Реестр!#REF!=\"I\",\"Ф152\",IF(Реестр!#REF!=\"II\",\"Ф127\",IF(Реестр!#REF!=\"III\",\"Ф127\",IF(Реестр!#REF!=\"IV\",\"Ф228\",IF(Реестр!#REF!=\"V\",\"Ф127\",\"\")))))","v":{"$error":"#REF!"}},{"$f":"Реестр!J703","v":0},{"$f":"E137*G137","v":0}]
[{"$f":"(Реестр!B704)+0","v":"00:00:00"},{"$f":"Реестр!AM704","v":0},{"$f":"Реестр!AZ704","v":0},{"$f":"Реестр!AN704","v":0},{"$f":"Реестр!G704","v":0},{"$f":"IF(Реестр!#REF!=\"I\",\"Ф152\",IF(Реестр!#REF!=\"II\",\"Ф127\",IF(Реестр!#REF!=\"III\",\"Ф127\",IF(Реестр!#REF!=\"IV\",\"Ф228\",IF(Реестр!#REF!=\"V\",\"Ф127\",\"\")))))","v":{"$error":"#REF!"}},{"$f":"Реестр!J704","v":0},0]
[{"$f":"(Реестр!B705)+0","v":"00:00:00"},{"$f":"Реестр!AM705","v":0},{"$f":"Реестр!AZ705","v":0},{"$f":"Реестр!AN705","v":0},{"$f":"Реестр!G705","v":0},{"$f":"IF(Реестр!#REF!=\"I\",\"Ф152\",IF(Реестр!#REF!=\"II\",\"Ф127\",IF(Реестр!#REF!=\"III\",\"Ф127\",IF(Реестр!#REF!=\"IV\",\"Ф228\",IF(Реестр!#REF!=\"V\",\"Ф127\",\"\")))))","v":{"$error":"#REF!"}},{"$f":"Реестр!J705","v":0},0]
[{"$f":"(Реестр!B706)+0","v":"00:00:00"},{"$f":"Реестр!AM706","v":0},{"$f":"Реестр!AZ706","v":0},{"$f":"Реестр!AN706","v":0},{"$f":"Реестр!G706","v":0},{"$f":"IF(Реестр!#REF!=\"I\",\"Ф152\",IF(Реестр!#REF!=\"II\",\"Ф127\",IF(Реестр!#REF!=\"III\",\"Ф127\",IF(Реестр!#REF!=\"IV\",\"Ф228\",IF(Реестр!#REF!=\"V\",\"Ф127\",\"\")))))","v":{"$error":"#REF!"}},{"$f":"Реестр!J706","v":0},0]
[{"$f":"(Реестр!B707)+0","v":"00:00:00"},{"$f":"Реестр!AM707","v":0},{"$f":"Реестр!AZ707","v":0},{"$f":"Реестр!AN707","v":0},{"$f":"Реестр!G707","v":0},{"$f":"IF(Реестр!#REF!=\"I\",\"Ф152\",IF(Реестр!#REF!=\"II\",\"Ф127\",IF(Реестр!#REF!=\"III\",\"Ф127\",IF(Реестр!#REF!=\"IV\",\"Ф228\",IF(Реестр!#REF!=\"V\",\"Ф127\",\"\")))))","v":{"$error":"#REF!"}},{"$f":"Реестр!J707","v":0},0]
[{"$f":"(Реестр!B708)+0","v":"00:00:00"},{"$f":"Реестр!AM708","v":0},{"$f":"Реестр!AZ708","v":0},{"$f":"Реестр!AN708","v":0},{"$f":"Реестр!G708","v":0},{"$f":"IF(Реестр!#REF!=\"I\",\"Ф152\",IF(Реестр!#REF!=\"II\",\"Ф127\",IF(Реестр!#REF!=\"III\",\"Ф127\",IF(Реестр!#REF!=\"IV\",\"Ф228\",IF(Реестр!#REF!=\"V\",\"Ф127\",\"\")))))","v":{"$error":"#REF!"}},{"$f":"Реестр!J708","v":0},0]
[{"$f":"(Реестр!B709)+0","v":"00:00:00"},{"$f":"Реестр!AM709","v":0},{"$f":"Реестр!AZ709","v":0},{"$f":"Реестр!AN709","v":0},{"$f":"Реестр!G709","v":0},{"$f":"IF(Реестр!#REF!=\"I\",\"Ф152\",IF(Реестр!#REF!=\"II\",\"Ф127\",IF(Реестр!#REF!=\"III\",\"Ф127\",IF(Реестр!#REF!=\"IV\",\"Ф228\",IF(Реестр!#REF!=\"V\",\"Ф127\",\"\")))))","v":{"$error":"#REF!"}},{"$f":"Реестр!J709","v":0},0]
[{"$f":"(Реестр!B710)+0","v":"00:00:00"},{"$f":"Реестр!AM710","v":0},{"$f":"Реестр!AZ710","v":0},{"$f":"Реестр!AN710","v":0},{"$f":"Реестр!G710","v":0},{"$f":"IF(Реестр!#REF!=\"I\",\"Ф152\",IF(Реестр!#REF!=\"II\",\"Ф127\",IF(Реестр!#REF!=\"III\",\"Ф127\",IF(Реестр!#REF!=\"IV\",\"Ф228\",IF(Реестр!#REF!=\"V\",\"Ф127\",\"\")))))","v":{"$error":"#REF!"}},{"$f":"Реестр!J710","v":0},0]
[{"$f":"(Реестр!B711)+0","v":"00:00:00"},{"$f":"Реестр!AM711","v":0},{"$f":"Реестр!AZ711","v":0},{"$f":"Реестр!AN711","v":0},{"$f":"Реестр!G711","v":0},{"$f":"IF(Реестр!#REF!=\"I\",\"Ф152\",IF(Реестр!#REF!=\"II\",\"Ф127\",IF(Реестр!#REF!=\"III\",\"Ф127\",IF(Реестр!#REF!=\"IV\",\"Ф228\",IF(Реестр!#REF!=\"V\",\"Ф127\",\"\")))))","v":{"$error":"#REF!"}},{"$f":"Реестр!J711","v":0},0]
[{"$f":"(Реестр!B712)+0","v":"00:00:00"},{"$f":"Реестр!AM712","v":0},{"$f":"Реестр!AZ712","v":0},{"$f":"Реестр!AN712","v":0},{"$f":"Реестр!G712","v":0},{"$f":"IF(Реестр!#REF!=\"I\",\"Ф152\",IF(Реестр!#REF!=\"II\",\"Ф127\",IF(Реестр!#REF!=\"III\",\"Ф127\",IF(Реестр!#REF!=\"IV\",\"Ф228\",IF(Реестр!#REF!=\"V\",\"Ф127\",\"\")))))","v":{"$error":"#REF!"}},{"$f":"Реестр!J712","v":0},0]
[{"$f":"(Реестр!B713)+0","v":"00:00:00"},{"$f":"Реестр!AM713","v":0},{"$f":"Реестр!AZ713","v":0},{"$f":"Реестр!AN713","v":0},{"$f":"Реестр!G713","v":0},{"$f":"IF(Реестр!#REF!=\"I\",\"Ф152\",IF(Реестр!#REF!=\"II\",\"Ф127\",IF(Реестр!#REF!=\"III\",\"Ф127\",IF(Реестр!#REF!=\"IV\",\"Ф228\",IF(Реестр!#REF!=\"V\",\"Ф127\",\"\")))))","v":{"$error":"#REF!"}},{"$f":"Реестр!J713","v":0},0]
[{"$f":"(Реестр!B714)+0","v":"00:00:00"},{"$f":"Реестр!AM714","v":0},{"$f":"Реестр!AZ714","v":0},{"$f":"Реестр!AN714","v":0},{"$f":"Реестр!G714","v":0},{"$f":"IF(Реестр!#REF!=\"I\",\"Ф152\",IF(Реестр!#REF!=\"II\",\"Ф127\",IF(Реестр!#REF!=\"III\",\"Ф127\",IF(Реестр!#REF!=\"IV\",\"Ф228\",IF(Реестр!#REF!=\"V\",\"Ф127\",\"\")))))","v":{"$error":"#REF!"}},{"$f":"Реестр!J714","v":0},0]
[{"$f":"(Реестр!B715)+0","v":"00:00:00"},{"$f":"Реестр!AM715","v":0},{"$f":"Реестр!AZ715","v":0},{"$f":"Реестр!AN715","v":0},{"$f":"Реестр!G715","v":0},{"$f":"IF(Реестр!#REF!=\"I\",\"Ф152\",IF(Реестр!#REF!=\"II\",\"Ф127\",IF(Реестр!#REF!=\"III\",\"Ф127\",IF(Реестр!#REF!=\"IV\",\"Ф228\",IF(Реестр!#REF!=\"V\",\"Ф127\",\"\")))))","v":{"$error":"#REF!"}},{"$f":"Реестр!J715","v":0},0]
[{"$f":"(Реестр!B716)+0","v":"00:00:00"},{"$f":"Реестр!AM716","v":0},{"$f":"Реестр!AZ716","v":0},{"$f":"Реестр!AN716","v":0},{"$f":"Реестр!G716","v":0},{"$f":"IF(Реестр!#REF!=\"I\",\"Ф152\",IF(Реестр!#REF!=\"II\",\"Ф127\",IF(Реестр!#REF!=\"III\",\"Ф127\",IF(Реестр!#REF!=\"IV\",\"Ф228\",IF(Реестр!#REF!=\"V\",\"Ф127\",\"\")))))","v":{"$error":"#REF!"}},{"$f":"Реестр!J716","v":0},0]
[{"$f":"(Реестр!B717)+0","v":"00:00:00"},{"$f":"Реестр!AM717","v":0},{"$f":"Реестр!AZ717","v":0},{"$f":"Реестр!AN717","v":0},{"$f":"Реестр!G717","v":0},{"$f":"IF(Реестр!#REF!=\"I\",\"Ф152\",IF(Реестр!#REF!=\"II\",\"Ф127\",IF(Реестр!#REF!=\"III\",\"Ф127\",IF(Реестр!#REF!=\"IV\",\"Ф228\",IF(Реестр!#REF!=\"V\",\"Ф127\",\"\")))))","v":{"$error":"#REF!"}},{"$f":"Реестр!J717","v":0},0]
[{"$f":"(Реестр!B718)+0","v":"00:00:00"},{"$f":"Реестр!AM718","v":0},{"$f":"Реестр!AZ718","v":0},{"$f":"Реестр!AN718","v":0},{"$f":"Реестр!G718","v":0},{"$f":"IF(Реестр!#REF!=\"I\",\"Ф152\",IF(Реестр!#REF!=\"II\",\"Ф127\",IF(Реестр!#REF!=\"III\",\"Ф127\",IF(Реестр!#REF!=\"IV\",\"Ф228\",IF(Реестр!#REF!=\"V\",\"Ф127\",\"\")))))","v":{"$error":"#REF!"}},{"$f":"Реестр!J718","v":0},0]
[{"$f":"(Реестр!B719)+0","v":"00:00:00"},{"$f":"Реестр!AM719","v":0},{"$f":"Реестр!AZ719","v":0},{"$f":"Реестр!AN719","v":0},{"$f":"Реестр!G719","v":0},{"$f":"IF(Реестр!#REF!=\"I\",\"Ф152\",IF(Реестр!#REF!=\"II\",\"Ф127\",IF(Реестр!#REF!=\"III\",\"Ф127\",IF(Реестр!#REF!=\"IV\",\"Ф228\",IF(Реестр!#REF!=\"V\",\"Ф127\",\"\")))))","v":{"$error":"#REF!"}},{"$f":"Реестр!J719","v":0},0]
[{"$f":"(Реестр!B720)+0","v":"00:00:00"},{"$f":"Реестр!AM720","v":0},{"$f":"Реестр!AZ720","v":0},{"$f":"Реестр!AN720","v":0},{"$f":"Реестр!G720","v":0},{"$f":"IF(Реестр!#REF!=\"I\",\"Ф152\",IF(Реестр!#REF!=\"II\",\"Ф127\",IF(Реестр!#REF!=\"III\",\"Ф127\",IF(Реестр!#REF!=\"IV\",\"Ф228\",IF(Реестр!#REF!=\"V\",\"Ф127\",\"\")))))","v":{"$error":"#REF!"}},{"$f":"Реестр!J720","v":0},0]
[{"$f":"(Реестр!B721)+0","v":"00:00:00"},{"$f":"Реестр!AM721","v":0},{"$f":"Реестр!AZ721","v":0},{"$f":"Реестр!AN721","v":0},{"$f":"Реестр!G721","v":0},{"$f":"IF(Реестр!#REF!=\"I\",\"Ф152\",IF(Реестр!#REF!=\"II\",\"Ф127\",IF(Реестр!#REF!=\"III\",\"Ф127\",IF(Реестр!#REF!=\"IV\",\"Ф228\",IF(Реестр!#REF!=\"V\",\"Ф127\",\"\")))))","v":{"$error":"#REF!"}},{"$f":"Реестр!J721","v":0},0]
[{"$f":"(Реестр!B722)+0","v":"00:00:00"},{"$f":"Реестр!AM722","v":0},{"$f":"Реестр!AZ722","v":0},{"$f":"Реестр!AN722","v":0},{"$f":"Реестр!G722","v":0},{"$f":"IF(Реестр!#REF!=\"I\",\"Ф152\",IF(Реестр!#REF!=\"II\",\"Ф127\",IF(Реестр!#REF!=\"III\",\"Ф127\",IF(Реестр!#REF!=\"IV\",\"Ф228\",IF(Реестр!#REF!=\"V\",\"Ф127\",\"\")))))","v":{"$error":"#REF!"}},{"$f":"Реестр!J722","v":0},0]
[{"$f":"(Реестр!B723)+0","v":"00:00:00"},{"$f":"Реестр!AM723","v":0},{"$f":"Реестр!AZ723","v":0},{"$f":"Реестр!AN723","v":0},{"$f":"Реестр!G723","v":0},{"$f":"IF(Реестр!#REF!=\"I\",\"Ф152\",IF(Реестр!#REF!=\"II\",\"Ф127\",IF(Реестр!#REF!=\"III\",\"Ф127\",IF(Реестр!#REF!=\"IV\",\"Ф228\",IF(Реестр!#REF!=\"V\",\"Ф127\",\"\")))))","v":{"$error":"#REF!"}},{"$f":"Реестр!J723","v":0},0]
[{"$f":"(Реестр!B724)+0","v":"00:00:00"},{"$f":"Реестр!AM724","v":0},{"$f":"Реестр!AZ724","v":0},{"$f":"Реестр!AN724","v":0},{"$f":"Реестр!G724","v":0},{"$f":"IF(Реестр!#REF!=\"I\",\"Ф152\",IF(Реестр!#REF!=\"II\",\"Ф127\",IF(Реестр!#REF!=\"III\",\"Ф127\",IF(Реестр!#REF!=\"IV\",\"Ф228\",IF(Реестр!#REF!=\"V\",\"Ф127\",\"\")))))","v":{"$error":"#REF!"}},{"$f":"Реестр!J724","v":0},0]
[{"$f":"(Реестр!B725)+0","v":"00:00:00"},{"$f":"Реестр!AM725","v":0},{"$f":"Реестр!AZ725","v":0},{"$f":"Реестр!AN725","v":0},{"$f":"Реестр!G725","v":0},{"$f":"IF(Реестр!#REF!=\"I\",\"Ф152\",IF(Реестр!#REF!=\"II\",\"Ф127\",IF(Реестр!#REF!=\"III\",\"Ф127\",IF(Реестр!#REF!=\"IV\",\"Ф228\",IF(Реестр!#REF!=\"V\",\"Ф127\",\"\")))))","v":{"$error":"#REF!"}},{"$f":"Реестр!J725","v":0},0]
[{"$f":"(Реестр!B726)+0","v":"00:00:00"},{"$f":"Реестр!AM726","v":0},{"$f":"Реестр!AZ726","v":0},{"$f":"Реестр!AN726","v":0},{"$f":"Реестр!G726","v":0},{"$f":"IF(Реестр!#REF!=\"I\",\"Ф152\",IF(Реестр!#REF!=\"II\",\"Ф127\",IF(Реестр!#REF!=\"III\",\"Ф127\",IF(Реестр!#REF!=\"IV\",\"Ф228\",IF(Реестр!#REF!=\"V\",\"Ф127\",\"\")))))","v":{"$error":"#REF!"}},{"$f":"Реестр!J726","v":0},0]
[{"$f":"(Реестр!B727)+0","v":"00:00:00"},{"$f":"Реестр!AM727","v":0},{"$f":"Реестр!AZ727","v":0},{"$f":"Реестр!AN727","v":0},{"$f":"Реестр!G727","v":0},{"$f":"IF(Реестр!#REF!=\"I\",\"Ф152\",IF(Реестр!#REF!=\"II\",\"Ф127\",IF(Реестр!#REF!=\"III\",\"Ф127\",IF(Реестр!#REF!=\"IV\",\"Ф228\",IF(Реестр!#REF!=\"V\",\"Ф127\",\"\")))))","v":{"$error":"#REF!"}},{"$f":"Реестр!J727","v":0},0]
[{"$f":"(Реестр!B728)+0","v":"00:00:00"},{"$f":"Реестр!AM728","v":0},{"$f":"Реестр!AZ728","v":0},{"$f":"Реестр!AN728","v":0},{"$f":"Реестр!G728","v":0},{"$f":"IF(Реестр!#REF!=\"I\",\"Ф152\",IF(Реестр!#REF!=\"II\",\"Ф127\",IF(Реестр!#REF!=\"III\",\"Ф127\",IF(Реестр!#REF!=\"IV\",\"Ф228\",IF(Реестр!#REF!=\"V\",\"Ф127\",\"\")))))","v":{"$error":"#REF!"}},{"$f":"Реестр!J728","v":0},0]
[{"$f":"(Реестр!B729)+0","v":"00:00:00"},{"$f":"Реестр!AM729","v":0},{"$f":"Реестр!AZ729","v":0},{"$f":"Реестр!AN729","v":0},{"$f":"Реестр!G729","v":0},{"$f":"IF(Реестр!#REF!=\"I\",\"Ф152\",IF(Реестр!#REF!=\"II\",\"Ф127\",IF(Реестр!#REF!=\"III\",\"Ф127\",IF(Реестр!#REF!=\"IV\",\"Ф228\",IF(Реестр!#REF!=\"V\",\"Ф127\",\"\")))))","v":{"$error":"#REF!"}},{"$f":"Реестр!J729","v":0},0]
[{"$f":"(Реестр!B730)+0","v":"00:00:00"},{"$f":"Реестр!AM730","v":0},{"$f":"Реестр!AZ730","v":0},{"$f":"Реестр!AN730","v":0},{"$f":"Реестр!G730","v":0},{"$f":"IF(Реестр!#REF!=\"I\",\"Ф152\",IF(Реестр!#REF!=\"II\",\"Ф127\",IF(Реестр!#REF!=\"III\",\"Ф127\",IF(Реестр!#REF!=\"IV\",\"Ф228\",IF(Реестр!#REF!=\"V\",\"Ф127\",\"\")))))","v":{"$error":"#REF!"}},{"$f":"Реестр!J730","v":0},0]
[{"$f":"(Реестр!B731)+0","v":"00:00:00"},{"$f":"Реестр!AM731","v":0},{"$f":"Реестр!AZ731","v":0},{"$f":"Реестр!AN731","v":0},{"$f":"Реестр!G731","v":0},{"$f":"IF(Реестр!#REF!=\"I\",\"Ф152\",IF(Реестр!#REF!=\"II\",\"Ф127\",IF(Реестр!#REF!=\"III\",\"Ф127\",IF(Реестр!#REF!=\"IV\",\"Ф228\",IF(Реестр!#REF!=\"V\",\"Ф127\",\"\")))))","v":{"$error":"#REF!"}},{"$f":"Реестр!J731","v":0},0]
[{"$f":"(Реестр!B732)+0","v":"00:00:00"},{"$f":"Реестр!AM732","v":0},{"$f":"Реестр!AZ732","v":0},{"$f":"Реестр!AN732","v":0},{"$f":"Реестр!G732","v":0},{"$f":"IF(Реестр!#REF!=\"I\",\"Ф152\",IF(Реестр!#REF!=\"II\",\"Ф127\",IF(Реестр!#REF!=\"III\",\"Ф127\",IF(Реестр!#REF!=\"IV\",\"Ф228\",IF(Реестр!#REF!=\"V\",\"Ф127\",\"\")))))","v":{"$error":"#REF!"}},{"$f":"Реестр!J732","v":0},0]
[{"$f":"(Реестр!B733)+0","v":"00:00:00"},{"$f":"Реестр!AM733","v":0},{"$f":"Реестр!AZ733","v":0},{"$f":"Реестр!AN733","v":0},{"$f":"Реестр!G733","v":0},{"$f":"IF(Реестр!#REF!=\"I\",\"Ф152\",IF(Реестр!#REF!=\"II\",\"Ф127\",IF(Реестр!#REF!=\"III\",\"Ф127\",IF(Реестр!#REF!=\"IV\",\"Ф228\",IF(Реестр!#REF!=\"V\",\"Ф127\",\"\")))))","v":{"$error":"#REF!"}},{"$f":"Реестр!J733","v":0},0]
[{"$f":"(Реестр!B734)+0","v":"00:00:00"},{"$f":"Реестр!AM734","v":0},{"$f":"Реестр!AZ734","v":0},{"$f":"Реестр!AN734","v":0},{"$f":"Реестр!G734","v":0},{"$f":"IF(Реестр!#REF!=\"I\",\"Ф152\",IF(Реестр!#REF!=\"II\",\"Ф127\",IF(Реестр!#REF!=\"III\",\"Ф127\",IF(Реестр!#REF!=\"IV\",\"Ф228\",IF(Реестр!#REF!=\"V\",\"Ф127\",\"\")))))","v":{"$error":"#REF!"}},{"$f":"Реестр!J734","v":0},0]
[{"$f":"(Реестр!B735)+0","v":"00:00:00"},{"$f":"Реестр!AM735","v":0},{"$f":"Реестр!AZ735","v":0},{"$f":"Реестр!AN735","v":0},{"$f":"Реестр!G735","v":0},{"$f":"IF(Реестр!#REF!=\"I\",\"Ф152\",IF(Реестр!#REF!=\"II\",\"Ф127\",IF(Реестр!#REF!=\"III\",\"Ф127\",IF(Реестр!#REF!=\"IV\",\"Ф228\",IF(Реестр!#REF!=\"V\",\"Ф127\",\"\")))))","v":{"$error":"#REF!"}},{"$f":"Реестр!J735","v":0},0]
[{"$f":"(Реестр!B736)+0","v":"00:00:00"},{"$f":"Реестр!AM736","v":0},{"$f":"Реестр!AZ736","v":0},{"$f":"Реестр!AN736","v":0},{"$f":"Реестр!G736","v":0},{"$f":"IF(Реестр!#REF!=\"I\",\"Ф152\",IF(Реестр!#REF!=\"II\",\"Ф127\",IF(Реестр!#REF!=\"III\",\"Ф127\",IF(Реестр!#REF!=\"IV\",\"Ф228\",IF(Реестр!#REF!=\"V\",\"Ф127\",\"\")))))","v":{"$error":"#REF!"}},{"$f":"Реестр!J736","v":0},0]
[{"$f":"(Реестр!B737)+0","v":"00:00:00"},{"$f":"Реестр!AM737","v":0},{"$f":"Реестр!AZ737","v":0},{"$f":"Реестр!AN737","v":0},{"$f":"Реестр!G737","v":0},{"$f":"IF(Реестр!#REF!=\"I\",\"Ф152\",IF(Реестр!#REF!=\"II\",\"Ф127\",IF(Реестр!#REF!=\"III\",\"Ф127\",IF(Реестр!#REF!=\"IV\",\"Ф228\",IF(Реестр!#REF!=\"V\",\"Ф127\",\"\")))))","v":{"$error":"#REF!"}},{"$f":"Реестр!J737","v":0},0]
[{"$f":"(Реестр!B738)+0","v":"00:00:00"},{"$f":"Реестр!AM738","v":0},{"$f":"Реестр!AZ738","v":0},{"$f":"Реестр!AN738","v":0},{"$f":"Реестр!G738","v":0},{"$f":"IF(Реестр!#REF!=\"I\",\"Ф152\",IF(Реестр!#REF!=\"II\",\"Ф127\",IF(Реестр!#REF!=\"III\",\"Ф127\",IF(Реестр!#REF!=\"IV\",\"Ф228\",IF(Реестр!#REF!=\"V\",\"Ф127\",\"\")))))","v":{"$error":"#REF!"}},{"$f":"Реестр!J738","v":0},0]
[{"$f":"(Реестр!B739)+0","v":"00:00:00"},{"$f":"Реестр!AM739","v":0},{"$f":"Реестр!AZ739","v":0},{"$f":"Реестр!AN739","v":0},{"$f":"Реестр!G739","v":0},{"$f":"IF(Реестр!#REF!=\"I\",\"Ф152\",IF(Реестр!#REF!=\"II\",\"Ф127\",IF(Реестр!#REF!=\"III\",\"Ф127\",IF(Реестр!#REF!=\"IV\",\"Ф228\",IF(Реестр!#REF!=\"V\",\"Ф127\",\"\")))))","v":{"$error":"#REF!"}},{"$f":"Реестр!J739","v":0},0]
[{"$f":"(Реестр!B740)+0","v":"00:00:00"},{"$f":"Реестр!AM740","v":0},{"$f":"Реестр!AZ740","v":0},{"$f":"Реестр!AN740","v":0},{"$f":"Реестр!G740","v":0},{"$f":"IF(Реестр!#REF!=\"I\",\"Ф152\",IF(Реестр!#REF!=\"II\",\"Ф127\",IF(Реестр!#REF!=\"III\",\"Ф127\",IF(Реестр!#REF!=\"IV\",\"Ф228\",IF(Реестр!#REF!=\"V\",\"Ф127\",\"\")))))","v":{"$error":"#REF!"}},{"$f":"Реестр!J740","v":0},0]
[{"$f":"(Реестр!B741)+0","v":"00:00:00"},{"$f":"Реестр!AM741","v":0},{"$f":"Реестр!AZ741","v":0},{"$f":"Реестр!AN741","v":0},{"$f":"Реестр!G741","v":0},{"$f":"IF(Реестр!#REF!=\"I\",\"Ф152\",IF(Реестр!#REF!=\"II\",\"Ф127\",IF(Реестр!#REF!=\"III\",\"Ф127\",IF(Реестр!#REF!=\"IV\",\"Ф228\",IF(Реестр!#REF!=\"V\",\"Ф127\",\"\")))))","v":{"$error":"#REF!"}},{"$f":"Реестр!J741","v":0},0]
[{"$f":"(Реестр!B742)+0","v":"00:00:00"},{"$f":"Реестр!AM742","v":0},{"$f":"Реестр!AZ742","v":0},{"$f":"Реестр!AN742","v":0},{"$f":"Реестр!G742","v":0},{"$f":"IF(Реестр!#REF!=\"I\",\"Ф152\",IF(Реестр!#REF!=\"II\",\"Ф127\",IF(Реестр!#REF!=\"III\",\"Ф127\",IF(Реестр!#REF!=\"IV\",\"Ф228\",IF(Реестр!#REF!=\"V\",\"Ф127\",\"\")))))","v":{"$error":"#REF!"}},{"$f":"Реестр!J742","v":0},0]
[{"$f":"(Реестр!B743)+0","v":"00:00:00"},{"$f":"Реестр!AM743","v":0},{"$f":"Реестр!AZ743","v":0},{"$f":"Реестр!AN743","v":0},{"$f":"Реестр!G743","v":0},{"$f":"IF(Реестр!#REF!=\"I\",\"Ф152\",IF(Реестр!#REF!=\"II\",\"Ф127\",IF(Реестр!#REF!=\"III\",\"Ф127\",IF(Реестр!#REF!=\"IV\",\"Ф228\",IF(Реестр!#REF!=\"V\",\"Ф127\",\"\")))))","v":{"$error":"#REF!"}},{"$f":"Реестр!J743","v":0},0]
[{"$f":"(Реестр!B744)+0","v":"00:00:00"},{"$f":"Реестр!AM744","v":0},{"$f":"Реестр!AZ744","v":0},{"$f":"Реестр!AN744","v":0},{"$f":"Реестр!G744","v":0},{"$f":"IF(Реестр!#REF!=\"I\",\"Ф152\",IF(Реестр!#REF!=\"II\",\"Ф127\",IF(Реестр!#REF!=\"III\",\"Ф127\",IF(Реестр!#REF!=\"IV\",\"Ф228\",IF(Реестр!#REF!=\"V\",\"Ф127\",\"\")))))","v":{"$error":"#REF!"}},{"$f":"Реестр!J744","v":0},0]
[{"$f":"(Реестр!B745)+0","v":"00:00:00"},{"$f":"Реестр!AM745","v":0},{"$f":"Реестр!AZ745","v":0},{"$f":"Реестр!AN745","v":0},{"$f":"Реестр!G745","v":0},{"$f":"IF(Реестр!#REF!=\"I\",\"Ф152\",IF(Реестр!#REF!=\"II\",\"Ф127\",IF(Реестр!#REF!=\"III\",\"Ф127\",IF(Реестр!#REF!=\"IV\",\"Ф228\",IF(Реестр!#REF!=\"V\",\"Ф127\",\"\")))))","v":{"$error":"#REF!"}},{"$f":"Реестр!J745","v":0},0]
[{"$f":"(Реестр!B746)+0","v":"00:00:00"},{"$f":"Реестр!AM746","v":0},{"$f":"Реестр!AZ746","v":0},{"$f":"Реестр!AN746","v":0},{"$f":"Реестр!G746","v":0},{"$f":"IF(Реестр!#REF!=\"I\",\"Ф152\",IF(Реестр!#REF!=\"II\",\"Ф127\",IF(Реестр!#REF!=\"III\",\"Ф127\",IF(Реестр!#REF!=\"IV\",\"Ф228\",IF(Реестр!#REF!=\"V\",\"Ф127\",\"\")))))","v":{"$error":"#REF!"}},{"$f":"Реестр!J746","v":0},0]
[{"$f":"(Реестр!B747)+0","v":"00:00:00"},{"$f":"Реестр!AM747","v":0},{"$f":"Реестр!AZ747","v":0},{"$f":"Реестр!AN747","v":0},{"$f":"Реестр!G747","v":0},{"$f":"IF(Реестр!#REF!=\"I\",\"Ф152\",IF(Реестр!#REF!=\"II\",\"Ф127\",IF(Реестр!#REF!=\"III\",\"Ф127\",IF(Реестр!#REF!=\"IV\",\"Ф228\",IF(Реестр!#REF!=\"V\",\"Ф127\",\"\")))))","v":{"$error":"#REF!"}},{"$f":"Реестр!J747","v":0},0]
[{"$f":"(Реестр!B748)+0","v":"00:00:00"},{"$f":"Реестр!AM748","v":0},{"$f":"Реестр!AZ748","v":0},{"$f":"Реестр!AN748","v":0},{"$f":"Реестр!G748","v":0},{"$f":"IF(Реестр!#REF!=\"I\",\"Ф152\",IF(Реестр!#REF!=\"II\",\"Ф127\",IF(Реестр!#REF!=\"III\",\"Ф127\",IF(Реестр!#REF!=\"IV\",\"Ф228\",IF(Реестр!#REF!=\"V\",\"Ф127\",\"\")))))","v":{"$error":"#REF!"}},{"$f":"Реестр!J748","v":0},0]
[{"$f":"(Реестр!B749)+0","v":"00:00:00"},{"$f":"Реестр!AM749","v":0},{"$f":"Реестр!AZ749","v":0},{"$f":"Реестр!AN749","v":0},{"$f":"Реестр!G749","v":0},{"$f":"IF(Реестр!#REF!=\"I\",\"Ф152\",IF(Реестр!#REF!=\"II\",\"Ф127\",IF(Реестр!#REF!=\"III\",\"Ф127\",IF(Реестр!#REF!=\"IV\",\"Ф228\",IF(Реестр!#REF!=\"V\",\"Ф127\",\"\")))))","v":{"$error":"#REF!"}},{"$f":"Реестр!J749","v":0},0]
[{"$f":"(Реестр!B750)+0","v":"00:00:00"},{"$f":"Реестр!AM750","v":0},{"$f":"Реестр!AZ750","v":0},{"$f":"Реестр!AN750","v":0},{"$f":"Реестр!G750","v":0},{"$f":"IF(Реестр!#REF!=\"I\",\"Ф152\",IF(Реестр!#REF!=\"II\",\"Ф127\",IF(Реестр!#REF!=\"III\",\"Ф127\",IF(Реестр!#REF!=\"IV\",\"Ф228\",IF(Реестр!#REF!=\"V\",\"Ф127\",\"\")))))","v":{"$error":"#REF!"}},{"$f":"Реестр!J750","v":0},0]
[{"$f":"(Реестр!B751)+0","v":"00:00:00"},{"$f":"Реестр!AM751","v":0},{"$f":"Реестр!AZ751","v":0},{"$f":"Реестр!AN751","v":0},{"$f":"Реестр!G751","v":0},{"$f":"IF(Реестр!#REF!=\"I\",\"Ф152\",IF(Реестр!#REF!=\"II\",\"Ф127\",IF(Реестр!#REF!=\"III\",\"Ф127\",IF(Реестр!#REF!=\"IV\",\"Ф228\",IF(Реестр!#REF!=\"V\",\"Ф127\",\"\")))))","v":{"$error":"#REF!"}},{"$f":"Реестр!J751","v":0},0]
[{"$f":"(Реестр!B752)+0","v":"00:00:00"},{"$f":"Реестр!AM752","v":0},{"$f":"Реестр!AZ752","v":0},{"$f":"Реестр!AN752","v":0},{"$f":"Реестр!G752","v":0},{"$f":"IF(Реестр!#REF!=\"I\",\"Ф152\",IF(Реестр!#REF!=\"II\",\"Ф127\",IF(Реестр!#REF!=\"III\",\"Ф127\",IF(Реестр!#REF!=\"IV\",\"Ф228\",IF(Реестр!#REF!=\"V\",\"Ф127\",\"\")))))","v":{"$error":"#REF!"}},{"$f":"Реестр!J752","v":0},0]
[{"$f":"(Реестр!B753)+0","v":"00:00:00"},{"$f":"Реестр!AM753","v":0},{"$f":"Реестр!AZ753","v":0},{"$f":"Реестр!AN753","v":0},{"$f":"Реестр!G753","v":0},{"$f":"IF(Реестр!#REF!=\"I\",\"Ф152\",IF(Реестр!#REF!=\"II\",\"Ф127\",IF(Реестр!#REF!=\"III\",\"Ф127\",IF(Реестр!#REF!=\"IV\",\"Ф228\",IF(Реестр!#REF!=\"V\",\"Ф127\",\"\")))))","v":{"$error":"#REF!"}},{"$f":"Реестр!J753","v":0},0]
[{"$f":"(Реестр!B754)+0","v":"00:00:00"},{"$f":"Реестр!AM754","v":0},{"$f":"Реестр!AZ754","v":0},{"$f":"Реестр!AN754","v":0},{"$f":"Реестр!G754","v":0},{"$f":"IF(Реестр!#REF!=\"I\",\"Ф152\",IF(Реестр!#REF!=\"II\",\"Ф127\",IF(Реестр!#REF!=\"III\",\"Ф127\",IF(Реестр!#REF!=\"IV\",\"Ф228\",IF(Реестр!#REF!=\"V\",\"Ф127\",\"\")))))","v":{"$error":"#REF!"}},{"$f":"Реестр!J754","v":0},0]
[{"$f":"(Реестр!B755)+0","v":"00:00:00"},{"$f":"Реестр!AM755","v":0},{"$f":"Реестр!AZ755","v":0},{"$f":"Реестр!AN755","v":0},{"$f":"Реестр!G755","v":0},{"$f":"IF(Реестр!#REF!=\"I\",\"Ф152\",IF(Реестр!#REF!=\"II\",\"Ф127\",IF(Реестр!#REF!=\"III\",\"Ф127\",IF(Реестр!#REF!=\"IV\",\"Ф228\",IF(Реестр!#REF!=\"V\",\"Ф127\",\"\")))))","v":{"$error":"#REF!"}},{"$f":"Реестр!J755","v":0},0]
[{"$f":"(Реестр!B756)+0","v":"00:00:00"},{"$f":"Реестр!AM756","v":0},{"$f":"Реестр!AZ756","v":0},{"$f":"Реестр!AN756","v":0},{"$f":"Реестр!G756","v":0},{"$f":"IF(Реестр!#REF!=\"I\",\"Ф152\",IF(Реестр!#REF!=\"II\",\"Ф127\",IF(Реестр!#REF!=\"III\",\"Ф127\",IF(Реестр!#REF!=\"IV\",\"Ф228\",IF(Реестр!#REF!=\"V\",\"Ф127\",\"\")))))","v":{"$error":"#REF!"}},{"$f":"Реестр!J756","v":0},0]
[{"$f":"(Реестр!B757)+0","v":"00:00:00"},{"$f":"Реестр!AM757","v":0},{"$f":"Реестр!AZ757","v":0},{"$f":"Реестр!AN757","v":0},{"$f":"Реестр!G757","v":0},{"$f":"IF(Реестр!#REF!=\"I\",\"Ф152\",IF(Реестр!#REF!=\"II\",\"Ф127\",IF(Реестр!#REF!=\"III\",\"Ф127\",IF(Реестр!#REF!=\"IV\",\"Ф228\",IF(Реестр!#REF!=\"V\",\"Ф127\",\"\")))))","v":{"$error":"#REF!"}},{"$f":"Реестр!J757","v":0},0]
[{"$f":"(Реестр!B758)+0","v":"00:00:00"},{"$f":"Реестр!AM758","v":0},{"$f":"Реестр!AZ758","v":0},{"$f":"Реестр!AN758","v":0},{"$f":"Реестр!G758","v":0},{"$f":"IF(Реестр!#REF!=\"I\",\"Ф152\",IF(Реестр!#REF!=\"II\",\"Ф127\",IF(Реестр!#REF!=\"III\",\"Ф127\",IF(Реестр!#REF!=\"IV\",\"Ф228\",IF(Реестр!#REF!=\"V\",\"Ф127\",\"\")))))","v":{"$error":"#REF!"}},{"$f":"Реестр!J758","v":0},0]
[{"$f":"(Реестр!B759)+0","v":"00:00:00"},{"$f":"Реестр!AM759","v":0},{"$f":"Реестр!AZ759","v":0},{"$f":"Реестр!AN759","v":0},{"$f":"Реестр!G759","v":0},{"$f":"IF(Реестр!#REF!=\"I\",\"Ф152\",IF(Реестр!#REF!=\"II\",\"Ф127\",IF(Реестр!#REF!=\"III\",\"Ф127\",IF(Реестр!#REF!=\"IV\",\"Ф228\",IF(Реестр!#REF!=\"V\",\"Ф127\",\"\")))))","v":{"$error":"#REF!"}},{"$f":"Реестр!J759","v":0},0]
[{"$f":"(Реестр!B760)+0","v":"00:00:00"},{"$f":"Реестр!AM760","v":0},{"$f":"Реестр!AZ760","v":0},{"$f":"Реестр!AN760","v":0},{"$f":"Реестр!G760","v":0},{"$f":"IF(Реестр!#REF!=\"I\",\"Ф152\",IF(Реестр!#REF!=\"II\",\"Ф127\",IF(Реестр!#REF!=\"III\",\"Ф127\",IF(Реестр!#REF!=\"IV\",\"Ф228\",IF(Реестр!#REF!=\"V\",\"Ф127\",\"\")))))","v":{"$error":"#REF!"}},{"$f":"Реестр!J760","v":0},0]
[{"$f":"(Реестр!B761)+0","v":"00:00:00"},{"$f":"Реестр!AM761","v":0},{"$f":"Реестр!AZ761","v":0},{"$f":"Реестр!AN761","v":0},{"$f":"Реестр!G761","v":0},{"$f":"IF(Реестр!#REF!=\"I\",\"Ф152\",IF(Реестр!#REF!=\"II\",\"Ф127\",IF(Реестр!#REF!=\"III\",\"Ф127\",IF(Реестр!#REF!=\"IV\",\"Ф228\",IF(Реестр!#REF!=\"V\",\"Ф127\",\"\")))))","v":{"$error":"#REF!"}},{"$f":"Реестр!J761","v":0},0]
[{"$f":"(Реестр!B762)+0","v":"00:00:00"},{"$f":"Реестр!AM762","v":0},{"$f":"Реестр!AZ762","v":0},{"$f":"Реестр!AN762","v":0},{"$f":"Реестр!G762","v":0},{"$f":"IF(Реестр!#REF!=\"I\",\"Ф152\",IF(Реестр!#REF!=\"II\",\"Ф127\",IF(Реестр!#REF!=\"III\",\"Ф127\",IF(Реестр!#REF!=\"IV\",\"Ф228\",IF(Реестр!#REF!=\"V\",\"Ф127\",\"\")))))","v":{"$error":"#REF!"}},{"$f":"Реестр!J762","v":0},0]
[{"$f":"(Реестр!B763)+0","v":"00:00:00"},{"$f":"Реестр!AM763","v":0},{"$f":"Реестр!AZ763","v":0},{"$f":"Реестр!AN763","v":0},{"$f":"Реестр!G763","v":0},{"$f":"IF(Реестр!#REF!=\"I\",\"Ф152\",IF(Реестр!#REF!=\"II\",\"Ф127\",IF(Реестр!#REF!=\"III\",\"Ф127\",IF(Реестр!#REF!=\"IV\",\"Ф228\",IF(Реестр!#REF!=\"V\",\"Ф127\",\"\")))))","v":{"$error":"#REF!"}},{"$f":"Реестр!J763","v":0},0]
[{"$f":"(Реестр!B764)+0","v":"00:00:00"},{"$f":"Реестр!AM764","v":0},{"$f":"Реестр!AZ764","v":0},{"$f":"Реестр!AN764","v":0},{"$f":"Реестр!G764","v":0},{"$f":"IF(Реестр!#REF!=\"I\",\"Ф152\",IF(Реестр!#REF!=\"II\",\"Ф127\",IF(Реестр!#REF!=\"III\",\"Ф127\",IF(Реестр!#REF!=\"IV\",\"Ф228\",IF(Реестр!#REF!=\"V\",\"Ф127\",\"\")))))","v":{"$error":"#REF!"}},{"$f":"Реестр!J764","v":0},0]
[{"$f":"(Реестр!B765)+0","v":"00:00:00"},{"$f":"Реестр!AM765","v":0},{"$f":"Реестр!AZ765","v":0},{"$f":"Реестр!AN765","v":0},{"$f":"Реестр!G765","v":0},{"$f":"IF(Реестр!#REF!=\"I\",\"Ф152\",IF(Реестр!#REF!=\"II\",\"Ф127\",IF(Реестр!#REF!=\"III\",\"Ф127\",IF(Реестр!#REF!=\"IV\",\"Ф228\",IF(Реестр!#REF!=\"V\",\"Ф127\",\"\")))))","v":{"$error":"#REF!"}},{"$f":"Реестр!J765","v":0},0]
[{"$f":"(Реестр!B766)+0","v":"00:00:00"},{"$f":"Реестр!AM766","v":0},{"$f":"Реестр!AZ766","v":0},{"$f":"Реестр!AN766","v":0},{"$f":"Реестр!G766","v":0},{"$f":"IF(Реестр!#REF!=\"I\",\"Ф152\",IF(Реестр!#REF!=\"II\",\"Ф127\",IF(Реестр!#REF!=\"III\",\"Ф127\",IF(Реестр!#REF!=\"IV\",\"Ф228\",IF(Реестр!#REF!=\"V\",\"Ф127\",\"\")))))","v":{"$error":"#REF!"}},{"$f":"Реестр!J766","v":0},0]
[{"$f":"(Реестр!B767)+0","v":"00:00:00"},{"$f":"Реестр!AM767","v":0},{"$f":"Реестр!AZ767","v":0},{"$f":"Реестр!AN767","v":0},{"$f":"Реестр!G767","v":0},{"$f":"IF(Реестр!#REF!=\"I\",\"Ф152\",IF(Реестр!#REF!=\"II\",\"Ф127\",IF(Реестр!#REF!=\"III\",\"Ф127\",IF(Реестр!#REF!=\"IV\",\"Ф228\",IF(Реестр!#REF!=\"V\",\"Ф127\",\"\")))))","v":{"$error":"#REF!"}},{"$f":"Реестр!J767","v":0},{"$f":"E201*G201","v":0}]
[{"$f":"(Реестр!B768)+0","v":"00:00:00"},{"$f":"Реестр!AM768","v":0},{"$f":"Реестр!AZ768","v":0},{"$f":"Реестр!AN768","v":0},{"$f":"Реестр!G768","v":0},{"$f":"IF(Реестр!#REF!=\"I\",\"Ф152\",IF(Реестр!#REF!=\"II\",\"Ф127\",IF(Реестр!#REF!=\"III\",\"Ф127\",IF(Реестр!#REF!=\"IV\",\"Ф228\",IF(Реестр!#REF!=\"V\",\"Ф127\",\"\")))))","v":{"$error":"#REF!"}},{"$f":"Реестр!J768","v":0},0]
[{"$f":"(Реестр!B769)+0","v":"00:00:00"},{"$f":"Реестр!AM769","v":0},{"$f":"Реестр!AZ769","v":0},{"$f":"Реестр!AN769","v":0},{"$f":"Реестр!G769","v":0},{"$f":"IF(Реестр!#REF!=\"I\",\"Ф152\",IF(Реестр!#REF!=\"II\",\"Ф127\",IF(Реестр!#REF!=\"III\",\"Ф127\",IF(Реестр!#REF!=\"IV\",\"Ф228\",IF(Реестр!#REF!=\"V\",\"Ф127\",\"\")))))","v":{"$error":"#REF!"}},{"$f":"Реестр!J769","v":0},0]
[{"$f":"(Реестр!B770)+0","v":"00:00:00"},{"$f":"Реестр!AM770","v":0},{"$f":"Реестр!AZ770","v":0},{"$f":"Реестр!AN770","v":0},{"$f":"Реестр!G770","v":0},{"$f":"IF(Реестр!#REF!=\"I\",\"Ф152\",IF(Реестр!#REF!=\"II\",\"Ф127\",IF(Реестр!#REF!=\"III\",\"Ф127\",IF(Реестр!#REF!=\"IV\",\"Ф228\",IF(Реестр!#REF!=\"V\",\"Ф127\",\"\")))))","v":{"$error":"#REF!"}},{"$f":"Реестр!J770","v":0},0]
[{"$f":"(Реестр!B771)+0","v":"00:00:00"},{"$f":"Реестр!AM771","v":0},{"$f":"Реестр!AZ771","v":0},{"$f":"Реестр!AN771","v":0},{"$f":"Реестр!G771","v":0},{"$f":"IF(Реестр!#REF!=\"I\",\"Ф152\",IF(Реестр!#REF!=\"II\",\"Ф127\",IF(Реестр!#REF!=\"III\",\"Ф127\",IF(Реестр!#REF!=\"IV\",\"Ф228\",IF(Реестр!#REF!=\"V\",\"Ф127\",\"\")))))","v":{"$error":"#REF!"}},{"$f":"Реестр!J771","v":0},0]
[{"$f":"(Реестр!B772)+0","v":"00:00:00"},{"$f":"Реестр!AM772","v":0},{"$f":"Реестр!AZ772","v":0},{"$f":"Реестр!AN772","v":0},{"$f":"Реестр!G772","v":0},{"$f":"IF(Реестр!#REF!=\"I\",\"Ф152\",IF(Реестр!#REF!=\"II\",\"Ф127\",IF(Реестр!#REF!=\"III\",\"Ф127\",IF(Реестр!#REF!=\"IV\",\"Ф228\",IF(Реестр!#REF!=\"V\",\"Ф127\",\"\")))))","v":{"$error":"#REF!"}},{"$f":"Реестр!J772","v":0},0]
[{"$f":"(Реестр!B773)+0","v":"00:00:00"},{"$f":"Реестр!AM773","v":0},{"$f":"Реестр!AZ773","v":0},{"$f":"Реестр!AN773","v":0},{"$f":"Реестр!G773","v":0},{"$f":"IF(Реестр!#REF!=\"I\",\"Ф152\",IF(Реестр!#REF!=\"II\",\"Ф127\",IF(Реестр!#REF!=\"III\",\"Ф127\",IF(Реестр!#REF!=\"IV\",\"Ф228\",IF(Реестр!#REF!=\"V\",\"Ф127\",\"\")))))","v":{"$error":"#REF!"}},{"$f":"Реестр!J773","v":0},0]
[{"$f":"(Реестр!B774)+0","v":"00:00:00"},{"$f":"Реестр!AM774","v":0},{"$f":"Реестр!AZ774","v":0},{"$f":"Реестр!AN774","v":0},{"$f":"Реестр!G774","v":0},{"$f":"IF(Реестр!#REF!=\"I\",\"Ф152\",IF(Реестр!#REF!=\"II\",\"Ф127\",IF(Реестр!#REF!=\"III\",\"Ф127\",IF(Реестр!#REF!=\"IV\",\"Ф228\",IF(Реестр!#REF!=\"V\",\"Ф127\",\"\")))))","v":{"$error":"#REF!"}},{"$f":"Реестр!J774","v":0},0]
[{"$f":"(Реестр!B775)+0","v":"00:00:00"},{"$f":"Реестр!AM775","v":0},{"$f":"Реестр!AZ775","v":0},{"$f":"Реестр!AN775","v":0},{"$f":"Реестр!G775","v":0},{"$f":"IF(Реестр!#REF!=\"I\",\"Ф152\",IF(Реестр!#REF!=\"II\",\"Ф127\",IF(Реестр!#REF!=\"III\",\"Ф127\",IF(Реестр!#REF!=\"IV\",\"Ф228\",IF(Реестр!#REF!=\"V\",\"Ф127\",\"\")))))","v":{"$error":"#REF!"}},{"$f":"Реестр!J775","v":0},0]
[{"$f":"(Реестр!B776)+0","v":"00:00:00"},{"$f":"Реестр!AM776","v":0},{"$f":"Реестр!AZ776","v":0},{"$f":"Реестр!AN776","v":0},{"$f":"Реестр!G776","v":0},{"$f":"IF(Реестр!#REF!=\"I\",\"Ф152\",IF(Реестр!#REF!=\"II\",\"Ф127\",IF(Реестр!#REF!=\"III\",\"Ф127\",IF(Реестр!#REF!=\"IV\",\"Ф228\",IF(Реестр!#REF!=\"V\",\"Ф127\",\"\")))))","v":{"$error":"#REF!"}},{"$f":"Реестр!J776","v":0},0]
[{"$f":"(Реестр!B777)+0","v":"00:00:00"},{"$f":"Реестр!AM777","v":0},{"$f":"Реестр!AZ777","v":0},{"$f":"Реестр!AN777","v":0},{"$f":"Реестр!G777","v":0},{"$f":"IF(Реестр!#REF!=\"I\",\"Ф152\",IF(Реестр!#REF!=\"II\",\"Ф127\",IF(Реестр!#REF!=\"III\",\"Ф127\",IF(Реестр!#REF!=\"IV\",\"Ф228\",IF(Реестр!#REF!=\"V\",\"Ф127\",\"\")))))","v":{"$error":"#REF!"}},{"$f":"Реестр!J777","v":0},0]
[{"$f":"(Реестр!B778)+0","v":"00:00:00"},{"$f":"Реестр!AM778","v":0},{"$f":"Реестр!AZ778","v":0},{"$f":"Реестр!AN778","v":0},{"$f":"Реестр!G778","v":0},{"$f":"IF(Реестр!#REF!=\"I\",\"Ф152\",IF(Реестр!#REF!=\"II\",\"Ф127\",IF(Реестр!#REF!=\"III\",\"Ф127\",IF(Реестр!#REF!=\"IV\",\"Ф228\",IF(Реестр!#REF!=\"V\",\"Ф127\",\"\")))))","v":{"$error":"#REF!"}},{"$f":"Реестр!J778","v":0},0]
[{"$f":"(Реестр!B779)+0","v":"00:00:00"},{"$f":"Реестр!AM779","v":0},{"$f":"Реестр!AZ779","v":0},{"$f":"Реестр!AN779","v":0},{"$f":"Реестр!G779","v":0},{"$f":"IF(Реестр!#REF!=\"I\",\"Ф152\",IF(Реестр!#REF!=\"II\",\"Ф127\",IF(Реестр!#REF!=\"III\",\"Ф127\",IF(Реестр!#REF!=\"IV\",\"Ф228\",IF(Реестр!#REF!=\"V\",\"Ф127\",\"\")))))","v":{"$error":"#REF!"}},{"$f":"Реестр!J779","v":0},0]
[{"$f":"(Реестр!B780)+0","v":"00:00:00"},{"$f":"Реестр!AM780","v":0},{"$f":"Реестр!AZ780","v":0},{"$f":"Реестр!AN780","v":0},{"$f":"Реестр!G780","v":0},{"$f":"IF(Реестр!#REF!=\"I\",\"Ф152\",IF(Реестр!#REF!=\"II\",\"Ф127\",IF(Реестр!#REF!=\"III\",\"Ф127\",IF(Реестр!#REF!=\"IV\",\"Ф228\",IF(Реестр!#REF!=\"V\",\"Ф127\",\"\")))))","v":{"$error":"#REF!"}},{"$f":"Реестр!J780","v":0},0]
[{"$f":"(Реестр!B781)+0","v":"00:00:00"},{"$f":"Реестр!AM781","v":0},{"$f":"Реестр!AZ781","v":0},{"$f":"Реестр!AN781","v":0},{"$f":"Реестр!G781","v":0},{"$f":"IF(Реестр!#REF!=\"I\",\"Ф152\",IF(Реестр!#REF!=\"II\",\"Ф127\",IF(Реестр!#REF!=\"III\",\"Ф127\",IF(Реестр!#REF!=\"IV\",\"Ф228\",IF(Реестр!#REF!=\"V\",\"Ф127\",\"\")))))","v":{"$error":"#REF!"}},{"$f":"Реестр!J781","v":0},0]
[{"$f":"(Реестр!B782)+0","v":"00:00:00"},{"$f":"Реестр!AM782","v":0},{"$f":"Реестр!AZ782","v":0},{"$f":"Реестр!AN782","v":0},{"$f":"Реестр!G782","v":0},{"$f":"IF(Реестр!#REF!=\"I\",\"Ф152\",IF(Реестр!#REF!=\"II\",\"Ф127\",IF(Реестр!#REF!=\"III\",\"Ф127\",IF(Реестр!#REF!=\"IV\",\"Ф228\",IF(Реестр!#REF!=\"V\",\"Ф127\",\"\")))))","v":{"$error":"#REF!"}},{"$f":"Реестр!J782","v":0},0]
[{"$f":"(Реестр!B783)+0","v":"00:00:00"},{"$f":"Реестр!AM783","v":0},{"$f":"Реестр!AZ783","v":0},{"$f":"Реестр!AN783","v":0},{"$f":"Реестр!G783","v":0},{"$f":"IF(Реестр!#REF!=\"I\",\"Ф152\",IF(Реестр!#REF!=\"II\",\"Ф127\",IF(Реестр!#REF!=\"III\",\"Ф127\",IF(Реестр!#REF!=\"IV\",\"Ф228\",IF(Реестр!#REF!=\"V\",\"Ф127\",\"\")))))","v":{"$error":"#REF!"}},{"$f":"Реестр!J783","v":0},0]
[{"$f":"(Реестр!B784)+0","v":"00:00:00"},{"$f":"Реестр!AM784","v":0},{"$f":"Реестр!AZ784","v":0},{"$f":"Реестр!AN784","v":0},{"$f":"Реестр!G784","v":0},{"$f":"IF(Реестр!#REF!=\"I\",\"Ф152\",IF(Реестр!#REF!=\"II\",\"Ф127\",IF(Реестр!#REF!=\"III\",\"Ф127\",IF(Реестр!#REF!=\"IV\",\"Ф228\",IF(Реестр!#REF!=\"V\",\"Ф127\",\"\")))))","v":{"$error":"#REF!"}},{"$f":"Реестр!J784","v":0},0]
[{"$f":"(Реестр!B785)+0","v":"00:00:00"},{"$f":"Реестр!AM785","v":0},{"$f":"Реестр!AZ785","v":0},{"$f":"Реестр!AN785","v":0},{"$f":"Реестр!G785","v":0},{"$f":"IF(Реестр!#REF!=\"I\",\"Ф152\",IF(Реестр!#REF!=\"II\",\"Ф127\",IF(Реестр!#REF!=\"III\",\"Ф127\",IF(Реестр!#REF!=\"IV\",\"Ф228\",IF(Реестр!#REF!=\"V\",\"Ф127\",\"\")))))","v":{"$error":"#REF!"}},{"$f":"Реестр!J785","v":0},0]
[{"$f":"(Реестр!B786)+0","v":"00:00:00"},{"$f":"Реестр!AM786","v":0},{"$f":"Реестр!AZ786","v":0},{"$f":"Реестр!AN786","v":0},{"$f":"Реестр!G786","v":0},{"$f":"IF(Реестр!#REF!=\"I\",\"Ф152\",IF(Реестр!#REF!=\"II\",\"Ф127\",IF(Реестр!#REF!=\"III\",\"Ф127\",IF(Реестр!#REF!=\"IV\",\"Ф228\",IF(Реестр!#REF!=\"V\",\"Ф127\",\"\")))))","v":{"$error":"#REF!"}},{"$f":"Реестр!J786","v":0},0]
[{"$f":"(Реестр!B787)+0","v":"00:00:00"},{"$f":"Реестр!AM787","v":0},{"$f":"Реестр!AZ787","v":0},{"$f":"Реестр!AN787","v":0},{"$f":"Реестр!G787","v":0},{"$f":"IF(Реестр!#REF!=\"I\",\"Ф152\",IF(Реестр!#REF!=\"II\",\"Ф127\",IF(Реестр!#REF!=\"III\",\"Ф127\",IF(Реестр!#REF!=\"IV\",\"Ф228\",IF(Реестр!#REF!=\"V\",\"Ф127\",\"\")))))","v":{"$error":"#REF!"}},{"$f":"Реестр!J787","v":0},0]
[{"$f":"(Реестр!B788)+0","v":"00:00:00"},{"$f":"Реестр!AM788","v":0},{"$f":"Реестр!AZ788","v":0},{"$f":"Реестр!AN788","v":0},{"$f":"Реестр!G788","v":0},{"$f":"IF(Реестр!#REF!=\"I\",\"Ф152\",IF(Реестр!#REF!=\"II\",\"Ф127\",IF(Реестр!#REF!=\"III\",\"Ф127\",IF(Реестр!#REF!=\"IV\",\"Ф228\",IF(Реестр!#REF!=\"V\",\"Ф127\",\"\")))))","v":{"$error":"#REF!"}},{"$f":"Реестр!J788","v":0},0]
[{"$f":"(Реестр!B789)+0","v":"00:00:00"},{"$f":"Реестр!AM789","v":0},{"$f":"Реестр!AZ789","v":0},{"$f":"Реестр!AN789","v":0},{"$f":"Реестр!G789","v":0},{"$f":"IF(Реестр!#REF!=\"I\",\"Ф152\",IF(Реестр!#REF!=\"II\",\"Ф127\",IF(Реестр!#REF!=\"III\",\"Ф127\",IF(Реестр!#REF!=\"IV\",\"Ф228\",IF(Реестр!#REF!=\"V\",\"Ф127\",\"\")))))","v":{"$error":"#REF!"}},{"$f":"Реестр!J789","v":0},0]
[{"$f":"(Реестр!B790)+0","v":"00:00:00"},{"$f":"Реестр!AM790","v":0},{"$f":"Реестр!AZ790","v":0},{"$f":"Реестр!AN790","v":0},{"$f":"Реестр!G790","v":0},{"$f":"IF(Реестр!#REF!=\"I\",\"Ф152\",IF(Реестр!#REF!=\"II\",\"Ф127\",IF(Реестр!#REF!=\"III\",\"Ф127\",IF(Реестр!#REF!=\"IV\",\"Ф228\",IF(Реестр!#REF!=\"V\",\"Ф127\",\"\")))))","v":{"$error":"#REF!"}},{"$f":"Реестр!J790","v":0},0]
[{"$f":"(Реестр!B791)+0","v":"00:00:00"},{"$f":"Реестр!AM791","v":0},{"$f":"Реестр!AZ791","v":0},{"$f":"Реестр!AN791","v":0},{"$f":"Реестр!G791","v":0},{"$f":"IF(Реестр!#REF!=\"I\",\"Ф152\",IF(Реестр!#REF!=\"II\",\"Ф127\",IF(Реестр!#REF!=\"III\",\"Ф127\",IF(Реестр!#REF!=\"IV\",\"Ф228\",IF(Реестр!#REF!=\"V\",\"Ф127\",\"\")))))","v":{"$error":"#REF!"}},{"$f":"Реестр!J791","v":0},0]
[{"$f":"(Реестр!B792)+0","v":"00:00:00"},{"$f":"Реестр!AM792","v":0},{"$f":"Реестр!AZ792","v":0},{"$f":"Реестр!AN792","v":0},{"$f":"Реестр!G792","v":0},{"$f":"IF(Реестр!#REF!=\"I\",\"Ф152\",IF(Реестр!#REF!=\"II\",\"Ф127\",IF(Реестр!#REF!=\"III\",\"Ф127\",IF(Реестр!#REF!=\"IV\",\"Ф228\",IF(Реестр!#REF!=\"V\",\"Ф127\",\"\")))))","v":{"$error":"#REF!"}},{"$f":"Реестр!J792","v":0},0]
[{"$f":"(Реестр!B793)+0","v":"00:00:00"},{"$f":"Реестр!AM793","v":0},{"$f":"Реестр!AZ793","v":0},{"$f":"Реестр!AN793","v":0},{"$f":"Реестр!G793","v":0},{"$f":"IF(Реестр!#REF!=\"I\",\"Ф152\",IF(Реестр!#REF!=\"II\",\"Ф127\",IF(Реестр!#REF!=\"III\",\"Ф127\",IF(Реестр!#REF!=\"IV\",\"Ф228\",IF(Реестр!#REF!=\"V\",\"Ф127\",\"\")))))","v":{"$error":"#REF!"}},{"$f":"Реестр!J793","v":0},0]
[{"$f":"(Реестр!B794)+0","v":"00:00:00"},{"$f":"Реестр!AM794","v":0},{"$f":"Реестр!AZ794","v":0},{"$f":"Реестр!AN794","v":0},{"$f":"Реестр!G794","v":0},{"$f":"IF(Реестр!#REF!=\"I\",\"Ф152\",IF(Реестр!#REF!=\"II\",\"Ф127\",IF(Реестр!#REF!=\"III\",\"Ф127\",IF(Реестр!#REF!=\"IV\",\"Ф228\",IF(Реестр!#REF!=\"V\",\"Ф127\",\"\")))))","v":{"$error":"#REF!"}},{"$f":"Реестр!J794","v":0},0]
[{"$f":"(Реестр!B795)+0","v":"00:00:00"},{"$f":"Реестр!AM795","v":0},{"$f":"Реестр!AZ795","v":0},{"$f":"Реестр!AN795","v":0},{"$f":"Реестр!G795","v":0},{"$f":"IF(Реестр!#REF!=\"I\",\"Ф152\",IF(Реестр!#REF!=\"II\",\"Ф127\",IF(Реестр!#REF!=\"III\",\"Ф127\",IF(Реестр!#REF!=\"IV\",\"Ф228\",IF(Реестр!#REF!=\"V\",\"Ф127\",\"\")))))","v":{"$error":"#REF!"}},{"$f":"Реестр!J795","v":0},0]
[{"$f":"(Реестр!B796)+0","v":"00:00:00"},{"$f":"Реестр!AM796","v":0},{"$f":"Реестр!AZ796","v":0},{"$f":"Реестр!AN796","v":0},{"$f":"Реестр!G796","v":0},{"$f":"IF(Реестр!#REF!=\"I\",\"Ф152\",IF(Реестр!#REF!=\"II\",\"Ф127\",IF(Реестр!#REF!=\"III\",\"Ф127\",IF(Реестр!#REF!=\"IV\",\"Ф228\",IF(Реестр!#REF!=\"V\",\"Ф127\",\"\")))))","v":{"$error":"#REF!"}},{"$f":"Реестр!J796","v":0},0]
[{"$f":"(Реестр!B797)+0","v":"00:00:00"},{"$f":"Реестр!AM797","v":0},{"$f":"Реестр!AZ797","v":0},{"$f":"Реестр!AN797","v":0},{"$f":"Реестр!G797","v":0},{"$f":"IF(Реестр!#REF!=\"I\",\"Ф152\",IF(Реестр!#REF!=\"II\",\"Ф127\",IF(Реестр!#REF!=\"III\",\"Ф127\",IF(Реестр!#REF!=\"IV\",\"Ф228\",IF(Реестр!#REF!=\"V\",\"Ф127\",\"\")))))","v":{"$error":"#REF!"}},{"$f":"Реестр!J797","v":0},0]
[{"$f":"(Реестр!B798)+0","v":"00:00:00"},{"$f":"Реестр!AM798","v":0},{"$f":"Реестр!AZ798","v":0},{"$f":"Реестр!AN798","v":0},{"$f":"Реестр!G798","v":0},{"$f":"IF(Реестр!#REF!=\"I\",\"Ф152\",IF(Реестр!#REF!=\"II\",\"Ф127\",IF(Реестр!#REF!=\"III\",\"Ф127\",IF(Реестр!#REF!=\"IV\",\"Ф228\",IF(Реестр!#REF!=\"V\",\"Ф127\",\"\")))))","v":{"$error":"#REF!"}},{"$f":"Реестр!J798","v":0},0]
[{"$f":"(Реестр!B799)+0","v":"00:00:00"},{"$f":"Реестр!AM799","v":0},{"$f":"Реестр!AZ799","v":0},{"$f":"Реестр!AN799","v":0},{"$f":"Реестр!G799","v":0},{"$f":"IF(Реестр!#REF!=\"I\",\"Ф152\",IF(Реестр!#REF!=\"II\",\"Ф127\",IF(Реестр!#REF!=\"III\",\"Ф127\",IF(Реестр!#REF!=\"IV\",\"Ф228\",IF(Реестр!#REF!=\"V\",\"Ф127\",\"\")))))","v":{"$error":"#REF!"}},{"$f":"Реестр!J799","v":0},0]
[{"$f":"(Реестр!B800)+0","v":"00:00:00"},{"$f":"Реестр!AM800","v":0},{"$f":"Реестр!AZ800","v":0},{"$f":"Реестр!AN800","v":0},{"$f":"Реестр!G800","v":0},{"$f":"IF(Реестр!#REF!=\"I\",\"Ф152\",IF(Реестр!#REF!=\"II\",\"Ф127\",IF(Реестр!#REF!=\"III\",\"Ф127\",IF(Реестр!#REF!=\"IV\",\"Ф228\",IF(Реестр!#REF!=\"V\",\"Ф127\",\"\")))))","v":{"$error":"#REF!"}},{"$f":"Реестр!J800","v":0},0]
[{"$f":"(Реестр!B801)+0","v":"00:00:00"},{"$f":"Реестр!AM801","v":0},{"$f":"Реестр!AZ801","v":0},{"$f":"Реестр!AN801","v":0},{"$f":"Реестр!G801","v":0},{"$f":"IF(Реестр!#REF!=\"I\",\"Ф152\",IF(Реестр!#REF!=\"II\",\"Ф127\",IF(Реестр!#REF!=\"III\",\"Ф127\",IF(Реестр!#REF!=\"IV\",\"Ф228\",IF(Реестр!#REF!=\"V\",\"Ф127\",\"\")))))","v":{"$error":"#REF!"}},{"$f":"Реестр!J801","v":0},0]
[{"$f":"(Реестр!B802)+0","v":"00:00:00"},{"$f":"Реестр!AM802","v":0},{"$f":"Реестр!AZ802","v":0},{"$f":"Реестр!AN802","v":0},{"$f":"Реестр!G802","v":0},{"$f":"IF(Реестр!#REF!=\"I\",\"Ф152\",IF(Реестр!#REF!=\"II\",\"Ф127\",IF(Реестр!#REF!=\"III\",\"Ф127\",IF(Реестр!#REF!=\"IV\",\"Ф228\",IF(Реестр!#REF!=\"V\",\"Ф127\",\"\")))))","v":{"$error":"#REF!"}},{"$f":"Реестр!J802","v":0},0]
[{"$f":"(Реестр!B803)+0","v":"00:00:00"},{"$f":"Реестр!AM803","v":0},{"$f":"Реестр!AZ803","v":0},{"$f":"Реестр!AN803","v":0},{"$f":"Реестр!G803","v":0},{"$f":"IF(Реестр!#REF!=\"I\",\"Ф152\",IF(Реестр!#REF!=\"II\",\"Ф127\",IF(Реестр!#REF!=\"III\",\"Ф127\",IF(Реестр!#REF!=\"IV\",\"Ф228\",IF(Реестр!#REF!=\"V\",\"Ф127\",\"\")))))","v":{"$error":"#REF!"}},{"$f":"Реестр!J803","v":0},0]
[{"$f":"(Реестр!B804)+0","v":"00:00:00"},{"$f":"Реестр!AM804","v":0},{"$f":"Реестр!AZ804","v":0},{"$f":"Реестр!AN804","v":0},{"$f":"Реестр!G804","v":0},{"$f":"IF(Реестр!#REF!=\"I\",\"Ф152\",IF(Реестр!#REF!=\"II\",\"Ф127\",IF(Реестр!#REF!=\"III\",\"Ф127\",IF(Реестр!#REF!=\"IV\",\"Ф228\",IF(Реестр!#REF!=\"V\",\"Ф127\",\"\")))))","v":{"$error":"#REF!"}},{"$f":"Реестр!J804","v":0},0]
[{"$f":"(Реестр!B805)+0","v":"00:00:00"},{"$f":"Реестр!AM805","v":0},{"$f":"Реестр!AZ805","v":0},{"$f":"Реестр!AN805","v":0},{"$f":"Реестр!G805","v":0},{"$f":"IF(Реестр!#REF!=\"I\",\"Ф152\",IF(Реестр!#REF!=\"II\",\"Ф127\",IF(Реестр!#REF!=\"III\",\"Ф127\",IF(Реестр!#REF!=\"IV\",\"Ф228\",IF(Реестр!#REF!=\"V\",\"Ф127\",\"\")))))","v":{"$error":"#REF!"}},{"$f":"Реестр!J805","v":0},0]
[{"$f":"(Реестр!B806)+0","v":"00:00:00"},{"$f":"Реестр!AM806","v":0},{"$f":"Реестр!AZ806","v":0},{"$f":"Реестр!AN806","v":0},{"$f":"Реестр!G806","v":0},{"$f":"IF(Реестр!#REF!=\"I\",\"Ф152\",IF(Реестр!#REF!=\"II\",\"Ф127\",IF(Реестр!#REF!=\"III\",\"Ф127\",IF(Реестр!#REF!=\"IV\",\"Ф228\",IF(Реестр!#REF!=\"V\",\"Ф127\",\"\")))))","v":{"$error":"#REF!"}},{"$f":"Реестр!J806","v":0},0]
[{"$f":"(Реестр!B807)+0","v":"00:00:00"},{"$f":"Реестр!AM807","v":0},{"$f":"Реестр!AZ807","v":0},{"$f":"Реестр!AN807","v":0},{"$f":"Реестр!G807","v":0},{"$f":"IF(Реестр!#REF!=\"I\",\"Ф152\",IF(Реестр!#REF!=\"II\",\"Ф127\",IF(Реестр!#REF!=\"III\",\"Ф127\",IF(Реестр!#REF!=\"IV\",\"Ф228\",IF(Реестр!#REF!=\"V\",\"Ф127\",\"\")))))","v":{"$error":"#REF!"}},{"$f":"Реестр!J807","v":0},0]
[{"$f":"(Реестр!B808)+0","v":"00:00:00"},{"$f":"Реестр!AM808","v":0},{"$f":"Реестр!AZ808","v":0},{"$f":"Реестр!AN808","v":0},{"$f":"Реестр!G808","v":0},{"$f":"IF(Реестр!#REF!=\"I\",\"Ф152\",IF(Реестр!#REF!=\"II\",\"Ф127\",IF(Реестр!#REF!=\"III\",\"Ф127\",IF(Реестр!#REF!=\"IV\",\"Ф228\",IF(Реестр!#REF!=\"V\",\"Ф127\",\"\")))))","v":{"$error":"#REF!"}},{"$f":"Реестр!J808","v":0},0]
[{"$f":"(Реестр!B809)+0","v":"00:00:00"},{"$f":"Реестр!AM809","v":0},{"$f":"Реестр!AZ809","v":0},{"$f":"Реестр!AN809","v":0},{"$f":"Реестр!G809","v":0},{"$f":"IF(Реестр!#REF!=\"I\",\"Ф152\",IF(Реестр!#REF!=\"II\",\"Ф127\",IF(Реестр!#REF!=\"III\",\"Ф127\",IF(Реестр!#REF!=\"IV\",\"Ф228\",IF(Реестр!#REF!=\"V\",\"Ф127\",\"\")))))","v":{"$error":"#REF!"}},{"$f":"Реестр!J809","v":0},0]
[{"$f":"(Реестр!B810)+0","v":"00:00:00"},{"$f":"Реестр!AM810","v":0},{"$f":"Реестр!AZ810","v":0},{"$f":"Реестр!AN810","v":0},{"$f":"Реестр!G810","v":0},{"$f":"IF(Реестр!#REF!=\"I\",\"Ф152\",IF(Реестр!#REF!=\"II\",\"Ф127\",IF(Реестр!#REF!=\"III\",\"Ф127\",IF(Реестр!#REF!=\"IV\",\"Ф228\",IF(Реестр!#REF!=\"V\",\"Ф127\",\"\")))))","v":{"$error":"#REF!"}},{"$f":"Реестр!J810","v":0},0]
[{"$f":"(Реестр!B811)+0","v":"00:00:00"},{"$f":"Реестр!AM811","v":0},{"$f":"Реестр!AZ811","v":0},{"$f":"Реестр!AN811","v":0},{"$f":"Реестр!G811","v":0},{"$f":"IF(Реестр!#REF!=\"I\",\"Ф152\",IF(Реестр!#REF!=\"II\",\"Ф127\",IF(Реестр!#REF!=\"III\",\"Ф127\",IF(Реестр!#REF!=\"IV\",\"Ф228\",IF(Реестр!#REF!=\"V\",\"Ф127\",\"\")))))","v":{"$error":"#REF!"}},{"$f":"Реестр!J811","v":0},0]
[{"$f":"(Реестр!B812)+0","v":"00:00:00"},{"$f":"Реестр!AM812","v":0},{"$f":"Реестр!AZ812","v":0},{"$f":"Реестр!AN812","v":0},{"$f":"Реестр!G812","v":0},{"$f":"IF(Реестр!#REF!=\"I\",\"Ф152\",IF(Реестр!#REF!=\"II\",\"Ф127\",IF(Реестр!#REF!=\"III\",\"Ф127\",IF(Реестр!#REF!=\"IV\",\"Ф228\",IF(Реестр!#REF!=\"V\",\"Ф127\",\"\")))))","v":{"$error":"#REF!"}},{"$f":"Реестр!J812","v":0},0]
[{"$f":"(Реестр!B813)+0","v":"00:00:00"},{"$f":"Реестр!AM813","v":0},{"$f":"Реестр!AZ813","v":0},{"$f":"Реестр!AN813","v":0},{"$f":"Реестр!G813","v":0},{"$f":"IF(Реестр!#REF!=\"I\",\"Ф152\",IF(Реестр!#REF!=\"II\",\"Ф127\",IF(Реестр!#REF!=\"III\",\"Ф127\",IF(Реестр!#REF!=\"IV\",\"Ф228\",IF(Реестр!#REF!=\"V\",\"Ф127\",\"\")))))","v":{"$error":"#REF!"}},{"$f":"Реестр!J813","v":0},0]
[{"$f":"(Реестр!B814)+0","v":"00:00:00"},{"$f":"Реестр!AM814","v":0},{"$f":"Реестр!AZ814","v":0},{"$f":"Реестр!AN814","v":0},{"$f":"Реестр!G814","v":0},{"$f":"IF(Реестр!#REF!=\"I\",\"Ф152\",IF(Реестр!#REF!=\"II\",\"Ф127\",IF(Реестр!#REF!=\"III\",\"Ф127\",IF(Реестр!#REF!=\"IV\",\"Ф228\",IF(Реестр!#REF!=\"V\",\"Ф127\",\"\")))))","v":{"$error":"#REF!"}},{"$f":"Реестр!J814","v":0},0]
[{"$f":"(Реестр!B815)+0","v":"00:00:00"},{"$f":"Реестр!AM815","v":0},{"$f":"Реестр!AZ815","v":0},{"$f":"Реестр!AN815","v":0},{"$f":"Реестр!G815","v":0},{"$f":"IF(Реестр!#REF!=\"I\",\"Ф152\",IF(Реестр!#REF!=\"II\",\"Ф127\",IF(Реестр!#REF!=\"III\",\"Ф127\",IF(Реестр!#REF!=\"IV\",\"Ф228\",IF(Реестр!#REF!=\"V\",\"Ф127\",\"\")))))","v":{"$error":"#REF!"}},{"$f":"Реестр!J815","v":0},0]
[{"$f":"(Реестр!B816)+0","v":"00:00:00"},{"$f":"Реестр!AM816","v":0},{"$f":"Реестр!AZ816","v":0},{"$f":"Реестр!AN816","v":0},{"$f":"Реестр!G816","v":0},{"$f":"IF(Реестр!#REF!=\"I\",\"Ф152\",IF(Реестр!#REF!=\"II\",\"Ф127\",IF(Реестр!#REF!=\"III\",\"Ф127\",IF(Реестр!#REF!=\"IV\",\"Ф228\",IF(Реестр!#REF!=\"V\",\"Ф127\",\"\")))))","v":{"$error":"#REF!"}},{"$f":"Реестр!J816","v":0},0]
[{"$f":"(Реестр!B817)+0","v":"00:00:00"},{"$f":"Реестр!AM817","v":0},{"$f":"Реестр!AZ817","v":0},{"$f":"Реестр!AN817","v":0},{"$f":"Реестр!G817","v":0},{"$f":"IF(Реестр!#REF!=\"I\",\"Ф152\",IF(Реестр!#REF!=\"II\",\"Ф127\",IF(Реестр!#REF!=\"III\",\"Ф127\",IF(Реестр!#REF!=\"IV\",\"Ф228\",IF(Реестр!#REF!=\"V\",\"Ф127\",\"\")))))","v":{"$error":"#REF!"}},{"$f":"Реестр!J817","v":0},0]
[{"$f":"(Реестр!B818)+0","v":"00:00:00"},{"$f":"Реестр!AM818","v":0},{"$f":"Реестр!AZ818","v":0},{"$f":"Реестр!AN818","v":0},{"$f":"Реестр!G818","v":0},{"$f":"IF(Реестр!#REF!=\"I\",\"Ф152\",IF(Реестр!#REF!=\"II\",\"Ф127\",IF(Реестр!#REF!=\"III\",\"Ф127\",IF(Реестр!#REF!=\"IV\",\"Ф228\",IF(Реестр!#REF!=\"V\",\"Ф127\",\"\")))))","v":{"$error":"#REF!"}},{"$f":"Реестр!J818","v":0},0]
[{"$f":"(Реестр!B819)+0","v":"00:00:00"},{"$f":"Реестр!AM819","v":0},{"$f":"Реестр!AZ819","v":0},{"$f":"Реестр!AN819","v":0},{"$f":"Реестр!G819","v":0},{"$f":"IF(Реестр!#REF!=\"I\",\"Ф152\",IF(Реестр!#REF!=\"II\",\"Ф127\",IF(Реестр!#REF!=\"III\",\"Ф127\",IF(Реестр!#REF!=\"IV\",\"Ф228\",IF(Реестр!#REF!=\"V\",\"Ф127\",\"\")))))","v":{"$error":"#REF!"}},{"$f":"Реестр!J819","v":0},0]
[{"$f":"(Реестр!B820)+0","v":"00:00:00"},{"$f":"Реестр!AM820","v":0},{"$f":"Реестр!AZ820","v":0},{"$f":"Реестр!AN820","v":0},{"$f":"Реестр!G820","v":0},{"$f":"IF(Реестр!#REF!=\"I\",\"Ф152\",IF(Реестр!#REF!=\"II\",\"Ф127\",IF(Реестр!#REF!=\"III\",\"Ф127\",IF(Реестр!#REF!=\"IV\",\"Ф228\",IF(Реестр!#REF!=\"V\",\"Ф127\",\"\")))))","v":{"$error":"#REF!"}},{"$f":"Реестр!J820","v":0},0]
[{"$f":"(Реестр!B821)+0","v":"00:00:00"},{"$f":"Реестр!AM821","v":0},{"$f":"Реестр!AZ821","v":0},{"$f":"Реестр!AN821","v":0},{"$f":"Реестр!G821","v":0},{"$f":"IF(Реестр!#REF!=\"I\",\"Ф152\",IF(Реестр!#REF!=\"II\",\"Ф127\",IF(Реестр!#REF!=\"III\",\"Ф127\",IF(Реестр!#REF!=\"IV\",\"Ф228\",IF(Реестр!#REF!=\"V\",\"Ф127\",\"\")))))","v":{"$error":"#REF!"}},{"$f":"Реестр!J821","v":0},0]
[{"$f":"(Реестр!B822)+0","v":"00:00:00"},{"$f":"Реестр!AM822","v":0},{"$f":"Реестр!AZ822","v":0},{"$f":"Реестр!AN822","v":0},{"$f":"Реестр!G822","v":0},{"$f":"IF(Реестр!#REF!=\"I\",\"Ф152\",IF(Реестр!#REF!=\"II\",\"Ф127\",IF(Реестр!#REF!=\"III\",\"Ф127\",IF(Реестр!#REF!=\"IV\",\"Ф228\",IF(Реестр!#REF!=\"V\",\"Ф127\",\"\")))))","v":{"$error":"#REF!"}},{"$f":"Реестр!J822","v":0},0]
[{"$f":"(Реестр!B823)+0","v":"00:00:00"},{"$f":"Реестр!AM823","v":0},{"$f":"Реестр!AZ823","v":0},{"$f":"Реестр!AN823","v":0},{"$f":"Реестр!G823","v":0},{"$f":"IF(Реестр!#REF!=\"I\",\"Ф152\",IF(Реестр!#REF!=\"II\",\"Ф127\",IF(Реестр!#REF!=\"III\",\"Ф127\",IF(Реестр!#REF!=\"IV\",\"Ф228\",IF(Реестр!#REF!=\"V\",\"Ф127\",\"\")))))","v":{"$error":"#REF!"}},{"$f":"Реестр!J823","v":0},0]
[{"$f":"(Реестр!B824)+0","v":"00:00:00"},{"$f":"Реестр!AM824","v":0},{"$f":"Реестр!AZ824","v":0},{"$f":"Реестр!AN824","v":0},{"$f":"Реестр!G824","v":0},{"$f":"IF(Реестр!#REF!=\"I\",\"Ф152\",IF(Реестр!#REF!=\"II\",\"Ф127\",IF(Реестр!#REF!=\"III\",\"Ф127\",IF(Реестр!#REF!=\"IV\",\"Ф228\",IF(Реестр!#REF!=\"V\",\"Ф127\",\"\")))))","v":{"$error":"#REF!"}},{"$f":"Реестр!J824","v":0},0]
[{"$f":"(Реестр!B825)+0","v":"00:00:00"},{"$f":"Реестр!AM825","v":0},{"$f":"Реестр!AZ825","v":0},{"$f":"Реестр!AN825","v":0},{"$f":"Реестр!G825","v":0},{"$f":"IF(Реестр!#REF!=\"I\",\"Ф152\",IF(Реестр!#REF!=\"II\",\"Ф127\",IF(Реестр!#REF!=\"III\",\"Ф127\",IF(Реестр!#REF!=\"IV\",\"Ф228\",IF(Реестр!#REF!=\"V\",\"Ф127\",\"\")))))","v":{"$error":"#REF!"}},{"$f":"Реестр!J825","v":0},0]
[{"$f":"(Реестр!B826)+0","v":"00:00:00"},{"$f":"Реестр!AM826","v":0},{"$f":"Реестр!AZ826","v":0},{"$f":"Реестр!AN826","v":0},{"$f":"Реестр!G826","v":0},{"$f":"IF(Реестр!#REF!=\"I\",\"Ф152\",IF(Реестр!#REF!=\"II\",\"Ф127\",IF(Реестр!#REF!=\"III\",\"Ф127\",IF(Реестр!#REF!=\"IV\",\"Ф228\",IF(Реестр!#REF!=\"V\",\"Ф127\",\"\")))))","v":{"$error":"#REF!"}},{"$f":"Реестр!J826","v":0},0]
[{"$f":"(Реестр!B827)+0","v":"00:00:00"},{"$f":"Реестр!AM827","v":0},{"$f":"Реестр!AZ827","v":0},{"$f":"Реестр!AN827","v":0},{"$f":"Реестр!G827","v":0},{"$f":"IF(Реестр!#REF!=\"I\",\"Ф152\",IF(Реестр!#REF!=\"II\",\"Ф127\",IF(Реестр!#REF!=\"III\",\"Ф127\",IF(Реестр!#REF!=\"IV\",\"Ф228\",IF(Реестр!#REF!=\"V\",\"Ф127\",\"\")))))","v":{"$error":"#REF!"}},{"$f":"Реестр!J827","v":0},0]
[{"$f":"(Реестр!B828)+0","v":"00:00:00"},{"$f":"Реестр!AM828","v":0},{"$f":"Реестр!AZ828","v":0},{"$f":"Реестр!AN828","v":0},{"$f":"Реестр!G828","v":0},{"$f":"IF(Реестр!#REF!=\"I\",\"Ф152\",IF(Реестр!#REF!=\"II\",\"Ф127\",IF(Реестр!#REF!=\"III\",\"Ф127\",IF(Реестр!#REF!=\"IV\",\"Ф228\",IF(Реестр!#REF!=\"V\",\"Ф127\",\"\")))))","v":{"$error":"#REF!"}},{"$f":"Реестр!J828","v":0},0]
[{"$f":"(Реестр!B829)+0","v":"00:00:00"},{"$f":"Реестр!AM829","v":0},{"$f":"Реестр!AZ829","v":0},{"$f":"Реестр!AN829","v":0},{"$f":"Реестр!G829","v":0},{"$f":"IF(Реестр!#REF!=\"I\",\"Ф152\",IF(Реестр!#REF!=\"II\",\"Ф127\",IF(Реестр!#REF!=\"III\",\"Ф127\",IF(Реестр!#REF!=\"IV\",\"Ф228\",IF(Реестр!#REF!=\"V\",\"Ф127\",\"\")))))","v":{"$error":"#REF!"}},{"$f":"Реестр!J829","v":0},0]
[{"$f":"(Реестр!B830)+0","v":"00:00:00"},{"$f":"Реестр!AM830","v":0},{"$f":"Реестр!AZ830","v":0},{"$f":"Реестр!AN830","v":0},{"$f":"Реестр!G830","v":0},{"$f":"IF(Реестр!#REF!=\"I\",\"Ф152\",IF(Реестр!#REF!=\"II\",\"Ф127\",IF(Реестр!#REF!=\"III\",\"Ф127\",IF(Реестр!#REF!=\"IV\",\"Ф228\",IF(Реестр!#REF!=\"V\",\"Ф127\",\"\")))))","v":{"$error":"#REF!"}},{"$f":"Реестр!J830","v":0},0]
[{"$f":"(Реестр!B831)+0","v":"00:00:00"},{"$f":"Реестр!AM831","v":0},{"$f":"Реестр!AZ831","v":0},{"$f":"Реестр!AN831","v":0},{"$f":"Реестр!G831","v":0},{"$f":"IF(Реестр!#REF!=\"I\",\"Ф152\",IF(Реестр!#REF!=\"II\",\"Ф127\",IF(Реестр!#REF!=\"III\",\"Ф127\",IF(Реестр!#REF!=\"IV\",\"Ф228\",IF(Реестр!#REF!=\"V\",\"Ф127\",\"\")))))","v":{"$error":"#REF!"}},{"$f":"Реестр!J831","v":0},{"$f":"E265*G265","v":0}]
[{"$f":"(Реестр!B832)+0","v":"00:00:00"},{"$f":"Реестр!AM832","v":0},{"$f":"Реестр!AZ832","v":0},{"$f":"Реестр!AN832","v":0},{"$f":"Реестр!G832","v":0},{"$f":"IF(Реестр!#REF!=\"I\",\"Ф152\",IF(Реестр!#REF!=\"II\",\"Ф127\",IF(Реестр!#REF!=\"III\",\"Ф127\",IF(Реестр!#REF!=\"IV\",\"Ф228\",IF(Реестр!#REF!=\"V\",\"Ф127\",\"\")))))","v":{"$error":"#REF!"}},{"$f":"Реестр!J832","v":0},0]
[{"$f":"(Реестр!B833)+0","v":"00:00:00"},{"$f":"Реестр!AM833","v":0},{"$f":"Реестр!AZ833","v":0},{"$f":"Реестр!AN833","v":0},{"$f":"Реестр!G833","v":0},{"$f":"IF(Реестр!#REF!=\"I\",\"Ф152\",IF(Реестр!#REF!=\"II\",\"Ф127\",IF(Реестр!#REF!=\"III\",\"Ф127\",IF(Реестр!#REF!=\"IV\",\"Ф228\",IF(Реестр!#REF!=\"V\",\"Ф127\",\"\")))))","v":{"$error":"#REF!"}},{"$f":"Реестр!J833","v":0},0]
[{"$f":"(Реестр!B834)+0","v":"00:00:00"},{"$f":"Реестр!AM834","v":0},{"$f":"Реестр!AZ834","v":0},{"$f":"Реестр!AN834","v":0},{"$f":"Реестр!G834","v":0},{"$f":"IF(Реестр!#REF!=\"I\",\"Ф152\",IF(Реестр!#REF!=\"II\",\"Ф127\",IF(Реестр!#REF!=\"III\",\"Ф127\",IF(Реестр!#REF!=\"IV\",\"Ф228\",IF(Реестр!#REF!=\"V\",\"Ф127\",\"\")))))","v":{"$error":"#REF!"}},{"$f":"Реестр!J834","v":0},0]
[{"$f":"(Реестр!B835)+0","v":"00:00:00"},{"$f":"Реестр!AM835","v":0},{"$f":"Реестр!AZ835","v":0},{"$f":"Реестр!AN835","v":0},{"$f":"Реестр!G835","v":0},{"$f":"IF(Реестр!#REF!=\"I\",\"Ф152\",IF(Реестр!#REF!=\"II\",\"Ф127\",IF(Реестр!#REF!=\"III\",\"Ф127\",IF(Реестр!#REF!=\"IV\",\"Ф228\",IF(Реестр!#REF!=\"V\",\"Ф127\",\"\")))))","v":{"$error":"#REF!"}},{"$f":"Реестр!J835","v":0},0]
[{"$f":"(Реестр!B836)+0","v":"00:00:00"},{"$f":"Реестр!AM836","v":0},{"$f":"Реестр!AZ836","v":0},{"$f":"Реестр!AN836","v":0},{"$f":"Реестр!G836","v":0},{"$f":"IF(Реестр!#REF!=\"I\",\"Ф152\",IF(Реестр!#REF!=\"II\",\"Ф127\",IF(Реестр!#REF!=\"III\",\"Ф127\",IF(Реестр!#REF!=\"IV\",\"Ф228\",IF(Реестр!#REF!=\"V\",\"Ф127\",\"\")))))","v":{"$error":"#REF!"}},{"$f":"Реестр!J836","v":0},0]
[{"$f":"(Реестр!B837)+0","v":"00:00:00"},{"$f":"Реестр!AM837","v":0},{"$f":"Реестр!AZ837","v":0},{"$f":"Реестр!AN837","v":0},{"$f":"Реестр!G837","v":0},{"$f":"IF(Реестр!#REF!=\"I\",\"Ф152\",IF(Реестр!#REF!=\"II\",\"Ф127\",IF(Реестр!#REF!=\"III\",\"Ф127\",IF(Реестр!#REF!=\"IV\",\"Ф228\",IF(Реестр!#REF!=\"V\",\"Ф127\",\"\")))))","v":{"$error":"#REF!"}},{"$f":"Реестр!J837","v":0},0]
[{"$f":"(Реестр!B838)+0","v":"00:00:00"},{"$f":"Реестр!AM838","v":0},{"$f":"Реестр!AZ838","v":0},{"$f":"Реестр!AN838","v":0},{"$f":"Реестр!G838","v":0},{"$f":"IF(Реестр!#REF!=\"I\",\"Ф152\",IF(Реестр!#REF!=\"II\",\"Ф127\",IF(Реестр!#REF!=\"III\",\"Ф127\",IF(Реестр!#REF!=\"IV\",\"Ф228\",IF(Реестр!#REF!=\"V\",\"Ф127\",\"\")))))","v":{"$error":"#REF!"}},{"$f":"Реестр!J838","v":0},0]
[{"$f":"(Реестр!B839)+0","v":"00:00:00"},{"$f":"Реестр!AM839","v":0},{"$f":"Реестр!AZ839","v":0},{"$f":"Реестр!AN839","v":0},{"$f":"Реестр!G839","v":0},{"$f":"IF(Реестр!#REF!=\"I\",\"Ф152\",IF(Реестр!#REF!=\"II\",\"Ф127\",IF(Реестр!#REF!=\"III\",\"Ф127\",IF(Реестр!#REF!=\"IV\",\"Ф228\",IF(Реестр!#REF!=\"V\",\"Ф127\",\"\")))))","v":{"$error":"#REF!"}},{"$f":"Реестр!J839","v":0},0]
[{"$f":"(Реестр!B840)+0","v":"00:00:00"},{"$f":"Реестр!AM840","v":0},{"$f":"Реестр!AZ840","v":0},{"$f":"Реестр!AN840","v":0},{"$f":"Реестр!G840","v":0},{"$f":"IF(Реестр!#REF!=\"I\",\"Ф152\",IF(Реестр!#REF!=\"II\",\"Ф127\",IF(Реестр!#REF!=\"III\",\"Ф127\",IF(Реестр!#REF!=\"IV\",\"Ф228\",IF(Реестр!#REF!=\"V\",\"Ф127\",\"\")))))","v":{"$error":"#REF!"}},{"$f":"Реестр!J840","v":0},0]
[{"$f":"(Реестр!B841)+0","v":"00:00:00"},{"$f":"Реестр!AM841","v":0},{"$f":"Реестр!AZ841","v":0},{"$f":"Реестр!AN841","v":0},{"$f":"Реестр!G841","v":0},{"$f":"IF(Реестр!#REF!=\"I\",\"Ф152\",IF(Реестр!#REF!=\"II\",\"Ф127\",IF(Реестр!#REF!=\"III\",\"Ф127\",IF(Реестр!#REF!=\"IV\",\"Ф228\",IF(Реестр!#REF!=\"V\",\"Ф127\",\"\")))))","v":{"$error":"#REF!"}},{"$f":"Реестр!J841","v":0},0]
[{"$f":"(Реестр!B842)+0","v":"00:00:00"},{"$f":"Реестр!AM842","v":0},{"$f":"Реестр!AZ842","v":0},{"$f":"Реестр!AN842","v":0},{"$f":"Реестр!G842","v":0},{"$f":"IF(Реестр!#REF!=\"I\",\"Ф152\",IF(Реестр!#REF!=\"II\",\"Ф127\",IF(Реестр!#REF!=\"III\",\"Ф127\",IF(Реестр!#REF!=\"IV\",\"Ф228\",IF(Реестр!#REF!=\"V\",\"Ф127\",\"\")))))","v":{"$error":"#REF!"}},{"$f":"Реестр!J842","v":0},0]
[{"$f":"(Реестр!B843)+0","v":"00:00:00"},{"$f":"Реестр!AM843","v":0},{"$f":"Реестр!AZ843","v":0},{"$f":"Реестр!AN843","v":0},{"$f":"Реестр!G843","v":0},{"$f":"IF(Реестр!#REF!=\"I\",\"Ф152\",IF(Реестр!#REF!=\"II\",\"Ф127\",IF(Реестр!#REF!=\"III\",\"Ф127\",IF(Реестр!#REF!=\"IV\",\"Ф228\",IF(Реестр!#REF!=\"V\",\"Ф127\",\"\")))))","v":{"$error":"#REF!"}},{"$f":"Реестр!J843","v":0},0]
[{"$f":"(Реестр!B844)+0","v":"00:00:00"},{"$f":"Реестр!AM844","v":0},{"$f":"Реестр!AZ844","v":0},{"$f":"Реестр!AN844","v":0},{"$f":"Реестр!G844","v":0},{"$f":"IF(Реестр!#REF!=\"I\",\"Ф152\",IF(Реестр!#REF!=\"II\",\"Ф127\",IF(Реестр!#REF!=\"III\",\"Ф127\",IF(Реестр!#REF!=\"IV\",\"Ф228\",IF(Реестр!#REF!=\"V\",\"Ф127\",\"\")))))","v":{"$error":"#REF!"}},{"$f":"Реестр!J844","v":0},0]
[{"$f":"(Реестр!B845)+0","v":"00:00:00"},{"$f":"Реестр!AM845","v":0},{"$f":"Реестр!AZ845","v":0},{"$f":"Реестр!AN845","v":0},{"$f":"Реестр!G845","v":0},{"$f":"IF(Реестр!#REF!=\"I\",\"Ф152\",IF(Реестр!#REF!=\"II\",\"Ф127\",IF(Реестр!#REF!=\"III\",\"Ф127\",IF(Реестр!#REF!=\"IV\",\"Ф228\",IF(Реестр!#REF!=\"V\",\"Ф127\",\"\")))))","v":{"$error":"#REF!"}},{"$f":"Реестр!J845","v":0},0]
[{"$f":"(Реестр!B846)+0","v":"00:00:00"},{"$f":"Реестр!AM846","v":0},{"$f":"Реестр!AZ846","v":0},{"$f":"Реестр!AN846","v":0},{"$f":"Реестр!G846","v":0},{"$f":"IF(Реестр!#REF!=\"I\",\"Ф152\",IF(Реестр!#REF!=\"II\",\"Ф127\",IF(Реестр!#REF!=\"III\",\"Ф127\",IF(Реестр!#REF!=\"IV\",\"Ф228\",IF(Реестр!#REF!=\"V\",\"Ф127\",\"\")))))","v":{"$error":"#REF!"}},{"$f":"Реестр!J846","v":0},0]
[{"$f":"(Реестр!B847)+0","v":"00:00:00"},{"$f":"Реестр!AM847","v":0},{"$f":"Реестр!AZ847","v":0},{"$f":"Реестр!AN847","v":0},{"$f":"Реестр!G847","v":0},{"$f":"IF(Реестр!#REF!=\"I\",\"Ф152\",IF(Реестр!#REF!=\"II\",\"Ф127\",IF(Реестр!#REF!=\"III\",\"Ф127\",IF(Реестр!#REF!=\"IV\",\"Ф228\",IF(Реестр!#REF!=\"V\",\"Ф127\",\"\")))))","v":{"$error":"#REF!"}},{"$f":"Реестр!J847","v":0},0]
[{"$f":"(Реестр!B848)+0","v":"00:00:00"},{"$f":"Реестр!AM848","v":0},{"$f":"Реестр!AZ848","v":0},{"$f":"Реестр!AN848","v":0},{"$f":"Реестр!G848","v":0},{"$f":"IF(Реестр!#REF!=\"I\",\"Ф152\",IF(Реестр!#REF!=\"II\",\"Ф127\",IF(Реестр!#REF!=\"III\",\"Ф127\",IF(Реестр!#REF!=\"IV\",\"Ф228\",IF(Реестр!#REF!=\"V\",\"Ф127\",\"\")))))","v":{"$error":"#REF!"}},{"$f":"Реестр!J848","v":0},0]
[{"$f":"(Реестр!B849)+0","v":"00:00:00"},{"$f":"Реестр!AM849","v":0},{"$f":"Реестр!AZ849","v":0},{"$f":"Реестр!AN849","v":0},{"$f":"Реестр!G849","v":0},{"$f":"IF(Реестр!#REF!=\"I\",\"Ф152\",IF(Реестр!#REF!=\"II\",\"Ф127\",IF(Реестр!#REF!=\"III\",\"Ф127\",IF(Реестр!#REF!=\"IV\",\"Ф228\",IF(Реестр!#REF!=\"V\",\"Ф127\",\"\")))))","v":{"$error":"#REF!"}},{"$f":"Реестр!J849","v":0},0]
[{"$f":"(Реестр!B850)+0","v":"00:00:00"},{"$f":"Реестр!AM850","v":0},{"$f":"Реестр!AZ850","v":0},{"$f":"Реестр!AN850","v":0},{"$f":"Реестр!G850","v":0},{"$f":"IF(Реестр!#REF!=\"I\",\"Ф152\",IF(Реестр!#REF!=\"II\",\"Ф127\",IF(Реестр!#REF!=\"III\",\"Ф127\",IF(Реестр!#REF!=\"IV\",\"Ф228\",IF(Реестр!#REF!=\"V\",\"Ф127\",\"\")))))","v":{"$error":"#REF!"}},{"$f":"Реестр!J850","v":0},0]
[{"$f":"(Реестр!B851)+0","v":"00:00:00"},{"$f":"Реестр!AM851","v":0},{"$f":"Реестр!AZ851","v":0},{"$f":"Реестр!AN851","v":0},{"$f":"Реестр!G851","v":0},{"$f":"IF(Реестр!#REF!=\"I\",\"Ф152\",IF(Реестр!#REF!=\"II\",\"Ф127\",IF(Реестр!#REF!=\"III\",\"Ф127\",IF(Реестр!#REF!=\"IV\",\"Ф228\",IF(Реестр!#REF!=\"V\",\"Ф127\",\"\")))))","v":{"$error":"#REF!"}},{"$f":"Реестр!J851","v":0},0]
[{"$f":"(Реестр!B852)+0","v":"00:00:00"},{"$f":"Реестр!AM852","v":0},{"$f":"Реестр!AZ852","v":0},{"$f":"Реестр!AN852","v":0},{"$f":"Реестр!G852","v":0},{"$f":"IF(Реестр!#REF!=\"I\",\"Ф152\",IF(Реестр!#REF!=\"II\",\"Ф127\",IF(Реестр!#REF!=\"III\",\"Ф127\",IF(Реестр!#REF!=\"IV\",\"Ф228\",IF(Реестр!#REF!=\"V\",\"Ф127\",\"\")))))","v":{"$error":"#REF!"}},{"$f":"Реестр!J852","v":0},0]
[{"$f":"(Реестр!B853)+0","v":"00:00:00"},{"$f":"Реестр!AM853","v":0},{"$f":"Реестр!AZ853","v":0},{"$f":"Реестр!AN853","v":0},{"$f":"Реестр!G853","v":0},{"$f":"IF(Реестр!#REF!=\"I\",\"Ф152\",IF(Реестр!#REF!=\"II\",\"Ф127\",IF(Реестр!#REF!=\"III\",\"Ф127\",IF(Реестр!#REF!=\"IV\",\"Ф228\",IF(Реестр!#REF!=\"V\",\"Ф127\",\"\")))))","v":{"$error":"#REF!"}},{"$f":"Реестр!J853","v":0},0]
[{"$f":"(Реестр!B854)+0","v":"00:00:00"},{"$f":"Реестр!AM854","v":0},{"$f":"Реестр!AZ854","v":0},{"$f":"Реестр!AN854","v":0},{"$f":"Реестр!G854","v":0},{"$f":"IF(Реестр!#REF!=\"I\",\"Ф152\",IF(Реестр!#REF!=\"II\",\"Ф127\",IF(Реестр!#REF!=\"III\",\"Ф127\",IF(Реестр!#REF!=\"IV\",\"Ф228\",IF(Реестр!#REF!=\"V\",\"Ф127\",\"\")))))","v":{"$error":"#REF!"}},{"$f":"Реестр!J854","v":0},0]
[{"$f":"(Реестр!B855)+0","v":"00:00:00"},{"$f":"Реестр!AM855","v":0},{"$f":"Реестр!AZ855","v":0},{"$f":"Реестр!AN855","v":0},{"$f":"Реестр!G855","v":0},{"$f":"IF(Реестр!#REF!=\"I\",\"Ф152\",IF(Реестр!#REF!=\"II\",\"Ф127\",IF(Реестр!#REF!=\"III\",\"Ф127\",IF(Реестр!#REF!=\"IV\",\"Ф228\",IF(Реестр!#REF!=\"V\",\"Ф127\",\"\")))))","v":{"$error":"#REF!"}},{"$f":"Реестр!J855","v":0},0]
[{"$f":"(Реестр!B856)+0","v":"00:00:00"},{"$f":"Реестр!AM856","v":0},{"$f":"Реестр!AZ856","v":0},{"$f":"Реестр!AN856","v":0},{"$f":"Реестр!G856","v":0},{"$f":"IF(Реестр!#REF!=\"I\",\"Ф152\",IF(Реестр!#REF!=\"II\",\"Ф127\",IF(Реестр!#REF!=\"III\",\"Ф127\",IF(Реестр!#REF!=\"IV\",\"Ф228\",IF(Реестр!#REF!=\"V\",\"Ф127\",\"\")))))","v":{"$error":"#REF!"}},{"$f":"Реестр!J856","v":0},0]
[{"$f":"(Реестр!B857)+0","v":"00:00:00"},{"$f":"Реестр!AM857","v":0},{"$f":"Реестр!AZ857","v":0},{"$f":"Реестр!AN857","v":0},{"$f":"Реестр!G857","v":0},{"$f":"IF(Реестр!#REF!=\"I\",\"Ф152\",IF(Реестр!#REF!=\"II\",\"Ф127\",IF(Реестр!#REF!=\"III\",\"Ф127\",IF(Реестр!#REF!=\"IV\",\"Ф228\",IF(Реестр!#REF!=\"V\",\"Ф127\",\"\")))))","v":{"$error":"#REF!"}},{"$f":"Реестр!J857","v":0},0]
[{"$f":"(Реестр!B858)+0","v":"00:00:00"},{"$f":"Реестр!AM858","v":0},{"$f":"Реестр!AZ858","v":0},{"$f":"Реестр!AN858","v":0},{"$f":"Реестр!G858","v":0},{"$f":"IF(Реестр!#REF!=\"I\",\"Ф152\",IF(Реестр!#REF!=\"II\",\"Ф127\",IF(Реестр!#REF!=\"III\",\"Ф127\",IF(Реестр!#REF!=\"IV\",\"Ф228\",IF(Реестр!#REF!=\"V\",\"Ф127\",\"\")))))","v":{"$error":"#REF!"}},{"$f":"Реестр!J858","v":0},0]
[{"$f":"(Реестр!B859)+0","v":"00:00:00"},{"$f":"Реестр!AM859","v":0},{"$f":"Реестр!AZ859","v":0},{"$f":"Реестр!AN859","v":0},{"$f":"Реестр!G859","v":0},{"$f":"IF(Реестр!#REF!=\"I\",\"Ф152\",IF(Реестр!#REF!=\"II\",\"Ф127\",IF(Реестр!#REF!=\"III\",\"Ф127\",IF(Реестр!#REF!=\"IV\",\"Ф228\",IF(Реестр!#REF!=\"V\",\"Ф127\",\"\")))))","v":{"$error":"#REF!"}},{"$f":"Реестр!J859","v":0},0]
[{"$f":"(Реестр!B860)+0","v":"00:00:00"},{"$f":"Реестр!AM860","v":0},{"$f":"Реестр!AZ860","v":0},{"$f":"Реестр!AN860","v":0},{"$f":"Реестр!G860","v":0},{"$f":"IF(Реестр!#REF!=\"I\",\"Ф152\",IF(Реестр!#REF!=\"II\",\"Ф127\",IF(Реестр!#REF!=\"III\",\"Ф127\",IF(Реестр!#REF!=\"IV\",\"Ф228\",IF(Реестр!#REF!=\"V\",\"Ф127\",\"\")))))","v":{"$error":"#REF!"}},{"$f":"Реестр!J860","v":0},0]
[{"$f":"(Реестр!B861)+0","v":"00:00:00"},{"$f":"Реестр!AM861","v":0},{"$f":"Реестр!AZ861","v":0},{"$f":"Реестр!AN861","v":0},{"$f":"Реестр!G861","v":0},{"$f":"IF(Реестр!#REF!=\"I\",\"Ф152\",IF(Реестр!#REF!=\"II\",\"Ф127\",IF(Реестр!#REF!=\"III\",\"Ф127\",IF(Реестр!#REF!=\"IV\",\"Ф228\",IF(Реестр!#REF!=\"V\",\"Ф127\",\"\")))))","v":{"$error":"#REF!"}},{"$f":"Реестр!J861","v":0},0]
[{"$f":"(Реестр!B862)+0","v":"00:00:00"},{"$f":"Реестр!AM862","v":0},{"$f":"Реестр!AZ862","v":0},{"$f":"Реестр!AN862","v":0},{"$f":"Реестр!G862","v":0},{"$f":"IF(Реестр!#REF!=\"I\",\"Ф152\",IF(Реестр!#REF!=\"II\",\"Ф127\",IF(Реестр!#REF!=\"III\",\"Ф127\",IF(Реестр!#REF!=\"IV\",\"Ф228\",IF(Реестр!#REF!=\"V\",\"Ф127\",\"\")))))","v":{"$error":"#REF!"}},{"$f":"Реестр!J862","v":0},0]
[{"$f":"(Реестр!B863)+0","v":"00:00:00"},{"$f":"Реестр!AM863","v":0},{"$f":"Реестр!AZ863","v":0},{"$f":"Реестр!AN863","v":0},{"$f":"Реестр!G863","v":0},{"$f":"IF(Реестр!#REF!=\"I\",\"Ф152\",IF(Реестр!#REF!=\"II\",\"Ф127\",IF(Реестр!#REF!=\"III\",\"Ф127\",IF(Реестр!#REF!=\"IV\",\"Ф228\",IF(Реестр!#REF!=\"V\",\"Ф127\",\"\")))))","v":{"$error":"#REF!"}},{"$f":"Реестр!J863","v":0},0]
[{"$f":"(Реестр!B864)+0","v":"00:00:00"},{"$f":"Реестр!AM864","v":0},{"$f":"Реестр!AZ864","v":0},{"$f":"Реестр!AN864","v":0},{"$f":"Реестр!G864","v":0},{"$f":"IF(Реестр!#REF!=\"I\",\"Ф152\",IF(Реестр!#REF!=\"II\",\"Ф127\",IF(Реестр!#REF!=\"III\",\"Ф127\",IF(Реестр!#REF!=\"IV\",\"Ф228\",IF(Реестр!#REF!=\"V\",\"Ф127\",\"\")))))","v":{"$error":"#REF!"}},{"$f":"Реестр!J864","v":0},0]
[{"$f":"(Реестр!B865)+0","v":"00:00:00"},{"$f":"Реестр!AM865","v":0},{"$f":"Реестр!AZ865","v":0},{"$f":"Реестр!AN865","v":0},{"$f":"Реестр!G865","v":0},{"$f":"IF(Реестр!#REF!=\"I\",\"Ф152\",IF(Реестр!#REF!=\"II\",\"Ф127\",IF(Реестр!#REF!=\"III\",\"Ф127\",IF(Реестр!#REF!=\"IV\",\"Ф228\",IF(Реестр!#REF!=\"V\",\"Ф127\",\"\")))))","v":{"$error":"#REF!"}},{"$f":"Реестр!J865","v":0},0]
[{"$f":"(Реестр!B866)+0","v":"00:00:00"},{"$f":"Реестр!AM866","v":0},{"$f":"Реестр!AZ866","v":0},{"$f":"Реестр!AN866","v":0},{"$f":"Реестр!G866","v":0},{"$f":"IF(Реестр!#REF!=\"I\",\"Ф152\",IF(Реестр!#REF!=\"II\",\"Ф127\",IF(Реестр!#REF!=\"III\",\"Ф127\",IF(Реестр!#REF!=\"IV\",\"Ф228\",IF(Реестр!#REF!=\"V\",\"Ф127\",\"\")))))","v":{"$error":"#REF!"}},{"$f":"Реестр!J866","v":0},0]
[{"$f":"(Реестр!B867)+0","v":"00:00:00"},{"$f":"Реестр!AM867","v":0},{"$f":"Реестр!AZ867","v":0},{"$f":"Реестр!AN867","v":0},{"$f":"Реестр!G867","v":0},{"$f":"IF(Реестр!#REF!=\"I\",\"Ф152\",IF(Реестр!#REF!=\"II\",\"Ф127\",IF(Реестр!#REF!=\"III\",\"Ф127\",IF(Реестр!#REF!=\"IV\",\"Ф228\",IF(Реестр!#REF!=\"V\",\"Ф127\",\"\")))))","v":{"$error":"#REF!"}},{"$f":"Реестр!J867","v":0},0]
[{"$f":"(Реестр!B868)+0","v":"00:00:00"},{"$f":"Реестр!AM868","v":0},{"$f":"Реестр!AZ868","v":0},{"$f":"Реестр!AN868","v":0},{"$f":"Реестр!G868","v":0},{"$f":"IF(Реестр!#REF!=\"I\",\"Ф152\",IF(Реестр!#REF!=\"II\",\"Ф127\",IF(Реестр!#REF!=\"III\",\"Ф127\",IF(Реестр!#REF!=\"IV\",\"Ф228\",IF(Реестр!#REF!=\"V\",\"Ф127\",\"\")))))","v":{"$error":"#REF!"}},{"$f":"Реестр!J868","v":0},0]
[{"$f":"(Реестр!B869)+0","v":"00:00:00"},{"$f":"Реестр!AM869","v":0},{"$f":"Реестр!AZ869","v":0},{"$f":"Реестр!AN869","v":0},{"$f":"Реестр!G869","v":0},{"$f":"IF(Реестр!#REF!=\"I\",\"Ф152\",IF(Реестр!#REF!=\"II\",\"Ф127\",IF(Реестр!#REF!=\"III\",\"Ф127\",IF(Реестр!#REF!=\"IV\",\"Ф228\",IF(Реестр!#REF!=\"V\",\"Ф127\",\"\")))))","v":{"$error":"#REF!"}},{"$f":"Реестр!J869","v":0},0]
[{"$f":"(Реестр!B870)+0","v":"00:00:00"},{"$f":"Реестр!AM870","v":0},{"$f":"Реестр!AZ870","v":0},{"$f":"Реестр!AN870","v":0},{"$f":"Реестр!G870","v":0},{"$f":"IF(Реестр!#REF!=\"I\",\"Ф152\",IF(Реестр!#REF!=\"II\",\"Ф127\",IF(Реестр!#REF!=\"III\",\"Ф127\",IF(Реестр!#REF!=\"IV\",\"Ф228\",IF(Реестр!#REF!=\"V\",\"Ф127\",\"\")))))","v":{"$error":"#REF!"}},{"$f":"Реестр!J870","v":0},0]
[{"$f":"(Реестр!B871)+0","v":"00:00:00"},{"$f":"Реестр!AM871","v":0},{"$f":"Реестр!AZ871","v":0},{"$f":"Реестр!AN871","v":0},{"$f":"Реестр!G871","v":0},{"$f":"IF(Реестр!#REF!=\"I\",\"Ф152\",IF(Реестр!#REF!=\"II\",\"Ф127\",IF(Реестр!#REF!=\"III\",\"Ф127\",IF(Реестр!#REF!=\"IV\",\"Ф228\",IF(Реестр!#REF!=\"V\",\"Ф127\",\"\")))))","v":{"$error":"#REF!"}},{"$f":"Реестр!J871","v":0},0]
[{"$f":"(Реестр!B872)+0","v":"00:00:00"},{"$f":"Реестр!AM872","v":0},{"$f":"Реестр!AZ872","v":0},{"$f":"Реестр!AN872","v":0},{"$f":"Реестр!G872","v":0},{"$f":"IF(Реестр!#REF!=\"I\",\"Ф152\",IF(Реестр!#REF!=\"II\",\"Ф127\",IF(Реестр!#REF!=\"III\",\"Ф127\",IF(Реестр!#REF!=\"IV\",\"Ф228\",IF(Реестр!#REF!=\"V\",\"Ф127\",\"\")))))","v":{"$error":"#REF!"}},{"$f":"Реестр!J872","v":0},0]
[{"$f":"(Реестр!B873)+0","v":"00:00:00"},{"$f":"Реестр!AM873","v":0},{"$f":"Реестр!AZ873","v":0},{"$f":"Реестр!AN873","v":0},{"$f":"Реестр!G873","v":0},{"$f":"IF(Реестр!#REF!=\"I\",\"Ф152\",IF(Реестр!#REF!=\"II\",\"Ф127\",IF(Реестр!#REF!=\"III\",\"Ф127\",IF(Реестр!#REF!=\"IV\",\"Ф228\",IF(Реестр!#REF!=\"V\",\"Ф127\",\"\")))))","v":{"$error":"#REF!"}},{"$f":"Реестр!J873","v":0},0]
[{"$f":"(Реестр!B874)+0","v":"00:00:00"},{"$f":"Реестр!AM874","v":0},{"$f":"Реестр!AZ874","v":0},{"$f":"Реестр!AN874","v":0},{"$f":"Реестр!G874","v":0},{"$f":"IF(Реестр!#REF!=\"I\",\"Ф152\",IF(Реестр!#REF!=\"II\",\"Ф127\",IF(Реестр!#REF!=\"III\",\"Ф127\",IF(Реестр!#REF!=\"IV\",\"Ф228\",IF(Реестр!#REF!=\"V\",\"Ф127\",\"\")))))","v":{"$error":"#REF!"}},{"$f":"Реестр!J874","v":0},0]
[{"$f":"(Реестр!B875)+0","v":"00:00:00"},{"$f":"Реестр!AM875","v":0},{"$f":"Реестр!AZ875","v":0},{"$f":"Реестр!AN875","v":0},{"$f":"Реестр!G875","v":0},{"$f":"IF(Реестр!#REF!=\"I\",\"Ф152\",IF(Реестр!#REF!=\"II\",\"Ф127\",IF(Реестр!#REF!=\"III\",\"Ф127\",IF(Реестр!#REF!=\"IV\",\"Ф228\",IF(Реестр!#REF!=\"V\",\"Ф127\",\"\")))))","v":{"$error":"#REF!"}},{"$f":"Реестр!J875","v":0},0]
[{"$f":"(Реестр!B876)+0","v":"00:00:00"},{"$f":"Реестр!AM876","v":0},{"$f":"Реестр!AZ876","v":0},{"$f":"Реестр!AN876","v":0},{"$f":"Реестр!G876","v":0},{"$f":"IF(Реестр!#REF!=\"I\",\"Ф152\",IF(Реестр!#REF!=\"II\",\"Ф127\",IF(Реестр!#REF!=\"III\",\"Ф127\",IF(Реестр!#REF!=\"IV\",\"Ф228\",IF(Реестр!#REF!=\"V\",\"Ф127\",\"\")))))","v":{"$error":"#REF!"}},{"$f":"Реестр!J876","v":0},0]
[{"$f":"(Реестр!B877)+0","v":"00:00:00"},{"$f":"Реестр!AM877","v":0},{"$f":"Реестр!AZ877","v":0},{"$f":"Реестр!AN877","v":0},{"$f":"Реестр!G877","v":0},{"$f":"IF(Реестр!#REF!=\"I\",\"Ф152\",IF(Реестр!#REF!=\"II\",\"Ф127\",IF(Реестр!#REF!=\"III\",\"Ф127\",IF(Реестр!#REF!=\"IV\",\"Ф228\",IF(Реестр!#REF!=\"V\",\"Ф127\",\"\")))))","v":{"$error":"#REF!"}},{"$f":"Реестр!J877","v":0},0]
[{"$f":"(Реестр!B878)+0","v":"00:00:00"},{"$f":"Реестр!AM878","v":0},{"$f":"Реестр!AZ878","v":0},{"$f":"Реестр!AN878","v":0},{"$f":"Реестр!G878","v":0},{"$f":"IF(Реестр!#REF!=\"I\",\"Ф152\",IF(Реестр!#REF!=\"II\",\"Ф127\",IF(Реестр!#REF!=\"III\",\"Ф127\",IF(Реестр!#REF!=\"IV\",\"Ф228\",IF(Реестр!#REF!=\"V\",\"Ф127\",\"\")))))","v":{"$error":"#REF!"}},{"$f":"Реестр!J878","v":0},0]
[{"$f":"(Реестр!B879)+0","v":"00:00:00"},{"$f":"Реестр!AM879","v":0},{"$f":"Реестр!AZ879","v":0},{"$f":"Реестр!AN879","v":0},{"$f":"Реестр!G879","v":0},{"$f":"IF(Реестр!#REF!=\"I\",\"Ф152\",IF(Реестр!#REF!=\"II\",\"Ф127\",IF(Реестр!#REF!=\"III\",\"Ф127\",IF(Реестр!#REF!=\"IV\",\"Ф228\",IF(Реестр!#REF!=\"V\",\"Ф127\",\"\")))))","v":{"$error":"#REF!"}},{"$f":"Реестр!J879","v":0},0]
[{"$f":"(Реестр!B880)+0","v":"00:00:00"},{"$f":"Реестр!AM880","v":0},{"$f":"Реестр!AZ880","v":0},{"$f":"Реестр!AN880","v":0},{"$f":"Реестр!G880","v":0},{"$f":"IF(Реестр!#REF!=\"I\",\"Ф152\",IF(Реестр!#REF!=\"II\",\"Ф127\",IF(Реестр!#REF!=\"III\",\"Ф127\",IF(Реестр!#REF!=\"IV\",\"Ф228\",IF(Реестр!#REF!=\"V\",\"Ф127\",\"\")))))","v":{"$error":"#REF!"}},{"$f":"Реестр!J880","v":0},0]
[{"$f":"(Реестр!B881)+0","v":"00:00:00"},{"$f":"Реестр!AM881","v":0},{"$f":"Реестр!AZ881","v":0},{"$f":"Реестр!AN881","v":0},{"$f":"Реестр!G881","v":0},{"$f":"IF(Реестр!#REF!=\"I\",\"Ф152\",IF(Реестр!#REF!=\"II\",\"Ф127\",IF(Реестр!#REF!=\"III\",\"Ф127\",IF(Реестр!#REF!=\"IV\",\"Ф228\",IF(Реестр!#REF!=\"V\",\"Ф127\",\"\")))))","v":{"$error":"#REF!"}},{"$f":"Реестр!J881","v":0},0]
[{"$f":"(Реестр!B882)+0","v":"00:00:00"},{"$f":"Реестр!AM882","v":0},{"$f":"Реестр!AZ882","v":0},{"$f":"Реестр!AN882","v":0},{"$f":"Реестр!G882","v":0},{"$f":"IF(Реестр!#REF!=\"I\",\"Ф152\",IF(Реестр!#REF!=\"II\",\"Ф127\",IF(Реестр!#REF!=\"III\",\"Ф127\",IF(Реестр!#REF!=\"IV\",\"Ф228\",IF(Реестр!#REF!=\"V\",\"Ф127\",\"\")))))","v":{"$error":"#REF!"}},{"$f":"Реестр!J882","v":0},0]
[{"$f":"(Реестр!B883)+0","v":"00:00:00"},{"$f":"Реестр!AM883","v":0},{"$f":"Реестр!AZ883","v":0},{"$f":"Реестр!AN883","v":0},{"$f":"Реестр!G883","v":0},{"$f":"IF(Реестр!#REF!=\"I\",\"Ф152\",IF(Реестр!#REF!=\"II\",\"Ф127\",IF(Реестр!#REF!=\"III\",\"Ф127\",IF(Реестр!#REF!=\"IV\",\"Ф228\",IF(Реестр!#REF!=\"V\",\"Ф127\",\"\")))))","v":{"$error":"#REF!"}},{"$f":"Реестр!J883","v":0},0]
[{"$f":"(Реестр!B884)+0","v":"00:00:00"},{"$f":"Реестр!AM884","v":0},{"$f":"Реестр!AZ884","v":0},{"$f":"Реестр!AN884","v":0},{"$f":"Реестр!G884","v":0},{"$f":"IF(Реестр!#REF!=\"I\",\"Ф152\",IF(Реестр!#REF!=\"II\",\"Ф127\",IF(Реестр!#REF!=\"III\",\"Ф127\",IF(Реестр!#REF!=\"IV\",\"Ф228\",IF(Реестр!#REF!=\"V\",\"Ф127\",\"\")))))","v":{"$error":"#REF!"}},{"$f":"Реестр!J884","v":0},0]
[{"$f":"(Реестр!B885)+0","v":"00:00:00"},{"$f":"Реестр!AM885","v":0},{"$f":"Реестр!AZ885","v":0},{"$f":"Реестр!AN885","v":0},{"$f":"Реестр!G885","v":0},{"$f":"IF(Реестр!#REF!=\"I\",\"Ф152\",IF(Реестр!#REF!=\"II\",\"Ф127\",IF(Реестр!#REF!=\"III\",\"Ф127\",IF(Реестр!#REF!=\"IV\",\"Ф228\",IF(Реестр!#REF!=\"V\",\"Ф127\",\"\")))))","v":{"$error":"#REF!"}},{"$f":"Реестр!J885","v":0},0]
[{"$f":"(Реестр!B886)+0","v":"00:00:00"},{"$f":"Реестр!AM886","v":0},{"$f":"Реестр!AZ886","v":0},{"$f":"Реестр!AN886","v":0},{"$f":"Реестр!G886","v":0},{"$f":"IF(Реестр!#REF!=\"I\",\"Ф152\",IF(Реестр!#REF!=\"II\",\"Ф127\",IF(Реестр!#REF!=\"III\",\"Ф127\",IF(Реестр!#REF!=\"IV\",\"Ф228\",IF(Реестр!#REF!=\"V\",\"Ф127\",\"\")))))","v":{"$error":"#REF!"}},{"$f":"Реестр!J886","v":0},0]
[{"$f":"(Реестр!B887)+0","v":"00:00:00"},{"$f":"Реестр!AM887","v":0},{"$f":"Реестр!AZ887","v":0},{"$f":"Реестр!AN887","v":0},{"$f":"Реестр!G887","v":0},{"$f":"IF(Реестр!#REF!=\"I\",\"Ф152\",IF(Реестр!#REF!=\"II\",\"Ф127\",IF(Реестр!#REF!=\"III\",\"Ф127\",IF(Реестр!#REF!=\"IV\",\"Ф228\",IF(Реестр!#REF!=\"V\",\"Ф127\",\"\")))))","v":{"$error":"#REF!"}},{"$f":"Реестр!J887","v":0},0]
[{"$f":"(Реестр!B888)+0","v":"00:00:00"},{"$f":"Реестр!AM888","v":0},{"$f":"Реестр!AZ888","v":0},{"$f":"Реестр!AN888","v":0},{"$f":"Реестр!G888","v":0},{"$f":"IF(Реестр!#REF!=\"I\",\"Ф152\",IF(Реестр!#REF!=\"II\",\"Ф127\",IF(Реестр!#REF!=\"III\",\"Ф127\",IF(Реестр!#REF!=\"IV\",\"Ф228\",IF(Реестр!#REF!=\"V\",\"Ф127\",\"\")))))","v":{"$error":"#REF!"}},{"$f":"Реестр!J888","v":0},0]
[{"$f":"(Реестр!B889)+0","v":"00:00:00"},{"$f":"Реестр!AM889","v":0},{"$f":"Реестр!AZ889","v":0},{"$f":"Реестр!AN889","v":0},{"$f":"Реестр!G889","v":0},{"$f":"IF(Реестр!#REF!=\"I\",\"Ф152\",IF(Реестр!#REF!=\"II\",\"Ф127\",IF(Реестр!#REF!=\"III\",\"Ф127\",IF(Реестр!#REF!=\"IV\",\"Ф228\",IF(Реестр!#REF!=\"V\",\"Ф127\",\"\")))))","v":{"$error":"#REF!"}},{"$f":"Реестр!J889","v":0},0]
[{"$f":"(Реестр!B890)+0","v":"00:00:00"},{"$f":"Реестр!AM890","v":0},{"$f":"Реестр!AZ890","v":0},{"$f":"Реестр!AN890","v":0},{"$f":"Реестр!G890","v":0},{"$f":"IF(Реестр!#REF!=\"I\",\"Ф152\",IF(Реестр!#REF!=\"II\",\"Ф127\",IF(Реестр!#REF!=\"III\",\"Ф127\",IF(Реестр!#REF!=\"IV\",\"Ф228\",IF(Реестр!#REF!=\"V\",\"Ф127\",\"\")))))","v":{"$error":"#REF!"}},{"$f":"Реестр!J890","v":0},0]
[{"$f":"(Реестр!B891)+0","v":"00:00:00"},{"$f":"Реестр!AM891","v":0},{"$f":"Реестр!AZ891","v":0},{"$f":"Реестр!AN891","v":0},{"$f":"Реестр!G891","v":0},{"$f":"IF(Реестр!#REF!=\"I\",\"Ф152\",IF(Реестр!#REF!=\"II\",\"Ф127\",IF(Реестр!#REF!=\"III\",\"Ф127\",IF(Реестр!#REF!=\"IV\",\"Ф228\",IF(Реестр!#REF!=\"V\",\"Ф127\",\"\")))))","v":{"$error":"#REF!"}},{"$f":"Реестр!J891","v":0},0]
[{"$f":"(Реестр!B892)+0","v":"00:00:00"},{"$f":"Реестр!AM892","v":0},{"$f":"Реестр!AZ892","v":0},{"$f":"Реестр!AN892","v":0},{"$f":"Реестр!G892","v":0},{"$f":"IF(Реестр!#REF!=\"I\",\"Ф152\",IF(Реестр!#REF!=\"II\",\"Ф127\",IF(Реестр!#REF!=\"III\",\"Ф127\",IF(Реестр!#REF!=\"IV\",\"Ф228\",IF(Реестр!#REF!=\"V\",\"Ф127\",\"\")))))","v":{"$error":"#REF!"}},{"$f":"Реестр!J892","v":0},0]
[{"$f":"(Реестр!B893)+0","v":"00:00:00"},{"$f":"Реестр!AM893","v":0},{"$f":"Реестр!AZ893","v":0},{"$f":"Реестр!AN893","v":0},{"$f":"Реестр!G893","v":0},{"$f":"IF(Реестр!#REF!=\"I\",\"Ф152\",IF(Реестр!#REF!=\"II\",\"Ф127\",IF(Реестр!#REF!=\"III\",\"Ф127\",IF(Реестр!#REF!=\"IV\",\"Ф228\",IF(Реестр!#REF!=\"V\",\"Ф127\",\"\")))))","v":{"$error":"#REF!"}},{"$f":"Реестр!J893","v":0},0]
[{"$f":"(Реестр!B894)+0","v":"00:00:00"},{"$f":"Реестр!AM894","v":0},{"$f":"Реестр!AZ894","v":0},{"$f":"Реестр!AN894","v":0},{"$f":"Реестр!G894","v":0},{"$f":"IF(Реестр!#REF!=\"I\",\"Ф152\",IF(Реестр!#REF!=\"II\",\"Ф127\",IF(Реестр!#REF!=\"III\",\"Ф127\",IF(Реестр!#REF!=\"IV\",\"Ф228\",IF(Реестр!#REF!=\"V\",\"Ф127\",\"\")))))","v":{"$error":"#REF!"}},{"$f":"Реестр!J894","v":0},0]
[{"$f":"(Реестр!B895)+0","v":"00:00:00"},{"$f":"Реестр!AM895","v":0},{"$f":"Реестр!AZ895","v":0},{"$f":"Реестр!AN895","v":0},{"$f":"Реестр!G895","v":0},{"$f":"IF(Реестр!#REF!=\"I\",\"Ф152\",IF(Реестр!#REF!=\"II\",\"Ф127\",IF(Реестр!#REF!=\"III\",\"Ф127\",IF(Реестр!#REF!=\"IV\",\"Ф228\",IF(Реестр!#REF!=\"V\",\"Ф127\",\"\")))))","v":{"$error":"#REF!"}},{"$f":"Реестр!J895","v":0},{"$f":"E329*G329","v":0}]
[{"$f":"(Реестр!B896)+0","v":"00:00:00"},{"$f":"Реестр!AM896","v":0},{"$f":"Реестр!AZ896","v":0},{"$f":"Реестр!AN896","v":0},{"$f":"Реестр!G896","v":0},{"$f":"IF(Реестр!#REF!=\"I\",\"Ф152\",IF(Реестр!#REF!=\"II\",\"Ф127\",IF(Реестр!#REF!=\"III\",\"Ф127\",IF(Реестр!#REF!=\"IV\",\"Ф228\",IF(Реестр!#REF!=\"V\",\"Ф127\",\"\")))))","v":{"$error":"#REF!"}},{"$f":"Реестр!J896","v":0},0]
[{"$f":"(Реестр!B897)+0","v":"00:00:00"},{"$f":"Реестр!AM897","v":0},{"$f":"Реестр!AZ897","v":0},{"$f":"Реестр!AN897","v":0},{"$f":"Реестр!G897","v":0},{"$f":"IF(Реестр!#REF!=\"I\",\"Ф152\",IF(Реестр!#REF!=\"II\",\"Ф127\",IF(Реестр!#REF!=\"III\",\"Ф127\",IF(Реестр!#REF!=\"IV\",\"Ф228\",IF(Реестр!#REF!=\"V\",\"Ф127\",\"\")))))","v":{"$error":"#REF!"}},{"$f":"Реестр!J897","v":0},0]
[{"$f":"(Реестр!B898)+0","v":"00:00:00"},{"$f":"Реестр!AM898","v":0},{"$f":"Реестр!AZ898","v":0},{"$f":"Реестр!AN898","v":0},{"$f":"Реестр!G898","v":0},{"$f":"IF(Реестр!#REF!=\"I\",\"Ф152\",IF(Реестр!#REF!=\"II\",\"Ф127\",IF(Реестр!#REF!=\"III\",\"Ф127\",IF(Реестр!#REF!=\"IV\",\"Ф228\",IF(Реестр!#REF!=\"V\",\"Ф127\",\"\")))))","v":{"$error":"#REF!"}},{"$f":"Реестр!J898","v":0},0]
[{"$f":"(Реестр!B899)+0","v":"00:00:00"},{"$f":"Реестр!AM899","v":0},{"$f":"Реестр!AZ899","v":0},{"$f":"Реестр!AN899","v":0},{"$f":"Реестр!G899","v":0},{"$f":"IF(Реестр!#REF!=\"I\",\"Ф152\",IF(Реестр!#REF!=\"II\",\"Ф127\",IF(Реестр!#REF!=\"III\",\"Ф127\",IF(Реестр!#REF!=\"IV\",\"Ф228\",IF(Реестр!#REF!=\"V\",\"Ф127\",\"\")))))","v":{"$error":"#REF!"}},{"$f":"Реестр!J899","v":0},0]
[{"$f":"(Реестр!B900)+0","v":"00:00:00"},{"$f":"Реестр!AM900","v":0},{"$f":"Реестр!AZ900","v":0},{"$f":"Реестр!AN900","v":0},{"$f":"Реестр!G900","v":0},{"$f":"IF(Реестр!#REF!=\"I\",\"Ф152\",IF(Реестр!#REF!=\"II\",\"Ф127\",IF(Реестр!#REF!=\"III\",\"Ф127\",IF(Реестр!#REF!=\"IV\",\"Ф228\",IF(Реестр!#REF!=\"V\",\"Ф127\",\"\")))))","v":{"$error":"#REF!"}},{"$f":"Реестр!J900","v":0},0]
[{"$f":"(Реестр!B901)+0","v":"00:00:00"},{"$f":"Реестр!AM901","v":0},{"$f":"Реестр!AZ901","v":0},{"$f":"Реестр!AN901","v":0},{"$f":"Реестр!G901","v":0},{"$f":"IF(Реестр!#REF!=\"I\",\"Ф152\",IF(Реестр!#REF!=\"II\",\"Ф127\",IF(Реестр!#REF!=\"III\",\"Ф127\",IF(Реестр!#REF!=\"IV\",\"Ф228\",IF(Реестр!#REF!=\"V\",\"Ф127\",\"\")))))","v":{"$error":"#REF!"}},{"$f":"Реестр!J901","v":0},0]
[{"$f":"(Реестр!B902)+0","v":"00:00:00"},{"$f":"Реестр!AM902","v":0},{"$f":"Реестр!AZ902","v":0},{"$f":"Реестр!AN902","v":0},{"$f":"Реестр!G902","v":0},{"$f":"IF(Реестр!#REF!=\"I\",\"Ф152\",IF(Реестр!#REF!=\"II\",\"Ф127\",IF(Реестр!#REF!=\"III\",\"Ф127\",IF(Реестр!#REF!=\"IV\",\"Ф228\",IF(Реестр!#REF!=\"V\",\"Ф127\",\"\")))))","v":{"$error":"#REF!"}},{"$f":"Реестр!J902","v":0},0]
[{"$f":"(Реестр!B903)+0","v":"00:00:00"},{"$f":"Реестр!AM903","v":0},{"$f":"Реестр!AZ903","v":0},{"$f":"Реестр!AN903","v":0},{"$f":"Реестр!G903","v":0},{"$f":"IF(Реестр!#REF!=\"I\",\"Ф152\",IF(Реестр!#REF!=\"II\",\"Ф127\",IF(Реестр!#REF!=\"III\",\"Ф127\",IF(Реестр!#REF!=\"IV\",\"Ф228\",IF(Реестр!#REF!=\"V\",\"Ф127\",\"\")))))","v":{"$error":"#REF!"}},{"$f":"Реестр!J903","v":0},0]
[{"$f":"(Реестр!B904)+0","v":"00:00:00"},{"$f":"Реестр!AM904","v":0},{"$f":"Реестр!AZ904","v":0},{"$f":"Реестр!AN904","v":0},{"$f":"Реестр!G904","v":0},{"$f":"IF(Реестр!#REF!=\"I\",\"Ф152\",IF(Реестр!#REF!=\"II\",\"Ф127\",IF(Реестр!#REF!=\"III\",\"Ф127\",IF(Реестр!#REF!=\"IV\",\"Ф228\",IF(Реестр!#REF!=\"V\",\"Ф127\",\"\")))))","v":{"$error":"#REF!"}},{"$f":"Реестр!J904","v":0},0]
[{"$f":"(Реестр!B905)+0","v":"00:00:00"},{"$f":"Реестр!AM905","v":0},{"$f":"Реестр!AZ905","v":0},{"$f":"Реестр!AN905","v":0},{"$f":"Реестр!G905","v":0},{"$f":"IF(Реестр!#REF!=\"I\",\"Ф152\",IF(Реестр!#REF!=\"II\",\"Ф127\",IF(Реестр!#REF!=\"III\",\"Ф127\",IF(Реестр!#REF!=\"IV\",\"Ф228\",IF(Реестр!#REF!=\"V\",\"Ф127\",\"\")))))","v":{"$error":"#REF!"}},{"$f":"Реестр!J905","v":0},0]
[{"$f":"(Реестр!B906)+0","v":"00:00:00"},{"$f":"Реестр!AM906","v":0},{"$f":"Реестр!AZ906","v":0},{"$f":"Реестр!AN906","v":0},{"$f":"Реестр!G906","v":0},{"$f":"IF(Реестр!#REF!=\"I\",\"Ф152\",IF(Реестр!#REF!=\"II\",\"Ф127\",IF(Реестр!#REF!=\"III\",\"Ф127\",IF(Реестр!#REF!=\"IV\",\"Ф228\",IF(Реестр!#REF!=\"V\",\"Ф127\",\"\")))))","v":{"$error":"#REF!"}},{"$f":"Реестр!J906","v":0},0]
[{"$f":"(Реестр!B907)+0","v":"00:00:00"},{"$f":"Реестр!AM907","v":0},{"$f":"Реестр!AZ907","v":0},{"$f":"Реестр!AN907","v":0},{"$f":"Реестр!G907","v":0},{"$f":"IF(Реестр!#REF!=\"I\",\"Ф152\",IF(Реестр!#REF!=\"II\",\"Ф127\",IF(Реестр!#REF!=\"III\",\"Ф127\",IF(Реестр!#REF!=\"IV\",\"Ф228\",IF(Реестр!#REF!=\"V\",\"Ф127\",\"\")))))","v":{"$error":"#REF!"}},{"$f":"Реестр!J907","v":0},0]
[{"$f":"(Реестр!B908)+0","v":"00:00:00"},{"$f":"Реестр!AM908","v":0},{"$f":"Реестр!AZ908","v":0},{"$f":"Реестр!AN908","v":0},{"$f":"Реестр!G908","v":0},{"$f":"IF(Реестр!#REF!=\"I\",\"Ф152\",IF(Реестр!#REF!=\"II\",\"Ф127\",IF(Реестр!#REF!=\"III\",\"Ф127\",IF(Реестр!#REF!=\"IV\",\"Ф228\",IF(Реестр!#REF!=\"V\",\"Ф127\",\"\")))))","v":{"$error":"#REF!"}},{"$f":"Реестр!J908","v":0},0]
[{"$f":"(Реестр!B909)+0","v":"00:00:00"},{"$f":"Реестр!AM909","v":0},{"$f":"Реестр!AZ909","v":0},{"$f":"Реестр!AN909","v":0},{"$f":"Реестр!G909","v":0},{"$f":"IF(Реестр!#REF!=\"I\",\"Ф152\",IF(Реестр!#REF!=\"II\",\"Ф127\",IF(Реестр!#REF!=\"III\",\"Ф127\",IF(Реестр!#REF!=\"IV\",\"Ф228\",IF(Реестр!#REF!=\"V\",\"Ф127\",\"\")))))","v":{"$error":"#REF!"}},{"$f":"Реестр!J909","v":0},0]
[{"$f":"(Реестр!B910)+0","v":"00:00:00"},{"$f":"Реестр!AM910","v":0},{"$f":"Реестр!AZ910","v":0},{"$f":"Реестр!AN910","v":0},{"$f":"Реестр!G910","v":0},{"$f":"IF(Реестр!#REF!=\"I\",\"Ф152\",IF(Реестр!#REF!=\"II\",\"Ф127\",IF(Реестр!#REF!=\"III\",\"Ф127\",IF(Реестр!#REF!=\"IV\",\"Ф228\",IF(Реестр!#REF!=\"V\",\"Ф127\",\"\")))))","v":{"$error":"#REF!"}},{"$f":"Реестр!J910","v":0},0]
[{"$f":"(Реестр!B911)+0","v":"00:00:00"},{"$f":"Реестр!AM911","v":0},{"$f":"Реестр!AZ911","v":0},{"$f":"Реестр!AN911","v":0},{"$f":"Реестр!G911","v":0},{"$f":"IF(Реестр!#REF!=\"I\",\"Ф152\",IF(Реестр!#REF!=\"II\",\"Ф127\",IF(Реестр!#REF!=\"III\",\"Ф127\",IF(Реестр!#REF!=\"IV\",\"Ф228\",IF(Реестр!#REF!=\"V\",\"Ф127\",\"\")))))","v":{"$error":"#REF!"}},{"$f":"Реестр!J911","v":0},0]
[{"$f":"(Реестр!B912)+0","v":"00:00:00"},{"$f":"Реестр!AM912","v":0},{"$f":"Реестр!AZ912","v":0},{"$f":"Реестр!AN912","v":0},{"$f":"Реестр!G912","v":0},{"$f":"IF(Реестр!#REF!=\"I\",\"Ф152\",IF(Реестр!#REF!=\"II\",\"Ф127\",IF(Реестр!#REF!=\"III\",\"Ф127\",IF(Реестр!#REF!=\"IV\",\"Ф228\",IF(Реестр!#REF!=\"V\",\"Ф127\",\"\")))))","v":{"$error":"#REF!"}},{"$f":"Реестр!J912","v":0},0]
[{"$f":"(Реестр!B913)+0","v":"00:00:00"},{"$f":"Реестр!AM913","v":0},{"$f":"Реестр!AZ913","v":0},{"$f":"Реестр!AN913","v":0},{"$f":"Реестр!G913","v":0},{"$f":"IF(Реестр!#REF!=\"I\",\"Ф152\",IF(Реестр!#REF!=\"II\",\"Ф127\",IF(Реестр!#REF!=\"III\",\"Ф127\",IF(Реестр!#REF!=\"IV\",\"Ф228\",IF(Реестр!#REF!=\"V\",\"Ф127\",\"\")))))","v":{"$error":"#REF!"}},{"$f":"Реестр!J913","v":0},0]
[{"$f":"(Реестр!B914)+0","v":"00:00:00"},{"$f":"Реестр!AM914","v":0},{"$f":"Реестр!AZ914","v":0},{"$f":"Реестр!AN914","v":0},{"$f":"Реестр!G914","v":0},{"$f":"IF(Реестр!#REF!=\"I\",\"Ф152\",IF(Реестр!#REF!=\"II\",\"Ф127\",IF(Реестр!#REF!=\"III\",\"Ф127\",IF(Реестр!#REF!=\"IV\",\"Ф228\",IF(Реестр!#REF!=\"V\",\"Ф127\",\"\")))))","v":{"$error":"#REF!"}},{"$f":"Реестр!J914","v":0},0]
[{"$f":"(Реестр!B915)+0","v":"00:00:00"},{"$f":"Реестр!AM915","v":0},{"$f":"Реестр!AZ915","v":0},{"$f":"Реестр!AN915","v":0},{"$f":"Реестр!G915","v":0},{"$f":"IF(Реестр!#REF!=\"I\",\"Ф152\",IF(Реестр!#REF!=\"II\",\"Ф127\",IF(Реестр!#REF!=\"III\",\"Ф127\",IF(Реестр!#REF!=\"IV\",\"Ф228\",IF(Реестр!#REF!=\"V\",\"Ф127\",\"\")))))","v":{"$error":"#REF!"}},{"$f":"Реестр!J915","v":0},0]
[{"$f":"(Реестр!B916)+0","v":"00:00:00"},{"$f":"Реестр!AM916","v":0},{"$f":"Реестр!AZ916","v":0},{"$f":"Реестр!AN916","v":0},{"$f":"Реестр!G916","v":0},{"$f":"IF(Реестр!#REF!=\"I\",\"Ф152\",IF(Реестр!#REF!=\"II\",\"Ф127\",IF(Реестр!#REF!=\"III\",\"Ф127\",IF(Реестр!#REF!=\"IV\",\"Ф228\",IF(Реестр!#REF!=\"V\",\"Ф127\",\"\")))))","v":{"$error":"#REF!"}},{"$f":"Реестр!J916","v":0},0]
[{"$f":"(Реестр!B917)+0","v":"00:00:00"},{"$f":"Реестр!AM917","v":0},{"$f":"Реестр!AZ917","v":0},{"$f":"Реестр!AN917","v":0},{"$f":"Реестр!G917","v":0},{"$f":"IF(Реестр!#REF!=\"I\",\"Ф152\",IF(Реестр!#REF!=\"II\",\"Ф127\",IF(Реестр!#REF!=\"III\",\"Ф127\",IF(Реестр!#REF!=\"IV\",\"Ф228\",IF(Реестр!#REF!=\"V\",\"Ф127\",\"\")))))","v":{"$error":"#REF!"}},{"$f":"Реестр!J917","v":0},0]
[{"$f":"(Реестр!B918)+0","v":"00:00:00"},{"$f":"Реестр!AM918","v":0},{"$f":"Реестр!AZ918","v":0},{"$f":"Реестр!AN918","v":0},{"$f":"Реестр!G918","v":0},{"$f":"IF(Реестр!#REF!=\"I\",\"Ф152\",IF(Реестр!#REF!=\"II\",\"Ф127\",IF(Реестр!#REF!=\"III\",\"Ф127\",IF(Реестр!#REF!=\"IV\",\"Ф228\",IF(Реестр!#REF!=\"V\",\"Ф127\",\"\")))))","v":{"$error":"#REF!"}},{"$f":"Реестр!J918","v":0},0]
[{"$f":"(Реестр!B919)+0","v":"00:00:00"},{"$f":"Реестр!AM919","v":0},{"$f":"Реестр!AZ919","v":0},{"$f":"Реестр!AN919","v":0},{"$f":"Реестр!G919","v":0},{"$f":"IF(Реестр!#REF!=\"I\",\"Ф152\",IF(Реестр!#REF!=\"II\",\"Ф127\",IF(Реестр!#REF!=\"III\",\"Ф127\",IF(Реестр!#REF!=\"IV\",\"Ф228\",IF(Реестр!#REF!=\"V\",\"Ф127\",\"\")))))","v":{"$error":"#REF!"}},{"$f":"Реестр!J919","v":0},0]
[{"$f":"(Реестр!B920)+0","v":"00:00:00"},{"$f":"Реестр!AM920","v":0},{"$f":"Реестр!AZ920","v":0},{"$f":"Реестр!AN920","v":0},{"$f":"Реестр!G920","v":0},{"$f":"IF(Реестр!#REF!=\"I\",\"Ф152\",IF(Реестр!#REF!=\"II\",\"Ф127\",IF(Реестр!#REF!=\"III\",\"Ф127\",IF(Реестр!#REF!=\"IV\",\"Ф228\",IF(Реестр!#REF!=\"V\",\"Ф127\",\"\")))))","v":{"$error":"#REF!"}},{"$f":"Реестр!J920","v":0},0]
[{"$f":"(Реестр!B921)+0","v":"00:00:00"},{"$f":"Реестр!AM921","v":0},{"$f":"Реестр!AZ921","v":0},{"$f":"Реестр!AN921","v":0},{"$f":"Реестр!G921","v":0},{"$f":"IF(Реестр!#REF!=\"I\",\"Ф152\",IF(Реестр!#REF!=\"II\",\"Ф127\",IF(Реестр!#REF!=\"III\",\"Ф127\",IF(Реестр!#REF!=\"IV\",\"Ф228\",IF(Реестр!#REF!=\"V\",\"Ф127\",\"\")))))","v":{"$error":"#REF!"}},{"$f":"Реестр!J921","v":0},0]
[{"$f":"(Реестр!B922)+0","v":"00:00:00"},{"$f":"Реестр!AM922","v":0},{"$f":"Реестр!AZ922","v":0},{"$f":"Реестр!AN922","v":0},{"$f":"Реестр!G922","v":0},{"$f":"IF(Реестр!#REF!=\"I\",\"Ф152\",IF(Реестр!#REF!=\"II\",\"Ф127\",IF(Реестр!#REF!=\"III\",\"Ф127\",IF(Реестр!#REF!=\"IV\",\"Ф228\",IF(Реестр!#REF!=\"V\",\"Ф127\",\"\")))))","v":{"$error":"#REF!"}},{"$f":"Реестр!J922","v":0},0]
[{"$f":"(Реестр!B923)+0","v":"00:00:00"},{"$f":"Реестр!AM923","v":0},{"$f":"Реестр!AZ923","v":0},{"$f":"Реестр!AN923","v":0},{"$f":"Реестр!G923","v":0},{"$f":"IF(Реестр!#REF!=\"I\",\"Ф152\",IF(Реестр!#REF!=\"II\",\"Ф127\",IF(Реестр!#REF!=\"III\",\"Ф127\",IF(Реестр!#REF!=\"IV\",\"Ф228\",IF(Реестр!#REF!=\"V\",\"Ф127\",\"\")))))","v":{"$error":"#REF!"}},{"$f":"Реестр!J923","v":0},0]
[{"$f":"(Реестр!B924)+0","v":"00:00:00"},{"$f":"Реестр!AM924","v":0},{"$f":"Реестр!AZ924","v":0},{"$f":"Реестр!AN924","v":0},{"$f":"Реестр!G924","v":0},{"$f":"IF(Реестр!#REF!=\"I\",\"Ф152\",IF(Реестр!#REF!=\"II\",\"Ф127\",IF(Реестр!#REF!=\"III\",\"Ф127\",IF(Реестр!#REF!=\"IV\",\"Ф228\",IF(Реестр!#REF!=\"V\",\"Ф127\",\"\")))))","v":{"$error":"#REF!"}},{"$f":"Реестр!J924","v":0},0]
[{"$f":"(Реестр!B925)+0","v":"00:00:00"},{"$f":"Реестр!AM925","v":0},{"$f":"Реестр!AZ925","v":0},{"$f":"Реестр!AN925","v":0},{"$f":"Реестр!G925","v":0},{"$f":"IF(Реестр!#REF!=\"I\",\"Ф152\",IF(Реестр!#REF!=\"II\",\"Ф127\",IF(Реестр!#REF!=\"III\",\"Ф127\",IF(Реестр!#REF!=\"IV\",\"Ф228\",IF(Реестр!#REF!=\"V\",\"Ф127\",\"\")))))","v":{"$error":"#REF!"}},{"$f":"Реестр!J925","v":0},0]
[{"$f":"(Реестр!B926)+0","v":"00:00:00"},{"$f":"Реестр!AM926","v":0},{"$f":"Реестр!AZ926","v":0},{"$f":"Реестр!AN926","v":0},{"$f":"Реестр!G926","v":0},{"$f":"IF(Реестр!#REF!=\"I\",\"Ф152\",IF(Реестр!#REF!=\"II\",\"Ф127\",IF(Реестр!#REF!=\"III\",\"Ф127\",IF(Реестр!#REF!=\"IV\",\"Ф228\",IF(Реестр!#REF!=\"V\",\"Ф127\",\"\")))))","v":{"$error":"#REF!"}},{"$f":"Реестр!J926","v":0},0]
[{"$f":"(Реестр!B927)+0","v":"00:00:00"},{"$f":"Реестр!AM927","v":0},{"$f":"Реестр!AZ927","v":0},{"$f":"Реестр!AN927","v":0},{"$f":"Реестр!G927","v":0},{"$f":"IF(Реестр!#REF!=\"I\",\"Ф152\",IF(Реестр!#REF!=\"II\",\"Ф127\",IF(Реестр!#REF!=\"III\",\"Ф127\",IF(Реестр!#REF!=\"IV\",\"Ф228\",IF(Реестр!#REF!=\"V\",\"Ф127\",\"\")))))","v":{"$error":"#REF!"}},{"$f":"Реестр!J927","v":0},0]
[{"$f":"(Реестр!B928)+0","v":"00:00:00"},{"$f":"Реестр!AM928","v":0},{"$f":"Реестр!AZ928","v":0},{"$f":"Реестр!AN928","v":0},{"$f":"Реестр!G928","v":0},{"$f":"IF(Реестр!#REF!=\"I\",\"Ф152\",IF(Реестр!#REF!=\"II\",\"Ф127\",IF(Реестр!#REF!=\"III\",\"Ф127\",IF(Реестр!#REF!=\"IV\",\"Ф228\",IF(Реестр!#REF!=\"V\",\"Ф127\",\"\")))))","v":{"$error":"#REF!"}},{"$f":"Реестр!J928","v":0},0]
[{"$f":"(Реестр!B929)+0","v":"00:00:00"},{"$f":"Реестр!AM929","v":0},{"$f":"Реестр!AZ929","v":0},{"$f":"Реестр!AN929","v":0},{"$f":"Реестр!G929","v":0},{"$f":"IF(Реестр!#REF!=\"I\",\"Ф152\",IF(Реестр!#REF!=\"II\",\"Ф127\",IF(Реестр!#REF!=\"III\",\"Ф127\",IF(Реестр!#REF!=\"IV\",\"Ф228\",IF(Реестр!#REF!=\"V\",\"Ф127\",\"\")))))","v":{"$error":"#REF!"}},{"$f":"Реестр!J929","v":0},0]
[{"$f":"(Реестр!B930)+0","v":"00:00:00"},{"$f":"Реестр!AM930","v":0},{"$f":"Реестр!AZ930","v":0},{"$f":"Реестр!AN930","v":0},{"$f":"Реестр!G930","v":0},{"$f":"IF(Реестр!#REF!=\"I\",\"Ф152\",IF(Реестр!#REF!=\"II\",\"Ф127\",IF(Реестр!#REF!=\"III\",\"Ф127\",IF(Реестр!#REF!=\"IV\",\"Ф228\",IF(Реестр!#REF!=\"V\",\"Ф127\",\"\")))))","v":{"$error":"#REF!"}},{"$f":"Реестр!J930","v":0},0]
[{"$f":"(Реестр!B931)+0","v":"00:00:00"},{"$f":"Реестр!AM931","v":0},{"$f":"Реестр!AZ931","v":0},{"$f":"Реестр!AN931","v":0},{"$f":"Реестр!G931","v":0},{"$f":"IF(Реестр!#REF!=\"I\",\"Ф152\",IF(Реестр!#REF!=\"II\",\"Ф127\",IF(Реестр!#REF!=\"III\",\"Ф127\",IF(Реестр!#REF!=\"IV\",\"Ф228\",IF(Реестр!#REF!=\"V\",\"Ф127\",\"\")))))","v":{"$error":"#REF!"}},{"$f":"Реестр!J931","v":0},0]
[{"$f":"(Реестр!B932)+0","v":"00:00:00"},{"$f":"Реестр!AM932","v":0},{"$f":"Реестр!AZ932","v":0},{"$f":"Реестр!AN932","v":0},{"$f":"Реестр!G932","v":0},{"$f":"IF(Реестр!#REF!=\"I\",\"Ф152\",IF(Реестр!#REF!=\"II\",\"Ф127\",IF(Реестр!#REF!=\"III\",\"Ф127\",IF(Реестр!#REF!=\"IV\",\"Ф228\",IF(Реестр!#REF!=\"V\",\"Ф127\",\"\")))))","v":{"$error":"#REF!"}},{"$f":"Реестр!J932","v":0},0]
[{"$f":"(Реестр!B933)+0","v":"00:00:00"},{"$f":"Реестр!AM933","v":0},{"$f":"Реестр!AZ933","v":0},{"$f":"Реестр!AN933","v":0},{"$f":"Реестр!G933","v":0},{"$f":"IF(Реестр!#REF!=\"I\",\"Ф152\",IF(Реестр!#REF!=\"II\",\"Ф127\",IF(Реестр!#REF!=\"III\",\"Ф127\",IF(Реестр!#REF!=\"IV\",\"Ф228\",IF(Реестр!#REF!=\"V\",\"Ф127\",\"\")))))","v":{"$error":"#REF!"}},{"$f":"Реестр!J933","v":0},0]
[{"$f":"(Реестр!B934)+0","v":"00:00:00"},{"$f":"Реестр!AM934","v":0},{"$f":"Реестр!AZ934","v":0},{"$f":"Реестр!AN934","v":0},{"$f":"Реестр!G934","v":0},{"$f":"IF(Реестр!#REF!=\"I\",\"Ф152\",IF(Реестр!#REF!=\"II\",\"Ф127\",IF(Реестр!#REF!=\"III\",\"Ф127\",IF(Реестр!#REF!=\"IV\",\"Ф228\",IF(Реестр!#REF!=\"V\",\"Ф127\",\"\")))))","v":{"$error":"#REF!"}},{"$f":"Реестр!J934","v":0},0]
[{"$f":"(Реестр!B935)+0","v":"00:00:00"},{"$f":"Реестр!AM935","v":0},{"$f":"Реестр!AZ935","v":0},{"$f":"Реестр!AN935","v":0},{"$f":"Реестр!G935","v":0},{"$f":"IF(Реестр!#REF!=\"I\",\"Ф152\",IF(Реестр!#REF!=\"II\",\"Ф127\",IF(Реестр!#REF!=\"III\",\"Ф127\",IF(Реестр!#REF!=\"IV\",\"Ф228\",IF(Реестр!#REF!=\"V\",\"Ф127\",\"\")))))","v":{"$error":"#REF!"}},{"$f":"Реестр!J935","v":0},0]
[{"$f":"(Реестр!B936)+0","v":"00:00:00"},{"$f":"Реестр!AM936","v":0},{"$f":"Реестр!AZ936","v":0},{"$f":"Реестр!AN936","v":0},{"$f":"Реестр!G936","v":0},{"$f":"IF(Реестр!#REF!=\"I\",\"Ф152\",IF(Реестр!#REF!=\"II\",\"Ф127\",IF(Реестр!#REF!=\"III\",\"Ф127\",IF(Реестр!#REF!=\"IV\",\"Ф228\",IF(Реестр!#REF!=\"V\",\"Ф127\",\"\")))))","v":{"$error":"#REF!"}},{"$f":"Реестр!J936","v":0},0]
[{"$f":"(Реестр!B937)+0","v":"00:00:00"},{"$f":"Реестр!AM937","v":0},{"$f":"Реестр!AZ937","v":0},{"$f":"Реестр!AN937","v":0},{"$f":"Реестр!G937","v":0},{"$f":"IF(Реестр!#REF!=\"I\",\"Ф152\",IF(Реестр!#REF!=\"II\",\"Ф127\",IF(Реестр!#REF!=\"III\",\"Ф127\",IF(Реестр!#REF!=\"IV\",\"Ф228\",IF(Реестр!#REF!=\"V\",\"Ф127\",\"\")))))","v":{"$error":"#REF!"}},{"$f":"Реестр!J937","v":0},0]
[{"$f":"(Реестр!B938)+0","v":"00:00:00"},{"$f":"Реестр!AM938","v":0},{"$f":"Реестр!AZ938","v":0},{"$f":"Реестр!AN938","v":0},{"$f":"Реестр!G938","v":0},{"$f":"IF(Реестр!#REF!=\"I\",\"Ф152\",IF(Реестр!#REF!=\"II\",\"Ф127\",IF(Реестр!#REF!=\"III\",\"Ф127\",IF(Реестр!#REF!=\"IV\",\"Ф228\",IF(Реестр!#REF!=\"V\",\"Ф127\",\"\")))))","v":{"$error":"#REF!"}},{"$f":"Реестр!J938","v":0},0]
[{"$f":"(Реестр!B939)+0","v":"00:00:00"},{"$f":"Реестр!AM939","v":0},{"$f":"Реестр!AZ939","v":0},{"$f":"Реестр!AN939","v":0},{"$f":"Реестр!G939","v":0},{"$f":"IF(Реестр!#REF!=\"I\",\"Ф152\",IF(Реестр!#REF!=\"II\",\"Ф127\",IF(Реестр!#REF!=\"III\",\"Ф127\",IF(Реестр!#REF!=\"IV\",\"Ф228\",IF(Реестр!#REF!=\"V\",\"Ф127\",\"\")))))","v":{"$error":"#REF!"}},{"$f":"Реестр!J939","v":0},0]
[{"$f":"(Реестр!B940)+0","v":"00:00:00"},{"$f":"Реестр!AM940","v":0},{"$f":"Реестр!AZ940","v":0},{"$f":"Реестр!AN940","v":0},{"$f":"Реестр!G940","v":0},{"$f":"IF(Реестр!#REF!=\"I\",\"Ф152\",IF(Реестр!#REF!=\"II\",\"Ф127\",IF(Реестр!#REF!=\"III\",\"Ф127\",IF(Реестр!#REF!=\"IV\",\"Ф228\",IF(Реестр!#REF!=\"V\",\"Ф127\",\"\")))))","v":{"$error":"#REF!"}},{"$f":"Реестр!J940","v":0},0]
[{"$f":"(Реестр!B941)+0","v":"00:00:00"},{"$f":"Реестр!AM941","v":0},{"$f":"Реестр!AZ941","v":0},{"$f":"Реестр!AN941","v":0},{"$f":"Реестр!G941","v":0},{"$f":"IF(Реестр!#REF!=\"I\",\"Ф152\",IF(Реестр!#REF!=\"II\",\"Ф127\",IF(Реестр!#REF!=\"III\",\"Ф127\",IF(Реестр!#REF!=\"IV\",\"Ф228\",IF(Реестр!#REF!=\"V\",\"Ф127\",\"\")))))","v":{"$error":"#REF!"}},{"$f":"Реестр!J941","v":0},0]
[{"$f":"(Реестр!B942)+0","v":"00:00:00"},{"$f":"Реестр!AM942","v":0},{"$f":"Реестр!AZ942","v":0},{"$f":"Реестр!AN942","v":0},{"$f":"Реестр!G942","v":0},{"$f":"IF(Реестр!#REF!=\"I\",\"Ф152\",IF(Реестр!#REF!=\"II\",\"Ф127\",IF(Реестр!#REF!=\"III\",\"Ф127\",IF(Реестр!#REF!=\"IV\",\"Ф228\",IF(Реестр!#REF!=\"V\",\"Ф127\",\"\")))))","v":{"$error":"#REF!"}},{"$f":"Реестр!J942","v":0},0]
[{"$f":"(Реестр!B943)+0","v":"00:00:00"},{"$f":"Реестр!AM943","v":0},{"$f":"Реестр!AZ943","v":0},{"$f":"Реестр!AN943","v":0},{"$f":"Реестр!G943","v":0},{"$f":"IF(Реестр!#REF!=\"I\",\"Ф152\",IF(Реестр!#REF!=\"II\",\"Ф127\",IF(Реестр!#REF!=\"III\",\"Ф127\",IF(Реестр!#REF!=\"IV\",\"Ф228\",IF(Реестр!#REF!=\"V\",\"Ф127\",\"\")))))","v":{"$error":"#REF!"}},{"$f":"Реестр!J943","v":0},0]
[{"$f":"(Реестр!B944)+0","v":"00:00:00"},{"$f":"Реестр!AM944","v":0},{"$f":"Реестр!AZ944","v":0},{"$f":"Реестр!AN944","v":0},{"$f":"Реестр!G944","v":0},{"$f":"IF(Реестр!#REF!=\"I\",\"Ф152\",IF(Реестр!#REF!=\"II\",\"Ф127\",IF(Реестр!#REF!=\"III\",\"Ф127\",IF(Реестр!#REF!=\"IV\",\"Ф228\",IF(Реестр!#REF!=\"V\",\"Ф127\",\"\")))))","v":{"$error":"#REF!"}},{"$f":"Реестр!J944","v":0},0]
[{"$f":"(Реестр!B945)+0","v":"00:00:00"},{"$f":"Реестр!AM945","v":0},{"$f":"Реестр!AZ945","v":0},{"$f":"Реестр!AN945","v":0},{"$f":"Реестр!G945","v":0},{"$f":"IF(Реестр!#REF!=\"I\",\"Ф152\",IF(Реестр!#REF!=\"II\",\"Ф127\",IF(Реестр!#REF!=\"III\",\"Ф127\",IF(Реестр!#REF!=\"IV\",\"Ф228\",IF(Реестр!#REF!=\"V\",\"Ф127\",\"\")))))","v":{"$error":"#REF!"}},{"$f":"Реестр!J945","v":0},0]
[{"$f":"(Реестр!B946)+0","v":"00:00:00"},{"$f":"Реестр!AM946","v":0},{"$f":"Реестр!AZ946","v":0},{"$f":"Реестр!AN946","v":0},{"$f":"Реестр!G946","v":0},{"$f":"IF(Реестр!#REF!=\"I\",\"Ф152\",IF(Реестр!#REF!=\"II\",\"Ф127\",IF(Реестр!#REF!=\"III\",\"Ф127\",IF(Реестр!#REF!=\"IV\",\"Ф228\",IF(Реестр!#REF!=\"V\",\"Ф127\",\"\")))))","v":{"$error":"#REF!"}},{"$f":"Реестр!J946","v":0},0]
[{"$f":"(Реестр!B947)+0","v":"00:00:00"},{"$f":"Реестр!AM947","v":0},{"$f":"Реестр!AZ947","v":0},{"$f":"Реестр!AN947","v":0},{"$f":"Реестр!G947","v":0},{"$f":"IF(Реестр!#REF!=\"I\",\"Ф152\",IF(Реестр!#REF!=\"II\",\"Ф127\",IF(Реестр!#REF!=\"III\",\"Ф127\",IF(Реестр!#REF!=\"IV\",\"Ф228\",IF(Реестр!#REF!=\"V\",\"Ф127\",\"\")))))","v":{"$error":"#REF!"}},{"$f":"Реестр!J947","v":0},0]
[{"$f":"(Реестр!B948)+0","v":"00:00:00"},{"$f":"Реестр!AM948","v":0},{"$f":"Реестр!AZ948","v":0},{"$f":"Реестр!AN948","v":0},{"$f":"Реестр!G948","v":0},{"$f":"IF(Реестр!#REF!=\"I\",\"Ф152\",IF(Реестр!#REF!=\"II\",\"Ф127\",IF(Реестр!#REF!=\"III\",\"Ф127\",IF(Реестр!#REF!=\"IV\",\"Ф228\",IF(Реестр!#REF!=\"V\",\"Ф127\",\"\")))))","v":{"$error":"#REF!"}},{"$f":"Реестр!J948","v":0},0]
[{"$f":"(Реестр!B949)+0","v":"00:00:00"},{"$f":"Реестр!AM949","v":0},{"$f":"Реестр!AZ949","v":0},{"$f":"Реестр!AN949","v":0},{"$f":"Реестр!G949","v":0},{"$f":"IF(Реестр!#REF!=\"I\",\"Ф152\",IF(Реестр!#REF!=\"II\",\"Ф127\",IF(Реестр!#REF!=\"III\",\"Ф127\",IF(Реестр!#REF!=\"IV\",\"Ф228\",IF(Реестр!#REF!=\"V\",\"Ф127\",\"\")))))","v":{"$error":"#REF!"}},{"$f":"Реестр!J949","v":0},0]
[{"$f":"(Реестр!B950)+0","v":"00:00:00"},{"$f":"Реестр!AM950","v":0},{"$f":"Реестр!AZ950","v":0},{"$f":"Реестр!AN950","v":0},{"$f":"Реестр!G950","v":0},{"$f":"IF(Реестр!#REF!=\"I\",\"Ф152\",IF(Реестр!#REF!=\"II\",\"Ф127\",IF(Реестр!#REF!=\"III\",\"Ф127\",IF(Реестр!#REF!=\"IV\",\"Ф228\",IF(Реестр!#REF!=\"V\",\"Ф127\",\"\")))))","v":{"$error":"#REF!"}},{"$f":"Реестр!J950","v":0},0]
[{"$f":"(Реестр!B951)+0","v":"00:00:00"},{"$f":"Реестр!AM951","v":0},{"$f":"Реестр!AZ951","v":0},{"$f":"Реестр!AN951","v":0},{"$f":"Реестр!G951","v":0},{"$f":"IF(Реестр!#REF!=\"I\",\"Ф152\",IF(Реестр!#REF!=\"II\",\"Ф127\",IF(Реестр!#REF!=\"III\",\"Ф127\",IF(Реестр!#REF!=\"IV\",\"Ф228\",IF(Реестр!#REF!=\"V\",\"Ф127\",\"\")))))","v":{"$error":"#REF!"}},{"$f":"Реестр!J951","v":0},0]
[{"$f":"(Реестр!B952)+0","v":"00:00:00"},{"$f":"Реестр!AM952","v":0},{"$f":"Реестр!AZ952","v":0},{"$f":"Реестр!AN952","v":0},{"$f":"Реестр!G952","v":0},{"$f":"IF(Реестр!#REF!=\"I\",\"Ф152\",IF(Реестр!#REF!=\"II\",\"Ф127\",IF(Реестр!#REF!=\"III\",\"Ф127\",IF(Реестр!#REF!=\"IV\",\"Ф228\",IF(Реестр!#REF!=\"V\",\"Ф127\",\"\")))))","v":{"$error":"#REF!"}},{"$f":"Реестр!J952","v":0},0]
[{"$f":"(Реестр!B953)+0","v":"00:00:00"},{"$f":"Реестр!AM953","v":0},{"$f":"Реестр!AZ953","v":0},{"$f":"Реестр!AN953","v":0},{"$f":"Реестр!G953","v":0},{"$f":"IF(Реестр!#REF!=\"I\",\"Ф152\",IF(Реестр!#REF!=\"II\",\"Ф127\",IF(Реестр!#REF!=\"III\",\"Ф127\",IF(Реестр!#REF!=\"IV\",\"Ф228\",IF(Реестр!#REF!=\"V\",\"Ф127\",\"\")))))","v":{"$error":"#REF!"}},{"$f":"Реестр!J953","v":0},0]
[{"$f":"(Реестр!B954)+0","v":"00:00:00"},{"$f":"Реестр!AM954","v":0},{"$f":"Реестр!AZ954","v":0},{"$f":"Реестр!AN954","v":0},{"$f":"Реестр!G954","v":0},{"$f":"IF(Реестр!#REF!=\"I\",\"Ф152\",IF(Реестр!#REF!=\"II\",\"Ф127\",IF(Реестр!#REF!=\"III\",\"Ф127\",IF(Реестр!#REF!=\"IV\",\"Ф228\",IF(Реестр!#REF!=\"V\",\"Ф127\",\"\")))))","v":{"$error":"#REF!"}},{"$f":"Реестр!J954","v":0},0]
[{"$f":"(Реестр!B955)+0","v":"00:00:00"},{"$f":"Реестр!AM955","v":0},{"$f":"Реестр!AZ955","v":0},{"$f":"Реестр!AN955","v":0},{"$f":"Реестр!G955","v":0},{"$f":"IF(Реестр!#REF!=\"I\",\"Ф152\",IF(Реестр!#REF!=\"II\",\"Ф127\",IF(Реестр!#REF!=\"III\",\"Ф127\",IF(Реестр!#REF!=\"IV\",\"Ф228\",IF(Реестр!#REF!=\"V\",\"Ф127\",\"\")))))","v":{"$error":"#REF!"}},{"$f":"Реестр!J955","v":0},0]
[{"$f":"(Реестр!B956)+0","v":"00:00:00"},{"$f":"Реестр!AM956","v":0},{"$f":"Реестр!AZ956","v":0},{"$f":"Реестр!AN956","v":0},{"$f":"Реестр!G956","v":0},{"$f":"IF(Реестр!#REF!=\"I\",\"Ф152\",IF(Реестр!#REF!=\"II\",\"Ф127\",IF(Реестр!#REF!=\"III\",\"Ф127\",IF(Реестр!#REF!=\"IV\",\"Ф228\",IF(Реестр!#REF!=\"V\",\"Ф127\",\"\")))))","v":{"$error":"#REF!"}},{"$f":"Реестр!J956","v":0},0]
[{"$f":"(Реестр!B957)+0","v":"00:00:00"},{"$f":"Реестр!AM957","v":0},{"$f":"Реестр!AZ957","v":0},{"$f":"Реестр!AN957","v":0},{"$f":"Реестр!G957","v":0},{"$f":"IF(Реестр!#REF!=\"I\",\"Ф152\",IF(Реестр!#REF!=\"II\",\"Ф127\",IF(Реестр!#REF!=\"III\",\"Ф127\",IF(Реестр!#REF!=\"IV\",\"Ф228\",IF(Реестр!#REF!=\"V\",\"Ф127\",\"\")))))","v":{"$error":"#REF!"}},{"$f":"Реестр!J957","v":0},0]
[{"$f":"(Реестр!B958)+0","v":"00:00:00"},{"$f":"Реестр!AM958","v":0},{"$f":"Реестр!AZ958","v":0},{"$f":"Реестр!AN958","v":0},{"$f":"Реестр!G958","v":0},{"$f":"IF(Реестр!#REF!=\"I\",\"Ф152\",IF(Реестр!#REF!=\"II\",\"Ф127\",IF(Реестр!#REF!=\"III\",\"Ф127\",IF(Реестр!#REF!=\"IV\",\"Ф228\",IF(Реестр!#REF!=\"V\",\"Ф127\",\"\")))))","v":{"$error":"#REF!"}},{"$f":"Реестр!J958","v":0},0]
[{"$f":"(Реестр!B959)+0","v":"00:00:00"},{"$f":"Реестр!AM959","v":0},{"$f":"Реестр!AZ959","v":0},{"$f":"Реестр!AN959","v":0},{"$f":"Реестр!G959","v":0},{"$f":"IF(Реестр!#REF!=\"I\",\"Ф152\",IF(Реестр!#REF!=\"II\",\"Ф127\",IF(Реестр!#REF!=\"III\",\"Ф127\",IF(Реестр!#REF!=\"IV\",\"Ф228\",IF(Реестр!#REF!=\"V\",\"Ф127\",\"\")))))","v":{"$error":"#REF!"}},{"$f":"Реестр!J959","v":0},{"$f":"E393*G393","v":0}]
[{"$f":"(Реестр!B960)+0","v":"00:00:00"},{"$f":"Реестр!AM960","v":0},{"$f":"Реестр!AZ960","v":0},{"$f":"Реестр!AN960","v":0},{"$f":"Реестр!G960","v":0},{"$f":"IF(Реестр!#REF!=\"I\",\"Ф152\",IF(Реестр!#REF!=\"II\",\"Ф127\",IF(Реестр!#REF!=\"III\",\"Ф127\",IF(Реестр!#REF!=\"IV\",\"Ф228\",IF(Реестр!#REF!=\"V\",\"Ф127\",\"\")))))","v":{"$error":"#REF!"}},{"$f":"Реестр!J960","v":0},0]
[{"$f":"(Реестр!B961)+0","v":"00:00:00"},{"$f":"Реестр!AM961","v":0},{"$f":"Реестр!AZ961","v":0},{"$f":"Реестр!AN961","v":0},{"$f":"Реестр!G961","v":0},{"$f":"IF(Реестр!#REF!=\"I\",\"Ф152\",IF(Реестр!#REF!=\"II\",\"Ф127\",IF(Реестр!#REF!=\"III\",\"Ф127\",IF(Реестр!#REF!=\"IV\",\"Ф228\",IF(Реестр!#REF!=\"V\",\"Ф127\",\"\")))))","v":{"$error":"#REF!"}},{"$f":"Реестр!J961","v":0},0]
[{"$f":"(Реестр!B962)+0","v":"00:00:00"},{"$f":"Реестр!AM962","v":0},{"$f":"Реестр!AZ962","v":0},{"$f":"Реестр!AN962","v":0},{"$f":"Реестр!G962","v":0},{"$f":"IF(Реестр!#REF!=\"I\",\"Ф152\",IF(Реестр!#REF!=\"II\",\"Ф127\",IF(Реестр!#REF!=\"III\",\"Ф127\",IF(Реестр!#REF!=\"IV\",\"Ф228\",IF(Реестр!#REF!=\"V\",\"Ф127\",\"\")))))","v":{"$error":"#REF!"}},{"$f":"Реестр!J962","v":0},0]
[{"$f":"(Реестр!B963)+0","v":"00:00:00"},{"$f":"Реестр!AM963","v":0},{"$f":"Реестр!AZ963","v":0},{"$f":"Реестр!AN963","v":0},{"$f":"Реестр!G963","v":0},{"$f":"IF(Реестр!#REF!=\"I\",\"Ф152\",IF(Реестр!#REF!=\"II\",\"Ф127\",IF(Реестр!#REF!=\"III\",\"Ф127\",IF(Реестр!#REF!=\"IV\",\"Ф228\",IF(Реестр!#REF!=\"V\",\"Ф127\",\"\")))))","v":{"$error":"#REF!"}},{"$f":"Реестр!J963","v":0},0]
[{"$f":"(Реестр!B964)+0","v":"00:00:00"},{"$f":"Реестр!AM964","v":0},{"$f":"Реестр!AZ964","v":0},{"$f":"Реестр!AN964","v":0},{"$f":"Реестр!G964","v":0},{"$f":"IF(Реестр!#REF!=\"I\",\"Ф152\",IF(Реестр!#REF!=\"II\",\"Ф127\",IF(Реестр!#REF!=\"III\",\"Ф127\",IF(Реестр!#REF!=\"IV\",\"Ф228\",IF(Реестр!#REF!=\"V\",\"Ф127\",\"\")))))","v":{"$error":"#REF!"}},{"$f":"Реестр!J964","v":0},0]
[{"$f":"(Реестр!B965)+0","v":"00:00:00"},{"$f":"Реестр!AM965","v":0},{"$f":"Реестр!AZ965","v":0},{"$f":"Реестр!AN965","v":0},{"$f":"Реестр!G965","v":0},{"$f":"IF(Реестр!#REF!=\"I\",\"Ф152\",IF(Реестр!#REF!=\"II\",\"Ф127\",IF(Реестр!#REF!=\"III\",\"Ф127\",IF(Реестр!#REF!=\"IV\",\"Ф228\",IF(Реестр!#REF!=\"V\",\"Ф127\",\"\")))))","v":{"$error":"#REF!"}},{"$f":"Реестр!J965","v":0},0]
[{"$f":"(Реестр!B966)+0","v":"00:00:00"},{"$f":"Реестр!AM966","v":0},{"$f":"Реестр!AZ966","v":0},{"$f":"Реестр!AN966","v":0},{"$f":"Реестр!G966","v":0},{"$f":"IF(Реестр!#REF!=\"I\",\"Ф152\",IF(Реестр!#REF!=\"II\",\"Ф127\",IF(Реестр!#REF!=\"III\",\"Ф127\",IF(Реестр!#REF!=\"IV\",\"Ф228\",IF(Реестр!#REF!=\"V\",\"Ф127\",\"\")))))","v":{"$error":"#REF!"}},{"$f":"Реестр!J966","v":0},0]
[{"$f":"(Реестр!B967)+0","v":"00:00:00"},{"$f":"Реестр!AM967","v":0},{"$f":"Реестр!AZ967","v":0},{"$f":"Реестр!AN967","v":0},{"$f":"Реестр!G967","v":0},{"$f":"IF(Реестр!#REF!=\"I\",\"Ф152\",IF(Реестр!#REF!=\"II\",\"Ф127\",IF(Реестр!#REF!=\"III\",\"Ф127\",IF(Реестр!#REF!=\"IV\",\"Ф228\",IF(Реестр!#REF!=\"V\",\"Ф127\",\"\")))))","v":{"$error":"#REF!"}},{"$f":"Реестр!J967","v":0},0]
[{"$f":"(Реестр!B968)+0","v":"00:00:00"},{"$f":"Реестр!AM968","v":0},{"$f":"Реестр!AZ968","v":0},{"$f":"Реестр!AN968","v":0},{"$f":"Реестр!G968","v":0},{"$f":"IF(Реестр!#REF!=\"I\",\"Ф152\",IF(Реестр!#REF!=\"II\",\"Ф127\",IF(Реестр!#REF!=\"III\",\"Ф127\",IF(Реестр!#REF!=\"IV\",\"Ф228\",IF(Реестр!#REF!=\"V\",\"Ф127\",\"\")))))","v":{"$error":"#REF!"}},{"$f":"Реестр!J968","v":0},0]
[{"$f":"(Реестр!B969)+0","v":"00:00:00"},{"$f":"Реестр!AM969","v":0},{"$f":"Реестр!AZ969","v":0},{"$f":"Реестр!AN969","v":0},{"$f":"Реестр!G969","v":0},{"$f":"IF(Реестр!#REF!=\"I\",\"Ф152\",IF(Реестр!#REF!=\"II\",\"Ф127\",IF(Реестр!#REF!=\"III\",\"Ф127\",IF(Реестр!#REF!=\"IV\",\"Ф228\",IF(Реестр!#REF!=\"V\",\"Ф127\",\"\")))))","v":{"$error":"#REF!"}},{"$f":"Реестр!J969","v":0},0]
[{"$f":"(Реестр!B970)+0","v":"00:00:00"},{"$f":"Реестр!AM970","v":0},{"$f":"Реестр!AZ970","v":0},{"$f":"Реестр!AN970","v":0},{"$f":"Реестр!G970","v":0},{"$f":"IF(Реестр!#REF!=\"I\",\"Ф152\",IF(Реестр!#REF!=\"II\",\"Ф127\",IF(Реестр!#REF!=\"III\",\"Ф127\",IF(Реестр!#REF!=\"IV\",\"Ф228\",IF(Реестр!#REF!=\"V\",\"Ф127\",\"\")))))","v":{"$error":"#REF!"}},{"$f":"Реестр!J970","v":0},0]
[{"$f":"(Реестр!B971)+0","v":"00:00:00"},{"$f":"Реестр!AM971","v":0},{"$f":"Реестр!AZ971","v":0},{"$f":"Реестр!AN971","v":0},{"$f":"Реестр!G971","v":0},{"$f":"IF(Реестр!#REF!=\"I\",\"Ф152\",IF(Реестр!#REF!=\"II\",\"Ф127\",IF(Реестр!#REF!=\"III\",\"Ф127\",IF(Реестр!#REF!=\"IV\",\"Ф228\",IF(Реестр!#REF!=\"V\",\"Ф127\",\"\")))))","v":{"$error":"#REF!"}},{"$f":"Реестр!J971","v":0},0]
[{"$f":"(Реестр!B972)+0","v":"00:00:00"},{"$f":"Реестр!AM972","v":0},{"$f":"Реестр!AZ972","v":0},{"$f":"Реестр!AN972","v":0},{"$f":"Реестр!G972","v":0},{"$f":"IF(Реестр!#REF!=\"I\",\"Ф152\",IF(Реестр!#REF!=\"II\",\"Ф127\",IF(Реестр!#REF!=\"III\",\"Ф127\",IF(Реестр!#REF!=\"IV\",\"Ф228\",IF(Реестр!#REF!=\"V\",\"Ф127\",\"\")))))","v":{"$error":"#REF!"}},{"$f":"Реестр!J972","v":0},0]
[{"$f":"(Реестр!B973)+0","v":"00:00:00"},{"$f":"Реестр!AM973","v":0},{"$f":"Реестр!AZ973","v":0},{"$f":"Реестр!AN973","v":0},{"$f":"Реестр!G973","v":0},{"$f":"IF(Реестр!#REF!=\"I\",\"Ф152\",IF(Реестр!#REF!=\"II\",\"Ф127\",IF(Реестр!#REF!=\"III\",\"Ф127\",IF(Реестр!#REF!=\"IV\",\"Ф228\",IF(Реестр!#REF!=\"V\",\"Ф127\",\"\")))))","v":{"$error":"#REF!"}},{"$f":"Реестр!J973","v":0},0]
[{"$f":"(Реестр!B974)+0","v":"00:00:00"},{"$f":"Реестр!AM974","v":0},{"$f":"Реестр!AZ974","v":0},{"$f":"Реестр!AN974","v":0},{"$f":"Реестр!G974","v":0},{"$f":"IF(Реестр!#REF!=\"I\",\"Ф152\",IF(Реестр!#REF!=\"II\",\"Ф127\",IF(Реестр!#REF!=\"III\",\"Ф127\",IF(Реестр!#REF!=\"IV\",\"Ф228\",IF(Реестр!#REF!=\"V\",\"Ф127\",\"\")))))","v":{"$error":"#REF!"}},{"$f":"Реестр!J974","v":0},0]
[{"$f":"(Реестр!B975)+0","v":"00:00:00"},{"$f":"Реестр!AM975","v":0},{"$f":"Реестр!AZ975","v":0},{"$f":"Реестр!AN975","v":0},{"$f":"Реестр!G975","v":0},{"$f":"IF(Реестр!#REF!=\"I\",\"Ф152\",IF(Реестр!#REF!=\"II\",\"Ф127\",IF(Реестр!#REF!=\"III\",\"Ф127\",IF(Реестр!#REF!=\"IV\",\"Ф228\",IF(Реестр!#REF!=\"V\",\"Ф127\",\"\")))))","v":{"$error":"#REF!"}},{"$f":"Реестр!J975","v":0},0]
[{"$f":"(Реестр!B976)+0","v":"00:00:00"},{"$f":"Реестр!AM976","v":0},{"$f":"Реестр!AZ976","v":0},{"$f":"Реестр!AN976","v":0},{"$f":"Реестр!G976","v":0},{"$f":"IF(Реестр!#REF!=\"I\",\"Ф152\",IF(Реестр!#REF!=\"II\",\"Ф127\",IF(Реестр!#REF!=\"III\",\"Ф127\",IF(Реестр!#REF!=\"IV\",\"Ф228\",IF(Реестр!#REF!=\"V\",\"Ф127\",\"\")))))","v":{"$error":"#REF!"}},{"$f":"Реестр!J976","v":0},0]
[{"$f":"(Реестр!B977)+0","v":"00:00:00"},{"$f":"Реестр!AM977","v":0},{"$f":"Реестр!AZ977","v":0},{"$f":"Реестр!AN977","v":0},{"$f":"Реестр!G977","v":0},{"$f":"IF(Реестр!#REF!=\"I\",\"Ф152\",IF(Реестр!#REF!=\"II\",\"Ф127\",IF(Реестр!#REF!=\"III\",\"Ф127\",IF(Реестр!#REF!=\"IV\",\"Ф228\",IF(Реестр!#REF!=\"V\",\"Ф127\",\"\")))))","v":{"$error":"#REF!"}},{"$f":"Реестр!J977","v":0},0]
[{"$f":"(Реестр!B978)+0","v":"00:00:00"},{"$f":"Реестр!AM978","v":0},{"$f":"Реестр!AZ978","v":0},{"$f":"Реестр!AN978","v":0},{"$f":"Реестр!G978","v":0},{"$f":"IF(Реестр!#REF!=\"I\",\"Ф152\",IF(Реестр!#REF!=\"II\",\"Ф127\",IF(Реестр!#REF!=\"III\",\"Ф127\",IF(Реестр!#REF!=\"IV\",\"Ф228\",IF(Реестр!#REF!=\"V\",\"Ф127\",\"\")))))","v":{"$error":"#REF!"}},{"$f":"Реестр!J978","v":0},0]
[{"$f":"(Реестр!B979)+0","v":"00:00:00"},{"$f":"Реестр!AM979","v":0},{"$f":"Реестр!AZ979","v":0},{"$f":"Реестр!AN979","v":0},{"$f":"Реестр!G979","v":0},{"$f":"IF(Реестр!#REF!=\"I\",\"Ф152\",IF(Реестр!#REF!=\"II\",\"Ф127\",IF(Реестр!#REF!=\"III\",\"Ф127\",IF(Реестр!#REF!=\"IV\",\"Ф228\",IF(Реестр!#REF!=\"V\",\"Ф127\",\"\")))))","v":{"$error":"#REF!"}},{"$f":"Реестр!J979","v":0},0]
[{"$f":"(Реестр!B980)+0","v":"00:00:00"},{"$f":"Реестр!AM980","v":0},{"$f":"Реестр!AZ980","v":0},{"$f":"Реестр!AN980","v":0},{"$f":"Реестр!G980","v":0},{"$f":"IF(Реестр!#REF!=\"I\",\"Ф152\",IF(Реестр!#REF!=\"II\",\"Ф127\",IF(Реестр!#REF!=\"III\",\"Ф127\",IF(Реестр!#REF!=\"IV\",\"Ф228\",IF(Реестр!#REF!=\"V\",\"Ф127\",\"\")))))","v":{"$error":"#REF!"}},{"$f":"Реестр!J980","v":0},0]
[{"$f":"(Реестр!B981)+0","v":"00:00:00"},{"$f":"Реестр!AM981","v":0},{"$f":"Реестр!AZ981","v":0},{"$f":"Реестр!AN981","v":0},{"$f":"Реестр!G981","v":0},{"$f":"IF(Реестр!#REF!=\"I\",\"Ф152\",IF(Реестр!#REF!=\"II\",\"Ф127\",IF(Реестр!#REF!=\"III\",\"Ф127\",IF(Реестр!#REF!=\"IV\",\"Ф228\",IF(Реестр!#REF!=\"V\",\"Ф127\",\"\")))))","v":{"$error":"#REF!"}},{"$f":"Реестр!J981","v":0},0]
[{"$f":"(Реестр!B982)+0","v":"00:00:00"},{"$f":"Реестр!AM982","v":0},{"$f":"Реестр!AZ982","v":0},{"$f":"Реестр!AN982","v":0},{"$f":"Реестр!G982","v":0},{"$f":"IF(Реестр!#REF!=\"I\",\"Ф152\",IF(Реестр!#REF!=\"II\",\"Ф127\",IF(Реестр!#REF!=\"III\",\"Ф127\",IF(Реестр!#REF!=\"IV\",\"Ф228\",IF(Реестр!#REF!=\"V\",\"Ф127\",\"\")))))","v":{"$error":"#REF!"}},{"$f":"Реестр!J982","v":0},0]
[{"$f":"(Реестр!B983)+0","v":"00:00:00"},{"$f":"Реестр!AM983","v":0},{"$f":"Реестр!AZ983","v":0},{"$f":"Реестр!AN983","v":0},{"$f":"Реестр!G983","v":0},{"$f":"IF(Реестр!#REF!=\"I\",\"Ф152\",IF(Реестр!#REF!=\"II\",\"Ф127\",IF(Реестр!#REF!=\"III\",\"Ф127\",IF(Реестр!#REF!=\"IV\",\"Ф228\",IF(Реестр!#REF!=\"V\",\"Ф127\",\"\")))))","v":{"$error":"#REF!"}},{"$f":"Реестр!J983","v":0},0]
[{"$f":"(Реестр!B984)+0","v":"00:00:00"},{"$f":"Реестр!AM984","v":0},{"$f":"Реестр!AZ984","v":0},{"$f":"Реестр!AN984","v":0},{"$f":"Реестр!G984","v":0},{"$f":"IF(Реестр!#REF!=\"I\",\"Ф152\",IF(Реестр!#REF!=\"II\",\"Ф127\",IF(Реестр!#REF!=\"III\",\"Ф127\",IF(Реестр!#REF!=\"IV\",\"Ф228\",IF(Реестр!#REF!=\"V\",\"Ф127\",\"\")))))","v":{"$error":"#REF!"}},{"$f":"Реестр!J984","v":0},0]
[{"$f":"(Реестр!B985)+0","v":"00:00:00"},{"$f":"Реестр!AM985","v":0},{"$f":"Реестр!AZ985","v":0},{"$f":"Реестр!AN985","v":0},{"$f":"Реестр!G985","v":0},{"$f":"IF(Реестр!#REF!=\"I\",\"Ф152\",IF(Реестр!#REF!=\"II\",\"Ф127\",IF(Реестр!#REF!=\"III\",\"Ф127\",IF(Реестр!#REF!=\"IV\",\"Ф228\",IF(Реестр!#REF!=\"V\",\"Ф127\",\"\")))))","v":{"$error":"#REF!"}},{"$f":"Реестр!J985","v":0},0]
[{"$f":"(Реестр!B986)+0","v":"00:00:00"},{"$f":"Реестр!AM986","v":0},{"$f":"Реестр!AZ986","v":0},{"$f":"Реестр!AN986","v":0},{"$f":"Реестр!G986","v":0},{"$f":"IF(Реестр!#REF!=\"I\",\"Ф152\",IF(Реестр!#REF!=\"II\",\"Ф127\",IF(Реестр!#REF!=\"III\",\"Ф127\",IF(Реестр!#REF!=\"IV\",\"Ф228\",IF(Реестр!#REF!=\"V\",\"Ф127\",\"\")))))","v":{"$error":"#REF!"}},{"$f":"Реестр!J986","v":0},0]
[{"$f":"(Реестр!B987)+0","v":"00:00:00"},{"$f":"Реестр!AM987","v":0},{"$f":"Реестр!AZ987","v":0},{"$f":"Реестр!AN987","v":0},{"$f":"Реестр!G987","v":0},{"$f":"IF(Реестр!#REF!=\"I\",\"Ф152\",IF(Реестр!#REF!=\"II\",\"Ф127\",IF(Реестр!#REF!=\"III\",\"Ф127\",IF(Реестр!#REF!=\"IV\",\"Ф228\",IF(Реестр!#REF!=\"V\",\"Ф127\",\"\")))))","v":{"$error":"#REF!"}},{"$f":"Реестр!J987","v":0},0]
[{"$f":"(Реестр!B988)+0","v":"00:00:00"},{"$f":"Реестр!AM988","v":0},{"$f":"Реестр!AZ988","v":0},{"$f":"Реестр!AN988","v":0},{"$f":"Реестр!G988","v":0},{"$f":"IF(Реестр!#REF!=\"I\",\"Ф152\",IF(Реестр!#REF!=\"II\",\"Ф127\",IF(Реестр!#REF!=\"III\",\"Ф127\",IF(Реестр!#REF!=\"IV\",\"Ф228\",IF(Реестр!#REF!=\"V\",\"Ф127\",\"\")))))","v":{"$error":"#REF!"}},{"$f":"Реестр!J988","v":0},0]
[{"$f":"(Реестр!B989)+0","v":"00:00:00"},{"$f":"Реестр!AM989","v":0},{"$f":"Реестр!AZ989","v":0},{"$f":"Реестр!AN989","v":0},{"$f":"Реестр!G989","v":0},{"$f":"IF(Реестр!#REF!=\"I\",\"Ф152\",IF(Реестр!#REF!=\"II\",\"Ф127\",IF(Реестр!#REF!=\"III\",\"Ф127\",IF(Реестр!#REF!=\"IV\",\"Ф228\",IF(Реестр!#REF!=\"V\",\"Ф127\",\"\")))))","v":{"$error":"#REF!"}},{"$f":"Реестр!J989","v":0},0]
[{"$f":"(Реестр!B990)+0","v":"00:00:00"},{"$f":"Реестр!AM990","v":0},{"$f":"Реестр!AZ990","v":0},{"$f":"Реестр!AN990","v":0},{"$f":"Реестр!G990","v":0},{"$f":"IF(Реестр!#REF!=\"I\",\"Ф152\",IF(Реестр!#REF!=\"II\",\"Ф127\",IF(Реестр!#REF!=\"III\",\"Ф127\",IF(Реестр!#REF!=\"IV\",\"Ф228\",IF(Реестр!#REF!=\"V\",\"Ф127\",\"\")))))","v":{"$error":"#REF!"}},{"$f":"Реестр!J990","v":0},0]
[{"$f":"(Реестр!B991)+0","v":"00:00:00"},{"$f":"Реестр!AM991","v":0},{"$f":"Реестр!AZ991","v":0},{"$f":"Реестр!AN991","v":0},{"$f":"Реестр!G991","v":0},{"$f":"IF(Реестр!#REF!=\"I\",\"Ф152\",IF(Реестр!#REF!=\"II\",\"Ф127\",IF(Реестр!#REF!=\"III\",\"Ф127\",IF(Реестр!#REF!=\"IV\",\"Ф228\",IF(Реестр!#REF!=\"V\",\"Ф127\",\"\")))))","v":{"$error":"#REF!"}},{"$f":"Реестр!J991","v":0},0]
[{"$f":"(Реестр!B992)+0","v":"00:00:00"},{"$f":"Реестр!AM992","v":0},{"$f":"Реестр!AZ992","v":0},{"$f":"Реестр!AN992","v":0},{"$f":"Реестр!G992","v":0},{"$f":"IF(Реестр!#REF!=\"I\",\"Ф152\",IF(Реестр!#REF!=\"II\",\"Ф127\",IF(Реестр!#REF!=\"III\",\"Ф127\",IF(Реестр!#REF!=\"IV\",\"Ф228\",IF(Реестр!#REF!=\"V\",\"Ф127\",\"\")))))","v":{"$error":"#REF!"}},{"$f":"Реестр!J992","v":0},0]
[{"$f":"(Реестр!B993)+0","v":"00:00:00"},{"$f":"Реестр!AM993","v":0},{"$f":"Реестр!AZ993","v":0},{"$f":"Реестр!AN993","v":0},{"$f":"Реестр!G993","v":0},{"$f":"IF(Реестр!#REF!=\"I\",\"Ф152\",IF(Реестр!#REF!=\"II\",\"Ф127\",IF(Реестр!#REF!=\"III\",\"Ф127\",IF(Реестр!#REF!=\"IV\",\"Ф228\",IF(Реестр!#REF!=\"V\",\"Ф127\",\"\")))))","v":{"$error":"#REF!"}},{"$f":"Реестр!J993","v":0},0]
[{"$f":"(Реестр!B994)+0","v":"00:00:00"},{"$f":"Реестр!AM994","v":0},{"$f":"Реестр!AZ994","v":0},{"$f":"Реестр!AN994","v":0},{"$f":"Реестр!G994","v":0},{"$f":"IF(Реестр!#REF!=\"I\",\"Ф152\",IF(Реестр!#REF!=\"II\",\"Ф127\",IF(Реестр!#REF!=\"III\",\"Ф127\",IF(Реестр!#REF!=\"IV\",\"Ф228\",IF(Реестр!#REF!=\"V\",\"Ф127\",\"\")))))","v":{"$error":"#REF!"}},{"$f":"Реестр!J994","v":0},0]
[{"$f":"(Реестр!B995)+0","v":"00:00:00"},{"$f":"Реестр!AM995","v":0},{"$f":"Реестр!AZ995","v":0},{"$f":"Реестр!AN995","v":0},{"$f":"Реестр!G995","v":0},{"$f":"IF(Реестр!#REF!=\"I\",\"Ф152\",IF(Реестр!#REF!=\"II\",\"Ф127\",IF(Реестр!#REF!=\"III\",\"Ф127\",IF(Реестр!#REF!=\"IV\",\"Ф228\",IF(Реестр!#REF!=\"V\",\"Ф127\",\"\")))))","v":{"$error":"#REF!"}},{"$f":"Реестр!J995","v":0},0]
[{"$f":"(Реестр!B996)+0","v":"00:00:00"},{"$f":"Реестр!AM996","v":0},{"$f":"Реестр!AZ996","v":0},{"$f":"Реестр!AN996","v":0},{"$f":"Реестр!G996","v":0},{"$f":"IF(Реестр!#REF!=\"I\",\"Ф152\",IF(Реестр!#REF!=\"II\",\"Ф127\",IF(Реестр!#REF!=\"III\",\"Ф127\",IF(Реестр!#REF!=\"IV\",\"Ф228\",IF(Реестр!#REF!=\"V\",\"Ф127\",\"\")))))","v":{"$error":"#REF!"}},{"$f":"Реестр!J996","v":0},0]
[{"$f":"(Реестр!B997)+0","v":"00:00:00"},{"$f":"Реестр!AM997","v":0},{"$f":"Реестр!AZ997","v":0},{"$f":"Реестр!AN997","v":0},{"$f":"Реестр!G997","v":0},{"$f":"IF(Реестр!#REF!=\"I\",\"Ф152\",IF(Реестр!#REF!=\"II\",\"Ф127\",IF(Реестр!#REF!=\"III\",\"Ф127\",IF(Реестр!#REF!=\"IV\",\"Ф228\",IF(Реестр!#REF!=\"V\",\"Ф127\",\"\")))))","v":{"$error":"#REF!"}},{"$f":"Реестр!J997","v":0},0]
[{"$f":"(Реестр!B998)+0","v":"00:00:00"},{"$f":"Реестр!AM998","v":0},{"$f":"Реестр!AZ998","v":0},{"$f":"Реестр!AN998","v":0},{"$f":"Реестр!G998","v":0},{"$f":"IF(Реестр!#REF!=\"I\",\"Ф152\",IF(Реестр!#REF!=\"II\",\"Ф127\",IF(Реестр!#REF!=\"III\",\"Ф127\",IF(Реестр!#REF!=\"IV\",\"Ф228\",IF(Реестр!#REF!=\"V\",\"Ф127\",\"\")))))","v":{"$error":"#REF!"}},{"$f":"Реестр!J998","v":0},0]
[{"$f":"(Реестр!B999)+0","v":"00:00:00"},{"$f":"Реестр!AM999","v":0},{"$f":"Реестр!AZ999","v":0},{"$f":"Реестр!AN999","v":0},{"$f":"Реестр!G999","v":0},{"$f":"IF(Реестр!#REF!=\"I\",\"Ф152\",IF(Реестр!#REF!=\"II\",\"Ф127\",IF(Реестр!#REF!=\"III\",\"Ф127\",IF(Реестр!#REF!=\"IV\",\"Ф228\",IF(Реестр!#REF!=\"V\",\"Ф127\",\"\")))))","v":{"$error":"#REF!"}},{"$f":"Реестр!J999","v":0},0]
[{"$f":"(Реестр!B1000)+0","v":"00:00:00"},{"$f":"Реестр!AM1000","v":0},{"$f":"Реестр!AZ1000","v":0},{"$f":"Реестр!AN1000","v":0},{"$f":"Реестр!G1000","v":0},{"$f":"IF(Реестр!#REF!=\"I\",\"Ф152\",IF(Реестр!#REF!=\"II\",\"Ф127\",IF(Реестр!#REF!=\"III\",\"Ф127\",IF(Реестр!#REF!=\"IV\",\"Ф228\",IF(Реестр!#REF!=\"V\",\"Ф127\",\"\")))))","v":{"$error":"#REF!"}},{"$f":"Реестр!J1000","v":0},0]
[{"$f":"(Реестр!B1001)+0","v":"00:00:00"},{"$f":"Реестр!AM1001","v":0},{"$f":"Реестр!AZ1001","v":0},{"$f":"Реестр!AN1001","v":0},{"$f":"Реестр!G1001","v":0},{"$f":"IF(Реестр!#REF!=\"I\",\"Ф152\",IF(Реестр!#REF!=\"II\",\"Ф127\",IF(Реестр!#REF!=\"III\",\"Ф127\",IF(Реестр!#REF!=\"IV\",\"Ф228\",IF(Реестр!#REF!=\"V\",\"Ф127\",\"\")))))","v":{"$error":"#REF!"}},{"$f":"Реестр!J1001","v":0},0]
[{"$f":"(Реестр!B1002)+0","v":"00:00:00"},{"$f":"Реестр!AM1002","v":0},{"$f":"Реестр!AZ1002","v":0},{"$f":"Реестр!AN1002","v":0},{"$f":"Реестр!G1002","v":0},{"$f":"IF(Реестр!#REF!=\"I\",\"Ф152\",IF(Реестр!#REF!=\"II\",\"Ф127\",IF(Реестр!#REF!=\"III\",\"Ф127\",IF(Реестр!#REF!=\"IV\",\"Ф228\",IF(Реестр!#REF!=\"V\",\"Ф127\",\"\")))))","v":{"$error":"#REF!"}},{"$f":"Реестр!J1002","v":0},0]
[{"$f":"(Реестр!B1003)+0","v":"00:00:00"},{"$f":"Реестр!AM1003","v":0},{"$f":"Реестр!AZ1003","v":0},{"$f":"Реестр!AN1003","v":0},{"$f":"Реестр!G1003","v":0},{"$f":"IF(Реестр!#REF!=\"I\",\"Ф152\",IF(Реестр!#REF!=\"II\",\"Ф127\",IF(Реестр!#REF!=\"III\",\"Ф127\",IF(Реестр!#REF!=\"IV\",\"Ф228\",IF(Реестр!#REF!=\"V\",\"Ф127\",\"\")))))","v":{"$error":"#REF!"}},{"$f":"Реестр!J1003","v":0},0]
[{"$f":"(Реестр!B1004)+0","v":"00:00:00"},{"$f":"Реестр!AM1004","v":0},{"$f":"Реестр!AZ1004","v":0},{"$f":"Реестр!AN1004","v":0},{"$f":"Реестр!G1004","v":0},{"$f":"IF(Реестр!#REF!=\"I\",\"Ф152\",IF(Реестр!#REF!=\"II\",\"Ф127\",IF(Реестр!#REF!=\"III\",\"Ф127\",IF(Реестр!#REF!=\"IV\",\"Ф228\",IF(Реестр!#REF!=\"V\",\"Ф127\",\"\")))))","v":{"$error":"#REF!"}},{"$f":"Реестр!J1004","v":0},0]
[{"$f":"(Реестр!B1005)+0","v":"00:00:00"},{"$f":"Реестр!AM1005","v":0},{"$f":"Реестр!AZ1005","v":0},{"$f":"Реестр!AN1005","v":0},{"$f":"Реестр!G1005","v":0},{"$f":"IF(Реестр!#REF!=\"I\",\"Ф152\",IF(Реестр!#REF!=\"II\",\"Ф127\",IF(Реестр!#REF!=\"III\",\"Ф127\",IF(Реестр!#REF!=\"IV\",\"Ф228\",IF(Реестр!#REF!=\"V\",\"Ф127\",\"\")))))","v":{"$error":"#REF!"}},{"$f":"Реестр!J1005","v":0},0]
[{"$f":"(Реестр!B1006)+0","v":"00:00:00"},{"$f":"Реестр!AM1006","v":0},{"$f":"Реестр!AZ1006","v":0},{"$f":"Реестр!AN1006","v":0},{"$f":"Реестр!G1006","v":0},{"$f":"IF(Реестр!#REF!=\"I\",\"Ф152\",IF(Реестр!#REF!=\"II\",\"Ф127\",IF(Реестр!#REF!=\"III\",\"Ф127\",IF(Реестр!#REF!=\"IV\",\"Ф228\",IF(Реестр!#REF!=\"V\",\"Ф127\",\"\")))))","v":{"$error":"#REF!"}},{"$f":"Реестр!J1006","v":0},0]
[{"$f":"(Реестр!B1007)+0","v":"00:00:00"},{"$f":"Реестр!AM1007","v":0},{"$f":"Реестр!AZ1007","v":0},{"$f":"Реестр!AN1007","v":0},{"$f":"Реестр!G1007","v":0},{"$f":"IF(Реестр!#REF!=\"I\",\"Ф152\",IF(Реестр!#REF!=\"II\",\"Ф127\",IF(Реестр!#REF!=\"III\",\"Ф127\",IF(Реестр!#REF!=\"IV\",\"Ф228\",IF(Реестр!#REF!=\"V\",\"Ф127\",\"\")))))","v":{"$error":"#REF!"}},{"$f":"Реестр!J1007","v":0},0]
[{"$f":"(Реестр!B1008)+0","v":"00:00:00"},{"$f":"Реестр!AM1008","v":0},{"$f":"Реестр!AZ1008","v":0},{"$f":"Реестр!AN1008","v":0},{"$f":"Реестр!G1008","v":0},{"$f":"IF(Реестр!#REF!=\"I\",\"Ф152\",IF(Реестр!#REF!=\"II\",\"Ф127\",IF(Реестр!#REF!=\"III\",\"Ф127\",IF(Реестр!#REF!=\"IV\",\"Ф228\",IF(Реестр!#REF!=\"V\",\"Ф127\",\"\")))))","v":{"$error":"#REF!"}},{"$f":"Реестр!J1008","v":0},0]
[{"$f":"(Реестр!B1009)+0","v":"00:00:00"},{"$f":"Реестр!AM1009","v":0},{"$f":"Реестр!AZ1009","v":0},{"$f":"Реестр!AN1009","v":0},{"$f":"Реестр!G1009","v":0},{"$f":"IF(Реестр!#REF!=\"I\",\"Ф152\",IF(Реестр!#REF!=\"II\",\"Ф127\",IF(Реестр!#REF!=\"III\",\"Ф127\",IF(Реестр!#REF!=\"IV\",\"Ф228\",IF(Реестр!#REF!=\"V\",\"Ф127\",\"\")))))","v":{"$error":"#REF!"}},{"$f":"Реестр!J1009","v":0},0]
[{"$f":"(Реестр!B1010)+0","v":"00:00:00"},{"$f":"Реестр!AM1010","v":0},{"$f":"Реестр!AZ1010","v":0},{"$f":"Реестр!AN1010","v":0},{"$f":"Реестр!G1010","v":0},{"$f":"IF(Реестр!#REF!=\"I\",\"Ф152\",IF(Реестр!#REF!=\"II\",\"Ф127\",IF(Реестр!#REF!=\"III\",\"Ф127\",IF(Реестр!#REF!=\"IV\",\"Ф228\",IF(Реестр!#REF!=\"V\",\"Ф127\",\"\")))))","v":{"$error":"#REF!"}},{"$f":"Реестр!J1010","v":0},0]
[{"$f":"(Реестр!B1011)+0","v":"00:00:00"},{"$f":"Реестр!AM1011","v":0},{"$f":"Реестр!AZ1011","v":0},{"$f":"Реестр!AN1011","v":0},{"$f":"Реестр!G1011","v":0},{"$f":"IF(Реестр!#REF!=\"I\",\"Ф152\",IF(Реестр!#REF!=\"II\",\"Ф127\",IF(Реестр!#REF!=\"III\",\"Ф127\",IF(Реестр!#REF!=\"IV\",\"Ф228\",IF(Реестр!#REF!=\"V\",\"Ф127\",\"\")))))","v":{"$error":"#REF!"}},{"$f":"Реестр!J1011","v":0},0]
[{"$f":"(Реестр!B1012)+0","v":"00:00:00"},{"$f":"Реестр!AM1012","v":0},{"$f":"Реестр!AZ1012","v":0},{"$f":"Реестр!AN1012","v":0},{"$f":"Реестр!G1012","v":0},{"$f":"IF(Реестр!#REF!=\"I\",\"Ф152\",IF(Реестр!#REF!=\"II\",\"Ф127\",IF(Реестр!#REF!=\"III\",\"Ф127\",IF(Реестр!#REF!=\"IV\",\"Ф228\",IF(Реестр!#REF!=\"V\",\"Ф127\",\"\")))))","v":{"$error":"#REF!"}},{"$f":"Реестр!J1012","v":0},0]
[{"$f":"(Реестр!B1013)+0","v":"00:00:00"},{"$f":"Реестр!AM1013","v":0},{"$f":"Реестр!AZ1013","v":0},{"$f":"Реестр!AN1013","v":0},{"$f":"Реестр!G1013","v":0},{"$f":"IF(Реестр!#REF!=\"I\",\"Ф152\",IF(Реестр!#REF!=\"II\",\"Ф127\",IF(Реестр!#REF!=\"III\",\"Ф127\",IF(Реестр!#REF!=\"IV\",\"Ф228\",IF(Реестр!#REF!=\"V\",\"Ф127\",\"\")))))","v":{"$error":"#REF!"}},{"$f":"Реестр!J1013","v":0},0]
[{"$f":"(Реестр!B1014)+0","v":"00:00:00"},{"$f":"Реестр!AM1014","v":0},{"$f":"Реестр!AZ1014","v":0},{"$f":"Реестр!AN1014","v":0},{"$f":"Реестр!G1014","v":0},{"$f":"IF(Реестр!#REF!=\"I\",\"Ф152\",IF(Реестр!#REF!=\"II\",\"Ф127\",IF(Реестр!#REF!=\"III\",\"Ф127\",IF(Реестр!#REF!=\"IV\",\"Ф228\",IF(Реестр!#REF!=\"V\",\"Ф127\",\"\")))))","v":{"$error":"#REF!"}},{"$f":"Реестр!J1014","v":0},0]
[{"$f":"(Реестр!B1015)+0","v":"00:00:00"},{"$f":"Реестр!AM1015","v":0},{"$f":"Реестр!AZ1015","v":0},{"$f":"Реестр!AN1015","v":0},{"$f":"Реестр!G1015","v":0},{"$f":"IF(Реестр!#REF!=\"I\",\"Ф152\",IF(Реестр!#REF!=\"II\",\"Ф127\",IF(Реестр!#REF!=\"III\",\"Ф127\",IF(Реестр!#REF!=\"IV\",\"Ф228\",IF(Реестр!#REF!=\"V\",\"Ф127\",\"\")))))","v":{"$error":"#REF!"}},{"$f":"Реестр!J1015","v":0},0]
[{"$f":"(Реестр!B1016)+0","v":"00:00:00"},{"$f":"Реестр!AM1016","v":0},{"$f":"Реестр!AZ1016","v":0},{"$f":"Реестр!AN1016","v":0},{"$f":"Реестр!G1016","v":0},{"$f":"IF(Реестр!#REF!=\"I\",\"Ф152\",IF(Реестр!#REF!=\"II\",\"Ф127\",IF(Реестр!#REF!=\"III\",\"Ф127\",IF(Реестр!#REF!=\"IV\",\"Ф228\",IF(Реестр!#REF!=\"V\",\"Ф127\",\"\")))))","v":{"$error":"#REF!"}},{"$f":"Реестр!J1016","v":0},0]
[{"$f":"(Реестр!B1017)+0","v":"00:00:00"},{"$f":"Реестр!AM1017","v":0},{"$f":"Реестр!AZ1017","v":0},{"$f":"Реестр!AN1017","v":0},{"$f":"Реестр!G1017","v":0},{"$f":"IF(Реестр!#REF!=\"I\",\"Ф152\",IF(Реестр!#REF!=\"II\",\"Ф127\",IF(Реестр!#REF!=\"III\",\"Ф127\",IF(Реестр!#REF!=\"IV\",\"Ф228\",IF(Реестр!#REF!=\"V\",\"Ф127\",\"\")))))","v":{"$error":"#REF!"}},{"$f":"Реестр!J1017","v":0},0]
[{"$f":"(Реестр!B1018)+0","v":"00:00:00"},{"$f":"Реестр!AM1018","v":0},{"$f":"Реестр!AZ1018","v":0},{"$f":"Реестр!AN1018","v":0},{"$f":"Реестр!G1018","v":0},{"$f":"IF(Реестр!#REF!=\"I\",\"Ф152\",IF(Реестр!#REF!=\"II\",\"Ф127\",IF(Реестр!#REF!=\"III\",\"Ф127\",IF(Реестр!#REF!=\"IV\",\"Ф228\",IF(Реестр!#REF!=\"V\",\"Ф127\",\"\")))))","v":{"$error":"#REF!"}},{"$f":"Реестр!J1018","v":0},0]
[{"$f":"(Реестр!B1019)+0","v":"00:00:00"},{"$f":"Реестр!AM1019","v":0},{"$f":"Реестр!AZ1019","v":0},{"$f":"Реестр!AN1019","v":0},{"$f":"Реестр!G1019","v":0},{"$f":"IF(Реестр!#REF!=\"I\",\"Ф152\",IF(Реестр!#REF!=\"II\",\"Ф127\",IF(Реестр!#REF!=\"III\",\"Ф127\",IF(Реестр!#REF!=\"IV\",\"Ф228\",IF(Реестр!#REF!=\"V\",\"Ф127\",\"\")))))","v":{"$error":"#REF!"}},{"$f":"Реестр!J1019","v":0},0]
[{"$f":"(Реестр!B1020)+0","v":"00:00:00"},{"$f":"Реестр!AM1020","v":0},{"$f":"Реестр!AZ1020","v":0},{"$f":"Реестр!AN1020","v":0},{"$f":"Реестр!G1020","v":0},{"$f":"IF(Реестр!#REF!=\"I\",\"Ф152\",IF(Реестр!#REF!=\"II\",\"Ф127\",IF(Реестр!#REF!=\"III\",\"Ф127\",IF(Реестр!#REF!=\"IV\",\"Ф228\",IF(Реестр!#REF!=\"V\",\"Ф127\",\"\")))))","v":{"$error":"#REF!"}},{"$f":"Реестр!J1020","v":0},0]
[{"$f":"(Реестр!B1021)+0","v":"00:00:00"},{"$f":"Реестр!AM1021","v":0},{"$f":"Реестр!AZ1021","v":0},{"$f":"Реестр!AN1021","v":0},{"$f":"Реестр!G1021","v":0},{"$f":"IF(Реестр!#REF!=\"I\",\"Ф152\",IF(Реестр!#REF!=\"II\",\"Ф127\",IF(Реестр!#REF!=\"III\",\"Ф127\",IF(Реестр!#REF!=\"IV\",\"Ф228\",IF(Реестр!#REF!=\"V\",\"Ф127\",\"\")))))","v":{"$error":"#REF!"}},{"$f":"Реестр!J1021","v":0},0]
[{"$f":"(Реестр!B1022)+0","v":"00:00:00"},{"$f":"Реестр!AM1022","v":0},{"$f":"Реестр!AZ1022","v":0},{"$f":"Реестр!AN1022","v":0},{"$f":"Реестр!G1022","v":0},{"$f":"IF(Реестр!#REF!=\"I\",\"Ф152\",IF(Реестр!#REF!=\"II\",\"Ф127\",IF(Реестр!#REF!=\"III\",\"Ф127\",IF(Реестр!#REF!=\"IV\",\"Ф228\",IF(Реестр!#REF!=\"V\",\"Ф127\",\"\")))))","v":{"$error":"#REF!"}},{"$f":"Реестр!J1022","v":0},0]
[{"$f":"(Реестр!B1023)+0","v":"00:00:00"},{"$f":"Реестр!AM1023","v":0},{"$f":"Реестр!AZ1023","v":0},{"$f":"Реестр!AN1023","v":0},{"$f":"Реестр!G1023","v":0},{"$f":"IF(Реестр!#REF!=\"I\",\"Ф152\",IF(Реестр!#REF!=\"II\",\"Ф127\",IF(Реестр!#REF!=\"III\",\"Ф127\",IF(Реестр!#REF!=\"IV\",\"Ф228\",IF(Реестр!#REF!=\"V\",\"Ф127\",\"\")))))","v":{"$error":"#REF!"}},{"$f":"Реестр!J1023","v":0},{"$f":"E457*G457","v":0}]
[{"$f":"(Реестр!B1024)+0","v":"00:00:00"},{"$f":"Реестр!AM1024","v":0},{"$f":"Реестр!AZ1024","v":0},{"$f":"Реестр!AN1024","v":0},{"$f":"Реестр!G1024","v":0},{"$f":"IF(Реестр!#REF!=\"I\",\"Ф152\",IF(Реестр!#REF!=\"II\",\"Ф127\",IF(Реестр!#REF!=\"III\",\"Ф127\",IF(Реестр!#REF!=\"IV\",\"Ф228\",IF(Реестр!#REF!=\"V\",\"Ф127\",\"\")))))","v":{"$error":"#REF!"}},{"$f":"Реестр!J1024","v":0},0]
[{"$f":"(Реестр!B1025)+0","v":"00:00:00"},{"$f":"Реестр!AM1025","v":0},{"$f":"Реестр!AZ1025","v":0},{"$f":"Реестр!AN1025","v":0},{"$f":"Реестр!G1025","v":0},{"$f":"IF(Реестр!#REF!=\"I\",\"Ф152\",IF(Реестр!#REF!=\"II\",\"Ф127\",IF(Реестр!#REF!=\"III\",\"Ф127\",IF(Реестр!#REF!=\"IV\",\"Ф228\",IF(Реестр!#REF!=\"V\",\"Ф127\",\"\")))))","v":{"$error":"#REF!"}},{"$f":"Реестр!J1025","v":0},0]
[{"$f":"(Реестр!B1026)+0","v":"00:00:00"},{"$f":"Реестр!AM1026","v":0},{"$f":"Реестр!AZ1026","v":0},{"$f":"Реестр!AN1026","v":0},{"$f":"Реестр!G1026","v":0},{"$f":"IF(Реестр!#REF!=\"I\",\"Ф152\",IF(Реестр!#REF!=\"II\",\"Ф127\",IF(Реестр!#REF!=\"III\",\"Ф127\",IF(Реестр!#REF!=\"IV\",\"Ф228\",IF(Реестр!#REF!=\"V\",\"Ф127\",\"\")))))","v":{"$error":"#REF!"}},{"$f":"Реестр!J1026","v":0},0]
[{"$f":"(Реестр!B1027)+0","v":"00:00:00"},{"$f":"Реестр!AM1027","v":0},{"$f":"Реестр!AZ1027","v":0},{"$f":"Реестр!AN1027","v":0},{"$f":"Реестр!G1027","v":0},{"$f":"IF(Реестр!#REF!=\"I\",\"Ф152\",IF(Реестр!#REF!=\"II\",\"Ф127\",IF(Реестр!#REF!=\"III\",\"Ф127\",IF(Реестр!#REF!=\"IV\",\"Ф228\",IF(Реестр!#REF!=\"V\",\"Ф127\",\"\")))))","v":{"$error":"#REF!"}},{"$f":"Реестр!J1027","v":0},0]
[{"$f":"(Реестр!B1028)+0","v":"00:00:00"},{"$f":"Реестр!AM1028","v":0},{"$f":"Реестр!AZ1028","v":0},{"$f":"Реестр!AN1028","v":0},{"$f":"Реестр!G1028","v":0},{"$f":"IF(Реестр!#REF!=\"I\",\"Ф152\",IF(Реестр!#REF!=\"II\",\"Ф127\",IF(Реестр!#REF!=\"III\",\"Ф127\",IF(Реестр!#REF!=\"IV\",\"Ф228\",IF(Реестр!#REF!=\"V\",\"Ф127\",\"\")))))","v":{"$error":"#REF!"}},{"$f":"Реестр!J1028","v":0},0]
[{"$f":"(Реестр!B1029)+0","v":"00:00:00"},{"$f":"Реестр!AM1029","v":0},{"$f":"Реестр!AZ1029","v":0},{"$f":"Реестр!AN1029","v":0},{"$f":"Реестр!G1029","v":0},{"$f":"IF(Реестр!#REF!=\"I\",\"Ф152\",IF(Реестр!#REF!=\"II\",\"Ф127\",IF(Реестр!#REF!=\"III\",\"Ф127\",IF(Реестр!#REF!=\"IV\",\"Ф228\",IF(Реестр!#REF!=\"V\",\"Ф127\",\"\")))))","v":{"$error":"#REF!"}},{"$f":"Реестр!J1029","v":0},0]
[{"$f":"(Реестр!B1030)+0","v":"00:00:00"},{"$f":"Реестр!AM1030","v":0},{"$f":"Реестр!AZ1030","v":0},{"$f":"Реестр!AN1030","v":0},{"$f":"Реестр!G1030","v":0},{"$f":"IF(Реестр!#REF!=\"I\",\"Ф152\",IF(Реестр!#REF!=\"II\",\"Ф127\",IF(Реестр!#REF!=\"III\",\"Ф127\",IF(Реестр!#REF!=\"IV\",\"Ф228\",IF(Реестр!#REF!=\"V\",\"Ф127\",\"\")))))","v":{"$error":"#REF!"}},{"$f":"Реестр!J1030","v":0},0]
[{"$f":"(Реестр!B1031)+0","v":"00:00:00"},{"$f":"Реестр!AM1031","v":0},{"$f":"Реестр!AZ1031","v":0},{"$f":"Реестр!AN1031","v":0},{"$f":"Реестр!G1031","v":0},{"$f":"IF(Реестр!#REF!=\"I\",\"Ф152\",IF(Реестр!#REF!=\"II\",\"Ф127\",IF(Реестр!#REF!=\"III\",\"Ф127\",IF(Реестр!#REF!=\"IV\",\"Ф228\",IF(Реестр!#REF!=\"V\",\"Ф127\",\"\")))))","v":{"$error":"#REF!"}},{"$f":"Реестр!J1031","v":0},0]
[{"$f":"(Реестр!B1032)+0","v":"00:00:00"},{"$f":"Реестр!AM1032","v":0},{"$f":"Реестр!AZ1032","v":0},{"$f":"Реестр!AN1032","v":0},{"$f":"Реестр!G1032","v":0},{"$f":"IF(Реестр!#REF!=\"I\",\"Ф152\",IF(Реестр!#REF!=\"II\",\"Ф127\",IF(Реестр!#REF!=\"III\",\"Ф127\",IF(Реестр!#REF!=\"IV\",\"Ф228\",IF(Реестр!#REF!=\"V\",\"Ф127\",\"\")))))","v":{"$error":"#REF!"}},{"$f":"Реестр!J1032","v":0},0]
[{"$f":"(Реестр!B1033)+0","v":"00:00:00"},{"$f":"Реестр!AM1033","v":0},{"$f":"Реестр!AZ1033","v":0},{"$f":"Реестр!AN1033","v":0},{"$f":"Реестр!G1033","v":0},{"$f":"IF(Реестр!#REF!=\"I\",\"Ф152\",IF(Реестр!#REF!=\"II\",\"Ф127\",IF(Реестр!#REF!=\"III\",\"Ф127\",IF(Реестр!#REF!=\"IV\",\"Ф228\",IF(Реестр!#REF!=\"V\",\"Ф127\",\"\")))))","v":{"$error":"#REF!"}},{"$f":"Реестр!J1033","v":0},0]
[{"$f":"(Реестр!B1034)+0","v":"00:00:00"},{"$f":"Реестр!AM1034","v":0},{"$f":"Реестр!AZ1034","v":0},{"$f":"Реестр!AN1034","v":0},{"$f":"Реестр!G1034","v":0},{"$f":"IF(Реестр!#REF!=\"I\",\"Ф152\",IF(Реестр!#REF!=\"II\",\"Ф127\",IF(Реестр!#REF!=\"III\",\"Ф127\",IF(Реестр!#REF!=\"IV\",\"Ф228\",IF(Реестр!#REF!=\"V\",\"Ф127\",\"\")))))","v":{"$error":"#REF!"}},{"$f":"Реестр!J1034","v":0},0]
[{"$f":"(Реестр!B1035)+0","v":"00:00:00"},{"$f":"Реестр!AM1035","v":0},{"$f":"Реестр!AZ1035","v":0},{"$f":"Реестр!AN1035","v":0},{"$f":"Реестр!G1035","v":0},{"$f":"IF(Реестр!#REF!=\"I\",\"Ф152\",IF(Реестр!#REF!=\"II\",\"Ф127\",IF(Реестр!#REF!=\"III\",\"Ф127\",IF(Реестр!#REF!=\"IV\",\"Ф228\",IF(Реестр!#REF!=\"V\",\"Ф127\",\"\")))))","v":{"$error":"#REF!"}},{"$f":"Реестр!J1035","v":0},0]
[{"$f":"(Реестр!B1036)+0","v":"00:00:00"},{"$f":"Реестр!AM1036","v":0},{"$f":"Реестр!AZ1036","v":0},{"$f":"Реестр!AN1036","v":0},{"$f":"Реестр!G1036","v":0},{"$f":"IF(Реестр!#REF!=\"I\",\"Ф152\",IF(Реестр!#REF!=\"II\",\"Ф127\",IF(Реестр!#REF!=\"III\",\"Ф127\",IF(Реестр!#REF!=\"IV\",\"Ф228\",IF(Реестр!#REF!=\"V\",\"Ф127\",\"\")))))","v":{"$error":"#REF!"}},{"$f":"Реестр!J1036","v":0},0]
[{"$f":"(Реестр!B1037)+0","v":"00:00:00"},{"$f":"Реестр!AM1037","v":0},{"$f":"Реестр!AZ1037","v":0},{"$f":"Реестр!AN1037","v":0},{"$f":"Реестр!G1037","v":0},{"$f":"IF(Реестр!#REF!=\"I\",\"Ф152\",IF(Реестр!#REF!=\"II\",\"Ф127\",IF(Реестр!#REF!=\"III\",\"Ф127\",IF(Реестр!#REF!=\"IV\",\"Ф228\",IF(Реестр!#REF!=\"V\",\"Ф127\",\"\")))))","v":{"$error":"#REF!"}},{"$f":"Реестр!J1037","v":0},0]
[{"$f":"(Реестр!B1038)+0","v":"00:00:00"},{"$f":"Реестр!AM1038","v":0},{"$f":"Реестр!AZ1038","v":0},{"$f":"Реестр!AN1038","v":0},{"$f":"Реестр!G1038","v":0},{"$f":"IF(Реестр!#REF!=\"I\",\"Ф152\",IF(Реестр!#REF!=\"II\",\"Ф127\",IF(Реестр!#REF!=\"III\",\"Ф127\",IF(Реестр!#REF!=\"IV\",\"Ф228\",IF(Реестр!#REF!=\"V\",\"Ф127\",\"\")))))","v":{"$error":"#REF!"}},{"$f":"Реестр!J1038","v":0},0]
[{"$f":"(Реестр!B1039)+0","v":"00:00:00"},{"$f":"Реестр!AM1039","v":0},{"$f":"Реестр!AZ1039","v":0},{"$f":"Реестр!AN1039","v":0},{"$f":"Реестр!G1039","v":0},{"$f":"IF(Реестр!#REF!=\"I\",\"Ф152\",IF(Реестр!#REF!=\"II\",\"Ф127\",IF(Реестр!#REF!=\"III\",\"Ф127\",IF(Реестр!#REF!=\"IV\",\"Ф228\",IF(Реестр!#REF!=\"V\",\"Ф127\",\"\")))))","v":{"$error":"#REF!"}},{"$f":"Реестр!J1039","v":0},0]
[{"$f":"(Реестр!B1040)+0","v":"00:00:00"},{"$f":"Реестр!AM1040","v":0},{"$f":"Реестр!AZ1040","v":0},{"$f":"Реестр!AN1040","v":0},{"$f":"Реестр!G1040","v":0},{"$f":"IF(Реестр!#REF!=\"I\",\"Ф152\",IF(Реестр!#REF!=\"II\",\"Ф127\",IF(Реестр!#REF!=\"III\",\"Ф127\",IF(Реестр!#REF!=\"IV\",\"Ф228\",IF(Реестр!#REF!=\"V\",\"Ф127\",\"\")))))","v":{"$error":"#REF!"}},{"$f":"Реестр!J1040","v":0},0]
[{"$f":"(Реестр!B1041)+0","v":"00:00:00"},{"$f":"Реестр!AM1041","v":0},{"$f":"Реестр!AZ1041","v":0},{"$f":"Реестр!AN1041","v":0},{"$f":"Реестр!G1041","v":0},{"$f":"IF(Реестр!#REF!=\"I\",\"Ф152\",IF(Реестр!#REF!=\"II\",\"Ф127\",IF(Реестр!#REF!=\"III\",\"Ф127\",IF(Реестр!#REF!=\"IV\",\"Ф228\",IF(Реестр!#REF!=\"V\",\"Ф127\",\"\")))))","v":{"$error":"#REF!"}},{"$f":"Реестр!J1041","v":0},0]
[{"$f":"(Реестр!B1042)+0","v":"00:00:00"},{"$f":"Реестр!AM1042","v":0},{"$f":"Реестр!AZ1042","v":0},{"$f":"Реестр!AN1042","v":0},{"$f":"Реестр!G1042","v":0},{"$f":"IF(Реестр!#REF!=\"I\",\"Ф152\",IF(Реестр!#REF!=\"II\",\"Ф127\",IF(Реестр!#REF!=\"III\",\"Ф127\",IF(Реестр!#REF!=\"IV\",\"Ф228\",IF(Реестр!#REF!=\"V\",\"Ф127\",\"\")))))","v":{"$error":"#REF!"}},{"$f":"Реестр!J1042","v":0},0]
[{"$f":"(Реестр!B1043)+0","v":"00:00:00"},{"$f":"Реестр!AM1043","v":0},{"$f":"Реестр!AZ1043","v":0},{"$f":"Реестр!AN1043","v":0},{"$f":"Реестр!G1043","v":0},{"$f":"IF(Реестр!#REF!=\"I\",\"Ф152\",IF(Реестр!#REF!=\"II\",\"Ф127\",IF(Реестр!#REF!=\"III\",\"Ф127\",IF(Реестр!#REF!=\"IV\",\"Ф228\",IF(Реестр!#REF!=\"V\",\"Ф127\",\"\")))))","v":{"$error":"#REF!"}},{"$f":"Реестр!J1043","v":0},0]
[{"$f":"(Реестр!B1044)+0","v":"00:00:00"},{"$f":"Реестр!AM1044","v":0},{"$f":"Реестр!AZ1044","v":0},{"$f":"Реестр!AN1044","v":0},{"$f":"Реестр!G1044","v":0},{"$f":"IF(Реестр!#REF!=\"I\",\"Ф152\",IF(Реестр!#REF!=\"II\",\"Ф127\",IF(Реестр!#REF!=\"III\",\"Ф127\",IF(Реестр!#REF!=\"IV\",\"Ф228\",IF(Реестр!#REF!=\"V\",\"Ф127\",\"\")))))","v":{"$error":"#REF!"}},{"$f":"Реестр!J1044","v":0},0]
[{"$f":"(Реестр!B1045)+0","v":"00:00:00"},{"$f":"Реестр!AM1045","v":0},{"$f":"Реестр!AZ1045","v":0},{"$f":"Реестр!AN1045","v":0},{"$f":"Реестр!G1045","v":0},{"$f":"IF(Реестр!#REF!=\"I\",\"Ф152\",IF(Реестр!#REF!=\"II\",\"Ф127\",IF(Реестр!#REF!=\"III\",\"Ф127\",IF(Реестр!#REF!=\"IV\",\"Ф228\",IF(Реестр!#REF!=\"V\",\"Ф127\",\"\")))))","v":{"$error":"#REF!"}},{"$f":"Реестр!J1045","v":0},0]
[{"$f":"(Реестр!B1046)+0","v":"00:00:00"},{"$f":"Реестр!AM1046","v":0},{"$f":"Реестр!AZ1046","v":0},{"$f":"Реестр!AN1046","v":0},{"$f":"Реестр!G1046","v":0},{"$f":"IF(Реестр!#REF!=\"I\",\"Ф152\",IF(Реестр!#REF!=\"II\",\"Ф127\",IF(Реестр!#REF!=\"III\",\"Ф127\",IF(Реестр!#REF!=\"IV\",\"Ф228\",IF(Реестр!#REF!=\"V\",\"Ф127\",\"\")))))","v":{"$error":"#REF!"}},{"$f":"Реестр!J1046","v":0},0]
[{"$f":"(Реестр!B1047)+0","v":"00:00:00"},{"$f":"Реестр!AM1047","v":0},{"$f":"Реестр!AZ1047","v":0},{"$f":"Реестр!AN1047","v":0},{"$f":"Реестр!G1047","v":0},{"$f":"IF(Реестр!#REF!=\"I\",\"Ф152\",IF(Реестр!#REF!=\"II\",\"Ф127\",IF(Реестр!#REF!=\"III\",\"Ф127\",IF(Реестр!#REF!=\"IV\",\"Ф228\",IF(Реестр!#REF!=\"V\",\"Ф127\",\"\")))))","v":{"$error":"#REF!"}},{"$f":"Реестр!J1047","v":0},0]
[{"$f":"(Реестр!B1048)+0","v":"00:00:00"},{"$f":"Реестр!AM1048","v":0},{"$f":"Реестр!AZ1048","v":0},{"$f":"Реестр!AN1048","v":0},{"$f":"Реестр!G1048","v":0},{"$f":"IF(Реестр!#REF!=\"I\",\"Ф152\",IF(Реестр!#REF!=\"II\",\"Ф127\",IF(Реестр!#REF!=\"III\",\"Ф127\",IF(Реестр!#REF!=\"IV\",\"Ф228\",IF(Реестр!#REF!=\"V\",\"Ф127\",\"\")))))","v":{"$error":"#REF!"}},{"$f":"Реестр!J1048","v":0},0]
[{"$f":"(Реестр!B1049)+0","v":"00:00:00"},{"$f":"Реестр!AM1049","v":0},{"$f":"Реестр!AZ1049","v":0},{"$f":"Реестр!AN1049","v":0},{"$f":"Реестр!G1049","v":0},{"$f":"IF(Реестр!#REF!=\"I\",\"Ф152\",IF(Реестр!#REF!=\"II\",\"Ф127\",IF(Реестр!#REF!=\"III\",\"Ф127\",IF(Реестр!#REF!=\"IV\",\"Ф228\",IF(Реестр!#REF!=\"V\",\"Ф127\",\"\")))))","v":{"$error":"#REF!"}},{"$f":"Реестр!J1049","v":0},0]
[{"$f":"(Реестр!B1050)+0","v":"00:00:00"},{"$f":"Реестр!AM1050","v":0},{"$f":"Реестр!AZ1050","v":0},{"$f":"Реестр!AN1050","v":0},{"$f":"Реестр!G1050","v":0},{"$f":"IF(Реестр!#REF!=\"I\",\"Ф152\",IF(Реестр!#REF!=\"II\",\"Ф127\",IF(Реестр!#REF!=\"III\",\"Ф127\",IF(Реестр!#REF!=\"IV\",\"Ф228\",IF(Реестр!#REF!=\"V\",\"Ф127\",\"\")))))","v":{"$error":"#REF!"}},{"$f":"Реестр!J1050","v":0},0]
[{"$f":"(Реестр!B1051)+0","v":"00:00:00"},{"$f":"Реестр!AM1051","v":0},{"$f":"Реестр!AZ1051","v":0},{"$f":"Реестр!AN1051","v":0},{"$f":"Реестр!G1051","v":0},{"$f":"IF(Реестр!#REF!=\"I\",\"Ф152\",IF(Реестр!#REF!=\"II\",\"Ф127\",IF(Реестр!#REF!=\"III\",\"Ф127\",IF(Реестр!#REF!=\"IV\",\"Ф228\",IF(Реестр!#REF!=\"V\",\"Ф127\",\"\")))))","v":{"$error":"#REF!"}},{"$f":"Реестр!J1051","v":0},0]
[{"$f":"(Реестр!B1052)+0","v":"00:00:00"},{"$f":"Реестр!AM1052","v":0},{"$f":"Реестр!AZ1052","v":0},{"$f":"Реестр!AN1052","v":0},{"$f":"Реестр!G1052","v":0},{"$f":"IF(Реестр!#REF!=\"I\",\"Ф152\",IF(Реестр!#REF!=\"II\",\"Ф127\",IF(Реестр!#REF!=\"III\",\"Ф127\",IF(Реестр!#REF!=\"IV\",\"Ф228\",IF(Реестр!#REF!=\"V\",\"Ф127\",\"\")))))","v":{"$error":"#REF!"}},{"$f":"Реестр!J1052","v":0},0]
[{"$f":"(Реестр!B1053)+0","v":"00:00:00"},{"$f":"Реестр!AM1053","v":0},{"$f":"Реестр!AZ1053","v":0},{"$f":"Реестр!AN1053","v":0},{"$f":"Реестр!G1053","v":0},{"$f":"IF(Реестр!#REF!=\"I\",\"Ф152\",IF(Реестр!#REF!=\"II\",\"Ф127\",IF(Реестр!#REF!=\"III\",\"Ф127\",IF(Реестр!#REF!=\"IV\",\"Ф228\",IF(Реестр!#REF!=\"V\",\"Ф127\",\"\")))))","v":{"$error":"#REF!"}},{"$f":"Реестр!J1053","v":0},0]
[{"$f":"(Реестр!B1054)+0","v":"00:00:00"},{"$f":"Реестр!AM1054","v":0},{"$f":"Реестр!AZ1054","v":0},{"$f":"Реестр!AN1054","v":0},{"$f":"Реестр!G1054","v":0},{"$f":"IF(Реестр!#REF!=\"I\",\"Ф152\",IF(Реестр!#REF!=\"II\",\"Ф127\",IF(Реестр!#REF!=\"III\",\"Ф127\",IF(Реестр!#REF!=\"IV\",\"Ф228\",IF(Реестр!#REF!=\"V\",\"Ф127\",\"\")))))","v":{"$error":"#REF!"}},{"$f":"Реестр!J1054","v":0},0]
[{"$f":"(Реестр!B1055)+0","v":"00:00:00"},{"$f":"Реестр!AM1055","v":0},{"$f":"Реестр!AZ1055","v":0},{"$f":"Реестр!AN1055","v":0},{"$f":"Реестр!G1055","v":0},{"$f":"IF(Реестр!#REF!=\"I\",\"Ф152\",IF(Реестр!#REF!=\"II\",\"Ф127\",IF(Реестр!#REF!=\"III\",\"Ф127\",IF(Реестр!#REF!=\"IV\",\"Ф228\",IF(Реестр!#REF!=\"V\",\"Ф127\",\"\")))))","v":{"$error":"#REF!"}},{"$f":"Реестр!J1055","v":0},0]
[{"$f":"(Реестр!B1056)+0","v":"00:00:00"},{"$f":"Реестр!AM1056","v":0},{"$f":"Реестр!AZ1056","v":0},{"$f":"Реестр!AN1056","v":0},{"$f":"Реестр!G1056","v":0},{"$f":"IF(Реестр!#REF!=\"I\",\"Ф152\",IF(Реестр!#REF!=\"II\",\"Ф127\",IF(Реестр!#REF!=\"III\",\"Ф127\",IF(Реестр!#REF!=\"IV\",\"Ф228\",IF(Реестр!#REF!=\"V\",\"Ф127\",\"\")))))","v":{"$error":"#REF!"}},{"$f":"Реестр!J1056","v":0},0]
[{"$f":"(Реестр!B1057)+0","v":"00:00:00"},{"$f":"Реестр!AM1057","v":0},{"$f":"Реестр!AZ1057","v":0},{"$f":"Реестр!AN1057","v":0},{"$f":"Реестр!G1057","v":0},{"$f":"IF(Реестр!#REF!=\"I\",\"Ф152\",IF(Реестр!#REF!=\"II\",\"Ф127\",IF(Реестр!#REF!=\"III\",\"Ф127\",IF(Реестр!#REF!=\"IV\",\"Ф228\",IF(Реестр!#REF!=\"V\",\"Ф127\",\"\")))))","v":{"$error":"#REF!"}},{"$f":"Реестр!J1057","v":0},0]
[{"$f":"(Реестр!B1058)+0","v":"00:00:00"},{"$f":"Реестр!AM1058","v":0},{"$f":"Реестр!AZ1058","v":0},{"$f":"Реестр!AN1058","v":0},{"$f":"Реестр!G1058","v":0},{"$f":"IF(Реестр!#REF!=\"I\",\"Ф152\",IF(Реестр!#REF!=\"II\",\"Ф127\",IF(Реестр!#REF!=\"III\",\"Ф127\",IF(Реестр!#REF!=\"IV\",\"Ф228\",IF(Реестр!#REF!=\"V\",\"Ф127\",\"\")))))","v":{"$error":"#REF!"}},{"$f":"Реестр!J1058","v":0},0]
[{"$f":"(Реестр!B1059)+0","v":"00:00:00"},{"$f":"Реестр!AM1059","v":0},{"$f":"Реестр!AZ1059","v":0},{"$f":"Реестр!AN1059","v":0},{"$f":"Реестр!G1059","v":0},{"$f":"IF(Реестр!#REF!=\"I\",\"Ф152\",IF(Реестр!#REF!=\"II\",\"Ф127\",IF(Реестр!#REF!=\"III\",\"Ф127\",IF(Реестр!#REF!=\"IV\",\"Ф228\",IF(Реестр!#REF!=\"V\",\"Ф127\",\"\")))))","v":{"$error":"#REF!"}},{"$f":"Реестр!J1059","v":0},0]
[{"$f":"(Реестр!B1060)+0","v":"00:00:00"},{"$f":"Реестр!AM1060","v":0},{"$f":"Реестр!AZ1060","v":0},{"$f":"Реестр!AN1060","v":0},{"$f":"Реестр!G1060","v":0},{"$f":"IF(Реестр!#REF!=\"I\",\"Ф152\",IF(Реестр!#REF!=\"II\",\"Ф127\",IF(Реестр!#REF!=\"III\",\"Ф127\",IF(Реестр!#REF!=\"IV\",\"Ф228\",IF(Реестр!#REF!=\"V\",\"Ф127\",\"\")))))","v":{"$error":"#REF!"}},{"$f":"Реестр!J1060","v":0},0]
[{"$f":"(Реестр!B1061)+0","v":"00:00:00"},{"$f":"Реестр!AM1061","v":0},{"$f":"Реестр!AZ1061","v":0},{"$f":"Реестр!AN1061","v":0},{"$f":"Реестр!G1061","v":0},{"$f":"IF(Реестр!#REF!=\"I\",\"Ф152\",IF(Реестр!#REF!=\"II\",\"Ф127\",IF(Реестр!#REF!=\"III\",\"Ф127\",IF(Реестр!#REF!=\"IV\",\"Ф228\",IF(Реестр!#REF!=\"V\",\"Ф127\",\"\")))))","v":{"$error":"#REF!"}},{"$f":"Реестр!J1061","v":0},0]
[{"$f":"(Реестр!B1062)+0","v":"00:00:00"},{"$f":"Реестр!AM1062","v":0},{"$f":"Реестр!AZ1062","v":0},{"$f":"Реестр!AN1062","v":0},{"$f":"Реестр!G1062","v":0},{"$f":"IF(Реестр!#REF!=\"I\",\"Ф152\",IF(Реестр!#REF!=\"II\",\"Ф127\",IF(Реестр!#REF!=\"III\",\"Ф127\",IF(Реестр!#REF!=\"IV\",\"Ф228\",IF(Реестр!#REF!=\"V\",\"Ф127\",\"\")))))","v":{"$error":"#REF!"}},{"$f":"Реестр!J1062","v":0},0]
[{"$f":"(Реестр!B1063)+0","v":"00:00:00"},{"$f":"Реестр!AM1063","v":0},{"$f":"Реестр!AZ1063","v":0},{"$f":"Реестр!AN1063","v":0},{"$f":"Реестр!G1063","v":0},{"$f":"IF(Реестр!#REF!=\"I\",\"Ф152\",IF(Реестр!#REF!=\"II\",\"Ф127\",IF(Реестр!#REF!=\"III\",\"Ф127\",IF(Реестр!#REF!=\"IV\",\"Ф228\",IF(Реестр!#REF!=\"V\",\"Ф127\",\"\")))))","v":{"$error":"#REF!"}},{"$f":"Реестр!J1063","v":0},0]
[{"$f":"(Реестр!B1064)+0","v":"00:00:00"},{"$f":"Реестр!AM1064","v":0},{"$f":"Реестр!AZ1064","v":0},{"$f":"Реестр!AN1064","v":0},{"$f":"Реестр!G1064","v":0},{"$f":"IF(Реестр!#REF!=\"I\",\"Ф152\",IF(Реестр!#REF!=\"II\",\"Ф127\",IF(Реестр!#REF!=\"III\",\"Ф127\",IF(Реестр!#REF!=\"IV\",\"Ф228\",IF(Реестр!#REF!=\"V\",\"Ф127\",\"\")))))","v":{"$error":"#REF!"}},{"$f":"Реестр!J1064","v":0},0]
[{"$f":"(Реестр!B1065)+0","v":"00:00:00"},{"$f":"Реестр!AM1065","v":0},{"$f":"Реестр!AZ1065","v":0},{"$f":"Реестр!AN1065","v":0},{"$f":"Реестр!G1065","v":0},{"$f":"IF(Реестр!#REF!=\"I\",\"Ф152\",IF(Реестр!#REF!=\"II\",\"Ф127\",IF(Реестр!#REF!=\"III\",\"Ф127\",IF(Реестр!#REF!=\"IV\",\"Ф228\",IF(Реестр!#REF!=\"V\",\"Ф127\",\"\")))))","v":{"$error":"#REF!"}},{"$f":"Реестр!J1065","v":0},0]
[{"$f":"(Реестр!B1066)+0","v":"00:00:00"},{"$f":"Реестр!AM1066","v":0},{"$f":"Реестр!AZ1066","v":0},{"$f":"Реестр!AN1066","v":0},{"$f":"Реестр!G1066","v":0},{"$f":"IF(Реестр!#REF!=\"I\",\"Ф152\",IF(Реестр!#REF!=\"II\",\"Ф127\",IF(Реестр!#REF!=\"III\",\"Ф127\",IF(Реестр!#REF!=\"IV\",\"Ф228\",IF(Реестр!#REF!=\"V\",\"Ф127\",\"\")))))","v":{"$error":"#REF!"}},{"$f":"Реестр!J1066","v":0},0]
[{"$f":"(Реестр!B1067)+0","v":"00:00:00"},{"$f":"Реестр!AM1067","v":0},{"$f":"Реестр!AZ1067","v":0},{"$f":"Реестр!AN1067","v":0},{"$f":"Реестр!G1067","v":0},{"$f":"IF(Реестр!#REF!=\"I\",\"Ф152\",IF(Реестр!#REF!=\"II\",\"Ф127\",IF(Реестр!#REF!=\"III\",\"Ф127\",IF(Реестр!#REF!=\"IV\",\"Ф228\",IF(Реестр!#REF!=\"V\",\"Ф127\",\"\")))))","v":{"$error":"#REF!"}},{"$f":"Реестр!J1067","v":0},0]
[{"$f":"(Реестр!B1068)+0","v":"00:00:00"},{"$f":"Реестр!AM1068","v":0},{"$f":"Реестр!AZ1068","v":0},{"$f":"Реестр!AN1068","v":0},{"$f":"Реестр!G1068","v":0},{"$f":"IF(Реестр!#REF!=\"I\",\"Ф152\",IF(Реестр!#REF!=\"II\",\"Ф127\",IF(Реестр!#REF!=\"III\",\"Ф127\",IF(Реестр!#REF!=\"IV\",\"Ф228\",IF(Реестр!#REF!=\"V\",\"Ф127\",\"\")))))","v":{"$error":"#REF!"}},{"$f":"Реестр!J1068","v":0},0]
[{"$f":"(Реестр!B1069)+0","v":"00:00:00"},{"$f":"Реестр!AM1069","v":0},{"$f":"Реестр!AZ1069","v":0},{"$f":"Реестр!AN1069","v":0},{"$f":"Реестр!G1069","v":0},{"$f":"IF(Реестр!#REF!=\"I\",\"Ф152\",IF(Реестр!#REF!=\"II\",\"Ф127\",IF(Реестр!#REF!=\"III\",\"Ф127\",IF(Реестр!#REF!=\"IV\",\"Ф228\",IF(Реестр!#REF!=\"V\",\"Ф127\",\"\")))))","v":{"$error":"#REF!"}},{"$f":"Реестр!J1069","v":0},0]
[{"$f":"(Реестр!B1070)+0","v":"00:00:00"},{"$f":"Реестр!AM1070","v":0},{"$f":"Реестр!AZ1070","v":0},{"$f":"Реестр!AN1070","v":0},{"$f":"Реестр!G1070","v":0},{"$f":"IF(Реестр!#REF!=\"I\",\"Ф152\",IF(Реестр!#REF!=\"II\",\"Ф127\",IF(Реестр!#REF!=\"III\",\"Ф127\",IF(Реестр!#REF!=\"IV\",\"Ф228\",IF(Реестр!#REF!=\"V\",\"Ф127\",\"\")))))","v":{"$error":"#REF!"}},{"$f":"Реестр!J1070","v":0},0]
[{"$f":"(Реестр!B1071)+0","v":"00:00:00"},{"$f":"Реестр!AM1071","v":0},{"$f":"Реестр!AZ1071","v":0},{"$f":"Реестр!AN1071","v":0},{"$f":"Реестр!G1071","v":0},{"$f":"IF(Реестр!#REF!=\"I\",\"Ф152\",IF(Реестр!#REF!=\"II\",\"Ф127\",IF(Реестр!#REF!=\"III\",\"Ф127\",IF(Реестр!#REF!=\"IV\",\"Ф228\",IF(Реестр!#REF!=\"V\",\"Ф127\",\"\")))))","v":{"$error":"#REF!"}},{"$f":"Реестр!J1071","v":0},0]
[{"$f":"(Реестр!B1072)+0","v":"00:00:00"},{"$f":"Реестр!AM1072","v":0},{"$f":"Реестр!AZ1072","v":0},{"$f":"Реестр!AN1072","v":0},{"$f":"Реестр!G1072","v":0},{"$f":"IF(Реестр!#REF!=\"I\",\"Ф152\",IF(Реестр!#REF!=\"II\",\"Ф127\",IF(Реестр!#REF!=\"III\",\"Ф127\",IF(Реестр!#REF!=\"IV\",\"Ф228\",IF(Реестр!#REF!=\"V\",\"Ф127\",\"\")))))","v":{"$error":"#REF!"}},{"$f":"Реестр!J1072","v":0},0]
[{"$f":"(Реестр!B1073)+0","v":"00:00:00"},{"$f":"Реестр!AM1073","v":0},{"$f":"Реестр!AZ1073","v":0},{"$f":"Реестр!AN1073","v":0},{"$f":"Реестр!G1073","v":0},{"$f":"IF(Реестр!#REF!=\"I\",\"Ф152\",IF(Реестр!#REF!=\"II\",\"Ф127\",IF(Реестр!#REF!=\"III\",\"Ф127\",IF(Реестр!#REF!=\"IV\",\"Ф228\",IF(Реестр!#REF!=\"V\",\"Ф127\",\"\")))))","v":{"$error":"#REF!"}},{"$f":"Реестр!J1073","v":0},0]
[{"$f":"(Реестр!B1074)+0","v":"00:00:00"},{"$f":"Реестр!AM1074","v":0},{"$f":"Реестр!AZ1074","v":0},{"$f":"Реестр!AN1074","v":0},{"$f":"Реестр!G1074","v":0},{"$f":"IF(Реестр!#REF!=\"I\",\"Ф152\",IF(Реестр!#REF!=\"II\",\"Ф127\",IF(Реестр!#REF!=\"III\",\"Ф127\",IF(Реестр!#REF!=\"IV\",\"Ф228\",IF(Реестр!#REF!=\"V\",\"Ф127\",\"\")))))","v":{"$error":"#REF!"}},{"$f":"Реестр!J1074","v":0},0]
[{"$f":"(Реестр!B1075)+0","v":"00:00:00"},{"$f":"Реестр!AM1075","v":0},{"$f":"Реестр!AZ1075","v":0},{"$f":"Реестр!AN1075","v":0},{"$f":"Реестр!G1075","v":0},{"$f":"IF(Реестр!#REF!=\"I\",\"Ф152\",IF(Реестр!#REF!=\"II\",\"Ф127\",IF(Реестр!#REF!=\"III\",\"Ф127\",IF(Реестр!#REF!=\"IV\",\"Ф228\",IF(Реестр!#REF!=\"V\",\"Ф127\",\"\")))))","v":{"$error":"#REF!"}},{"$f":"Реестр!J1075","v":0},0]
[{"$f":"(Реестр!B1076)+0","v":"00:00:00"},{"$f":"Реестр!AM1076","v":0},{"$f":"Реестр!AZ1076","v":0},{"$f":"Реестр!AN1076","v":0},{"$f":"Реестр!G1076","v":0},{"$f":"IF(Реестр!#REF!=\"I\",\"Ф152\",IF(Реестр!#REF!=\"II\",\"Ф127\",IF(Реестр!#REF!=\"III\",\"Ф127\",IF(Реестр!#REF!=\"IV\",\"Ф228\",IF(Реестр!#REF!=\"V\",\"Ф127\",\"\")))))","v":{"$error":"#REF!"}},{"$f":"Реестр!J1076","v":0},0]
[{"$f":"(Реестр!B1077)+0","v":"00:00:00"},{"$f":"Реестр!AM1077","v":0},{"$f":"Реестр!AZ1077","v":0},{"$f":"Реестр!AN1077","v":0},{"$f":"Реестр!G1077","v":0},{"$f":"IF(Реестр!#REF!=\"I\",\"Ф152\",IF(Реестр!#REF!=\"II\",\"Ф127\",IF(Реестр!#REF!=\"III\",\"Ф127\",IF(Реестр!#REF!=\"IV\",\"Ф228\",IF(Реестр!#REF!=\"V\",\"Ф127\",\"\")))))","v":{"$error":"#REF!"}},{"$f":"Реестр!J1077","v":0},0]
[{"$f":"(Реестр!B1078)+0","v":"00:00:00"},{"$f":"Реестр!AM1078","v":0},{"$f":"Реестр!AZ1078","v":0},{"$f":"Реестр!AN1078","v":0},{"$f":"Реестр!G1078","v":0},{"$f":"IF(Реестр!#REF!=\"I\",\"Ф152\",IF(Реестр!#REF!=\"II\",\"Ф127\",IF(Реестр!#REF!=\"III\",\"Ф127\",IF(Реестр!#REF!=\"IV\",\"Ф228\",IF(Реестр!#REF!=\"V\",\"Ф127\",\"\")))))","v":{"$error":"#REF!"}},{"$f":"Реестр!J1078","v":0},0]
[{"$f":"(Реестр!B1079)+0","v":"00:00:00"},{"$f":"Реестр!AM1079","v":0},{"$f":"Реестр!AZ1079","v":0},{"$f":"Реестр!AN1079","v":0},{"$f":"Реестр!G1079","v":0},{"$f":"IF(Реестр!#REF!=\"I\",\"Ф152\",IF(Реестр!#REF!=\"II\",\"Ф127\",IF(Реестр!#REF!=\"III\",\"Ф127\",IF(Реестр!#REF!=\"IV\",\"Ф228\",IF(Реестр!#REF!=\"V\",\"Ф127\",\"\")))))","v":{"$error":"#REF!"}},{"$f":"Реестр!J1079","v":0},0]
[{"$f":"(Реестр!B1080)+0","v":"00:00:00"},{"$f":"Реестр!AM1080","v":0},{"$f":"Реестр!AZ1080","v":0},{"$f":"Реестр!AN1080","v":0},{"$f":"Реестр!G1080","v":0},{"$f":"IF(Реестр!#REF!=\"I\",\"Ф152\",IF(Реестр!#REF!=\"II\",\"Ф127\",IF(Реестр!#REF!=\"III\",\"Ф127\",IF(Реестр!#REF!=\"IV\",\"Ф228\",IF(Реестр!#REF!=\"V\",\"Ф127\",\"\")))))","v":{"$error":"#REF!"}},{"$f":"Реестр!J1080","v":0},0]
[{"$f":"(Реестр!B1081)+0","v":"00:00:00"},{"$f":"Реестр!AM1081","v":0},{"$f":"Реестр!AZ1081","v":0},{"$f":"Реестр!AN1081","v":0},{"$f":"Реестр!G1081","v":0},{"$f":"IF(Реестр!#REF!=\"I\",\"Ф152\",IF(Реестр!#REF!=\"II\",\"Ф127\",IF(Реестр!#REF!=\"III\",\"Ф127\",IF(Реестр!#REF!=\"IV\",\"Ф228\",IF(Реестр!#REF!=\"V\",\"Ф127\",\"\")))))","v":{"$error":"#REF!"}},{"$f":"Реестр!J1081","v":0},0]
[{"$f":"(Реестр!B1082)+0","v":"00:00:00"},{"$f":"Реестр!AM1082","v":0},{"$f":"Реестр!AZ1082","v":0},{"$f":"Реестр!AN1082","v":0},{"$f":"Реестр!G1082","v":0},{"$f":"IF(Реестр!#REF!=\"I\",\"Ф152\",IF(Реестр!#REF!=\"II\",\"Ф127\",IF(Реестр!#REF!=\"III\",\"Ф127\",IF(Реестр!#REF!=\"IV\",\"Ф228\",IF(Реестр!#REF!=\"V\",\"Ф127\",\"\")))))","v":{"$error":"#REF!"}},{"$f":"Реестр!J1082","v":0},0]
[{"$f":"(Реестр!B1083)+0","v":"00:00:00"},{"$f":"Реестр!AM1083","v":0},{"$f":"Реестр!AZ1083","v":0},{"$f":"Реестр!AN1083","v":0},{"$f":"Реестр!G1083","v":0},{"$f":"IF(Реестр!#REF!=\"I\",\"Ф152\",IF(Реестр!#REF!=\"II\",\"Ф127\",IF(Реестр!#REF!=\"III\",\"Ф127\",IF(Реестр!#REF!=\"IV\",\"Ф228\",IF(Реестр!#REF!=\"V\",\"Ф127\",\"\")))))","v":{"$error":"#REF!"}},{"$f":"Реестр!J1083","v":0},0]
[{"$f":"(Реестр!B1084)+0","v":"00:00:00"},{"$f":"Реестр!AM1084","v":0},{"$f":"Реестр!AZ1084","v":0},{"$f":"Реестр!AN1084","v":0},{"$f":"Реестр!G1084","v":0},{"$f":"IF(Реестр!#REF!=\"I\",\"Ф152\",IF(Реестр!#REF!=\"II\",\"Ф127\",IF(Реестр!#REF!=\"III\",\"Ф127\",IF(Реестр!#REF!=\"IV\",\"Ф228\",IF(Реестр!#REF!=\"V\",\"Ф127\",\"\")))))","v":{"$error":"#REF!"}},{"$f":"Реестр!J1084","v":0},0]
[{"$f":"(Реестр!B1085)+0","v":"00:00:00"},{"$f":"Реестр!AM1085","v":0},{"$f":"Реестр!AZ1085","v":0},{"$f":"Реестр!AN1085","v":0},{"$f":"Реестр!G1085","v":0},{"$f":"IF(Реестр!#REF!=\"I\",\"Ф152\",IF(Реестр!#REF!=\"II\",\"Ф127\",IF(Реестр!#REF!=\"III\",\"Ф127\",IF(Реестр!#REF!=\"IV\",\"Ф228\",IF(Реестр!#REF!=\"V\",\"Ф127\",\"\")))))","v":{"$error":"#REF!"}},{"$f":"Реестр!J1085","v":0},0]
[{"$f":"(Реестр!B1086)+0","v":"00:00:00"},{"$f":"Реестр!AM1086","v":0},{"$f":"Реестр!AZ1086","v":0},{"$f":"Реестр!AN1086","v":0},{"$f":"Реестр!G1086","v":0},{"$f":"IF(Реестр!#REF!=\"I\",\"Ф152\",IF(Реестр!#REF!=\"II\",\"Ф127\",IF(Реестр!#REF!=\"III\",\"Ф127\",IF(Реестр!#REF!=\"IV\",\"Ф228\",IF(Реестр!#REF!=\"V\",\"Ф127\",\"\")))))","v":{"$error":"#REF!"}},{"$f":"Реестр!J1086","v":0},0]
[{"$f":"(Реестр!B1087)+0","v":"00:00:00"},{"$f":"Реестр!AM1087","v":0},{"$f":"Реестр!AZ1087","v":0},{"$f":"Реестр!AN1087","v":0},{"$f":"Реестр!G1087","v":0},{"$f":"IF(Реестр!#REF!=\"I\",\"Ф152\",IF(Реестр!#REF!=\"II\",\"Ф127\",IF(Реестр!#REF!=\"III\",\"Ф127\",IF(Реестр!#REF!=\"IV\",\"Ф228\",IF(Реестр!#REF!=\"V\",\"Ф127\",\"\")))))","v":{"$error":"#REF!"}},{"$f":"Реестр!J1087","v":0},{"$f":"E521*G521","v":0}]
[{"$f":"(Реестр!B1088)+0","v":"00:00:00"},{"$f":"Реестр!AM1088","v":0},{"$f":"Реестр!AZ1088","v":0},{"$f":"Реестр!AN1088","v":0},{"$f":"Реестр!G1088","v":0},{"$f":"IF(Реестр!#REF!=\"I\",\"Ф152\",IF(Реестр!#REF!=\"II\",\"Ф127\",IF(Реестр!#REF!=\"III\",\"Ф127\",IF(Реестр!#REF!=\"IV\",\"Ф228\",IF(Реестр!#REF!=\"V\",\"Ф127\",\"\")))))","v":{"$error":"#REF!"}},{"$f":"Реестр!J1088","v":0},0]
[{"$f":"(Реестр!B1089)+0","v":"00:00:00"},{"$f":"Реестр!AM1089","v":0},{"$f":"Реестр!AZ1089","v":0},{"$f":"Реестр!AN1089","v":0},{"$f":"Реестр!G1089","v":0},{"$f":"IF(Реестр!#REF!=\"I\",\"Ф152\",IF(Реестр!#REF!=\"II\",\"Ф127\",IF(Реестр!#REF!=\"III\",\"Ф127\",IF(Реестр!#REF!=\"IV\",\"Ф228\",IF(Реестр!#REF!=\"V\",\"Ф127\",\"\")))))","v":{"$error":"#REF!"}},{"$f":"Реестр!J1089","v":0},0]
[{"$f":"(Реестр!B1090)+0","v":"00:00:00"},{"$f":"Реестр!AM1090","v":0},{"$f":"Реестр!AZ1090","v":0},{"$f":"Реестр!AN1090","v":0},{"$f":"Реестр!G1090","v":0},{"$f":"IF(Реестр!#REF!=\"I\",\"Ф152\",IF(Реестр!#REF!=\"II\",\"Ф127\",IF(Реестр!#REF!=\"III\",\"Ф127\",IF(Реестр!#REF!=\"IV\",\"Ф228\",IF(Реестр!#REF!=\"V\",\"Ф127\",\"\")))))","v":{"$error":"#REF!"}},{"$f":"Реестр!J1090","v":0},0]
[{"$f":"(Реестр!B1091)+0","v":"00:00:00"},{"$f":"Реестр!AM1091","v":0},{"$f":"Реестр!AZ1091","v":0},{"$f":"Реестр!AN1091","v":0},{"$f":"Реестр!G1091","v":0},{"$f":"IF(Реестр!#REF!=\"I\",\"Ф152\",IF(Реестр!#REF!=\"II\",\"Ф127\",IF(Реестр!#REF!=\"III\",\"Ф127\",IF(Реестр!#REF!=\"IV\",\"Ф228\",IF(Реестр!#REF!=\"V\",\"Ф127\",\"\")))))","v":{"$error":"#REF!"}},{"$f":"Реестр!J1091","v":0},0]
[{"$f":"(Реестр!B1092)+0","v":"00:00:00"},{"$f":"Реестр!AM1092","v":0},{"$f":"Реестр!AZ1092","v":0},{"$f":"Реестр!AN1092","v":0},{"$f":"Реестр!G1092","v":0},{"$f":"IF(Реестр!#REF!=\"I\",\"Ф152\",IF(Реестр!#REF!=\"II\",\"Ф127\",IF(Реестр!#REF!=\"III\",\"Ф127\",IF(Реестр!#REF!=\"IV\",\"Ф228\",IF(Реестр!#REF!=\"V\",\"Ф127\",\"\")))))","v":{"$error":"#REF!"}},{"$f":"Реестр!J1092","v":0},0]
[{"$f":"(Реестр!B1093)+0","v":"00:00:00"},{"$f":"Реестр!AM1093","v":0},{"$f":"Реестр!AZ1093","v":0},{"$f":"Реестр!AN1093","v":0},{"$f":"Реестр!G1093","v":0},{"$f":"IF(Реестр!#REF!=\"I\",\"Ф152\",IF(Реестр!#REF!=\"II\",\"Ф127\",IF(Реестр!#REF!=\"III\",\"Ф127\",IF(Реестр!#REF!=\"IV\",\"Ф228\",IF(Реестр!#REF!=\"V\",\"Ф127\",\"\")))))","v":{"$error":"#REF!"}},{"$f":"Реестр!J1093","v":0},0]
[{"$f":"(Реестр!B1094)+0","v":"00:00:00"},{"$f":"Реестр!AM1094","v":0},{"$f":"Реестр!AZ1094","v":0},{"$f":"Реестр!AN1094","v":0},{"$f":"Реестр!G1094","v":0},{"$f":"IF(Реестр!#REF!=\"I\",\"Ф152\",IF(Реестр!#REF!=\"II\",\"Ф127\",IF(Реестр!#REF!=\"III\",\"Ф127\",IF(Реестр!#REF!=\"IV\",\"Ф228\",IF(Реестр!#REF!=\"V\",\"Ф127\",\"\")))))","v":{"$error":"#REF!"}},{"$f":"Реестр!J1094","v":0},0]
[{"$f":"(Реестр!B1095)+0","v":"00:00:00"},{"$f":"Реестр!AM1095","v":0},{"$f":"Реестр!AZ1095","v":0},{"$f":"Реестр!AN1095","v":0},{"$f":"Реестр!G1095","v":0},{"$f":"IF(Реестр!#REF!=\"I\",\"Ф152\",IF(Реестр!#REF!=\"II\",\"Ф127\",IF(Реестр!#REF!=\"III\",\"Ф127\",IF(Реестр!#REF!=\"IV\",\"Ф228\",IF(Реестр!#REF!=\"V\",\"Ф127\",\"\")))))","v":{"$error":"#REF!"}},{"$f":"Реестр!J1095","v":0},0]
[{"$f":"(Реестр!B1096)+0","v":"00:00:00"},{"$f":"Реестр!AM1096","v":0},{"$f":"Реестр!AZ1096","v":0},{"$f":"Реестр!AN1096","v":0},{"$f":"Реестр!G1096","v":0},{"$f":"IF(Реестр!#REF!=\"I\",\"Ф152\",IF(Реестр!#REF!=\"II\",\"Ф127\",IF(Реестр!#REF!=\"III\",\"Ф127\",IF(Реестр!#REF!=\"IV\",\"Ф228\",IF(Реестр!#REF!=\"V\",\"Ф127\",\"\")))))","v":{"$error":"#REF!"}},{"$f":"Реестр!J1096","v":0},0]
[{"$f":"(Реестр!B1097)+0","v":"00:00:00"},{"$f":"Реестр!AM1097","v":0},{"$f":"Реестр!AZ1097","v":0},{"$f":"Реестр!AN1097","v":0},{"$f":"Реестр!G1097","v":0},{"$f":"IF(Реестр!#REF!=\"I\",\"Ф152\",IF(Реестр!#REF!=\"II\",\"Ф127\",IF(Реестр!#REF!=\"III\",\"Ф127\",IF(Реестр!#REF!=\"IV\",\"Ф228\",IF(Реестр!#REF!=\"V\",\"Ф127\",\"\")))))","v":{"$error":"#REF!"}},{"$f":"Реестр!J1097","v":0},0]
[{"$f":"(Реестр!B1098)+0","v":"00:00:00"},{"$f":"Реестр!AM1098","v":0},{"$f":"Реестр!AZ1098","v":0},{"$f":"Реестр!AN1098","v":0},{"$f":"Реестр!G1098","v":0},{"$f":"IF(Реестр!#REF!=\"I\",\"Ф152\",IF(Реестр!#REF!=\"II\",\"Ф127\",IF(Реестр!#REF!=\"III\",\"Ф127\",IF(Реестр!#REF!=\"IV\",\"Ф228\",IF(Реестр!#REF!=\"V\",\"Ф127\",\"\")))))","v":{"$error":"#REF!"}},{"$f":"Реестр!J1098","v":0},0]
[{"$f":"(Реестр!B1099)+0","v":"00:00:00"},{"$f":"Реестр!AM1099","v":0},{"$f":"Реестр!AZ1099","v":0},{"$f":"Реестр!AN1099","v":0},{"$f":"Реестр!G1099","v":0},{"$f":"IF(Реестр!#REF!=\"I\",\"Ф152\",IF(Реестр!#REF!=\"II\",\"Ф127\",IF(Реестр!#REF!=\"III\",\"Ф127\",IF(Реестр!#REF!=\"IV\",\"Ф228\",IF(Реестр!#REF!=\"V\",\"Ф127\",\"\")))))","v":{"$error":"#REF!"}},{"$f":"Реестр!J1099","v":0},0]
[{"$f":"(Реестр!B1100)+0","v":"00:00:00"},{"$f":"Реестр!AM1100","v":0},{"$f":"Реестр!AZ1100","v":0},{"$f":"Реестр!AN1100","v":0},{"$f":"Реестр!G1100","v":0},{"$f":"IF(Реестр!#REF!=\"I\",\"Ф152\",IF(Реестр!#REF!=\"II\",\"Ф127\",IF(Реестр!#REF!=\"III\",\"Ф127\",IF(Реестр!#REF!=\"IV\",\"Ф228\",IF(Реестр!#REF!=\"V\",\"Ф127\",\"\")))))","v":{"$error":"#REF!"}},{"$f":"Реестр!J1100","v":0},0]
[{"$f":"(Реестр!B1101)+0","v":"00:00:00"},{"$f":"Реестр!AM1101","v":0},{"$f":"Реестр!AZ1101","v":0},{"$f":"Реестр!AN1101","v":0},{"$f":"Реестр!G1101","v":0},{"$f":"IF(Реестр!#REF!=\"I\",\"Ф152\",IF(Реестр!#REF!=\"II\",\"Ф127\",IF(Реестр!#REF!=\"III\",\"Ф127\",IF(Реестр!#REF!=\"IV\",\"Ф228\",IF(Реестр!#REF!=\"V\",\"Ф127\",\"\")))))","v":{"$error":"#REF!"}},{"$f":"Реестр!J1101","v":0},0]
[{"$f":"(Реестр!B1102)+0","v":"00:00:00"},{"$f":"Реестр!AM1102","v":0},{"$f":"Реестр!AZ1102","v":0},{"$f":"Реестр!AN1102","v":0},{"$f":"Реестр!G1102","v":0},{"$f":"IF(Реестр!#REF!=\"I\",\"Ф152\",IF(Реестр!#REF!=\"II\",\"Ф127\",IF(Реестр!#REF!=\"III\",\"Ф127\",IF(Реестр!#REF!=\"IV\",\"Ф228\",IF(Реестр!#REF!=\"V\",\"Ф127\",\"\")))))","v":{"$error":"#REF!"}},{"$f":"Реестр!J1102","v":0},0]
[{"$f":"(Реестр!B1103)+0","v":"00:00:00"},{"$f":"Реестр!AM1103","v":0},{"$f":"Реестр!AZ1103","v":0},{"$f":"Реестр!AN1103","v":0},{"$f":"Реестр!G1103","v":0},{"$f":"IF(Реестр!#REF!=\"I\",\"Ф152\",IF(Реестр!#REF!=\"II\",\"Ф127\",IF(Реестр!#REF!=\"III\",\"Ф127\",IF(Реестр!#REF!=\"IV\",\"Ф228\",IF(Реестр!#REF!=\"V\",\"Ф127\",\"\")))))","v":{"$error":"#REF!"}},{"$f":"Реестр!J1103","v":0},0]
[{"$f":"(Реестр!B1104)+0","v":"00:00:00"},{"$f":"Реестр!AM1104","v":0},{"$f":"Реестр!AZ1104","v":0},{"$f":"Реестр!AN1104","v":0},{"$f":"Реестр!G1104","v":0},{"$f":"IF(Реестр!#REF!=\"I\",\"Ф152\",IF(Реестр!#REF!=\"II\",\"Ф127\",IF(Реестр!#REF!=\"III\",\"Ф127\",IF(Реестр!#REF!=\"IV\",\"Ф228\",IF(Реестр!#REF!=\"V\",\"Ф127\",\"\")))))","v":{"$error":"#REF!"}},{"$f":"Реестр!J1104","v":0},0]
[{"$f":"(Реестр!B1105)+0","v":"00:00:00"},{"$f":"Реестр!AM1105","v":0},{"$f":"Реестр!AZ1105","v":0},{"$f":"Реестр!AN1105","v":0},{"$f":"Реестр!G1105","v":0},{"$f":"IF(Реестр!#REF!=\"I\",\"Ф152\",IF(Реестр!#REF!=\"II\",\"Ф127\",IF(Реестр!#REF!=\"III\",\"Ф127\",IF(Реестр!#REF!=\"IV\",\"Ф228\",IF(Реестр!#REF!=\"V\",\"Ф127\",\"\")))))","v":{"$error":"#REF!"}},{"$f":"Реестр!J1105","v":0},0]
[{"$f":"(Реестр!B1106)+0","v":"00:00:00"},{"$f":"Реестр!AM1106","v":0},{"$f":"Реестр!AZ1106","v":0},{"$f":"Реестр!AN1106","v":0},{"$f":"Реестр!G1106","v":0},{"$f":"IF(Реестр!#REF!=\"I\",\"Ф152\",IF(Реестр!#REF!=\"II\",\"Ф127\",IF(Реестр!#REF!=\"III\",\"Ф127\",IF(Реестр!#REF!=\"IV\",\"Ф228\",IF(Реестр!#REF!=\"V\",\"Ф127\",\"\")))))","v":{"$error":"#REF!"}},{"$f":"Реестр!J1106","v":0},0]
[{"$f":"(Реестр!B1107)+0","v":"00:00:00"},{"$f":"Реестр!AM1107","v":0},{"$f":"Реестр!AZ1107","v":0},{"$f":"Реестр!AN1107","v":0},{"$f":"Реестр!G1107","v":0},{"$f":"IF(Реестр!#REF!=\"I\",\"Ф152\",IF(Реестр!#REF!=\"II\",\"Ф127\",IF(Реестр!#REF!=\"III\",\"Ф127\",IF(Реестр!#REF!=\"IV\",\"Ф228\",IF(Реестр!#REF!=\"V\",\"Ф127\",\"\")))))","v":{"$error":"#REF!"}},{"$f":"Реестр!J1107","v":0},0]
[{"$f":"(Реестр!B1108)+0","v":"00:00:00"},{"$f":"Реестр!AM1108","v":0},{"$f":"Реестр!AZ1108","v":0},{"$f":"Реестр!AN1108","v":0},{"$f":"Реестр!G1108","v":0},{"$f":"IF(Реестр!#REF!=\"I\",\"Ф152\",IF(Реестр!#REF!=\"II\",\"Ф127\",IF(Реестр!#REF!=\"III\",\"Ф127\",IF(Реестр!#REF!=\"IV\",\"Ф228\",IF(Реестр!#REF!=\"V\",\"Ф127\",\"\")))))","v":{"$error":"#REF!"}},{"$f":"Реестр!J1108","v":0},0]
[{"$f":"(Реестр!B1109)+0","v":"00:00:00"},{"$f":"Реестр!AM1109","v":0},{"$f":"Реестр!AZ1109","v":0},{"$f":"Реестр!AN1109","v":0},{"$f":"Реестр!G1109","v":0},{"$f":"IF(Реестр!#REF!=\"I\",\"Ф152\",IF(Реестр!#REF!=\"II\",\"Ф127\",IF(Реестр!#REF!=\"III\",\"Ф127\",IF(Реестр!#REF!=\"IV\",\"Ф228\",IF(Реестр!#REF!=\"V\",\"Ф127\",\"\")))))","v":{"$error":"#REF!"}},{"$f":"Реестр!J1109","v":0},0]
[{"$f":"(Реестр!B1110)+0","v":"00:00:00"},{"$f":"Реестр!AM1110","v":0},{"$f":"Реестр!AZ1110","v":0},{"$f":"Реестр!AN1110","v":0},{"$f":"Реестр!G1110","v":0},{"$f":"IF(Реестр!#REF!=\"I\",\"Ф152\",IF(Реестр!#REF!=\"II\",\"Ф127\",IF(Реестр!#REF!=\"III\",\"Ф127\",IF(Реестр!#REF!=\"IV\",\"Ф228\",IF(Реестр!#REF!=\"V\",\"Ф127\",\"\")))))","v":{"$error":"#REF!"}},{"$f":"Реестр!J1110","v":0},0]
[{"$f":"(Реестр!B1111)+0","v":"00:00:00"},{"$f":"Реестр!AM1111","v":0},{"$f":"Реестр!AZ1111","v":0},{"$f":"Реестр!AN1111","v":0},{"$f":"Реестр!G1111","v":0},{"$f":"IF(Реестр!#REF!=\"I\",\"Ф152\",IF(Реестр!#REF!=\"II\",\"Ф127\",IF(Реестр!#REF!=\"III\",\"Ф127\",IF(Реестр!#REF!=\"IV\",\"Ф228\",IF(Реестр!#REF!=\"V\",\"Ф127\",\"\")))))","v":{"$error":"#REF!"}},{"$f":"Реестр!J1111","v":0},0]
[{"$f":"(Реестр!B1112)+0","v":"00:00:00"},{"$f":"Реестр!AM1112","v":0},{"$f":"Реестр!AZ1112","v":0},{"$f":"Реестр!AN1112","v":0},{"$f":"Реестр!G1112","v":0},{"$f":"IF(Реестр!#REF!=\"I\",\"Ф152\",IF(Реестр!#REF!=\"II\",\"Ф127\",IF(Реестр!#REF!=\"III\",\"Ф127\",IF(Реестр!#REF!=\"IV\",\"Ф228\",IF(Реестр!#REF!=\"V\",\"Ф127\",\"\")))))","v":{"$error":"#REF!"}},{"$f":"Реестр!J1112","v":0},0]
[{"$f":"(Реестр!B1113)+0","v":"00:00:00"},{"$f":"Реестр!AM1113","v":0},{"$f":"Реестр!AZ1113","v":0},{"$f":"Реестр!AN1113","v":0},{"$f":"Реестр!G1113","v":0},{"$f":"IF(Реестр!#REF!=\"I\",\"Ф152\",IF(Реестр!#REF!=\"II\",\"Ф127\",IF(Реестр!#REF!=\"III\",\"Ф127\",IF(Реестр!#REF!=\"IV\",\"Ф228\",IF(Реестр!#REF!=\"V\",\"Ф127\",\"\")))))","v":{"$error":"#REF!"}},{"$f":"Реестр!J1113","v":0},0]
[{"$f":"(Реестр!B1114)+0","v":"00:00:00"},{"$f":"Реестр!AM1114","v":0},{"$f":"Реестр!AZ1114","v":0},{"$f":"Реестр!AN1114","v":0},{"$f":"Реестр!G1114","v":0},{"$f":"IF(Реестр!#REF!=\"I\",\"Ф152\",IF(Реестр!#REF!=\"II\",\"Ф127\",IF(Реестр!#REF!=\"III\",\"Ф127\",IF(Реестр!#REF!=\"IV\",\"Ф228\",IF(Реестр!#REF!=\"V\",\"Ф127\",\"\")))))","v":{"$error":"#REF!"}},{"$f":"Реестр!J1114","v":0},0]
[{"$f":"(Реестр!B1115)+0","v":"00:00:00"},{"$f":"Реестр!AM1115","v":0},{"$f":"Реестр!AZ1115","v":0},{"$f":"Реестр!AN1115","v":0},{"$f":"Реестр!G1115","v":0},{"$f":"IF(Реестр!#REF!=\"I\",\"Ф152\",IF(Реестр!#REF!=\"II\",\"Ф127\",IF(Реестр!#REF!=\"III\",\"Ф127\",IF(Реестр!#REF!=\"IV\",\"Ф228\",IF(Реестр!#REF!=\"V\",\"Ф127\",\"\")))))","v":{"$error":"#REF!"}},{"$f":"Реестр!J1115","v":0},0]
[{"$f":"(Реестр!B1116)+0","v":"00:00:00"},{"$f":"Реестр!AM1116","v":0},{"$f":"Реестр!AZ1116","v":0},{"$f":"Реестр!AN1116","v":0},{"$f":"Реестр!G1116","v":0},{"$f":"IF(Реестр!#REF!=\"I\",\"Ф152\",IF(Реестр!#REF!=\"II\",\"Ф127\",IF(Реестр!#REF!=\"III\",\"Ф127\",IF(Реестр!#REF!=\"IV\",\"Ф228\",IF(Реестр!#REF!=\"V\",\"Ф127\",\"\")))))","v":{"$error":"#REF!"}},{"$f":"Реестр!J1116","v":0},0]
[{"$f":"(Реестр!B1117)+0","v":"00:00:00"},{"$f":"Реестр!AM1117","v":0},{"$f":"Реестр!AZ1117","v":0},{"$f":"Реестр!AN1117","v":0},{"$f":"Реестр!G1117","v":0},{"$f":"IF(Реестр!#REF!=\"I\",\"Ф152\",IF(Реестр!#REF!=\"II\",\"Ф127\",IF(Реестр!#REF!=\"III\",\"Ф127\",IF(Реестр!#REF!=\"IV\",\"Ф228\",IF(Реестр!#REF!=\"V\",\"Ф127\",\"\")))))","v":{"$error":"#REF!"}},{"$f":"Реестр!J1117","v":0},0]
[{"$f":"(Реестр!B1118)+0","v":"00:00:00"},{"$f":"Реестр!AM1118","v":0},{"$f":"Реестр!AZ1118","v":0},{"$f":"Реестр!AN1118","v":0},{"$f":"Реестр!G1118","v":0},{"$f":"IF(Реестр!#REF!=\"I\",\"Ф152\",IF(Реестр!#REF!=\"II\",\"Ф127\",IF(Реестр!#REF!=\"III\",\"Ф127\",IF(Реестр!#REF!=\"IV\",\"Ф228\",IF(Реестр!#REF!=\"V\",\"Ф127\",\"\")))))","v":{"$error":"#REF!"}},{"$f":"Реестр!J1118","v":0},0]
[{"$f":"(Реестр!B1119)+0","v":"00:00:00"},{"$f":"Реестр!AM1119","v":0},{"$f":"Реестр!AZ1119","v":0},{"$f":"Реестр!AN1119","v":0},{"$f":"Реестр!G1119","v":0},{"$f":"IF(Реестр!#REF!=\"I\",\"Ф152\",IF(Реестр!#REF!=\"II\",\"Ф127\",IF(Реестр!#REF!=\"III\",\"Ф127\",IF(Реестр!#REF!=\"IV\",\"Ф228\",IF(Реестр!#REF!=\"V\",\"Ф127\",\"\")))))","v":{"$error":"#REF!"}},{"$f":"Реестр!J1119","v":0},0]
[{"$f":"(Реестр!B1120)+0","v":"00:00:00"},{"$f":"Реестр!AM1120","v":0},{"$f":"Реестр!AZ1120","v":0},{"$f":"Реестр!AN1120","v":0},{"$f":"Реестр!G1120","v":0},{"$f":"IF(Реестр!#REF!=\"I\",\"Ф152\",IF(Реестр!#REF!=\"II\",\"Ф127\",IF(Реестр!#REF!=\"III\",\"Ф127\",IF(Реестр!#REF!=\"IV\",\"Ф228\",IF(Реестр!#REF!=\"V\",\"Ф127\",\"\")))))","v":{"$error":"#REF!"}},{"$f":"Реестр!J1120","v":0},0]
[{"$f":"(Реестр!B1121)+0","v":"00:00:00"},{"$f":"Реестр!AM1121","v":0},{"$f":"Реестр!AZ1121","v":0},{"$f":"Реестр!AN1121","v":0},{"$f":"Реестр!G1121","v":0},{"$f":"IF(Реестр!#REF!=\"I\",\"Ф152\",IF(Реестр!#REF!=\"II\",\"Ф127\",IF(Реестр!#REF!=\"III\",\"Ф127\",IF(Реестр!#REF!=\"IV\",\"Ф228\",IF(Реестр!#REF!=\"V\",\"Ф127\",\"\")))))","v":{"$error":"#REF!"}},{"$f":"Реестр!J1121","v":0},0]
[{"$f":"(Реестр!B1122)+0","v":"00:00:00"},{"$f":"Реестр!AM1122","v":0},{"$f":"Реестр!AZ1122","v":0},{"$f":"Реестр!AN1122","v":0},{"$f":"Реестр!G1122","v":0},{"$f":"IF(Реестр!#REF!=\"I\",\"Ф152\",IF(Реестр!#REF!=\"II\",\"Ф127\",IF(Реестр!#REF!=\"III\",\"Ф127\",IF(Реестр!#REF!=\"IV\",\"Ф228\",IF(Реестр!#REF!=\"V\",\"Ф127\",\"\")))))","v":{"$error":"#REF!"}},{"$f":"Реестр!J1122","v":0},0]
[{"$f":"(Реестр!B1123)+0","v":"00:00:00"},{"$f":"Реестр!AM1123","v":0},{"$f":"Реестр!AZ1123","v":0},{"$f":"Реестр!AN1123","v":0},{"$f":"Реестр!G1123","v":0},{"$f":"IF(Реестр!#REF!=\"I\",\"Ф152\",IF(Реестр!#REF!=\"II\",\"Ф127\",IF(Реестр!#REF!=\"III\",\"Ф127\",IF(Реестр!#REF!=\"IV\",\"Ф228\",IF(Реестр!#REF!=\"V\",\"Ф127\",\"\")))))","v":{"$error":"#REF!"}},{"$f":"Реестр!J1123","v":0},0]
[{"$f":"(Реестр!B1124)+0","v":"00:00:00"},{"$f":"Реестр!AM1124","v":0},{"$f":"Реестр!AZ1124","v":0},{"$f":"Реестр!AN1124","v":0},{"$f":"Реестр!G1124","v":0},{"$f":"IF(Реестр!#REF!=\"I\",\"Ф152\",IF(Реестр!#REF!=\"II\",\"Ф127\",IF(Реестр!#REF!=\"III\",\"Ф127\",IF(Реестр!#REF!=\"IV\",\"Ф228\",IF(Реестр!#REF!=\"V\",\"Ф127\",\"\")))))","v":{"$error":"#REF!"}},{"$f":"Реестр!J1124","v":0},0]
[{"$f":"(Реестр!B1125)+0","v":"00:00:00"},{"$f":"Реестр!AM1125","v":0},{"$f":"Реестр!AZ1125","v":0},{"$f":"Реестр!AN1125","v":0},{"$f":"Реестр!G1125","v":0},{"$f":"IF(Реестр!#REF!=\"I\",\"Ф152\",IF(Реестр!#REF!=\"II\",\"Ф127\",IF(Реестр!#REF!=\"III\",\"Ф127\",IF(Реестр!#REF!=\"IV\",\"Ф228\",IF(Реестр!#REF!=\"V\",\"Ф127\",\"\")))))","v":{"$error":"#REF!"}},{"$f":"Реестр!J1125","v":0},0]
[{"$f":"(Реестр!B1126)+0","v":"00:00:00"},{"$f":"Реестр!AM1126","v":0},{"$f":"Реестр!AZ1126","v":0},{"$f":"Реестр!AN1126","v":0},{"$f":"Реестр!G1126","v":0},{"$f":"IF(Реестр!#REF!=\"I\",\"Ф152\",IF(Реестр!#REF!=\"II\",\"Ф127\",IF(Реестр!#REF!=\"III\",\"Ф127\",IF(Реестр!#REF!=\"IV\",\"Ф228\",IF(Реестр!#REF!=\"V\",\"Ф127\",\"\")))))","v":{"$error":"#REF!"}},{"$f":"Реестр!J1126","v":0},0]
[{"$f":"(Реестр!B1127)+0","v":"00:00:00"},{"$f":"Реестр!AM1127","v":0},{"$f":"Реестр!AZ1127","v":0},{"$f":"Реестр!AN1127","v":0},{"$f":"Реестр!G1127","v":0},{"$f":"IF(Реестр!#REF!=\"I\",\"Ф152\",IF(Реестр!#REF!=\"II\",\"Ф127\",IF(Реестр!#REF!=\"III\",\"Ф127\",IF(Реестр!#REF!=\"IV\",\"Ф228\",IF(Реестр!#REF!=\"V\",\"Ф127\",\"\")))))","v":{"$error":"#REF!"}},{"$f":"Реестр!J1127","v":0},0]
[{"$f":"(Реестр!B1128)+0","v":"00:00:00"},{"$f":"Реестр!AM1128","v":0},{"$f":"Реестр!AZ1128","v":0},{"$f":"Реестр!AN1128","v":0},{"$f":"Реестр!G1128","v":0},{"$f":"IF(Реестр!#REF!=\"I\",\"Ф152\",IF(Реестр!#REF!=\"II\",\"Ф127\",IF(Реестр!#REF!=\"III\",\"Ф127\",IF(Реестр!#REF!=\"IV\",\"Ф228\",IF(Реестр!#REF!=\"V\",\"Ф127\",\"\")))))","v":{"$error":"#REF!"}},{"$f":"Реестр!J1128","v":0},0]
[{"$f":"(Реестр!B1129)+0","v":"00:00:00"},{"$f":"Реестр!AM1129","v":0},{"$f":"Реестр!AZ1129","v":0},{"$f":"Реестр!AN1129","v":0},{"$f":"Реестр!G1129","v":0},{"$f":"IF(Реестр!#REF!=\"I\",\"Ф152\",IF(Реестр!#REF!=\"II\",\"Ф127\",IF(Реестр!#REF!=\"III\",\"Ф127\",IF(Реестр!#REF!=\"IV\",\"Ф228\",IF(Реестр!#REF!=\"V\",\"Ф127\",\"\")))))","v":{"$error":"#REF!"}},{"$f":"Реестр!J1129","v":0},0]
[{"$f":"(Реестр!B1130)+0","v":"00:00:00"},{"$f":"Реестр!AM1130","v":0},{"$f":"Реестр!AZ1130","v":0},{"$f":"Реестр!AN1130","v":0},{"$f":"Реестр!G1130","v":0},{"$f":"IF(Реестр!#REF!=\"I\",\"Ф152\",IF(Реестр!#REF!=\"II\",\"Ф127\",IF(Реестр!#REF!=\"III\",\"Ф127\",IF(Реестр!#REF!=\"IV\",\"Ф228\",IF(Реестр!#REF!=\"V\",\"Ф127\",\"\")))))","v":{"$error":"#REF!"}},{"$f":"Реестр!J1130","v":0},0]
[{"$f":"(Реестр!B1131)+0","v":"00:00:00"},{"$f":"Реестр!AM1131","v":0},{"$f":"Реестр!AZ1131","v":0},{"$f":"Реестр!AN1131","v":0},{"$f":"Реестр!G1131","v":0},{"$f":"IF(Реестр!#REF!=\"I\",\"Ф152\",IF(Реестр!#REF!=\"II\",\"Ф127\",IF(Реестр!#REF!=\"III\",\"Ф127\",IF(Реестр!#REF!=\"IV\",\"Ф228\",IF(Реестр!#REF!=\"V\",\"Ф127\",\"\")))))","v":{"$error":"#REF!"}},{"$f":"Реестр!J1131","v":0},0]
[{"$f":"(Реестр!B1132)+0","v":"00:00:00"},{"$f":"Реестр!AM1132","v":0},{"$f":"Реестр!AZ1132","v":0},{"$f":"Реестр!AN1132","v":0},{"$f":"Реестр!G1132","v":0},{"$f":"IF(Реестр!#REF!=\"I\",\"Ф152\",IF(Реестр!#REF!=\"II\",\"Ф127\",IF(Реестр!#REF!=\"III\",\"Ф127\",IF(Реестр!#REF!=\"IV\",\"Ф228\",IF(Реестр!#REF!=\"V\",\"Ф127\",\"\")))))","v":{"$error":"#REF!"}},{"$f":"Реестр!J1132","v":0},0]
[{"$f":"(Реестр!B1133)+0","v":"00:00:00"},{"$f":"Реестр!AM1133","v":0},{"$f":"Реестр!AZ1133","v":0},{"$f":"Реестр!AN1133","v":0},{"$f":"Реестр!G1133","v":0},{"$f":"IF(Реестр!#REF!=\"I\",\"Ф152\",IF(Реестр!#REF!=\"II\",\"Ф127\",IF(Реестр!#REF!=\"III\",\"Ф127\",IF(Реестр!#REF!=\"IV\",\"Ф228\",IF(Реестр!#REF!=\"V\",\"Ф127\",\"\")))))","v":{"$error":"#REF!"}},{"$f":"Реестр!J1133","v":0},0]
[{"$f":"(Реестр!B1134)+0","v":"00:00:00"},{"$f":"Реестр!AM1134","v":0},{"$f":"Реестр!AZ1134","v":0},{"$f":"Реестр!AN1134","v":0},{"$f":"Реестр!G1134","v":0},{"$f":"IF(Реестр!#REF!=\"I\",\"Ф152\",IF(Реестр!#REF!=\"II\",\"Ф127\",IF(Реестр!#REF!=\"III\",\"Ф127\",IF(Реестр!#REF!=\"IV\",\"Ф228\",IF(Реестр!#REF!=\"V\",\"Ф127\",\"\")))))","v":{"$error":"#REF!"}},{"$f":"Реестр!J1134","v":0},0]
[{"$f":"(Реестр!B1135)+0","v":"00:00:00"},{"$f":"Реестр!AM1135","v":0},{"$f":"Реестр!AZ1135","v":0},{"$f":"Реестр!AN1135","v":0},{"$f":"Реестр!G1135","v":0},{"$f":"IF(Реестр!#REF!=\"I\",\"Ф152\",IF(Реестр!#REF!=\"II\",\"Ф127\",IF(Реестр!#REF!=\"III\",\"Ф127\",IF(Реестр!#REF!=\"IV\",\"Ф228\",IF(Реестр!#REF!=\"V\",\"Ф127\",\"\")))))","v":{"$error":"#REF!"}},{"$f":"Реестр!J1135","v":0},0]
[{"$f":"(Реестр!B1136)+0","v":"00:00:00"},{"$f":"Реестр!AM1136","v":0},{"$f":"Реестр!AZ1136","v":0},{"$f":"Реестр!AN1136","v":0},{"$f":"Реестр!G1136","v":0},{"$f":"IF(Реестр!#REF!=\"I\",\"Ф152\",IF(Реестр!#REF!=\"II\",\"Ф127\",IF(Реестр!#REF!=\"III\",\"Ф127\",IF(Реестр!#REF!=\"IV\",\"Ф228\",IF(Реестр!#REF!=\"V\",\"Ф127\",\"\")))))","v":{"$error":"#REF!"}},{"$f":"Реестр!J1136","v":0},0]
[{"$f":"(Реестр!B1137)+0","v":"00:00:00"},{"$f":"Реестр!AM1137","v":0},{"$f":"Реестр!AZ1137","v":0},{"$f":"Реестр!AN1137","v":0},{"$f":"Реестр!G1137","v":0},{"$f":"IF(Реестр!#REF!=\"I\",\"Ф152\",IF(Реестр!#REF!=\"II\",\"Ф127\",IF(Реестр!#REF!=\"III\",\"Ф127\",IF(Реестр!#REF!=\"IV\",\"Ф228\",IF(Реестр!#REF!=\"V\",\"Ф127\",\"\")))))","v":{"$error":"#REF!"}},{"$f":"Реестр!J1137","v":0},0]
[{"$f":"(Реестр!B1138)+0","v":"00:00:00"},{"$f":"Реестр!AM1138","v":0},{"$f":"Реестр!AZ1138","v":0},{"$f":"Реестр!AN1138","v":0},{"$f":"Реестр!G1138","v":0},{"$f":"IF(Реестр!#REF!=\"I\",\"Ф152\",IF(Реестр!#REF!=\"II\",\"Ф127\",IF(Реестр!#REF!=\"III\",\"Ф127\",IF(Реестр!#REF!=\"IV\",\"Ф228\",IF(Реестр!#REF!=\"V\",\"Ф127\",\"\")))))","v":{"$error":"#REF!"}},{"$f":"Реестр!J1138","v":0},0]
[{"$f":"(Реестр!B1139)+0","v":"00:00:00"},{"$f":"Реестр!AM1139","v":0},{"$f":"Реестр!AZ1139","v":0},{"$f":"Реестр!AN1139","v":0},{"$f":"Реестр!G1139","v":0},{"$f":"IF(Реестр!#REF!=\"I\",\"Ф152\",IF(Реестр!#REF!=\"II\",\"Ф127\",IF(Реестр!#REF!=\"III\",\"Ф127\",IF(Реестр!#REF!=\"IV\",\"Ф228\",IF(Реестр!#REF!=\"V\",\"Ф127\",\"\")))))","v":{"$error":"#REF!"}},{"$f":"Реестр!J1139","v":0},0]
[{"$f":"(Реестр!B1140)+0","v":"00:00:00"},{"$f":"Реестр!AM1140","v":0},{"$f":"Реестр!AZ1140","v":0},{"$f":"Реестр!AN1140","v":0},{"$f":"Реестр!G1140","v":0},{"$f":"IF(Реестр!#REF!=\"I\",\"Ф152\",IF(Реестр!#REF!=\"II\",\"Ф127\",IF(Реестр!#REF!=\"III\",\"Ф127\",IF(Реестр!#REF!=\"IV\",\"Ф228\",IF(Реестр!#REF!=\"V\",\"Ф127\",\"\")))))","v":{"$error":"#REF!"}},{"$f":"Реестр!J1140","v":0},0]
[{"$f":"(Реестр!B1141)+0","v":"00:00:00"},{"$f":"Реестр!AM1141","v":0},{"$f":"Реестр!AZ1141","v":0},{"$f":"Реестр!AN1141","v":0},{"$f":"Реестр!G1141","v":0},{"$f":"IF(Реестр!#REF!=\"I\",\"Ф152\",IF(Реестр!#REF!=\"II\",\"Ф127\",IF(Реестр!#REF!=\"III\",\"Ф127\",IF(Реестр!#REF!=\"IV\",\"Ф228\",IF(Реестр!#REF!=\"V\",\"Ф127\",\"\")))))","v":{"$error":"#REF!"}},{"$f":"Реестр!J1141","v":0},0]
[{"$f":"(Реестр!B1142)+0","v":"00:00:00"},{"$f":"Реестр!AM1142","v":0},{"$f":"Реестр!AZ1142","v":0},{"$f":"Реестр!AN1142","v":0},{"$f":"Реестр!G1142","v":0},{"$f":"IF(Реестр!#REF!=\"I\",\"Ф152\",IF(Реестр!#REF!=\"II\",\"Ф127\",IF(Реестр!#REF!=\"III\",\"Ф127\",IF(Реестр!#REF!=\"IV\",\"Ф228\",IF(Реестр!#REF!=\"V\",\"Ф127\",\"\")))))","v":{"$error":"#REF!"}},{"$f":"Реестр!J1142","v":0},0]
[{"$f":"(Реестр!B1143)+0","v":"00:00:00"},{"$f":"Реестр!AM1143","v":0},{"$f":"Реестр!AZ1143","v":0},{"$f":"Реестр!AN1143","v":0},{"$f":"Реестр!G1143","v":0},{"$f":"IF(Реестр!#REF!=\"I\",\"Ф152\",IF(Реестр!#REF!=\"II\",\"Ф127\",IF(Реестр!#REF!=\"III\",\"Ф127\",IF(Реестр!#REF!=\"IV\",\"Ф228\",IF(Реестр!#REF!=\"V\",\"Ф127\",\"\")))))","v":{"$error":"#REF!"}},{"$f":"Реестр!J1143","v":0},0]
[{"$f":"(Реестр!B1144)+0","v":"00:00:00"},{"$f":"Реестр!AM1144","v":0},{"$f":"Реестр!AZ1144","v":0},{"$f":"Реестр!AN1144","v":0},{"$f":"Реестр!G1144","v":0},{"$f":"IF(Реестр!#REF!=\"I\",\"Ф152\",IF(Реестр!#REF!=\"II\",\"Ф127\",IF(Реестр!#REF!=\"III\",\"Ф127\",IF(Реестр!#REF!=\"IV\",\"Ф228\",IF(Реестр!#REF!=\"V\",\"Ф127\",\"\")))))","v":{"$error":"#REF!"}},{"$f":"Реестр!J1144","v":0},0]
[{"$f":"(Реестр!B1145)+0","v":"00:00:00"},{"$f":"Реестр!AM1145","v":0},{"$f":"Реестр!AZ1145","v":0},{"$f":"Реестр!AN1145","v":0},{"$f":"Реестр!G1145","v":0},{"$f":"IF(Реестр!#REF!=\"I\",\"Ф152\",IF(Реестр!#REF!=\"II\",\"Ф127\",IF(Реестр!#REF!=\"III\",\"Ф127\",IF(Реестр!#REF!=\"IV\",\"Ф228\",IF(Реестр!#REF!=\"V\",\"Ф127\",\"\")))))","v":{"$error":"#REF!"}},{"$f":"Реестр!J1145","v":0},0]
[{"$f":"(Реестр!B1146)+0","v":"00:00:00"},{"$f":"Реестр!AM1146","v":0},{"$f":"Реестр!AZ1146","v":0},{"$f":"Реестр!AN1146","v":0},{"$f":"Реестр!G1146","v":0},{"$f":"IF(Реестр!#REF!=\"I\",\"Ф152\",IF(Реестр!#REF!=\"II\",\"Ф127\",IF(Реестр!#REF!=\"III\",\"Ф127\",IF(Реестр!#REF!=\"IV\",\"Ф228\",IF(Реестр!#REF!=\"V\",\"Ф127\",\"\")))))","v":{"$error":"#REF!"}},{"$f":"Реестр!J1146","v":0},0]
[{"$f":"(Реестр!B1147)+0","v":"00:00:00"},{"$f":"Реестр!AM1147","v":0},{"$f":"Реестр!AZ1147","v":0},{"$f":"Реестр!AN1147","v":0},{"$f":"Реестр!G1147","v":0},{"$f":"IF(Реестр!#REF!=\"I\",\"Ф152\",IF(Реестр!#REF!=\"II\",\"Ф127\",IF(Реестр!#REF!=\"III\",\"Ф127\",IF(Реестр!#REF!=\"IV\",\"Ф228\",IF(Реестр!#REF!=\"V\",\"Ф127\",\"\")))))","v":{"$error":"#REF!"}},{"$f":"Реестр!J1147","v":0},0]
[{"$f":"(Реестр!B1148)+0","v":"00:00:00"},{"$f":"Реестр!AM1148","v":0},{"$f":"Реестр!AZ1148","v":0},{"$f":"Реестр!AN1148","v":0},{"$f":"Реестр!G1148","v":0},{"$f":"IF(Реестр!#REF!=\"I\",\"Ф152\",IF(Реестр!#REF!=\"II\",\"Ф127\",IF(Реестр!#REF!=\"III\",\"Ф127\",IF(Реестр!#REF!=\"IV\",\"Ф228\",IF(Реестр!#REF!=\"V\",\"Ф127\",\"\")))))","v":{"$error":"#REF!"}},{"$f":"Реестр!J1148","v":0},0]
[{"$f":"(Реестр!B1149)+0","v":"00:00:00"},{"$f":"Реестр!AM1149","v":0},{"$f":"Реестр!AZ1149","v":0},{"$f":"Реестр!AN1149","v":0},{"$f":"Реестр!G1149","v":0},{"$f":"IF(Реестр!#REF!=\"I\",\"Ф152\",IF(Реестр!#REF!=\"II\",\"Ф127\",IF(Реестр!#REF!=\"III\",\"Ф127\",IF(Реестр!#REF!=\"IV\",\"Ф228\",IF(Реестр!#REF!=\"V\",\"Ф127\",\"\")))))","v":{"$error":"#REF!"}},{"$f":"Реестр!J1149","v":0},0]
[{"$f":"(Реестр!B1150)+0","v":"00:00:00"},{"$f":"Реестр!AM1150","v":0},{"$f":"Реестр!AZ1150","v":0},{"$f":"Реестр!AN1150","v":0},{"$f":"Реестр!G1150","v":0},{"$f":"IF(Реестр!#REF!=\"I\",\"Ф152\",IF(Реестр!#REF!=\"II\",\"Ф127\",IF(Реестр!#REF!=\"III\",\"Ф127\",IF(Реестр!#REF!=\"IV\",\"Ф228\",IF(Реестр!#REF!=\"V\",\"Ф127\",\"\")))))","v":{"$error":"#REF!"}},{"$f":"Реестр!J1150","v":0},0]
[{"$f":"(Реестр!B1151)+0","v":"00:00:00"},{"$f":"Реестр!AM1151","v":0},{"$f":"Реестр!AZ1151","v":0},{"$f":"Реестр!AN1151","v":0},{"$f":"Реестр!G1151","v":0},{"$f":"IF(Реестр!#REF!=\"I\",\"Ф152\",IF(Реестр!#REF!=\"II\",\"Ф127\",IF(Реестр!#REF!=\"III\",\"Ф127\",IF(Реестр!#REF!=\"IV\",\"Ф228\",IF(Реестр!#REF!=\"V\",\"Ф127\",\"\")))))","v":{"$error":"#REF!"}},{"$f":"Реестр!J1151","v":0},{"$f":"E585*G585","v":0}]
[{"$f":"(Реестр!B1152)+0","v":"00:00:00"},{"$f":"Реестр!AM1152","v":0},{"$f":"Реестр!AZ1152","v":0},{"$f":"Реестр!AN1152","v":0},{"$f":"Реестр!G1152","v":0},{"$f":"IF(Реестр!#REF!=\"I\",\"Ф152\",IF(Реестр!#REF!=\"II\",\"Ф127\",IF(Реестр!#REF!=\"III\",\"Ф127\",IF(Реестр!#REF!=\"IV\",\"Ф228\",IF(Реестр!#REF!=\"V\",\"Ф127\",\"\")))))","v":{"$error":"#REF!"}},{"$f":"Реестр!J1152","v":0},0]
[{"$f":"(Реестр!B1153)+0","v":"00:00:00"},{"$f":"Реестр!AM1153","v":0},{"$f":"Реестр!AZ1153","v":0},{"$f":"Реестр!AN1153","v":0},{"$f":"Реестр!G1153","v":0},{"$f":"IF(Реестр!#REF!=\"I\",\"Ф152\",IF(Реестр!#REF!=\"II\",\"Ф127\",IF(Реестр!#REF!=\"III\",\"Ф127\",IF(Реестр!#REF!=\"IV\",\"Ф228\",IF(Реестр!#REF!=\"V\",\"Ф127\",\"\")))))","v":{"$error":"#REF!"}},{"$f":"Реестр!J1153","v":0},0]
[{"$f":"(Реестр!B1154)+0","v":"00:00:00"},{"$f":"Реестр!AM1154","v":0},{"$f":"Реестр!AZ1154","v":0},{"$f":"Реестр!AN1154","v":0},{"$f":"Реестр!G1154","v":0},{"$f":"IF(Реестр!#REF!=\"I\",\"Ф152\",IF(Реестр!#REF!=\"II\",\"Ф127\",IF(Реестр!#REF!=\"III\",\"Ф127\",IF(Реестр!#REF!=\"IV\",\"Ф228\",IF(Реестр!#REF!=\"V\",\"Ф127\",\"\")))))","v":{"$error":"#REF!"}},{"$f":"Реестр!J1154","v":0},0]
[{"$f":"(Реестр!B1155)+0","v":"00:00:00"},{"$f":"Реестр!AM1155","v":0},{"$f":"Реестр!AZ1155","v":0},{"$f":"Реестр!AN1155","v":0},{"$f":"Реестр!G1155","v":0},{"$f":"IF(Реестр!#REF!=\"I\",\"Ф152\",IF(Реестр!#REF!=\"II\",\"Ф127\",IF(Реестр!#REF!=\"III\",\"Ф127\",IF(Реестр!#REF!=\"IV\",\"Ф228\",IF(Реестр!#REF!=\"V\",\"Ф127\",\"\")))))","v":{"$error":"#REF!"}},{"$f":"Реестр!J1155","v":0},0]
[{"$f":"(Реестр!B1156)+0","v":"00:00:00"},{"$f":"Реестр!AM1156","v":0},{"$f":"Реестр!AZ1156","v":0},{"$f":"Реестр!AN1156","v":0},{"$f":"Реестр!G1156","v":0},{"$f":"IF(Реестр!#REF!=\"I\",\"Ф152\",IF(Реестр!#REF!=\"II\",\"Ф127\",IF(Реестр!#REF!=\"III\",\"Ф127\",IF(Реестр!#REF!=\"IV\",\"Ф228\",IF(Реестр!#REF!=\"V\",\"Ф127\",\"\")))))","v":{"$error":"#REF!"}},{"$f":"Реестр!J1156","v":0},0]
[{"$f":"(Реестр!B1157)+0","v":"00:00:00"},{"$f":"Реестр!AM1157","v":0},{"$f":"Реестр!AZ1157","v":0},{"$f":"Реестр!AN1157","v":0},{"$f":"Реестр!G1157","v":0},{"$f":"IF(Реестр!#REF!=\"I\",\"Ф152\",IF(Реестр!#REF!=\"II\",\"Ф127\",IF(Реестр!#REF!=\"III\",\"Ф127\",IF(Реестр!#REF!=\"IV\",\"Ф228\",IF(Реестр!#REF!=\"V\",\"Ф127\",\"\")))))","v":{"$error":"#REF!"}},{"$f":"Реестр!J1157","v":0},0]
[{"$f":"(Реестр!B1158)+0","v":"00:00:00"},{"$f":"Реестр!AM1158","v":0},{"$f":"Реестр!AZ1158","v":0},{"$f":"Реестр!AN1158","v":0},{"$f":"Реестр!G1158","v":0},{"$f":"IF(Реестр!#REF!=\"I\",\"Ф152\",IF(Реестр!#REF!=\"II\",\"Ф127\",IF(Реестр!#REF!=\"III\",\"Ф127\",IF(Реестр!#REF!=\"IV\",\"Ф228\",IF(Реестр!#REF!=\"V\",\"Ф127\",\"\")))))","v":{"$error":"#REF!"}},{"$f":"Реестр!J1158","v":0},0]
[{"$f":"(Реестр!B1159)+0","v":"00:00:00"},{"$f":"Реестр!AM1159","v":0},{"$f":"Реестр!AZ1159","v":0},{"$f":"Реестр!AN1159","v":0},{"$f":"Реестр!G1159","v":0},{"$f":"IF(Реестр!#REF!=\"I\",\"Ф152\",IF(Реестр!#REF!=\"II\",\"Ф127\",IF(Реестр!#REF!=\"III\",\"Ф127\",IF(Реестр!#REF!=\"IV\",\"Ф228\",IF(Реестр!#REF!=\"V\",\"Ф127\",\"\")))))","v":{"$error":"#REF!"}},{"$f":"Реестр!J1159","v":0},0]
[{"$f":"(Реестр!B1160)+0","v":"00:00:00"},{"$f":"Реестр!AM1160","v":0},{"$f":"Реестр!AZ1160","v":0},{"$f":"Реестр!AN1160","v":0},{"$f":"Реестр!G1160","v":0},{"$f":"IF(Реестр!#REF!=\"I\",\"Ф152\",IF(Реестр!#REF!=\"II\",\"Ф127\",IF(Реестр!#REF!=\"III\",\"Ф127\",IF(Реестр!#REF!=\"IV\",\"Ф228\",IF(Реестр!#REF!=\"V\",\"Ф127\",\"\")))))","v":{"$error":"#REF!"}},{"$f":"Реестр!J1160","v":0},0]
[{"$f":"(Реестр!B1161)+0","v":"00:00:00"},{"$f":"Реестр!AM1161","v":0},{"$f":"Реестр!AZ1161","v":0},{"$f":"Реестр!AN1161","v":0},{"$f":"Реестр!G1161","v":0},{"$f":"IF(Реестр!#REF!=\"I\",\"Ф152\",IF(Реестр!#REF!=\"II\",\"Ф127\",IF(Реестр!#REF!=\"III\",\"Ф127\",IF(Реестр!#REF!=\"IV\",\"Ф228\",IF(Реестр!#REF!=\"V\",\"Ф127\",\"\")))))","v":{"$error":"#REF!"}},{"$f":"Реестр!J1161","v":0},0]
[{"$f":"(Реестр!B1162)+0","v":"00:00:00"},{"$f":"Реестр!AM1162","v":0},{"$f":"Реестр!AZ1162","v":0},{"$f":"Реестр!AN1162","v":0},{"$f":"Реестр!G1162","v":0},{"$f":"IF(Реестр!#REF!=\"I\",\"Ф152\",IF(Реестр!#REF!=\"II\",\"Ф127\",IF(Реестр!#REF!=\"III\",\"Ф127\",IF(Реестр!#REF!=\"IV\",\"Ф228\",IF(Реестр!#REF!=\"V\",\"Ф127\",\"\")))))","v":{"$error":"#REF!"}},{"$f":"Реестр!J1162","v":0},0]
[{"$f":"(Реестр!B1163)+0","v":"00:00:00"},{"$f":"Реестр!AM1163","v":0},{"$f":"Реестр!AZ1163","v":0},{"$f":"Реестр!AN1163","v":0},{"$f":"Реестр!G1163","v":0},{"$f":"IF(Реестр!#REF!=\"I\",\"Ф152\",IF(Реестр!#REF!=\"II\",\"Ф127\",IF(Реестр!#REF!=\"III\",\"Ф127\",IF(Реестр!#REF!=\"IV\",\"Ф228\",IF(Реестр!#REF!=\"V\",\"Ф127\",\"\")))))","v":{"$error":"#REF!"}},{"$f":"Реестр!J1163","v":0},0]
[{"$f":"(Реестр!B1164)+0","v":"00:00:00"},{"$f":"Реестр!AM1164","v":0},{"$f":"Реестр!AZ1164","v":0},{"$f":"Реестр!AN1164","v":0},{"$f":"Реестр!G1164","v":0},{"$f":"IF(Реестр!#REF!=\"I\",\"Ф152\",IF(Реестр!#REF!=\"II\",\"Ф127\",IF(Реестр!#REF!=\"III\",\"Ф127\",IF(Реестр!#REF!=\"IV\",\"Ф228\",IF(Реестр!#REF!=\"V\",\"Ф127\",\"\")))))","v":{"$error":"#REF!"}},{"$f":"Реестр!J1164","v":0},0]
[{"$f":"(Реестр!B1165)+0","v":"00:00:00"},{"$f":"Реестр!AM1165","v":0},{"$f":"Реестр!AZ1165","v":0},{"$f":"Реестр!AN1165","v":0},{"$f":"Реестр!G1165","v":0},{"$f":"IF(Реестр!#REF!=\"I\",\"Ф152\",IF(Реестр!#REF!=\"II\",\"Ф127\",IF(Реестр!#REF!=\"III\",\"Ф127\",IF(Реестр!#REF!=\"IV\",\"Ф228\",IF(Реестр!#REF!=\"V\",\"Ф127\",\"\")))))","v":{"$error":"#REF!"}},{"$f":"Реестр!J1165","v":0},0]
[{"$f":"(Реестр!B1166)+0","v":"00:00:00"},{"$f":"Реестр!AM1166","v":0},{"$f":"Реестр!AZ1166","v":0},{"$f":"Реестр!AN1166","v":0},{"$f":"Реестр!G1166","v":0},{"$f":"IF(Реестр!#REF!=\"I\",\"Ф152\",IF(Реестр!#REF!=\"II\",\"Ф127\",IF(Реестр!#REF!=\"III\",\"Ф127\",IF(Реестр!#REF!=\"IV\",\"Ф228\",IF(Реестр!#REF!=\"V\",\"Ф127\",\"\")))))","v":{"$error":"#REF!"}},{"$f":"Реестр!J1166","v":0},0]
[{"$f":"(Реестр!B1167)+0","v":"00:00:00"},{"$f":"Реестр!AM1167","v":0},{"$f":"Реестр!AZ1167","v":0},{"$f":"Реестр!AN1167","v":0},{"$f":"Реестр!G1167","v":0},{"$f":"IF(Реестр!#REF!=\"I\",\"Ф152\",IF(Реестр!#REF!=\"II\",\"Ф127\",IF(Реестр!#REF!=\"III\",\"Ф127\",IF(Реестр!#REF!=\"IV\",\"Ф228\",IF(Реестр!#REF!=\"V\",\"Ф127\",\"\")))))","v":{"$error":"#REF!"}},{"$f":"Реестр!J1167","v":0},0]
[{"$f":"(Реестр!B1168)+0","v":"00:00:00"},{"$f":"Реестр!AM1168","v":0},{"$f":"Реестр!AZ1168","v":0},{"$f":"Реестр!AN1168","v":0},{"$f":"Реестр!G1168","v":0},{"$f":"IF(Реестр!#REF!=\"I\",\"Ф152\",IF(Реестр!#REF!=\"II\",\"Ф127\",IF(Реестр!#REF!=\"III\",\"Ф127\",IF(Реестр!#REF!=\"IV\",\"Ф228\",IF(Реестр!#REF!=\"V\",\"Ф127\",\"\")))))","v":{"$error":"#REF!"}},{"$f":"Реестр!J1168","v":0},0]
[{"$f":"(Реестр!B1169)+0","v":"00:00:00"},{"$f":"Реестр!AM1169","v":0},{"$f":"Реестр!AZ1169","v":0},{"$f":"Реестр!AN1169","v":0},{"$f":"Реестр!G1169","v":0},{"$f":"IF(Реестр!#REF!=\"I\",\"Ф152\",IF(Реестр!#REF!=\"II\",\"Ф127\",IF(Реестр!#REF!=\"III\",\"Ф127\",IF(Реестр!#REF!=\"IV\",\"Ф228\",IF(Реестр!#REF!=\"V\",\"Ф127\",\"\")))))","v":{"$error":"#REF!"}},{"$f":"Реестр!J1169","v":0},0]
[{"$f":"(Реестр!B1170)+0","v":"00:00:00"},{"$f":"Реестр!AM1170","v":0},{"$f":"Реестр!AZ1170","v":0},{"$f":"Реестр!AN1170","v":0},{"$f":"Реестр!G1170","v":0},{"$f":"IF(Реестр!#REF!=\"I\",\"Ф152\",IF(Реестр!#REF!=\"II\",\"Ф127\",IF(Реестр!#REF!=\"III\",\"Ф127\",IF(Реестр!#REF!=\"IV\",\"Ф228\",IF(Реестр!#REF!=\"V\",\"Ф127\",\"\")))))","v":{"$error":"#REF!"}},{"$f":"Реестр!J1170","v":0},0]
[{"$f":"(Реестр!B1171)+0","v":"00:00:00"},{"$f":"Реестр!AM1171","v":0},{"$f":"Реестр!AZ1171","v":0},{"$f":"Реестр!AN1171","v":0},{"$f":"Реестр!G1171","v":0},{"$f":"IF(Реестр!#REF!=\"I\",\"Ф152\",IF(Реестр!#REF!=\"II\",\"Ф127\",IF(Реестр!#REF!=\"III\",\"Ф127\",IF(Реестр!#REF!=\"IV\",\"Ф228\",IF(Реестр!#REF!=\"V\",\"Ф127\",\"\")))))","v":{"$error":"#REF!"}},{"$f":"Реестр!J1171","v":0},0]
[{"$f":"(Реестр!B1172)+0","v":"00:00:00"},{"$f":"Реестр!AM1172","v":0},{"$f":"Реестр!AZ1172","v":0},{"$f":"Реестр!AN1172","v":0},{"$f":"Реестр!G1172","v":0},{"$f":"IF(Реестр!#REF!=\"I\",\"Ф152\",IF(Реестр!#REF!=\"II\",\"Ф127\",IF(Реестр!#REF!=\"III\",\"Ф127\",IF(Реестр!#REF!=\"IV\",\"Ф228\",IF(Реестр!#REF!=\"V\",\"Ф127\",\"\")))))","v":{"$error":"#REF!"}},{"$f":"Реестр!J1172","v":0},0]
[{"$f":"(Реестр!B1173)+0","v":"00:00:00"},{"$f":"Реестр!AM1173","v":0},{"$f":"Реестр!AZ1173","v":0},{"$f":"Реестр!AN1173","v":0},{"$f":"Реестр!G1173","v":0},{"$f":"IF(Реестр!#REF!=\"I\",\"Ф152\",IF(Реестр!#REF!=\"II\",\"Ф127\",IF(Реестр!#REF!=\"III\",\"Ф127\",IF(Реестр!#REF!=\"IV\",\"Ф228\",IF(Реестр!#REF!=\"V\",\"Ф127\",\"\")))))","v":{"$error":"#REF!"}},{"$f":"Реестр!J1173","v":0},0]
[{"$f":"(Реестр!B1174)+0","v":"00:00:00"},{"$f":"Реестр!AM1174","v":0},{"$f":"Реестр!AZ1174","v":0},{"$f":"Реестр!AN1174","v":0},{"$f":"Реестр!G1174","v":0},{"$f":"IF(Реестр!#REF!=\"I\",\"Ф152\",IF(Реестр!#REF!=\"II\",\"Ф127\",IF(Реестр!#REF!=\"III\",\"Ф127\",IF(Реестр!#REF!=\"IV\",\"Ф228\",IF(Реестр!#REF!=\"V\",\"Ф127\",\"\")))))","v":{"$error":"#REF!"}},{"$f":"Реестр!J1174","v":0},0]
[{"$f":"(Реестр!B1175)+0","v":"00:00:00"},{"$f":"Реестр!AM1175","v":0},{"$f":"Реестр!AZ1175","v":0},{"$f":"Реестр!AN1175","v":0},{"$f":"Реестр!G1175","v":0},{"$f":"IF(Реестр!#REF!=\"I\",\"Ф152\",IF(Реестр!#REF!=\"II\",\"Ф127\",IF(Реестр!#REF!=\"III\",\"Ф127\",IF(Реестр!#REF!=\"IV\",\"Ф228\",IF(Реестр!#REF!=\"V\",\"Ф127\",\"\")))))","v":{"$error":"#REF!"}},{"$f":"Реестр!J1175","v":0},0]
[{"$f":"(Реестр!B1176)+0","v":"00:00:00"},{"$f":"Реестр!AM1176","v":0},{"$f":"Реестр!AZ1176","v":0},{"$f":"Реестр!AN1176","v":0},{"$f":"Реестр!G1176","v":0},{"$f":"IF(Реестр!#REF!=\"I\",\"Ф152\",IF(Реестр!#REF!=\"II\",\"Ф127\",IF(Реестр!#REF!=\"III\",\"Ф127\",IF(Реестр!#REF!=\"IV\",\"Ф228\",IF(Реестр!#REF!=\"V\",\"Ф127\",\"\")))))","v":{"$error":"#REF!"}},{"$f":"Реестр!J1176","v":0},0]
[{"$f":"(Реестр!B1177)+0","v":"00:00:00"},{"$f":"Реестр!AM1177","v":0},{"$f":"Реестр!AZ1177","v":0},{"$f":"Реестр!AN1177","v":0},{"$f":"Реестр!G1177","v":0},{"$f":"IF(Реестр!#REF!=\"I\",\"Ф152\",IF(Реестр!#REF!=\"II\",\"Ф127\",IF(Реестр!#REF!=\"III\",\"Ф127\",IF(Реестр!#REF!=\"IV\",\"Ф228\",IF(Реестр!#REF!=\"V\",\"Ф127\",\"\")))))","v":{"$error":"#REF!"}},{"$f":"Реестр!J1177","v":0},0]
[{"$f":"(Реестр!B1178)+0","v":"00:00:00"},{"$f":"Реестр!AM1178","v":0},{"$f":"Реестр!AZ1178","v":0},{"$f":"Реестр!AN1178","v":0},{"$f":"Реестр!G1178","v":0},{"$f":"IF(Реестр!#REF!=\"I\",\"Ф152\",IF(Реестр!#REF!=\"II\",\"Ф127\",IF(Реестр!#REF!=\"III\",\"Ф127\",IF(Реестр!#REF!=\"IV\",\"Ф228\",IF(Реестр!#REF!=\"V\",\"Ф127\",\"\")))))","v":{"$error":"#REF!"}},{"$f":"Реестр!J1178","v":0},0]
[{"$f":"(Реестр!B1179)+0","v":"00:00:00"},{"$f":"Реестр!AM1179","v":0},{"$f":"Реестр!AZ1179","v":0},{"$f":"Реестр!AN1179","v":0},{"$f":"Реестр!G1179","v":0},{"$f":"IF(Реестр!#REF!=\"I\",\"Ф152\",IF(Реестр!#REF!=\"II\",\"Ф127\",IF(Реестр!#REF!=\"III\",\"Ф127\",IF(Реестр!#REF!=\"IV\",\"Ф228\",IF(Реестр!#REF!=\"V\",\"Ф127\",\"\")))))","v":{"$error":"#REF!"}},{"$f":"Реестр!J1179","v":0},0]
[{"$f":"(Реестр!B1180)+0","v":"00:00:00"},{"$f":"Реестр!AM1180","v":0},{"$f":"Реестр!AZ1180","v":0},{"$f":"Реестр!AN1180","v":0},{"$f":"Реестр!G1180","v":0},{"$f":"IF(Реестр!#REF!=\"I\",\"Ф152\",IF(Реестр!#REF!=\"II\",\"Ф127\",IF(Реестр!#REF!=\"III\",\"Ф127\",IF(Реестр!#REF!=\"IV\",\"Ф228\",IF(Реестр!#REF!=\"V\",\"Ф127\",\"\")))))","v":{"$error":"#REF!"}},{"$f":"Реестр!J1180","v":0},0]
[{"$f":"(Реестр!B1181)+0","v":"00:00:00"},{"$f":"Реестр!AM1181","v":0},{"$f":"Реестр!AZ1181","v":0},{"$f":"Реестр!AN1181","v":0},{"$f":"Реестр!G1181","v":0},{"$f":"IF(Реестр!#REF!=\"I\",\"Ф152\",IF(Реестр!#REF!=\"II\",\"Ф127\",IF(Реестр!#REF!=\"III\",\"Ф127\",IF(Реестр!#REF!=\"IV\",\"Ф228\",IF(Реестр!#REF!=\"V\",\"Ф127\",\"\")))))","v":{"$error":"#REF!"}},{"$f":"Реестр!J1181","v":0},0]
[{"$f":"(Реестр!B1182)+0","v":"00:00:00"},{"$f":"Реестр!AM1182","v":0},{"$f":"Реестр!AZ1182","v":0},{"$f":"Реестр!AN1182","v":0},{"$f":"Реестр!G1182","v":0},{"$f":"IF(Реестр!#REF!=\"I\",\"Ф152\",IF(Реестр!#REF!=\"II\",\"Ф127\",IF(Реестр!#REF!=\"III\",\"Ф127\",IF(Реестр!#REF!=\"IV\",\"Ф228\",IF(Реестр!#REF!=\"V\",\"Ф127\",\"\")))))","v":{"$error":"#REF!"}},{"$f":"Реестр!J1182","v":0},0]
[{"$f":"(Реестр!B1183)+0","v":"00:00:00"},{"$f":"Реестр!AM1183","v":0},{"$f":"Реестр!AZ1183","v":0},{"$f":"Реестр!AN1183","v":0},{"$f":"Реестр!G1183","v":0},{"$f":"IF(Реестр!#REF!=\"I\",\"Ф152\",IF(Реестр!#REF!=\"II\",\"Ф127\",IF(Реестр!#REF!=\"III\",\"Ф127\",IF(Реестр!#REF!=\"IV\",\"Ф228\",IF(Реестр!#REF!=\"V\",\"Ф127\",\"\")))))","v":{"$error":"#REF!"}},{"$f":"Реестр!J1183","v":0},0]
[{"$f":"(Реестр!B1184)+0","v":"00:00:00"},{"$f":"Реестр!AM1184","v":0},{"$f":"Реестр!AZ1184","v":0},{"$f":"Реестр!AN1184","v":0},{"$f":"Реестр!G1184","v":0},{"$f":"IF(Реестр!#REF!=\"I\",\"Ф152\",IF(Реестр!#REF!=\"II\",\"Ф127\",IF(Реестр!#REF!=\"III\",\"Ф127\",IF(Реестр!#REF!=\"IV\",\"Ф228\",IF(Реестр!#REF!=\"V\",\"Ф127\",\"\")))))","v":{"$error":"#REF!"}},{"$f":"Реестр!J1184","v":0},0]
[{"$f":"(Реестр!B1185)+0","v":"00:00:00"},{"$f":"Реестр!AM1185","v":0},{"$f":"Реестр!AZ1185","v":0},{"$f":"Реестр!AN1185","v":0},{"$f":"Реестр!G1185","v":0},{"$f":"IF(Реестр!#REF!=\"I\",\"Ф152\",IF(Реестр!#REF!=\"II\",\"Ф127\",IF(Реестр!#REF!=\"III\",\"Ф127\",IF(Реестр!#REF!=\"IV\",\"Ф228\",IF(Реестр!#REF!=\"V\",\"Ф127\",\"\")))))","v":{"$error":"#REF!"}},{"$f":"Реестр!J1185","v":0},0]
[{"$f":"(Реестр!B1186)+0","v":"00:00:00"},{"$f":"Реестр!AM1186","v":0},{"$f":"Реестр!AZ1186","v":0},{"$f":"Реестр!AN1186","v":0},{"$f":"Реестр!G1186","v":0},{"$f":"IF(Реестр!#REF!=\"I\",\"Ф152\",IF(Реестр!#REF!=\"II\",\"Ф127\",IF(Реестр!#REF!=\"III\",\"Ф127\",IF(Реестр!#REF!=\"IV\",\"Ф228\",IF(Реестр!#REF!=\"V\",\"Ф127\",\"\")))))","v":{"$error":"#REF!"}},{"$f":"Реестр!J1186","v":0},0]
[{"$f":"(Реестр!B1187)+0","v":"00:00:00"},{"$f":"Реестр!AM1187","v":0},{"$f":"Реестр!AZ1187","v":0},{"$f":"Реестр!AN1187","v":0},{"$f":"Реестр!G1187","v":0},{"$f":"IF(Реестр!#REF!=\"I\",\"Ф152\",IF(Реестр!#REF!=\"II\",\"Ф127\",IF(Реестр!#REF!=\"III\",\"Ф127\",IF(Реестр!#REF!=\"IV\",\"Ф228\",IF(Реестр!#REF!=\"V\",\"Ф127\",\"\")))))","v":{"$error":"#REF!"}},{"$f":"Реестр!J1187","v":0},0]
[{"$f":"(Реестр!B1188)+0","v":"00:00:00"},{"$f":"Реестр!AM1188","v":0},{"$f":"Реестр!AZ1188","v":0},{"$f":"Реестр!AN1188","v":0},{"$f":"Реестр!G1188","v":0},{"$f":"IF(Реестр!#REF!=\"I\",\"Ф152\",IF(Реестр!#REF!=\"II\",\"Ф127\",IF(Реестр!#REF!=\"III\",\"Ф127\",IF(Реестр!#REF!=\"IV\",\"Ф228\",IF(Реестр!#REF!=\"V\",\"Ф127\",\"\")))))","v":{"$error":"#REF!"}},{"$f":"Реестр!J1188","v":0},0]
[{"$f":"(Реестр!B1189)+0","v":"00:00:00"},{"$f":"Реестр!AM1189","v":0},{"$f":"Реестр!AZ1189","v":0},{"$f":"Реестр!AN1189","v":0},{"$f":"Реестр!G1189","v":0},{"$f":"IF(Реестр!#REF!=\"I\",\"Ф152\",IF(Реестр!#REF!=\"II\",\"Ф127\",IF(Реестр!#REF!=\"III\",\"Ф127\",IF(Реестр!#REF!=\"IV\",\"Ф228\",IF(Реестр!#REF!=\"V\",\"Ф127\",\"\")))))","v":{"$error":"#REF!"}},{"$f":"Реестр!J1189","v":0},0]
[{"$f":"(Реестр!B1190)+0","v":"00:00:00"},{"$f":"Реестр!AM1190","v":0},{"$f":"Реестр!AZ1190","v":0},{"$f":"Реестр!AN1190","v":0},{"$f":"Реестр!G1190","v":0},{"$f":"IF(Реестр!#REF!=\"I\",\"Ф152\",IF(Реестр!#REF!=\"II\",\"Ф127\",IF(Реестр!#REF!=\"III\",\"Ф127\",IF(Реестр!#REF!=\"IV\",\"Ф228\",IF(Реестр!#REF!=\"V\",\"Ф127\",\"\")))))","v":{"$error":"#REF!"}},{"$f":"Реестр!J1190","v":0},0]
[{"$f":"(Реестр!B1191)+0","v":"00:00:00"},{"$f":"Реестр!AM1191","v":0},{"$f":"Реестр!AZ1191","v":0},{"$f":"Реестр!AN1191","v":0},{"$f":"Реестр!G1191","v":0},{"$f":"IF(Реестр!#REF!=\"I\",\"Ф152\",IF(Реестр!#REF!=\"II\",\"Ф127\",IF(Реестр!#REF!=\"III\",\"Ф127\",IF(Реестр!#REF!=\"IV\",\"Ф228\",IF(Реестр!#REF!=\"V\",\"Ф127\",\"\")))))","v":{"$error":"#REF!"}},{"$f":"Реестр!J1191","v":0},0]
[{"$f":"(Реестр!B1192)+0","v":"00:00:00"},{"$f":"Реестр!AM1192","v":0},{"$f":"Реестр!AZ1192","v":0},{"$f":"Реестр!AN1192","v":0},{"$f":"Реестр!G1192","v":0},{"$f":"IF(Реестр!#REF!=\"I\",\"Ф152\",IF(Реестр!#REF!=\"II\",\"Ф127\",IF(Реестр!#REF!=\"III\",\"Ф127\",IF(Реестр!#REF!=\"IV\",\"Ф228\",IF(Реестр!#REF!=\"V\",\"Ф127\",\"\")))))","v":{"$error":"#REF!"}},{"$f":"Реестр!J1192","v":0},0]
[{"$f":"(Реестр!B1193)+0","v":"00:00:00"},{"$f":"Реестр!AM1193","v":0},{"$f":"Реестр!AZ1193","v":0},{"$f":"Реестр!AN1193","v":0},{"$f":"Реестр!G1193","v":0},{"$f":"IF(Реестр!#REF!=\"I\",\"Ф152\",IF(Реестр!#REF!=\"II\",\"Ф127\",IF(Реестр!#REF!=\"III\",\"Ф127\",IF(Реестр!#REF!=\"IV\",\"Ф228\",IF(Реестр!#REF!=\"V\",\"Ф127\",\"\")))))","v":{"$error":"#REF!"}},{"$f":"Реестр!J1193","v":0},0]
[{"$f":"(Реестр!B1194)+0","v":"00:00:00"},{"$f":"Реестр!AM1194","v":0},{"$f":"Реестр!AZ1194","v":0},{"$f":"Реестр!AN1194","v":0},{"$f":"Реестр!G1194","v":0},{"$f":"IF(Реестр!#REF!=\"I\",\"Ф152\",IF(Реестр!#REF!=\"II\",\"Ф127\",IF(Реестр!#REF!=\"III\",\"Ф127\",IF(Реестр!#REF!=\"IV\",\"Ф228\",IF(Реестр!#REF!=\"V\",\"Ф127\",\"\")))))","v":{"$error":"#REF!"}},{"$f":"Реестр!J1194","v":0},0]
[{"$f":"(Реестр!B1195)+0","v":"00:00:00"},{"$f":"Реестр!AM1195","v":0},{"$f":"Реестр!AZ1195","v":0},{"$f":"Реестр!AN1195","v":0},{"$f":"Реестр!G1195","v":0},{"$f":"IF(Реестр!#REF!=\"I\",\"Ф152\",IF(Реестр!#REF!=\"II\",\"Ф127\",IF(Реестр!#REF!=\"III\",\"Ф127\",IF(Реестр!#REF!=\"IV\",\"Ф228\",IF(Реестр!#REF!=\"V\",\"Ф127\",\"\")))))","v":{"$error":"#REF!"}},{"$f":"Реестр!J1195","v":0},0]
[{"$f":"(Реестр!B1196)+0","v":"00:00:00"},{"$f":"Реестр!AM1196","v":0},{"$f":"Реестр!AZ1196","v":0},{"$f":"Реестр!AN1196","v":0},{"$f":"Реестр!G1196","v":0},{"$f":"IF(Реестр!#REF!=\"I\",\"Ф152\",IF(Реестр!#REF!=\"II\",\"Ф127\",IF(Реестр!#REF!=\"III\",\"Ф127\",IF(Реестр!#REF!=\"IV\",\"Ф228\",IF(Реестр!#REF!=\"V\",\"Ф127\",\"\")))))","v":{"$error":"#REF!"}},{"$f":"Реестр!J1196","v":0},0]
[{"$f":"(Реестр!B1197)+0","v":"00:00:00"},{"$f":"Реестр!AM1197","v":0},{"$f":"Реестр!AZ1197","v":0},{"$f":"Реестр!AN1197","v":0},{"$f":"Реестр!G1197","v":0},{"$f":"IF(Реестр!#REF!=\"I\",\"Ф152\",IF(Реестр!#REF!=\"II\",\"Ф127\",IF(Реестр!#REF!=\"III\",\"Ф127\",IF(Реестр!#REF!=\"IV\",\"Ф228\",IF(Реестр!#REF!=\"V\",\"Ф127\",\"\")))))","v":{"$error":"#REF!"}},{"$f":"Реестр!J1197","v":0},0]
[{"$f":"(Реестр!B1198)+0","v":"00:00:00"},{"$f":"Реестр!AM1198","v":0},{"$f":"Реестр!AZ1198","v":0},{"$f":"Реестр!AN1198","v":0},{"$f":"Реестр!G1198","v":0},{"$f":"IF(Реестр!#REF!=\"I\",\"Ф152\",IF(Реестр!#REF!=\"II\",\"Ф127\",IF(Реестр!#REF!=\"III\",\"Ф127\",IF(Реестр!#REF!=\"IV\",\"Ф228\",IF(Реестр!#REF!=\"V\",\"Ф127\",\"\")))))","v":{"$error":"#REF!"}},{"$f":"Реестр!J1198","v":0},0]
[{"$f":"(Реестр!B1199)+0","v":"00:00:00"},{"$f":"Реестр!AM1199","v":0},{"$f":"Реестр!AZ1199","v":0},{"$f":"Реестр!AN1199","v":0},{"$f":"Реестр!G1199","v":0},{"$f":"IF(Реестр!#REF!=\"I\",\"Ф152\",IF(Реестр!#REF!=\"II\",\"Ф127\",IF(Реестр!#REF!=\"III\",\"Ф127\",IF(Реестр!#REF!=\"IV\",\"Ф228\",IF(Реестр!#REF!=\"V\",\"Ф127\",\"\")))))","v":{"$error":"#REF!"}},{"$f":"Реестр!J1199","v":0},0]
[{"$f":"(Реестр!B1200)+0","v":"00:00:00"},{"$f":"Реестр!AM1200","v":0},{"$f":"Реестр!AZ1200","v":0},{"$f":"Реестр!AN1200","v":0},{"$f":"Реестр!G1200","v":0},{"$f":"IF(Реестр!#REF!=\"I\",\"Ф152\",IF(Реестр!#REF!=\"II\",\"Ф127\",IF(Реестр!#REF!=\"III\",\"Ф127\",IF(Реестр!#REF!=\"IV\",\"Ф228\",IF(Реестр!#REF!=\"V\",\"Ф127\",\"\")))))","v":{"$error":"#REF!"}},{"$f":"Реестр!J1200","v":0},0]
[{"$f":"(Реестр!B1201)+0","v":"00:00:00"},{"$f":"Реестр!AM1201","v":0},{"$f":"Реестр!AZ1201","v":0},{"$f":"Реестр!AN1201","v":0},{"$f":"Реестр!G1201","v":0},{"$f":"IF(Реестр!#REF!=\"I\",\"Ф152\",IF(Реестр!#REF!=\"II\",\"Ф127\",IF(Реестр!#REF!=\"III\",\"Ф127\",IF(Реестр!#REF!=\"IV\",\"Ф228\",IF(Реестр!#REF!=\"V\",\"Ф127\",\"\")))))","v":{"$error":"#REF!"}},{"$f":"Реестр!J1201","v":0},0]
[{"$f":"(Реестр!B1202)+0","v":"00:00:00"},{"$f":"Реестр!AM1202","v":0},{"$f":"Реестр!AZ1202","v":0},{"$f":"Реестр!AN1202","v":0},{"$f":"Реестр!G1202","v":0},{"$f":"IF(Реестр!#REF!=\"I\",\"Ф152\",IF(Реестр!#REF!=\"II\",\"Ф127\",IF(Реестр!#REF!=\"III\",\"Ф127\",IF(Реестр!#REF!=\"IV\",\"Ф228\",IF(Реестр!#REF!=\"V\",\"Ф127\",\"\")))))","v":{"$error":"#REF!"}},{"$f":"Реестр!J1202","v":0},0]
[{"$f":"(Реестр!B1203)+0","v":"00:00:00"},{"$f":"Реестр!AM1203","v":0},{"$f":"Реестр!AZ1203","v":0},{"$f":"Реестр!AN1203","v":0},{"$f":"Реестр!G1203","v":0},{"$f":"IF(Реестр!#REF!=\"I\",\"Ф152\",IF(Реестр!#REF!=\"II\",\"Ф127\",IF(Реестр!#REF!=\"III\",\"Ф127\",IF(Реестр!#REF!=\"IV\",\"Ф228\",IF(Реестр!#REF!=\"V\",\"Ф127\",\"\")))))","v":{"$error":"#REF!"}},{"$f":"Реестр!J1203","v":0},0]
[{"$f":"(Реестр!B1204)+0","v":"00:00:00"},{"$f":"Реестр!AM1204","v":0},{"$f":"Реестр!AZ1204","v":0},{"$f":"Реестр!AN1204","v":0},{"$f":"Реестр!G1204","v":0},{"$f":"IF(Реестр!#REF!=\"I\",\"Ф152\",IF(Реестр!#REF!=\"II\",\"Ф127\",IF(Реестр!#REF!=\"III\",\"Ф127\",IF(Реестр!#REF!=\"IV\",\"Ф228\",IF(Реестр!#REF!=\"V\",\"Ф127\",\"\")))))","v":{"$error":"#REF!"}},{"$f":"Реестр!J1204","v":0},0]
[{"$f":"(Реестр!B1205)+0","v":"00:00:00"},{"$f":"Реестр!AM1205","v":0},{"$f":"Реестр!AZ1205","v":0},{"$f":"Реестр!AN1205","v":0},{"$f":"Реестр!G1205","v":0},{"$f":"IF(Реестр!#REF!=\"I\",\"Ф152\",IF(Реестр!#REF!=\"II\",\"Ф127\",IF(Реестр!#REF!=\"III\",\"Ф127\",IF(Реестр!#REF!=\"IV\",\"Ф228\",IF(Реестр!#REF!=\"V\",\"Ф127\",\"\")))))","v":{"$error":"#REF!"}},{"$f":"Реестр!J1205","v":0},0]
[{"$f":"(Реестр!B1206)+0","v":"00:00:00"},{"$f":"Реестр!AM1206","v":0},{"$f":"Реестр!AZ1206","v":0},{"$f":"Реестр!AN1206","v":0},{"$f":"Реестр!G1206","v":0},{"$f":"IF(Реестр!#REF!=\"I\",\"Ф152\",IF(Реестр!#REF!=\"II\",\"Ф127\",IF(Реестр!#REF!=\"III\",\"Ф127\",IF(Реестр!#REF!=\"IV\",\"Ф228\",IF(Реестр!#REF!=\"V\",\"Ф127\",\"\")))))","v":{"$error":"#REF!"}},{"$f":"Реестр!J1206","v":0},0]
[{"$f":"(Реестр!B1207)+0","v":"00:00:00"},{"$f":"Реестр!AM1207","v":0},{"$f":"Реестр!AZ1207","v":0},{"$f":"Реестр!AN1207","v":0},{"$f":"Реестр!G1207","v":0},{"$f":"IF(Реестр!#REF!=\"I\",\"Ф152\",IF(Реестр!#REF!=\"II\",\"Ф127\",IF(Реестр!#REF!=\"III\",\"Ф127\",IF(Реестр!#REF!=\"IV\",\"Ф228\",IF(Реестр!#REF!=\"V\",\"Ф127\",\"\")))))","v":{"$error":"#REF!"}},{"$f":"Реестр!J1207","v":0},0]
[{"$f":"(Реестр!B1208)+0","v":"00:00:00"},{"$f":"Реестр!AM1208","v":0},{"$f":"Реестр!AZ1208","v":0},{"$f":"Реестр!AN1208","v":0},{"$f":"Реестр!G1208","v":0},{"$f":"IF(Реестр!#REF!=\"I\",\"Ф152\",IF(Реестр!#REF!=\"II\",\"Ф127\",IF(Реестр!#REF!=\"III\",\"Ф127\",IF(Реестр!#REF!=\"IV\",\"Ф228\",IF(Реестр!#REF!=\"V\",\"Ф127\",\"\")))))","v":{"$error":"#REF!"}},{"$f":"Реестр!J1208","v":0},0]
[{"$f":"(Реестр!B1209)+0","v":"00:00:00"},{"$f":"Реестр!AM1209","v":0},{"$f":"Реестр!AZ1209","v":0},{"$f":"Реестр!AN1209","v":0},{"$f":"Реестр!G1209","v":0},{"$f":"IF(Реестр!#REF!=\"I\",\"Ф152\",IF(Реестр!#REF!=\"II\",\"Ф127\",IF(Реестр!#REF!=\"III\",\"Ф127\",IF(Реестр!#REF!=\"IV\",\"Ф228\",IF(Реестр!#REF!=\"V\",\"Ф127\",\"\")))))","v":{"$error":"#REF!"}},{"$f":"Реестр!J1209","v":0},0]
[{"$f":"(Реестр!B1210)+0","v":"00:00:00"},{"$f":"Реестр!AM1210","v":0},{"$f":"Реестр!AZ1210","v":0},{"$f":"Реестр!AN1210","v":0},{"$f":"Реестр!G1210","v":0},{"$f":"IF(Реестр!#REF!=\"I\",\"Ф152\",IF(Реестр!#REF!=\"II\",\"Ф127\",IF(Реестр!#REF!=\"III\",\"Ф127\",IF(Реестр!#REF!=\"IV\",\"Ф228\",IF(Реестр!#REF!=\"V\",\"Ф127\",\"\")))))","v":{"$error":"#REF!"}},{"$f":"Реестр!J1210","v":0},0]
[{"$f":"(Реестр!B1211)+0","v":"00:00:00"},{"$f":"Реестр!AM1211","v":0},{"$f":"Реестр!AZ1211","v":0},{"$f":"Реестр!AN1211","v":0},{"$f":"Реестр!G1211","v":0},{"$f":"IF(Реестр!#REF!=\"I\",\"Ф152\",IF(Реестр!#REF!=\"II\",\"Ф127\",IF(Реестр!#REF!=\"III\",\"Ф127\",IF(Реестр!#REF!=\"IV\",\"Ф228\",IF(Реестр!#REF!=\"V\",\"Ф127\",\"\")))))","v":{"$error":"#REF!"}},{"$f":"Реестр!J1211","v":0},0]
[{"$f":"(Реестр!B1212)+0","v":"00:00:00"},{"$f":"Реестр!AM1212","v":0},{"$f":"Реестр!AZ1212","v":0},{"$f":"Реестр!AN1212","v":0},{"$f":"Реестр!G1212","v":0},{"$f":"IF(Реестр!#REF!=\"I\",\"Ф152\",IF(Реестр!#REF!=\"II\",\"Ф127\",IF(Реестр!#REF!=\"III\",\"Ф127\",IF(Реестр!#REF!=\"IV\",\"Ф228\",IF(Реестр!#REF!=\"V\",\"Ф127\",\"\")))))","v":{"$error":"#REF!"}},{"$f":"Реестр!J1212","v":0},0]
[{"$f":"(Реестр!B1213)+0","v":"00:00:00"},{"$f":"Реестр!AM1213","v":0},{"$f":"Реестр!AZ1213","v":0},{"$f":"Реестр!AN1213","v":0},{"$f":"Реестр!G1213","v":0},{"$f":"IF(Реестр!#REF!=\"I\",\"Ф152\",IF(Реестр!#REF!=\"II\",\"Ф127\",IF(Реестр!#REF!=\"III\",\"Ф127\",IF(Реестр!#REF!=\"IV\",\"Ф228\",IF(Реестр!#REF!=\"V\",\"Ф127\",\"\")))))","v":{"$error":"#REF!"}},{"$f":"Реестр!J1213","v":0},0]
[{"$f":"(Реестр!B1214)+0","v":"00:00:00"},{"$f":"Реестр!AM1214","v":0},{"$f":"Реестр!AZ1214","v":0},{"$f":"Реестр!AN1214","v":0},{"$f":"Реестр!G1214","v":0},{"$f":"IF(Реестр!#REF!=\"I\",\"Ф152\",IF(Реестр!#REF!=\"II\",\"Ф127\",IF(Реестр!#REF!=\"III\",\"Ф127\",IF(Реестр!#REF!=\"IV\",\"Ф228\",IF(Реестр!#REF!=\"V\",\"Ф127\",\"\")))))","v":{"$error":"#REF!"}},{"$f":"Реестр!J1214","v":0},0]
[{"$f":"(Реестр!B1215)+0","v":"00:00:00"},{"$f":"Реестр!AM1215","v":0},{"$f":"Реестр!AZ1215","v":0},{"$f":"Реестр!AN1215","v":0},{"$f":"Реестр!G1215","v":0},{"$f":"IF(Реестр!#REF!=\"I\",\"Ф152\",IF(Реестр!#REF!=\"II\",\"Ф127\",IF(Реестр!#REF!=\"III\",\"Ф127\",IF(Реестр!#REF!=\"IV\",\"Ф228\",IF(Реестр!#REF!=\"V\",\"Ф127\",\"\")))))","v":{"$error":"#REF!"}},{"$f":"Реестр!J1215","v":0},{"$f":"E649*G649","v":0}]
[{"$f":"(Реестр!B1216)+0","v":"00:00:00"},{"$f":"Реестр!AM1216","v":0},{"$f":"Реестр!AZ1216","v":0},{"$f":"Реестр!AN1216","v":0},{"$f":"Реестр!G1216","v":0},{"$f":"IF(Реестр!#REF!=\"I\",\"Ф152\",IF(Реестр!#REF!=\"II\",\"Ф127\",IF(Реестр!#REF!=\"III\",\"Ф127\",IF(Реестр!#REF!=\"IV\",\"Ф228\",IF(Реестр!#REF!=\"V\",\"Ф127\",\"\")))))","v":{"$error":"#REF!"}},{"$f":"Реестр!J1216","v":0},0]
[{"$f":"(Реестр!B1217)+0","v":"00:00:00"},{"$f":"Реестр!AM1217","v":0},{"$f":"Реестр!AZ1217","v":0},{"$f":"Реестр!AN1217","v":0},{"$f":"Реестр!G1217","v":0},{"$f":"IF(Реестр!#REF!=\"I\",\"Ф152\",IF(Реестр!#REF!=\"II\",\"Ф127\",IF(Реестр!#REF!=\"III\",\"Ф127\",IF(Реестр!#REF!=\"IV\",\"Ф228\",IF(Реестр!#REF!=\"V\",\"Ф127\",\"\")))))","v":{"$error":"#REF!"}},{"$f":"Реестр!J1217","v":0},0]
[{"$f":"(Реестр!B1218)+0","v":"00:00:00"},{"$f":"Реестр!AM1218","v":0},{"$f":"Реестр!AZ1218","v":0},{"$f":"Реестр!AN1218","v":0},{"$f":"Реестр!G1218","v":0},{"$f":"IF(Реестр!#REF!=\"I\",\"Ф152\",IF(Реестр!#REF!=\"II\",\"Ф127\",IF(Реестр!#REF!=\"III\",\"Ф127\",IF(Реестр!#REF!=\"IV\",\"Ф228\",IF(Реестр!#REF!=\"V\",\"Ф127\",\"\")))))","v":{"$error":"#REF!"}},{"$f":"Реестр!J1218","v":0},0]
[{"$f":"(Реестр!B1219)+0","v":"00:00:00"},{"$f":"Реестр!AM1219","v":0},{"$f":"Реестр!AZ1219","v":0},{"$f":"Реестр!AN1219","v":0},{"$f":"Реестр!G1219","v":0},{"$f":"IF(Реестр!#REF!=\"I\",\"Ф152\",IF(Реестр!#REF!=\"II\",\"Ф127\",IF(Реестр!#REF!=\"III\",\"Ф127\",IF(Реестр!#REF!=\"IV\",\"Ф228\",IF(Реестр!#REF!=\"V\",\"Ф127\",\"\")))))","v":{"$error":"#REF!"}},{"$f":"Реестр!J1219","v":0},0]
[{"$f":"(Реестр!B1220)+0","v":"00:00:00"},{"$f":"Реестр!AM1220","v":0},{"$f":"Реестр!AZ1220","v":0},{"$f":"Реестр!AN1220","v":0},{"$f":"Реестр!G1220","v":0},{"$f":"IF(Реестр!#REF!=\"I\",\"Ф152\",IF(Реестр!#REF!=\"II\",\"Ф127\",IF(Реестр!#REF!=\"III\",\"Ф127\",IF(Реестр!#REF!=\"IV\",\"Ф228\",IF(Реестр!#REF!=\"V\",\"Ф127\",\"\")))))","v":{"$error":"#REF!"}},{"$f":"Реестр!J1220","v":0},0]
[{"$f":"(Реестр!B1221)+0","v":"00:00:00"},{"$f":"Реестр!AM1221","v":0},{"$f":"Реестр!AZ1221","v":0},{"$f":"Реестр!AN1221","v":0},{"$f":"Реестр!G1221","v":0},{"$f":"IF(Реестр!#REF!=\"I\",\"Ф152\",IF(Реестр!#REF!=\"II\",\"Ф127\",IF(Реестр!#REF!=\"III\",\"Ф127\",IF(Реестр!#REF!=\"IV\",\"Ф228\",IF(Реестр!#REF!=\"V\",\"Ф127\",\"\")))))","v":{"$error":"#REF!"}},{"$f":"Реестр!J1221","v":0},0]
[{"$f":"(Реестр!B1222)+0","v":"00:00:00"},{"$f":"Реестр!AM1222","v":0},{"$f":"Реестр!AZ1222","v":0},{"$f":"Реестр!AN1222","v":0},{"$f":"Реестр!G1222","v":0},{"$f":"IF(Реестр!#REF!=\"I\",\"Ф152\",IF(Реестр!#REF!=\"II\",\"Ф127\",IF(Реестр!#REF!=\"III\",\"Ф127\",IF(Реестр!#REF!=\"IV\",\"Ф228\",IF(Реестр!#REF!=\"V\",\"Ф127\",\"\")))))","v":{"$error":"#REF!"}},{"$f":"Реестр!J1222","v":0},0]
[{"$f":"(Реестр!B1223)+0","v":"00:00:00"},{"$f":"Реестр!AM1223","v":0},{"$f":"Реестр!AZ1223","v":0},{"$f":"Реестр!AN1223","v":0},{"$f":"Реестр!G1223","v":0},{"$f":"IF(Реестр!#REF!=\"I\",\"Ф152\",IF(Реестр!#REF!=\"II\",\"Ф127\",IF(Реестр!#REF!=\"III\",\"Ф127\",IF(Реестр!#REF!=\"IV\",\"Ф228\",IF(Реестр!#REF!=\"V\",\"Ф127\",\"\")))))","v":{"$error":"#REF!"}},{"$f":"Реестр!J1223","v":0},0]
[{"$f":"(Реестр!B1224)+0","v":"00:00:00"},{"$f":"Реестр!AM1224","v":0},{"$f":"Реестр!AZ1224","v":0},{"$f":"Реестр!AN1224","v":0},{"$f":"Реестр!G1224","v":0},{"$f":"IF(Реестр!#REF!=\"I\",\"Ф152\",IF(Реестр!#REF!=\"II\",\"Ф127\",IF(Реестр!#REF!=\"III\",\"Ф127\",IF(Реестр!#REF!=\"IV\",\"Ф228\",IF(Реестр!#REF!=\"V\",\"Ф127\",\"\")))))","v":{"$error":"#REF!"}},{"$f":"Реестр!J1224","v":0},0]
[{"$f":"(Реестр!B1225)+0","v":"00:00:00"},{"$f":"Реестр!AM1225","v":0},{"$f":"Реестр!AZ1225","v":0},{"$f":"Реестр!AN1225","v":0},{"$f":"Реестр!G1225","v":0},{"$f":"IF(Реестр!#REF!=\"I\",\"Ф152\",IF(Реестр!#REF!=\"II\",\"Ф127\",IF(Реестр!#REF!=\"III\",\"Ф127\",IF(Реестр!#REF!=\"IV\",\"Ф228\",IF(Реестр!#REF!=\"V\",\"Ф127\",\"\")))))","v":{"$error":"#REF!"}},{"$f":"Реестр!J1225","v":0},0]
[{"$f":"(Реестр!B1226)+0","v":"00:00:00"},{"$f":"Реестр!AM1226","v":0},{"$f":"Реестр!AZ1226","v":0},{"$f":"Реестр!AN1226","v":0},{"$f":"Реестр!G1226","v":0},{"$f":"IF(Реестр!#REF!=\"I\",\"Ф152\",IF(Реестр!#REF!=\"II\",\"Ф127\",IF(Реестр!#REF!=\"III\",\"Ф127\",IF(Реестр!#REF!=\"IV\",\"Ф228\",IF(Реестр!#REF!=\"V\",\"Ф127\",\"\")))))","v":{"$error":"#REF!"}},{"$f":"Реестр!J1226","v":0},0]
[{"$f":"(Реестр!B1227)+0","v":"00:00:00"},{"$f":"Реестр!AM1227","v":0},{"$f":"Реестр!AZ1227","v":0},{"$f":"Реестр!AN1227","v":0},{"$f":"Реестр!G1227","v":0},{"$f":"IF(Реестр!#REF!=\"I\",\"Ф152\",IF(Реестр!#REF!=\"II\",\"Ф127\",IF(Реестр!#REF!=\"III\",\"Ф127\",IF(Реестр!#REF!=\"IV\",\"Ф228\",IF(Реестр!#REF!=\"V\",\"Ф127\",\"\")))))","v":{"$error":"#REF!"}},{"$f":"Реестр!J1227","v":0},0]
[{"$f":"(Реестр!B1228)+0","v":"00:00:00"},{"$f":"Реестр!AM1228","v":0},{"$f":"Реестр!AZ1228","v":0},{"$f":"Реестр!AN1228","v":0},{"$f":"Реестр!G1228","v":0},{"$f":"IF(Реестр!#REF!=\"I\",\"Ф152\",IF(Реестр!#REF!=\"II\",\"Ф127\",IF(Реестр!#REF!=\"III\",\"Ф127\",IF(Реестр!#REF!=\"IV\",\"Ф228\",IF(Реестр!#REF!=\"V\",\"Ф127\",\"\")))))","v":{"$error":"#REF!"}},{"$f":"Реестр!J1228","v":0},0]
[{"$f":"(Реестр!B1229)+0","v":"00:00:00"},{"$f":"Реестр!AM1229","v":0},{"$f":"Реестр!AZ1229","v":0},{"$f":"Реестр!AN1229","v":0},{"$f":"Реестр!G1229","v":0},{"$f":"IF(Реестр!#REF!=\"I\",\"Ф152\",IF(Реестр!#REF!=\"II\",\"Ф127\",IF(Реестр!#REF!=\"III\",\"Ф127\",IF(Реестр!#REF!=\"IV\",\"Ф228\",IF(Реестр!#REF!=\"V\",\"Ф127\",\"\")))))","v":{"$error":"#REF!"}},{"$f":"Реестр!J1229","v":0},0]
[{"$f":"(Реестр!B1230)+0","v":"00:00:00"},{"$f":"Реестр!AM1230","v":0},{"$f":"Реестр!AZ1230","v":0},{"$f":"Реестр!AN1230","v":0},{"$f":"Реестр!G1230","v":0},{"$f":"IF(Реестр!#REF!=\"I\",\"Ф152\",IF(Реестр!#REF!=\"II\",\"Ф127\",IF(Реестр!#REF!=\"III\",\"Ф127\",IF(Реестр!#REF!=\"IV\",\"Ф228\",IF(Реестр!#REF!=\"V\",\"Ф127\",\"\")))))","v":{"$error":"#REF!"}},{"$f":"Реестр!J1230","v":0},0]
[{"$f":"(Реестр!B1231)+0","v":"00:00:00"},{"$f":"Реестр!AM1231","v":0},{"$f":"Реестр!AZ1231","v":0},{"$f":"Реестр!AN1231","v":0},{"$f":"Реестр!G1231","v":0},{"$f":"IF(Реестр!#REF!=\"I\",\"Ф152\",IF(Реестр!#REF!=\"II\",\"Ф127\",IF(Реестр!#REF!=\"III\",\"Ф127\",IF(Реестр!#REF!=\"IV\",\"Ф228\",IF(Реестр!#REF!=\"V\",\"Ф127\",\"\")))))","v":{"$error":"#REF!"}},{"$f":"Реестр!J1231","v":0},0]
[{"$f":"(Реестр!B1232)+0","v":"00:00:00"},{"$f":"Реестр!AM1232","v":0},{"$f":"Реестр!AZ1232","v":0},{"$f":"Реестр!AN1232","v":0},{"$f":"Реестр!G1232","v":0},{"$f":"IF(Реестр!#REF!=\"I\",\"Ф152\",IF(Реестр!#REF!=\"II\",\"Ф127\",IF(Реестр!#REF!=\"III\",\"Ф127\",IF(Реестр!#REF!=\"IV\",\"Ф228\",IF(Реестр!#REF!=\"V\",\"Ф127\",\"\")))))","v":{"$error":"#REF!"}},{"$f":"Реестр!J1232","v":0},0]
[{"$f":"(Реестр!B1233)+0","v":"00:00:00"},{"$f":"Реестр!AM1233","v":0},{"$f":"Реестр!AZ1233","v":0},{"$f":"Реестр!AN1233","v":0},{"$f":"Реестр!G1233","v":0},{"$f":"IF(Реестр!#REF!=\"I\",\"Ф152\",IF(Реестр!#REF!=\"II\",\"Ф127\",IF(Реестр!#REF!=\"III\",\"Ф127\",IF(Реестр!#REF!=\"IV\",\"Ф228\",IF(Реестр!#REF!=\"V\",\"Ф127\",\"\")))))","v":{"$error":"#REF!"}},{"$f":"Реестр!J1233","v":0},0]
[{"$f":"(Реестр!B1234)+0","v":"00:00:00"},{"$f":"Реестр!AM1234","v":0},{"$f":"Реестр!AZ1234","v":0},{"$f":"Реестр!AN1234","v":0},{"$f":"Реестр!G1234","v":0},{"$f":"IF(Реестр!#REF!=\"I\",\"Ф152\",IF(Реестр!#REF!=\"II\",\"Ф127\",IF(Реестр!#REF!=\"III\",\"Ф127\",IF(Реестр!#REF!=\"IV\",\"Ф228\",IF(Реестр!#REF!=\"V\",\"Ф127\",\"\")))))","v":{"$error":"#REF!"}},{"$f":"Реестр!J1234","v":0},0]
[{"$f":"(Реестр!B1235)+0","v":"00:00:00"},{"$f":"Реестр!AM1235","v":0},{"$f":"Реестр!AZ1235","v":0},{"$f":"Реестр!AN1235","v":0},{"$f":"Реестр!G1235","v":0},{"$f":"IF(Реестр!#REF!=\"I\",\"Ф152\",IF(Реестр!#REF!=\"II\",\"Ф127\",IF(Реестр!#REF!=\"III\",\"Ф127\",IF(Реестр!#REF!=\"IV\",\"Ф228\",IF(Реестр!#REF!=\"V\",\"Ф127\",\"\")))))","v":{"$error":"#REF!"}},{"$f":"Реестр!J1235","v":0},0]
[{"$f":"(Реестр!B1236)+0","v":"00:00:00"},{"$f":"Реестр!AM1236","v":0},{"$f":"Реестр!AZ1236","v":0},{"$f":"Реестр!AN1236","v":0},{"$f":"Реестр!G1236","v":0},{"$f":"IF(Реестр!#REF!=\"I\",\"Ф152\",IF(Реестр!#REF!=\"II\",\"Ф127\",IF(Реестр!#REF!=\"III\",\"Ф127\",IF(Реестр!#REF!=\"IV\",\"Ф228\",IF(Реестр!#REF!=\"V\",\"Ф127\",\"\")))))","v":{"$error":"#REF!"}},{"$f":"Реестр!J1236","v":0},0]
[{"$f":"(Реестр!B1237)+0","v":"00:00:00"},{"$f":"Реестр!AM1237","v":0},{"$f":"Реестр!AZ1237","v":0},{"$f":"Реестр!AN1237","v":0},{"$f":"Реестр!G1237","v":0},{"$f":"IF(Реестр!#REF!=\"I\",\"Ф152\",IF(Реестр!#REF!=\"II\",\"Ф127\",IF(Реестр!#REF!=\"III\",\"Ф127\",IF(Реестр!#REF!=\"IV\",\"Ф228\",IF(Реестр!#REF!=\"V\",\"Ф127\",\"\")))))","v":{"$error":"#REF!"}},{"$f":"Реестр!J1237","v":0},0]
[{"$f":"(Реестр!B1238)+0","v":"00:00:00"},{"$f":"Реестр!AM1238","v":0},{"$f":"Реестр!AZ1238","v":0},{"$f":"Реестр!AN1238","v":0},{"$f":"Реестр!G1238","v":0},{"$f":"IF(Реестр!#REF!=\"I\",\"Ф152\",IF(Реестр!#REF!=\"II\",\"Ф127\",IF(Реестр!#REF!=\"III\",\"Ф127\",IF(Реестр!#REF!=\"IV\",\"Ф228\",IF(Реестр!#REF!=\"V\",\"Ф127\",\"\")))))","v":{"$error":"#REF!"}},{"$f":"Реестр!J1238","v":0},0]
[{"$f":"(Реестр!B1239)+0","v":"00:00:00"},{"$f":"Реестр!AM1239","v":0},{"$f":"Реестр!AZ1239","v":0},{"$f":"Реестр!AN1239","v":0},{"$f":"Реестр!G1239","v":0},{"$f":"IF(Реестр!#REF!=\"I\",\"Ф152\",IF(Реестр!#REF!=\"II\",\"Ф127\",IF(Реестр!#REF!=\"III\",\"Ф127\",IF(Реестр!#REF!=\"IV\",\"Ф228\",IF(Реестр!#REF!=\"V\",\"Ф127\",\"\")))))","v":{"$error":"#REF!"}},{"$f":"Реестр!J1239","v":0},0]
[{"$f":"(Реестр!B1240)+0","v":"00:00:00"},{"$f":"Реестр!AM1240","v":0},{"$f":"Реестр!AZ1240","v":0},{"$f":"Реестр!AN1240","v":0},{"$f":"Реестр!G1240","v":0},{"$f":"IF(Реестр!#REF!=\"I\",\"Ф152\",IF(Реестр!#REF!=\"II\",\"Ф127\",IF(Реестр!#REF!=\"III\",\"Ф127\",IF(Реестр!#REF!=\"IV\",\"Ф228\",IF(Реестр!#REF!=\"V\",\"Ф127\",\"\")))))","v":{"$error":"#REF!"}},{"$f":"Реестр!J1240","v":0},0]
[{"$f":"(Реестр!B1241)+0","v":"00:00:00"},{"$f":"Реестр!AM1241","v":0},{"$f":"Реестр!AZ1241","v":0},{"$f":"Реестр!AN1241","v":0},{"$f":"Реестр!G1241","v":0},{"$f":"IF(Реестр!#REF!=\"I\",\"Ф152\",IF(Реестр!#REF!=\"II\",\"Ф127\",IF(Реестр!#REF!=\"III\",\"Ф127\",IF(Реестр!#REF!=\"IV\",\"Ф228\",IF(Реестр!#REF!=\"V\",\"Ф127\",\"\")))))","v":{"$error":"#REF!"}},{"$f":"Реестр!J1241","v":0},0]
[{"$f":"(Реестр!B1242)+0","v":"00:00:00"},{"$f":"Реестр!AM1242","v":0},{"$f":"Реестр!AZ1242","v":0},{"$f":"Реестр!AN1242","v":0},{"$f":"Реестр!G1242","v":0},{"$f":"IF(Реестр!#REF!=\"I\",\"Ф152\",IF(Реестр!#REF!=\"II\",\"Ф127\",IF(Реестр!#REF!=\"III\",\"Ф127\",IF(Реестр!#REF!=\"IV\",\"Ф228\",IF(Реестр!#REF!=\"V\",\"Ф127\",\"\")))))","v":{"$error":"#REF!"}},{"$f":"Реестр!J1242","v":0},0]
[{"$f":"(Реестр!B1243)+0","v":"00:00:00"},{"$f":"Реестр!AM1243","v":0},{"$f":"Реестр!AZ1243","v":0},{"$f":"Реестр!AN1243","v":0},{"$f":"Реестр!G1243","v":0},{"$f":"IF(Реестр!#REF!=\"I\",\"Ф152\",IF(Реестр!#REF!=\"II\",\"Ф127\",IF(Реестр!#REF!=\"III\",\"Ф127\",IF(Реестр!#REF!=\"IV\",\"Ф228\",IF(Реестр!#REF!=\"V\",\"Ф127\",\"\")))))","v":{"$error":"#REF!"}},{"$f":"Реестр!J1243","v":0},0]
[{"$f":"(Реестр!B1244)+0","v":"00:00:00"},{"$f":"Реестр!AM1244","v":0},{"$f":"Реестр!AZ1244","v":0},{"$f":"Реестр!AN1244","v":0},{"$f":"Реестр!G1244","v":0},{"$f":"IF(Реестр!#REF!=\"I\",\"Ф152\",IF(Реестр!#REF!=\"II\",\"Ф127\",IF(Реестр!#REF!=\"III\",\"Ф127\",IF(Реестр!#REF!=\"IV\",\"Ф228\",IF(Реестр!#REF!=\"V\",\"Ф127\",\"\")))))","v":{"$error":"#REF!"}},{"$f":"Реестр!J1244","v":0},0]
[{"$f":"(Реестр!B1245)+0","v":"00:00:00"},{"$f":"Реестр!AM1245","v":0},{"$f":"Реестр!AZ1245","v":0},{"$f":"Реестр!AN1245","v":0},{"$f":"Реестр!G1245","v":0},{"$f":"IF(Реестр!#REF!=\"I\",\"Ф152\",IF(Реестр!#REF!=\"II\",\"Ф127\",IF(Реестр!#REF!=\"III\",\"Ф127\",IF(Реестр!#REF!=\"IV\",\"Ф228\",IF(Реестр!#REF!=\"V\",\"Ф127\",\"\")))))","v":{"$error":"#REF!"}},{"$f":"Реестр!J1245","v":0},0]
[{"$f":"(Реестр!B1246)+0","v":"00:00:00"},{"$f":"Реестр!AM1246","v":0},{"$f":"Реестр!AZ1246","v":0},{"$f":"Реестр!AN1246","v":0},{"$f":"Реестр!G1246","v":0},{"$f":"IF(Реестр!#REF!=\"I\",\"Ф152\",IF(Реестр!#REF!=\"II\",\"Ф127\",IF(Реестр!#REF!=\"III\",\"Ф127\",IF(Реестр!#REF!=\"IV\",\"Ф228\",IF(Реестр!#REF!=\"V\",\"Ф127\",\"\")))))","v":{"$error":"#REF!"}},{"$f":"Реестр!J1246","v":0},0]
[{"$f":"(Реестр!B1247)+0","v":"00:00:00"},{"$f":"Реестр!AM1247","v":0},{"$f":"Реестр!AZ1247","v":0},{"$f":"Реестр!AN1247","v":0},{"$f":"Реестр!G1247","v":0},{"$f":"IF(Реестр!#REF!=\"I\",\"Ф152\",IF(Реестр!#REF!=\"II\",\"Ф127\",IF(Реестр!#REF!=\"III\",\"Ф127\",IF(Реестр!#REF!=\"IV\",\"Ф228\",IF(Реестр!#REF!=\"V\",\"Ф127\",\"\")))))","v":{"$error":"#REF!"}},{"$f":"Реестр!J1247","v":0},0]
[{"$f":"(Реестр!B1248)+0","v":"00:00:00"},{"$f":"Реестр!AM1248","v":0},{"$f":"Реестр!AZ1248","v":0},{"$f":"Реестр!AN1248","v":0},{"$f":"Реестр!G1248","v":0},{"$f":"IF(Реестр!#REF!=\"I\",\"Ф152\",IF(Реестр!#REF!=\"II\",\"Ф127\",IF(Реестр!#REF!=\"III\",\"Ф127\",IF(Реестр!#REF!=\"IV\",\"Ф228\",IF(Реестр!#REF!=\"V\",\"Ф127\",\"\")))))","v":{"$error":"#REF!"}},{"$f":"Реестр!J1248","v":0},0]
[{"$f":"(Реестр!B1249)+0","v":"00:00:00"},{"$f":"Реестр!AM1249","v":0},{"$f":"Реестр!AZ1249","v":0},{"$f":"Реестр!AN1249","v":0},{"$f":"Реестр!G1249","v":0},{"$f":"IF(Реестр!#REF!=\"I\",\"Ф152\",IF(Реестр!#REF!=\"II\",\"Ф127\",IF(Реестр!#REF!=\"III\",\"Ф127\",IF(Реестр!#REF!=\"IV\",\"Ф228\",IF(Реестр!#REF!=\"V\",\"Ф127\",\"\")))))","v":{"$error":"#REF!"}},{"$f":"Реестр!J1249","v":0},0]
[{"$f":"(Реестр!B1250)+0","v":"00:00:00"},{"$f":"Реестр!AM1250","v":0},{"$f":"Реестр!AZ1250","v":0},{"$f":"Реестр!AN1250","v":0},{"$f":"Реестр!G1250","v":0},{"$f":"IF(Реестр!#REF!=\"I\",\"Ф152\",IF(Реестр!#REF!=\"II\",\"Ф127\",IF(Реестр!#REF!=\"III\",\"Ф127\",IF(Реестр!#REF!=\"IV\",\"Ф228\",IF(Реестр!#REF!=\"V\",\"Ф127\",\"\")))))","v":{"$error":"#REF!"}},{"$f":"Реестр!J1250","v":0},0]
[{"$f":"(Реестр!B1251)+0","v":"00:00:00"},{"$f":"Реестр!AM1251","v":0},{"$f":"Реестр!AZ1251","v":0},{"$f":"Реестр!AN1251","v":0},{"$f":"Реестр!G1251","v":0},{"$f":"IF(Реестр!#REF!=\"I\",\"Ф152\",IF(Реестр!#REF!=\"II\",\"Ф127\",IF(Реестр!#REF!=\"III\",\"Ф127\",IF(Реестр!#REF!=\"IV\",\"Ф228\",IF(Реестр!#REF!=\"V\",\"Ф127\",\"\")))))","v":{"$error":"#REF!"}},{"$f":"Реестр!J1251","v":0},0]
[{"$f":"(Реестр!B1252)+0","v":"00:00:00"},{"$f":"Реестр!AM1252","v":0},{"$f":"Реестр!AZ1252","v":0},{"$f":"Реестр!AN1252","v":0},{"$f":"Реестр!G1252","v":0},{"$f":"IF(Реестр!#REF!=\"I\",\"Ф152\",IF(Реестр!#REF!=\"II\",\"Ф127\",IF(Реестр!#REF!=\"III\",\"Ф127\",IF(Реестр!#REF!=\"IV\",\"Ф228\",IF(Реестр!#REF!=\"V\",\"Ф127\",\"\")))))","v":{"$error":"#REF!"}},{"$f":"Реестр!J1252","v":0},0]
[{"$f":"(Реестр!B1253)+0","v":"00:00:00"},{"$f":"Реестр!AM1253","v":0},{"$f":"Реестр!AZ1253","v":0},{"$f":"Реестр!AN1253","v":0},{"$f":"Реестр!G1253","v":0},{"$f":"IF(Реестр!#REF!=\"I\",\"Ф152\",IF(Реестр!#REF!=\"II\",\"Ф127\",IF(Реестр!#REF!=\"III\",\"Ф127\",IF(Реестр!#REF!=\"IV\",\"Ф228\",IF(Реестр!#REF!=\"V\",\"Ф127\",\"\")))))","v":{"$error":"#REF!"}},{"$f":"Реестр!J1253","v":0},0]
[{"$f":"(Реестр!B1254)+0","v":"00:00:00"},{"$f":"Реестр!AM1254","v":0},{"$f":"Реестр!AZ1254","v":0},{"$f":"Реестр!AN1254","v":0},{"$f":"Реестр!G1254","v":0},{"$f":"IF(Реестр!#REF!=\"I\",\"Ф152\",IF(Реестр!#REF!=\"II\",\"Ф127\",IF(Реестр!#REF!=\"III\",\"Ф127\",IF(Реестр!#REF!=\"IV\",\"Ф228\",IF(Реестр!#REF!=\"V\",\"Ф127\",\"\")))))","v":{"$error":"#REF!"}},{"$f":"Реестр!J1254","v":0},0]
[{"$f":"(Реестр!B1255)+0","v":"00:00:00"},{"$f":"Реестр!AM1255","v":0},{"$f":"Реестр!AZ1255","v":0},{"$f":"Реестр!AN1255","v":0},{"$f":"Реестр!G1255","v":0},{"$f":"IF(Реестр!#REF!=\"I\",\"Ф152\",IF(Реестр!#REF!=\"II\",\"Ф127\",IF(Реестр!#REF!=\"III\",\"Ф127\",IF(Реестр!#REF!=\"IV\",\"Ф228\",IF(Реестр!#REF!=\"V\",\"Ф127\",\"\")))))","v":{"$error":"#REF!"}},{"$f":"Реестр!J1255","v":0},0]
[{"$f":"(Реестр!B1256)+0","v":"00:00:00"},{"$f":"Реестр!AM1256","v":0},{"$f":"Реестр!AZ1256","v":0},{"$f":"Реестр!AN1256","v":0},{"$f":"Реестр!G1256","v":0},{"$f":"IF(Реестр!#REF!=\"I\",\"Ф152\",IF(Реестр!#REF!=\"II\",\"Ф127\",IF(Реестр!#REF!=\"III\",\"Ф127\",IF(Реестр!#REF!=\"IV\",\"Ф228\",IF(Реестр!#REF!=\"V\",\"Ф127\",\"\")))))","v":{"$error":"#REF!"}},{"$f":"Реестр!J1256","v":0},0]
[{"$f":"(Реестр!B1257)+0","v":"00:00:00"},{"$f":"Реестр!AM1257","v":0},{"$f":"Реестр!AZ1257","v":0},{"$f":"Реестр!AN1257","v":0},{"$f":"Реестр!G1257","v":0},{"$f":"IF(Реестр!#REF!=\"I\",\"Ф152\",IF(Реестр!#REF!=\"II\",\"Ф127\",IF(Реестр!#REF!=\"III\",\"Ф127\",IF(Реестр!#REF!=\"IV\",\"Ф228\",IF(Реестр!#REF!=\"V\",\"Ф127\",\"\")))))","v":{"$error":"#REF!"}},{"$f":"Реестр!J1257","v":0},0]
[{"$f":"(Реестр!B1258)+0","v":"00:00:00"},{"$f":"Реестр!AM1258","v":0},{"$f":"Реестр!AZ1258","v":0},{"$f":"Реестр!AN1258","v":0},{"$f":"Реестр!G1258","v":0},{"$f":"IF(Реестр!#REF!=\"I\",\"Ф152\",IF(Реестр!#REF!=\"II\",\"Ф127\",IF(Реестр!#REF!=\"III\",\"Ф127\",IF(Реестр!#REF!=\"IV\",\"Ф228\",IF(Реестр!#REF!=\"V\",\"Ф127\",\"\")))))","v":{"$error":"#REF!"}},{"$f":"Реестр!J1258","v":0},0]
[{"$f":"(Реестр!B1259)+0","v":"00:00:00"},{"$f":"Реестр!AM1259","v":0},{"$f":"Реестр!AZ1259","v":0},{"$f":"Реестр!AN1259","v":0},{"$f":"Реестр!G1259","v":0},{"$f":"IF(Реестр!#REF!=\"I\",\"Ф152\",IF(Реестр!#REF!=\"II\",\"Ф127\",IF(Реестр!#REF!=\"III\",\"Ф127\",IF(Реестр!#REF!=\"IV\",\"Ф228\",IF(Реестр!#REF!=\"V\",\"Ф127\",\"\")))))","v":{"$error":"#REF!"}},{"$f":"Реестр!J1259","v":0},0]
[{"$f":"(Реестр!B1260)+0","v":"00:00:00"},{"$f":"Реестр!AM1260","v":0},{"$f":"Реестр!AZ1260","v":0},{"$f":"Реестр!AN1260","v":0},{"$f":"Реестр!G1260","v":0},{"$f":"IF(Реестр!#REF!=\"I\",\"Ф152\",IF(Реестр!#REF!=\"II\",\"Ф127\",IF(Реестр!#REF!=\"III\",\"Ф127\",IF(Реестр!#REF!=\"IV\",\"Ф228\",IF(Реестр!#REF!=\"V\",\"Ф127\",\"\")))))","v":{"$error":"#REF!"}},{"$f":"Реестр!J1260","v":0},0]
[{"$f":"(Реестр!B1261)+0","v":"00:00:00"},{"$f":"Реестр!AM1261","v":0},{"$f":"Реестр!AZ1261","v":0},{"$f":"Реестр!AN1261","v":0},{"$f":"Реестр!G1261","v":0},{"$f":"IF(Реестр!#REF!=\"I\",\"Ф152\",IF(Реестр!#REF!=\"II\",\"Ф127\",IF(Реестр!#REF!=\"III\",\"Ф127\",IF(Реестр!#REF!=\"IV\",\"Ф228\",IF(Реестр!#REF!=\"V\",\"Ф127\",\"\")))))","v":{"$error":"#REF!"}},{"$f":"Реестр!J1261","v":0},0]
[{"$f":"(Реестр!B1262)+0","v":"00:00:00"},{"$f":"Реестр!AM1262","v":0},{"$f":"Реестр!AZ1262","v":0},{"$f":"Реестр!AN1262","v":0},{"$f":"Реестр!G1262","v":0},{"$f":"IF(Реестр!#REF!=\"I\",\"Ф152\",IF(Реестр!#REF!=\"II\",\"Ф127\",IF(Реестр!#REF!=\"III\",\"Ф127\",IF(Реестр!#REF!=\"IV\",\"Ф228\",IF(Реестр!#REF!=\"V\",\"Ф127\",\"\")))))","v":{"$error":"#REF!"}},{"$f":"Реестр!J1262","v":0},0]
[{"$f":"(Реестр!B1263)+0","v":"00:00:00"},{"$f":"Реестр!AM1263","v":0},{"$f":"Реестр!AZ1263","v":0},{"$f":"Реестр!AN1263","v":0},{"$f":"Реестр!G1263","v":0},{"$f":"IF(Реестр!#REF!=\"I\",\"Ф152\",IF(Реестр!#REF!=\"II\",\"Ф127\",IF(Реестр!#REF!=\"III\",\"Ф127\",IF(Реестр!#REF!=\"IV\",\"Ф228\",IF(Реестр!#REF!=\"V\",\"Ф127\",\"\")))))","v":{"$error":"#REF!"}},{"$f":"Реестр!J1263","v":0},0]
[{"$f":"(Реестр!B1264)+0","v":"00:00:00"},{"$f":"Реестр!AM1264","v":0},{"$f":"Реестр!AZ1264","v":0},{"$f":"Реестр!AN1264","v":0},{"$f":"Реестр!G1264","v":0},{"$f":"IF(Реестр!#REF!=\"I\",\"Ф152\",IF(Реестр!#REF!=\"II\",\"Ф127\",IF(Реестр!#REF!=\"III\",\"Ф127\",IF(Реестр!#REF!=\"IV\",\"Ф228\",IF(Реестр!#REF!=\"V\",\"Ф127\",\"\")))))","v":{"$error":"#REF!"}},{"$f":"Реестр!J1264","v":0},0]
[{"$f":"(Реестр!B1265)+0","v":"00:00:00"},{"$f":"Реестр!AM1265","v":0},{"$f":"Реестр!AZ1265","v":0},{"$f":"Реестр!AN1265","v":0},{"$f":"Реестр!G1265","v":0},{"$f":"IF(Реестр!#REF!=\"I\",\"Ф152\",IF(Реестр!#REF!=\"II\",\"Ф127\",IF(Реестр!#REF!=\"III\",\"Ф127\",IF(Реестр!#REF!=\"IV\",\"Ф228\",IF(Реестр!#REF!=\"V\",\"Ф127\",\"\")))))","v":{"$error":"#REF!"}},{"$f":"Реестр!J1265","v":0},0]
[{"$f":"(Реестр!B1266)+0","v":"00:00:00"},{"$f":"Реестр!AM1266","v":0},{"$f":"Реестр!AZ1266","v":0},{"$f":"Реестр!AN1266","v":0},{"$f":"Реестр!G1266","v":0},{"$f":"IF(Реестр!#REF!=\"I\",\"Ф152\",IF(Реестр!#REF!=\"II\",\"Ф127\",IF(Реестр!#REF!=\"III\",\"Ф127\",IF(Реестр!#REF!=\"IV\",\"Ф228\",IF(Реестр!#REF!=\"V\",\"Ф127\",\"\")))))","v":{"$error":"#REF!"}},{"$f":"Реестр!J1266","v":0},0]
[{"$f":"(Реестр!B1267)+0","v":"00:00:00"},{"$f":"Реестр!AM1267","v":0},{"$f":"Реестр!AZ1267","v":0},{"$f":"Реестр!AN1267","v":0},{"$f":"Реестр!G1267","v":0},{"$f":"IF(Реестр!#REF!=\"I\",\"Ф152\",IF(Реестр!#REF!=\"II\",\"Ф127\",IF(Реестр!#REF!=\"III\",\"Ф127\",IF(Реестр!#REF!=\"IV\",\"Ф228\",IF(Реестр!#REF!=\"V\",\"Ф127\",\"\")))))","v":{"$error":"#REF!"}},{"$f":"Реестр!J1267","v":0},0]
[{"$f":"(Реестр!B1268)+0","v":"00:00:00"},{"$f":"Реестр!AM1268","v":0},{"$f":"Реестр!AZ1268","v":0},{"$f":"Реестр!AN1268","v":0},{"$f":"Реестр!G1268","v":0},{"$f":"IF(Реестр!#REF!=\"I\",\"Ф152\",IF(Реестр!#REF!=\"II\",\"Ф127\",IF(Реестр!#REF!=\"III\",\"Ф127\",IF(Реестр!#REF!=\"IV\",\"Ф228\",IF(Реестр!#REF!=\"V\",\"Ф127\",\"\")))))","v":{"$error":"#REF!"}},{"$f":"Реестр!J1268","v":0},0]
[{"$f":"(Реестр!B1269)+0","v":"00:00:00"},{"$f":"Реестр!AM1269","v":0},{"$f":"Реестр!AZ1269","v":0},{"$f":"Реестр!AN1269","v":0},{"$f":"Реестр!G1269","v":0},{"$f":"IF(Реестр!#REF!=\"I\",\"Ф152\",IF(Реестр!#REF!=\"II\",\"Ф127\",IF(Реестр!#REF!=\"III\",\"Ф127\",IF(Реестр!#REF!=\"IV\",\"Ф228\",IF(Реестр!#REF!=\"V\",\"Ф127\",\"\")))))","v":{"$error":"#REF!"}},{"$f":"Реестр!J1269","v":0},0]
[{"$f":"(Реестр!B1270)+0","v":"00:00:00"},{"$f":"Реестр!AM1270","v":0},{"$f":"Реестр!AZ1270","v":0},{"$f":"Реестр!AN1270","v":0},{"$f":"Реестр!G1270","v":0},{"$f":"IF(Реестр!#REF!=\"I\",\"Ф152\",IF(Реестр!#REF!=\"II\",\"Ф127\",IF(Реестр!#REF!=\"III\",\"Ф127\",IF(Реестр!#REF!=\"IV\",\"Ф228\",IF(Реестр!#REF!=\"V\",\"Ф127\",\"\")))))","v":{"$error":"#REF!"}},{"$f":"Реестр!J1270","v":0},0]
[{"$f":"(Реестр!B1271)+0","v":"00:00:00"},{"$f":"Реестр!AM1271","v":0},{"$f":"Реестр!AZ1271","v":0},{"$f":"Реестр!AN1271","v":0},{"$f":"Реестр!G1271","v":0},{"$f":"IF(Реестр!#REF!=\"I\",\"Ф152\",IF(Реестр!#REF!=\"II\",\"Ф127\",IF(Реестр!#REF!=\"III\",\"Ф127\",IF(Реестр!#REF!=\"IV\",\"Ф228\",IF(Реестр!#REF!=\"V\",\"Ф127\",\"\")))))","v":{"$error":"#REF!"}},{"$f":"Реестр!J1271","v":0},0]
[{"$f":"(Реестр!B1272)+0","v":"00:00:00"},{"$f":"Реестр!AM1272","v":0},{"$f":"Реестр!AZ1272","v":0},{"$f":"Реестр!AN1272","v":0},{"$f":"Реестр!G1272","v":0},{"$f":"IF(Реестр!#REF!=\"I\",\"Ф152\",IF(Реестр!#REF!=\"II\",\"Ф127\",IF(Реестр!#REF!=\"III\",\"Ф127\",IF(Реестр!#REF!=\"IV\",\"Ф228\",IF(Реестр!#REF!=\"V\",\"Ф127\",\"\")))))","v":{"$error":"#REF!"}},{"$f":"Реестр!J1272","v":0},0]
[{"$f":"(Реестр!B1273)+0","v":"00:00:00"},{"$f":"Реестр!AM1273","v":0},{"$f":"Реестр!AZ1273","v":0},{"$f":"Реестр!AN1273","v":0},{"$f":"Реестр!G1273","v":0},{"$f":"IF(Реестр!#REF!=\"I\",\"Ф152\",IF(Реестр!#REF!=\"II\",\"Ф127\",IF(Реестр!#REF!=\"III\",\"Ф127\",IF(Реестр!#REF!=\"IV\",\"Ф228\",IF(Реестр!#REF!=\"V\",\"Ф127\",\"\")))))","v":{"$error":"#REF!"}},{"$f":"Реестр!J1273","v":0},0]
[{"$f":"(Реестр!B1274)+0","v":"00:00:00"},{"$f":"Реестр!AM1274","v":0},{"$f":"Реестр!AZ1274","v":0},{"$f":"Реестр!AN1274","v":0},{"$f":"Реестр!G1274","v":0},{"$f":"IF(Реестр!#REF!=\"I\",\"Ф152\",IF(Реестр!#REF!=\"II\",\"Ф127\",IF(Реестр!#REF!=\"III\",\"Ф127\",IF(Реестр!#REF!=\"IV\",\"Ф228\",IF(Реестр!#REF!=\"V\",\"Ф127\",\"\")))))","v":{"$error":"#REF!"}},{"$f":"Реестр!J1274","v":0},0]
[{"$f":"(Реестр!B1275)+0","v":"00:00:00"},{"$f":"Реестр!AM1275","v":0},{"$f":"Реестр!AZ1275","v":0},{"$f":"Реестр!AN1275","v":0},{"$f":"Реестр!G1275","v":0},{"$f":"IF(Реестр!#REF!=\"I\",\"Ф152\",IF(Реестр!#REF!=\"II\",\"Ф127\",IF(Реестр!#REF!=\"III\",\"Ф127\",IF(Реестр!#REF!=\"IV\",\"Ф228\",IF(Реестр!#REF!=\"V\",\"Ф127\",\"\")))))","v":{"$error":"#REF!"}},{"$f":"Реестр!J1275","v":0},0]
[{"$f":"(Реестр!B1276)+0","v":"00:00:00"},{"$f":"Реестр!AM1276","v":0},{"$f":"Реестр!AZ1276","v":0},{"$f":"Реестр!AN1276","v":0},{"$f":"Реестр!G1276","v":0},{"$f":"IF(Реестр!#REF!=\"I\",\"Ф152\",IF(Реестр!#REF!=\"II\",\"Ф127\",IF(Реестр!#REF!=\"III\",\"Ф127\",IF(Реестр!#REF!=\"IV\",\"Ф228\",IF(Реестр!#REF!=\"V\",\"Ф127\",\"\")))))","v":{"$error":"#REF!"}},{"$f":"Реестр!J1276","v":0},0]
[{"$f":"(Реестр!B1277)+0","v":"00:00:00"},{"$f":"Реестр!AM1277","v":0},{"$f":"Реестр!AZ1277","v":0},{"$f":"Реестр!AN1277","v":0},{"$f":"Реестр!G1277","v":0},{"$f":"IF(Реестр!#REF!=\"I\",\"Ф152\",IF(Реестр!#REF!=\"II\",\"Ф127\",IF(Реестр!#REF!=\"III\",\"Ф127\",IF(Реестр!#REF!=\"IV\",\"Ф228\",IF(Реестр!#REF!=\"V\",\"Ф127\",\"\")))))","v":{"$error":"#REF!"}},{"$f":"Реестр!J1277","v":0},0]
[{"$f":"(Реестр!B1278)+0","v":"00:00:00"},{"$f":"Реестр!AM1278","v":0},{"$f":"Реестр!AZ1278","v":0},{"$f":"Реестр!AN1278","v":0},{"$f":"Реестр!G1278","v":0},{"$f":"IF(Реестр!#REF!=\"I\",\"Ф152\",IF(Реестр!#REF!=\"II\",\"Ф127\",IF(Реестр!#REF!=\"III\",\"Ф127\",IF(Реестр!#REF!=\"IV\",\"Ф228\",IF(Реестр!#REF!=\"V\",\"Ф127\",\"\")))))","v":{"$error":"#REF!"}},{"$f":"Реестр!J1278","v":0},0]
[{"$f":"(Реестр!B1279)+0","v":"00:00:00"},{"$f":"Реестр!AM1279","v":0},{"$f":"Реестр!AZ1279","v":0},{"$f":"Реестр!AN1279","v":0},{"$f":"Реестр!G1279","v":0},{"$f":"IF(Реестр!#REF!=\"I\",\"Ф152\",IF(Реестр!#REF!=\"II\",\"Ф127\",IF(Реестр!#REF!=\"III\",\"Ф127\",IF(Реестр!#REF!=\"IV\",\"Ф228\",IF(Реестр!#REF!=\"V\",\"Ф127\",\"\")))))","v":{"$error":"#REF!"}},{"$f":"Реестр!J1279","v":0},{"$f":"E713*G713","v":0}]
[{"$f":"(Реестр!B1280)+0","v":"00:00:00"},{"$f":"Реестр!AM1280","v":0},{"$f":"Реестр!AZ1280","v":0},{"$f":"Реестр!AN1280","v":0},{"$f":"Реестр!G1280","v":0},{"$f":"IF(Реестр!#REF!=\"I\",\"Ф152\",IF(Реестр!#REF!=\"II\",\"Ф127\",IF(Реестр!#REF!=\"III\",\"Ф127\",IF(Реестр!#REF!=\"IV\",\"Ф228\",IF(Реестр!#REF!=\"V\",\"Ф127\",\"\")))))","v":{"$error":"#REF!"}},{"$f":"Реестр!J1280","v":0},0]
[{"$f":"(Реестр!B1281)+0","v":"00:00:00"},{"$f":"Реестр!AM1281","v":0},{"$f":"Реестр!AZ1281","v":0},{"$f":"Реестр!AN1281","v":0},{"$f":"Реестр!G1281","v":0},{"$f":"IF(Реестр!#REF!=\"I\",\"Ф152\",IF(Реестр!#REF!=\"II\",\"Ф127\",IF(Реестр!#REF!=\"III\",\"Ф127\",IF(Реестр!#REF!=\"IV\",\"Ф228\",IF(Реестр!#REF!=\"V\",\"Ф127\",\"\")))))","v":{"$error":"#REF!"}},{"$f":"Реестр!J1281","v":0},0]
[{"$f":"(Реестр!B1282)+0","v":"00:00:00"},{"$f":"Реестр!AM1282","v":0},{"$f":"Реестр!AZ1282","v":0},{"$f":"Реестр!AN1282","v":0},{"$f":"Реестр!G1282","v":0},{"$f":"IF(Реестр!#REF!=\"I\",\"Ф152\",IF(Реестр!#REF!=\"II\",\"Ф127\",IF(Реестр!#REF!=\"III\",\"Ф127\",IF(Реестр!#REF!=\"IV\",\"Ф228\",IF(Реестр!#REF!=\"V\",\"Ф127\",\"\")))))","v":{"$error":"#REF!"}},{"$f":"Реестр!J1282","v":0},0]
[{"$f":"(Реестр!B1283)+0","v":"00:00:00"},{"$f":"Реестр!AM1283","v":0},{"$f":"Реестр!AZ1283","v":0},{"$f":"Реестр!AN1283","v":0},{"$f":"Реестр!G1283","v":0},{"$f":"IF(Реестр!#REF!=\"I\",\"Ф152\",IF(Реестр!#REF!=\"II\",\"Ф127\",IF(Реестр!#REF!=\"III\",\"Ф127\",IF(Реестр!#REF!=\"IV\",\"Ф228\",IF(Реестр!#REF!=\"V\",\"Ф127\",\"\")))))","v":{"$error":"#REF!"}},{"$f":"Реестр!J1283","v":0},0]
[{"$f":"(Реестр!B1284)+0","v":"00:00:00"},{"$f":"Реестр!AM1284","v":0},{"$f":"Реестр!AZ1284","v":0},{"$f":"Реестр!AN1284","v":0},{"$f":"Реестр!G1284","v":0},{"$f":"IF(Реестр!#REF!=\"I\",\"Ф152\",IF(Реестр!#REF!=\"II\",\"Ф127\",IF(Реестр!#REF!=\"III\",\"Ф127\",IF(Реестр!#REF!=\"IV\",\"Ф228\",IF(Реестр!#REF!=\"V\",\"Ф127\",\"\")))))","v":{"$error":"#REF!"}},{"$f":"Реестр!J1284","v":0},0]
[{"$f":"(Реестр!B1285)+0","v":"00:00:00"},{"$f":"Реестр!AM1285","v":0},{"$f":"Реестр!AZ1285","v":0},{"$f":"Реестр!AN1285","v":0},{"$f":"Реестр!G1285","v":0},{"$f":"IF(Реестр!#REF!=\"I\",\"Ф152\",IF(Реестр!#REF!=\"II\",\"Ф127\",IF(Реестр!#REF!=\"III\",\"Ф127\",IF(Реестр!#REF!=\"IV\",\"Ф228\",IF(Реестр!#REF!=\"V\",\"Ф127\",\"\")))))","v":{"$error":"#REF!"}},{"$f":"Реестр!J1285","v":0},0]
[{"$f":"(Реестр!B1286)+0","v":"00:00:00"},{"$f":"Реестр!AM1286","v":0},{"$f":"Реестр!AZ1286","v":0},{"$f":"Реестр!AN1286","v":0},{"$f":"Реестр!G1286","v":0},{"$f":"IF(Реестр!#REF!=\"I\",\"Ф152\",IF(Реестр!#REF!=\"II\",\"Ф127\",IF(Реестр!#REF!=\"III\",\"Ф127\",IF(Реестр!#REF!=\"IV\",\"Ф228\",IF(Реестр!#REF!=\"V\",\"Ф127\",\"\")))))","v":{"$error":"#REF!"}},{"$f":"Реестр!J1286","v":0},0]
[{"$f":"(Реестр!B1287)+0","v":"00:00:00"},{"$f":"Реестр!AM1287","v":0},{"$f":"Реестр!AZ1287","v":0},{"$f":"Реестр!AN1287","v":0},{"$f":"Реестр!G1287","v":0},{"$f":"IF(Реестр!#REF!=\"I\",\"Ф152\",IF(Реестр!#REF!=\"II\",\"Ф127\",IF(Реестр!#REF!=\"III\",\"Ф127\",IF(Реестр!#REF!=\"IV\",\"Ф228\",IF(Реестр!#REF!=\"V\",\"Ф127\",\"\")))))","v":{"$error":"#REF!"}},{"$f":"Реестр!J1287","v":0},0]
[{"$f":"(Реестр!B1288)+0","v":"00:00:00"},{"$f":"Реестр!AM1288","v":0},{"$f":"Реестр!AZ1288","v":0},{"$f":"Реестр!AN1288","v":0},{"$f":"Реестр!G1288","v":0},{"$f":"IF(Реестр!#REF!=\"I\",\"Ф152\",IF(Реестр!#REF!=\"II\",\"Ф127\",IF(Реестр!#REF!=\"III\",\"Ф127\",IF(Реестр!#REF!=\"IV\",\"Ф228\",IF(Реестр!#REF!=\"V\",\"Ф127\",\"\")))))","v":{"$error":"#REF!"}},{"$f":"Реестр!J1288","v":0},0]
[{"$f":"(Реестр!B1289)+0","v":"00:00:00"},{"$f":"Реестр!AM1289","v":0},{"$f":"Реестр!AZ1289","v":0},{"$f":"Реестр!AN1289","v":0},{"$f":"Реестр!G1289","v":0},{"$f":"IF(Реестр!#REF!=\"I\",\"Ф152\",IF(Реестр!#REF!=\"II\",\"Ф127\",IF(Реестр!#REF!=\"III\",\"Ф127\",IF(Реестр!#REF!=\"IV\",\"Ф228\",IF(Реестр!#REF!=\"V\",\"Ф127\",\"\")))))","v":{"$error":"#REF!"}},{"$f":"Реестр!J1289","v":0},0]
[{"$f":"(Реестр!B1290)+0","v":"00:00:00"},{"$f":"Реестр!AM1290","v":0},{"$f":"Реестр!AZ1290","v":0},{"$f":"Реестр!AN1290","v":0},{"$f":"Реестр!G1290","v":0},{"$f":"IF(Реестр!#REF!=\"I\",\"Ф152\",IF(Реестр!#REF!=\"II\",\"Ф127\",IF(Реестр!#REF!=\"III\",\"Ф127\",IF(Реестр!#REF!=\"IV\",\"Ф228\",IF(Реестр!#REF!=\"V\",\"Ф127\",\"\")))))","v":{"$error":"#REF!"}},{"$f":"Реестр!J1290","v":0},0]
[{"$f":"(Реестр!B1291)+0","v":"00:00:00"},{"$f":"Реестр!AM1291","v":0},{"$f":"Реестр!AZ1291","v":0},{"$f":"Реестр!AN1291","v":0},{"$f":"Реестр!G1291","v":0},{"$f":"IF(Реестр!#REF!=\"I\",\"Ф152\",IF(Реестр!#REF!=\"II\",\"Ф127\",IF(Реестр!#REF!=\"III\",\"Ф127\",IF(Реестр!#REF!=\"IV\",\"Ф228\",IF(Реестр!#REF!=\"V\",\"Ф127\",\"\")))))","v":{"$error":"#REF!"}},{"$f":"Реестр!J1291","v":0},0]
[{"$f":"(Реестр!B1292)+0","v":"00:00:00"},{"$f":"Реестр!AM1292","v":0},{"$f":"Реестр!AZ1292","v":0},{"$f":"Реестр!AN1292","v":0},{"$f":"Реестр!G1292","v":0},{"$f":"IF(Реестр!#REF!=\"I\",\"Ф152\",IF(Реестр!#REF!=\"II\",\"Ф127\",IF(Реестр!#REF!=\"III\",\"Ф127\",IF(Реестр!#REF!=\"IV\",\"Ф228\",IF(Реестр!#REF!=\"V\",\"Ф127\",\"\")))))","v":{"$error":"#REF!"}},{"$f":"Реестр!J1292","v":0},0]
[{"$f":"(Реестр!B1293)+0","v":"00:00:00"},{"$f":"Реестр!AM1293","v":0},{"$f":"Реестр!AZ1293","v":0},{"$f":"Реестр!AN1293","v":0},{"$f":"Реестр!G1293","v":0},{"$f":"IF(Реестр!#REF!=\"I\",\"Ф152\",IF(Реестр!#REF!=\"II\",\"Ф127\",IF(Реестр!#REF!=\"III\",\"Ф127\",IF(Реестр!#REF!=\"IV\",\"Ф228\",IF(Реестр!#REF!=\"V\",\"Ф127\",\"\")))))","v":{"$error":"#REF!"}},{"$f":"Реестр!J1293","v":0},0]
[{"$f":"(Реестр!B1294)+0","v":"00:00:00"},{"$f":"Реестр!AM1294","v":0},{"$f":"Реестр!AZ1294","v":0},{"$f":"Реестр!AN1294","v":0},{"$f":"Реестр!G1294","v":0},{"$f":"IF(Реестр!#REF!=\"I\",\"Ф152\",IF(Реестр!#REF!=\"II\",\"Ф127\",IF(Реестр!#REF!=\"III\",\"Ф127\",IF(Реестр!#REF!=\"IV\",\"Ф228\",IF(Реестр!#REF!=\"V\",\"Ф127\",\"\")))))","v":{"$error":"#REF!"}},{"$f":"Реестр!J1294","v":0},0]
[{"$f":"(Реестр!B1295)+0","v":"00:00:00"},{"$f":"Реестр!AM1295","v":0},{"$f":"Реестр!AZ1295","v":0},{"$f":"Реестр!AN1295","v":0},{"$f":"Реестр!G1295","v":0},{"$f":"IF(Реестр!#REF!=\"I\",\"Ф152\",IF(Реестр!#REF!=\"II\",\"Ф127\",IF(Реестр!#REF!=\"III\",\"Ф127\",IF(Реестр!#REF!=\"IV\",\"Ф228\",IF(Реестр!#REF!=\"V\",\"Ф127\",\"\")))))","v":{"$error":"#REF!"}},{"$f":"Реестр!J1295","v":0},0]
[{"$f":"(Реестр!B1296)+0","v":"00:00:00"},{"$f":"Реестр!AM1296","v":0},{"$f":"Реестр!AZ1296","v":0},{"$f":"Реестр!AN1296","v":0},{"$f":"Реестр!G1296","v":0},{"$f":"IF(Реестр!#REF!=\"I\",\"Ф152\",IF(Реестр!#REF!=\"II\",\"Ф127\",IF(Реестр!#REF!=\"III\",\"Ф127\",IF(Реестр!#REF!=\"IV\",\"Ф228\",IF(Реестр!#REF!=\"V\",\"Ф127\",\"\")))))","v":{"$error":"#REF!"}},{"$f":"Реестр!J1296","v":0},0]
[{"$f":"(Реестр!B1297)+0","v":"00:00:00"},{"$f":"Реестр!AM1297","v":0},{"$f":"Реестр!AZ1297","v":0},{"$f":"Реестр!AN1297","v":0},{"$f":"Реестр!G1297","v":0},{"$f":"IF(Реестр!#REF!=\"I\",\"Ф152\",IF(Реестр!#REF!=\"II\",\"Ф127\",IF(Реестр!#REF!=\"III\",\"Ф127\",IF(Реестр!#REF!=\"IV\",\"Ф228\",IF(Реестр!#REF!=\"V\",\"Ф127\",\"\")))))","v":{"$error":"#REF!"}},{"$f":"Реестр!J1297","v":0},0]
[{"$f":"(Реестр!B1298)+0","v":"00:00:00"},{"$f":"Реестр!AM1298","v":0},{"$f":"Реестр!AZ1298","v":0},{"$f":"Реестр!AN1298","v":0},{"$f":"Реестр!G1298","v":0},{"$f":"IF(Реестр!#REF!=\"I\",\"Ф152\",IF(Реестр!#REF!=\"II\",\"Ф127\",IF(Реестр!#REF!=\"III\",\"Ф127\",IF(Реестр!#REF!=\"IV\",\"Ф228\",IF(Реестр!#REF!=\"V\",\"Ф127\",\"\")))))","v":{"$error":"#REF!"}},{"$f":"Реестр!J1298","v":0},0]
[{"$f":"(Реестр!B1299)+0","v":"00:00:00"},{"$f":"Реестр!AM1299","v":0},{"$f":"Реестр!AZ1299","v":0},{"$f":"Реестр!AN1299","v":0},{"$f":"Реестр!G1299","v":0},{"$f":"IF(Реестр!#REF!=\"I\",\"Ф152\",IF(Реестр!#REF!=\"II\",\"Ф127\",IF(Реестр!#REF!=\"III\",\"Ф127\",IF(Реестр!#REF!=\"IV\",\"Ф228\",IF(Реестр!#REF!=\"V\",\"Ф127\",\"\")))))","v":{"$error":"#REF!"}},{"$f":"Реестр!J1299","v":0},0]
[{"$f":"(Реестр!B1300)+0","v":"00:00:00"},{"$f":"Реестр!AM1300","v":0},{"$f":"Реестр!AZ1300","v":0},{"$f":"Реестр!AN1300","v":0},{"$f":"Реестр!G1300","v":0},{"$f":"IF(Реестр!#REF!=\"I\",\"Ф152\",IF(Реестр!#REF!=\"II\",\"Ф127\",IF(Реестр!#REF!=\"III\",\"Ф127\",IF(Реестр!#REF!=\"IV\",\"Ф228\",IF(Реестр!#REF!=\"V\",\"Ф127\",\"\")))))","v":{"$error":"#REF!"}},{"$f":"Реестр!J1300","v":0},0]
[{"$f":"(Реестр!B1301)+0","v":"00:00:00"},{"$f":"Реестр!AM1301","v":0},{"$f":"Реестр!AZ1301","v":0},{"$f":"Реестр!AN1301","v":0},{"$f":"Реестр!G1301","v":0},{"$f":"IF(Реестр!#REF!=\"I\",\"Ф152\",IF(Реестр!#REF!=\"II\",\"Ф127\",IF(Реестр!#REF!=\"III\",\"Ф127\",IF(Реестр!#REF!=\"IV\",\"Ф228\",IF(Реестр!#REF!=\"V\",\"Ф127\",\"\")))))","v":{"$error":"#REF!"}},{"$f":"Реестр!J1301","v":0},0]
[{"$f":"(Реестр!B1302)+0","v":"00:00:00"},{"$f":"Реестр!AM1302","v":0},{"$f":"Реестр!AZ1302","v":0},{"$f":"Реестр!AN1302","v":0},{"$f":"Реестр!G1302","v":0},{"$f":"IF(Реестр!#REF!=\"I\",\"Ф152\",IF(Реестр!#REF!=\"II\",\"Ф127\",IF(Реестр!#REF!=\"III\",\"Ф127\",IF(Реестр!#REF!=\"IV\",\"Ф228\",IF(Реестр!#REF!=\"V\",\"Ф127\",\"\")))))","v":{"$error":"#REF!"}},{"$f":"Реестр!J1302","v":0},0]
[{"$f":"(Реестр!B1303)+0","v":"00:00:00"},{"$f":"Реестр!AM1303","v":0},{"$f":"Реестр!AZ1303","v":0},{"$f":"Реестр!AN1303","v":0},{"$f":"Реестр!G1303","v":0},{"$f":"IF(Реестр!#REF!=\"I\",\"Ф152\",IF(Реестр!#REF!=\"II\",\"Ф127\",IF(Реестр!#REF!=\"III\",\"Ф127\",IF(Реестр!#REF!=\"IV\",\"Ф228\",IF(Реестр!#REF!=\"V\",\"Ф127\",\"\")))))","v":{"$error":"#REF!"}},{"$f":"Реестр!J1303","v":0},0]
[{"$f":"(Реестр!B1304)+0","v":"00:00:00"},{"$f":"Реестр!AM1304","v":0},{"$f":"Реестр!AZ1304","v":0},{"$f":"Реестр!AN1304","v":0},{"$f":"Реестр!G1304","v":0},{"$f":"IF(Реестр!#REF!=\"I\",\"Ф152\",IF(Реестр!#REF!=\"II\",\"Ф127\",IF(Реестр!#REF!=\"III\",\"Ф127\",IF(Реестр!#REF!=\"IV\",\"Ф228\",IF(Реестр!#REF!=\"V\",\"Ф127\",\"\")))))","v":{"$error":"#REF!"}},{"$f":"Реестр!J1304","v":0},0]
[{"$f":"(Реестр!B1305)+0","v":"00:00:00"},{"$f":"Реестр!AM1305","v":0},{"$f":"Реестр!AZ1305","v":0},{"$f":"Реестр!AN1305","v":0},{"$f":"Реестр!G1305","v":0},{"$f":"IF(Реестр!#REF!=\"I\",\"Ф152\",IF(Реестр!#REF!=\"II\",\"Ф127\",IF(Реестр!#REF!=\"III\",\"Ф127\",IF(Реестр!#REF!=\"IV\",\"Ф228\",IF(Реестр!#REF!=\"V\",\"Ф127\",\"\")))))","v":{"$error":"#REF!"}},{"$f":"Реестр!J1305","v":0},0]
[{"$f":"(Реестр!B1306)+0","v":"00:00:00"},{"$f":"Реестр!AM1306","v":0},{"$f":"Реестр!AZ1306","v":0},{"$f":"Реестр!AN1306","v":0},{"$f":"Реестр!G1306","v":0},{"$f":"IF(Реестр!#REF!=\"I\",\"Ф152\",IF(Реестр!#REF!=\"II\",\"Ф127\",IF(Реестр!#REF!=\"III\",\"Ф127\",IF(Реестр!#REF!=\"IV\",\"Ф228\",IF(Реестр!#REF!=\"V\",\"Ф127\",\"\")))))","v":{"$error":"#REF!"}},{"$f":"Реестр!J1306","v":0},0]
[{"$f":"(Реестр!B1307)+0","v":"00:00:00"},{"$f":"Реестр!AM1307","v":0},{"$f":"Реестр!AZ1307","v":0},{"$f":"Реестр!AN1307","v":0},{"$f":"Реестр!G1307","v":0},{"$f":"IF(Реестр!#REF!=\"I\",\"Ф152\",IF(Реестр!#REF!=\"II\",\"Ф127\",IF(Реестр!#REF!=\"III\",\"Ф127\",IF(Реестр!#REF!=\"IV\",\"Ф228\",IF(Реестр!#REF!=\"V\",\"Ф127\",\"\")))))","v":{"$error":"#REF!"}},{"$f":"Реестр!J1307","v":0},0]
[{"$f":"(Реестр!B1308)+0","v":"00:00:00"},{"$f":"Реестр!AM1308","v":0},{"$f":"Реестр!AZ1308","v":0},{"$f":"Реестр!AN1308","v":0},{"$f":"Реестр!G1308","v":0},{"$f":"IF(Реестр!#REF!=\"I\",\"Ф152\",IF(Реестр!#REF!=\"II\",\"Ф127\",IF(Реестр!#REF!=\"III\",\"Ф127\",IF(Реестр!#REF!=\"IV\",\"Ф228\",IF(Реестр!#REF!=\"V\",\"Ф127\",\"\")))))","v":{"$error":"#REF!"}},{"$f":"Реестр!J1308","v":0},0]
[{"$f":"(Реестр!B1309)+0","v":"00:00:00"},{"$f":"Реестр!AM1309","v":0},{"$f":"Реестр!AZ1309","v":0},{"$f":"Реестр!AN1309","v":0},{"$f":"Реестр!G1309","v":0},{"$f":"IF(Реестр!#REF!=\"I\",\"Ф152\",IF(Реестр!#REF!=\"II\",\"Ф127\",IF(Реестр!#REF!=\"III\",\"Ф127\",IF(Реестр!#REF!=\"IV\",\"Ф228\",IF(Реестр!#REF!=\"V\",\"Ф127\",\"\")))))","v":{"$error":"#REF!"}},{"$f":"Реестр!J1309","v":0},0]
[{"$f":"(Реестр!B1310)+0","v":"00:00:00"},{"$f":"Реестр!AM1310","v":0},{"$f":"Реестр!AZ1310","v":0},{"$f":"Реестр!AN1310","v":0},{"$f":"Реестр!G1310","v":0},{"$f":"IF(Реестр!#REF!=\"I\",\"Ф152\",IF(Реестр!#REF!=\"II\",\"Ф127\",IF(Реестр!#REF!=\"III\",\"Ф127\",IF(Реестр!#REF!=\"IV\",\"Ф228\",IF(Реестр!#REF!=\"V\",\"Ф127\",\"\")))))","v":{"$error":"#REF!"}},{"$f":"Реестр!J1310","v":0},0]
[{"$f":"(Реестр!B1311)+0","v":"00:00:00"},{"$f":"Реестр!AM1311","v":0},{"$f":"Реестр!AZ1311","v":0},{"$f":"Реестр!AN1311","v":0},{"$f":"Реестр!G1311","v":0},{"$f":"IF(Реестр!#REF!=\"I\",\"Ф152\",IF(Реестр!#REF!=\"II\",\"Ф127\",IF(Реестр!#REF!=\"III\",\"Ф127\",IF(Реестр!#REF!=\"IV\",\"Ф228\",IF(Реестр!#REF!=\"V\",\"Ф127\",\"\")))))","v":{"$error":"#REF!"}},{"$f":"Реестр!J1311","v":0},0]
[{"$f":"(Реестр!B1312)+0","v":"00:00:00"},{"$f":"Реестр!AM1312","v":0},{"$f":"Реестр!AZ1312","v":0},{"$f":"Реестр!AN1312","v":0},{"$f":"Реестр!G1312","v":0},{"$f":"IF(Реестр!#REF!=\"I\",\"Ф152\",IF(Реестр!#REF!=\"II\",\"Ф127\",IF(Реестр!#REF!=\"III\",\"Ф127\",IF(Реестр!#REF!=\"IV\",\"Ф228\",IF(Реестр!#REF!=\"V\",\"Ф127\",\"\")))))","v":{"$error":"#REF!"}},{"$f":"Реестр!J1312","v":0},0]
[{"$f":"(Реестр!B1313)+0","v":"00:00:00"},{"$f":"Реестр!AM1313","v":0},{"$f":"Реестр!AZ1313","v":0},{"$f":"Реестр!AN1313","v":0},{"$f":"Реестр!G1313","v":0},{"$f":"IF(Реестр!#REF!=\"I\",\"Ф152\",IF(Реестр!#REF!=\"II\",\"Ф127\",IF(Реестр!#REF!=\"III\",\"Ф127\",IF(Реестр!#REF!=\"IV\",\"Ф228\",IF(Реестр!#REF!=\"V\",\"Ф127\",\"\")))))","v":{"$error":"#REF!"}},{"$f":"Реестр!J1313","v":0},0]
[{"$f":"(Реестр!B1314)+0","v":"00:00:00"},{"$f":"Реестр!AM1314","v":0},{"$f":"Реестр!AZ1314","v":0},{"$f":"Реестр!AN1314","v":0},{"$f":"Реестр!G1314","v":0},{"$f":"IF(Реестр!#REF!=\"I\",\"Ф152\",IF(Реестр!#REF!=\"II\",\"Ф127\",IF(Реестр!#REF!=\"III\",\"Ф127\",IF(Реестр!#REF!=\"IV\",\"Ф228\",IF(Реестр!#REF!=\"V\",\"Ф127\",\"\")))))","v":{"$error":"#REF!"}},{"$f":"Реестр!J1314","v":0},0]
[{"$f":"(Реестр!B1315)+0","v":"00:00:00"},{"$f":"Реестр!AM1315","v":0},{"$f":"Реестр!AZ1315","v":0},{"$f":"Реестр!AN1315","v":0},{"$f":"Реестр!G1315","v":0},{"$f":"IF(Реестр!#REF!=\"I\",\"Ф152\",IF(Реестр!#REF!=\"II\",\"Ф127\",IF(Реестр!#REF!=\"III\",\"Ф127\",IF(Реестр!#REF!=\"IV\",\"Ф228\",IF(Реестр!#REF!=\"V\",\"Ф127\",\"\")))))","v":{"$error":"#REF!"}},{"$f":"Реестр!J1315","v":0},0]
[{"$f":"(Реестр!B1316)+0","v":"00:00:00"},{"$f":"Реестр!AM1316","v":0},{"$f":"Реестр!AZ1316","v":0},{"$f":"Реестр!AN1316","v":0},{"$f":"Реестр!G1316","v":0},{"$f":"IF(Реестр!#REF!=\"I\",\"Ф152\",IF(Реестр!#REF!=\"II\",\"Ф127\",IF(Реестр!#REF!=\"III\",\"Ф127\",IF(Реестр!#REF!=\"IV\",\"Ф228\",IF(Реестр!#REF!=\"V\",\"Ф127\",\"\")))))","v":{"$error":"#REF!"}},{"$f":"Реестр!J1316","v":0},0]
[{"$f":"(Реестр!B1317)+0","v":"00:00:00"},{"$f":"Реестр!AM1317","v":0},{"$f":"Реестр!AZ1317","v":0},{"$f":"Реестр!AN1317","v":0},{"$f":"Реестр!G1317","v":0},{"$f":"IF(Реестр!#REF!=\"I\",\"Ф152\",IF(Реестр!#REF!=\"II\",\"Ф127\",IF(Реестр!#REF!=\"III\",\"Ф127\",IF(Реестр!#REF!=\"IV\",\"Ф228\",IF(Реестр!#REF!=\"V\",\"Ф127\",\"\")))))","v":{"$error":"#REF!"}},{"$f":"Реестр!J1317","v":0},0]
[{"$f":"(Реестр!B1318)+0","v":"00:00:00"},{"$f":"Реестр!AM1318","v":0},{"$f":"Реестр!AZ1318","v":0},{"$f":"Реестр!AN1318","v":0},{"$f":"Реестр!G1318","v":0},{"$f":"IF(Реестр!#REF!=\"I\",\"Ф152\",IF(Реестр!#REF!=\"II\",\"Ф127\",IF(Реестр!#REF!=\"III\",\"Ф127\",IF(Реестр!#REF!=\"IV\",\"Ф228\",IF(Реестр!#REF!=\"V\",\"Ф127\",\"\")))))","v":{"$error":"#REF!"}},{"$f":"Реестр!J1318","v":0},0]
[{"$f":"(Реестр!B1319)+0","v":"00:00:00"},{"$f":"Реестр!AM1319","v":0},{"$f":"Реестр!AZ1319","v":0},{"$f":"Реестр!AN1319","v":0},{"$f":"Реестр!G1319","v":0},{"$f":"IF(Реестр!#REF!=\"I\",\"Ф152\",IF(Реестр!#REF!=\"II\",\"Ф127\",IF(Реестр!#REF!=\"III\",\"Ф127\",IF(Реестр!#REF!=\"IV\",\"Ф228\",IF(Реестр!#REF!=\"V\",\"Ф127\",\"\")))))","v":{"$error":"#REF!"}},{"$f":"Реестр!J1319","v":0},0]
[{"$f":"(Реестр!B1320)+0","v":"00:00:00"},{"$f":"Реестр!AM1320","v":0},{"$f":"Реестр!AZ1320","v":0},{"$f":"Реестр!AN1320","v":0},{"$f":"Реестр!G1320","v":0},{"$f":"IF(Реестр!#REF!=\"I\",\"Ф152\",IF(Реестр!#REF!=\"II\",\"Ф127\",IF(Реестр!#REF!=\"III\",\"Ф127\",IF(Реестр!#REF!=\"IV\",\"Ф228\",IF(Реестр!#REF!=\"V\",\"Ф127\",\"\")))))","v":{"$error":"#REF!"}},{"$f":"Реестр!J1320","v":0},0]
[{"$f":"(Реестр!B1321)+0","v":"00:00:00"},{"$f":"Реестр!AM1321","v":0},{"$f":"Реестр!AZ1321","v":0},{"$f":"Реестр!AN1321","v":0},{"$f":"Реестр!G1321","v":0},{"$f":"IF(Реестр!#REF!=\"I\",\"Ф152\",IF(Реестр!#REF!=\"II\",\"Ф127\",IF(Реестр!#REF!=\"III\",\"Ф127\",IF(Реестр!#REF!=\"IV\",\"Ф228\",IF(Реестр!#REF!=\"V\",\"Ф127\",\"\")))))","v":{"$error":"#REF!"}},{"$f":"Реестр!J1321","v":0},0]
[{"$f":"(Реестр!B1322)+0","v":"00:00:00"},{"$f":"Реестр!AM1322","v":0},{"$f":"Реестр!AZ1322","v":0},{"$f":"Реестр!AN1322","v":0},{"$f":"Реестр!G1322","v":0},{"$f":"IF(Реестр!#REF!=\"I\",\"Ф152\",IF(Реестр!#REF!=\"II\",\"Ф127\",IF(Реестр!#REF!=\"III\",\"Ф127\",IF(Реестр!#REF!=\"IV\",\"Ф228\",IF(Реестр!#REF!=\"V\",\"Ф127\",\"\")))))","v":{"$error":"#REF!"}},{"$f":"Реестр!J1322","v":0},0]
[{"$f":"(Реестр!B1323)+0","v":"00:00:00"},{"$f":"Реестр!AM1323","v":0},{"$f":"Реестр!AZ1323","v":0},{"$f":"Реестр!AN1323","v":0},{"$f":"Реестр!G1323","v":0},{"$f":"IF(Реестр!#REF!=\"I\",\"Ф152\",IF(Реестр!#REF!=\"II\",\"Ф127\",IF(Реестр!#REF!=\"III\",\"Ф127\",IF(Реестр!#REF!=\"IV\",\"Ф228\",IF(Реестр!#REF!=\"V\",\"Ф127\",\"\")))))","v":{"$error":"#REF!"}},{"$f":"Реестр!J1323","v":0},0]
[{"$f":"(Реестр!B1324)+0","v":"00:00:00"},{"$f":"Реестр!AM1324","v":0},{"$f":"Реестр!AZ1324","v":0},{"$f":"Реестр!AN1324","v":0},{"$f":"Реестр!G1324","v":0},{"$f":"IF(Реестр!#REF!=\"I\",\"Ф152\",IF(Реестр!#REF!=\"II\",\"Ф127\",IF(Реестр!#REF!=\"III\",\"Ф127\",IF(Реестр!#REF!=\"IV\",\"Ф228\",IF(Реестр!#REF!=\"V\",\"Ф127\",\"\")))))","v":{"$error":"#REF!"}},{"$f":"Реестр!J1324","v":0},0]
[{"$f":"(Реестр!B1325)+0","v":"00:00:00"},{"$f":"Реестр!AM1325","v":0},{"$f":"Реестр!AZ1325","v":0},{"$f":"Реестр!AN1325","v":0},{"$f":"Реестр!G1325","v":0},{"$f":"IF(Реестр!#REF!=\"I\",\"Ф152\",IF(Реестр!#REF!=\"II\",\"Ф127\",IF(Реестр!#REF!=\"III\",\"Ф127\",IF(Реестр!#REF!=\"IV\",\"Ф228\",IF(Реестр!#REF!=\"V\",\"Ф127\",\"\")))))","v":{"$error":"#REF!"}},{"$f":"Реестр!J1325","v":0},0]
[{"$f":"(Реестр!B1326)+0","v":"00:00:00"},{"$f":"Реестр!AM1326","v":0},{"$f":"Реестр!AZ1326","v":0},{"$f":"Реестр!AN1326","v":0},{"$f":"Реестр!G1326","v":0},{"$f":"IF(Реестр!#REF!=\"I\",\"Ф152\",IF(Реестр!#REF!=\"II\",\"Ф127\",IF(Реестр!#REF!=\"III\",\"Ф127\",IF(Реестр!#REF!=\"IV\",\"Ф228\",IF(Реестр!#REF!=\"V\",\"Ф127\",\"\")))))","v":{"$error":"#REF!"}},{"$f":"Реестр!J1326","v":0},0]
[{"$f":"(Реестр!B1327)+0","v":"00:00:00"},{"$f":"Реестр!AM1327","v":0},{"$f":"Реестр!AZ1327","v":0},{"$f":"Реестр!AN1327","v":0},{"$f":"Реестр!G1327","v":0},{"$f":"IF(Реестр!#REF!=\"I\",\"Ф152\",IF(Реестр!#REF!=\"II\",\"Ф127\",IF(Реестр!#REF!=\"III\",\"Ф127\",IF(Реестр!#REF!=\"IV\",\"Ф228\",IF(Реестр!#REF!=\"V\",\"Ф127\",\"\")))))","v":{"$error":"#REF!"}},{"$f":"Реестр!J1327","v":0},0]
[{"$f":"(Реестр!B1328)+0","v":"00:00:00"},{"$f":"Реестр!AM1328","v":0},{"$f":"Реестр!AZ1328","v":0},{"$f":"Реестр!AN1328","v":0},{"$f":"Реестр!G1328","v":0},{"$f":"IF(Реестр!#REF!=\"I\",\"Ф152\",IF(Реестр!#REF!=\"II\",\"Ф127\",IF(Реестр!#REF!=\"III\",\"Ф127\",IF(Реестр!#REF!=\"IV\",\"Ф228\",IF(Реестр!#REF!=\"V\",\"Ф127\",\"\")))))","v":{"$error":"#REF!"}},{"$f":"Реестр!J1328","v":0},0]
[{"$f":"(Реестр!B1329)+0","v":"00:00:00"},{"$f":"Реестр!AM1329","v":0},{"$f":"Реестр!AZ1329","v":0},{"$f":"Реестр!AN1329","v":0},{"$f":"Реестр!G1329","v":0},{"$f":"IF(Реестр!#REF!=\"I\",\"Ф152\",IF(Реестр!#REF!=\"II\",\"Ф127\",IF(Реестр!#REF!=\"III\",\"Ф127\",IF(Реестр!#REF!=\"IV\",\"Ф228\",IF(Реестр!#REF!=\"V\",\"Ф127\",\"\")))))","v":{"$error":"#REF!"}},{"$f":"Реестр!J1329","v":0},0]
[{"$f":"(Реестр!B1330)+0","v":"00:00:00"},{"$f":"Реестр!AM1330","v":0},{"$f":"Реестр!AZ1330","v":0},{"$f":"Реестр!AN1330","v":0},{"$f":"Реестр!G1330","v":0},{"$f":"IF(Реестр!#REF!=\"I\",\"Ф152\",IF(Реестр!#REF!=\"II\",\"Ф127\",IF(Реестр!#REF!=\"III\",\"Ф127\",IF(Реестр!#REF!=\"IV\",\"Ф228\",IF(Реестр!#REF!=\"V\",\"Ф127\",\"\")))))","v":{"$error":"#REF!"}},{"$f":"Реестр!J1330","v":0},0]
[{"$f":"(Реестр!B1331)+0","v":"00:00:00"},{"$f":"Реестр!AM1331","v":0},{"$f":"Реестр!AZ1331","v":0},{"$f":"Реестр!AN1331","v":0},{"$f":"Реестр!G1331","v":0},{"$f":"IF(Реестр!#REF!=\"I\",\"Ф152\",IF(Реестр!#REF!=\"II\",\"Ф127\",IF(Реестр!#REF!=\"III\",\"Ф127\",IF(Реестр!#REF!=\"IV\",\"Ф228\",IF(Реестр!#REF!=\"V\",\"Ф127\",\"\")))))","v":{"$error":"#REF!"}},{"$f":"Реестр!J1331","v":0},0]
[{"$f":"(Реестр!B1332)+0","v":"00:00:00"},{"$f":"Реестр!AM1332","v":0},{"$f":"Реестр!AZ1332","v":0},{"$f":"Реестр!AN1332","v":0},{"$f":"Реестр!G1332","v":0},{"$f":"IF(Реестр!#REF!=\"I\",\"Ф152\",IF(Реестр!#REF!=\"II\",\"Ф127\",IF(Реестр!#REF!=\"III\",\"Ф127\",IF(Реестр!#REF!=\"IV\",\"Ф228\",IF(Реестр!#REF!=\"V\",\"Ф127\",\"\")))))","v":{"$error":"#REF!"}},{"$f":"Реестр!J1332","v":0},0]
[{"$f":"(Реестр!B1333)+0","v":"00:00:00"},{"$f":"Реестр!AM1333","v":0},{"$f":"Реестр!AZ1333","v":0},{"$f":"Реестр!AN1333","v":0},{"$f":"Реестр!G1333","v":0},{"$f":"IF(Реестр!#REF!=\"I\",\"Ф152\",IF(Реестр!#REF!=\"II\",\"Ф127\",IF(Реестр!#REF!=\"III\",\"Ф127\",IF(Реестр!#REF!=\"IV\",\"Ф228\",IF(Реестр!#REF!=\"V\",\"Ф127\",\"\")))))","v":{"$error":"#REF!"}},{"$f":"Реестр!J1333","v":0},0]
[{"$f":"(Реестр!B1334)+0","v":"00:00:00"},{"$f":"Реестр!AM1334","v":0},{"$f":"Реестр!AZ1334","v":0},{"$f":"Реестр!AN1334","v":0},{"$f":"Реестр!G1334","v":0},{"$f":"IF(Реестр!#REF!=\"I\",\"Ф152\",IF(Реестр!#REF!=\"II\",\"Ф127\",IF(Реестр!#REF!=\"III\",\"Ф127\",IF(Реестр!#REF!=\"IV\",\"Ф228\",IF(Реестр!#REF!=\"V\",\"Ф127\",\"\")))))","v":{"$error":"#REF!"}},{"$f":"Реестр!J1334","v":0},0]
[{"$f":"(Реестр!B1335)+0","v":"00:00:00"},{"$f":"Реестр!AM1335","v":0},{"$f":"Реестр!AZ1335","v":0},{"$f":"Реестр!AN1335","v":0},{"$f":"Реестр!G1335","v":0},{"$f":"IF(Реестр!#REF!=\"I\",\"Ф152\",IF(Реестр!#REF!=\"II\",\"Ф127\",IF(Реестр!#REF!=\"III\",\"Ф127\",IF(Реестр!#REF!=\"IV\",\"Ф228\",IF(Реестр!#REF!=\"V\",\"Ф127\",\"\")))))","v":{"$error":"#REF!"}},{"$f":"Реестр!J1335","v":0},0]
[{"$f":"(Реестр!B1336)+0","v":"00:00:00"},{"$f":"Реестр!AM1336","v":0},{"$f":"Реестр!AZ1336","v":0},{"$f":"Реестр!AN1336","v":0},{"$f":"Реестр!G1336","v":0},{"$f":"IF(Реестр!#REF!=\"I\",\"Ф152\",IF(Реестр!#REF!=\"II\",\"Ф127\",IF(Реестр!#REF!=\"III\",\"Ф127\",IF(Реестр!#REF!=\"IV\",\"Ф228\",IF(Реестр!#REF!=\"V\",\"Ф127\",\"\")))))","v":{"$error":"#REF!"}},{"$f":"Реестр!J1336","v":0},0]
[{"$f":"(Реестр!B1337)+0","v":"00:00:00"},{"$f":"Реестр!AM1337","v":0},{"$f":"Реестр!AZ1337","v":0},{"$f":"Реестр!AN1337","v":0},{"$f":"Реестр!G1337","v":0},{"$f":"IF(Реестр!#REF!=\"I\",\"Ф152\",IF(Реестр!#REF!=\"II\",\"Ф127\",IF(Реестр!#REF!=\"III\",\"Ф127\",IF(Реестр!#REF!=\"IV\",\"Ф228\",IF(Реестр!#REF!=\"V\",\"Ф127\",\"\")))))","v":{"$error":"#REF!"}},{"$f":"Реестр!J1337","v":0},0]
[{"$f":"(Реестр!B1338)+0","v":"00:00:00"},{"$f":"Реестр!AM1338","v":0},{"$f":"Реестр!AZ1338","v":0},{"$f":"Реестр!AN1338","v":0},{"$f":"Реестр!G1338","v":0},{"$f":"IF(Реестр!#REF!=\"I\",\"Ф152\",IF(Реестр!#REF!=\"II\",\"Ф127\",IF(Реестр!#REF!=\"III\",\"Ф127\",IF(Реестр!#REF!=\"IV\",\"Ф228\",IF(Реестр!#REF!=\"V\",\"Ф127\",\"\")))))","v":{"$error":"#REF!"}},{"$f":"Реестр!J1338","v":0},0]
[{"$f":"(Реестр!B1339)+0","v":"00:00:00"},{"$f":"Реестр!AM1339","v":0},{"$f":"Реестр!AZ1339","v":0},{"$f":"Реестр!AN1339","v":0},{"$f":"Реестр!G1339","v":0},{"$f":"IF(Реестр!#REF!=\"I\",\"Ф152\",IF(Реестр!#REF!=\"II\",\"Ф127\",IF(Реестр!#REF!=\"III\",\"Ф127\",IF(Реестр!#REF!=\"IV\",\"Ф228\",IF(Реестр!#REF!=\"V\",\"Ф127\",\"\")))))","v":{"$error":"#REF!"}},{"$f":"Реестр!J1339","v":0},0]
[{"$f":"(Реестр!B1340)+0","v":"00:00:00"},{"$f":"Реестр!AM1340","v":0},{"$f":"Реестр!AZ1340","v":0},{"$f":"Реестр!AN1340","v":0},{"$f":"Реестр!G1340","v":0},{"$f":"IF(Реестр!#REF!=\"I\",\"Ф152\",IF(Реестр!#REF!=\"II\",\"Ф127\",IF(Реестр!#REF!=\"III\",\"Ф127\",IF(Реестр!#REF!=\"IV\",\"Ф228\",IF(Реестр!#REF!=\"V\",\"Ф127\",\"\")))))","v":{"$error":"#REF!"}},{"$f":"Реестр!J1340","v":0},0]
[{"$f":"(Реестр!B1341)+0","v":"00:00:00"},{"$f":"Реестр!AM1341","v":0},{"$f":"Реестр!AZ1341","v":0},{"$f":"Реестр!AN1341","v":0},{"$f":"Реестр!G1341","v":0},{"$f":"IF(Реестр!#REF!=\"I\",\"Ф152\",IF(Реестр!#REF!=\"II\",\"Ф127\",IF(Реестр!#REF!=\"III\",\"Ф127\",IF(Реестр!#REF!=\"IV\",\"Ф228\",IF(Реестр!#REF!=\"V\",\"Ф127\",\"\")))))","v":{"$error":"#REF!"}},{"$f":"Реестр!J1341","v":0},0]
[{"$f":"(Реестр!B1342)+0","v":"00:00:00"},{"$f":"Реестр!AM1342","v":0},{"$f":"Реестр!AZ1342","v":0},{"$f":"Реестр!AN1342","v":0},{"$f":"Реестр!G1342","v":0},{"$f":"IF(Реестр!#REF!=\"I\",\"Ф152\",IF(Реестр!#REF!=\"II\",\"Ф127\",IF(Реестр!#REF!=\"III\",\"Ф127\",IF(Реестр!#REF!=\"IV\",\"Ф228\",IF(Реестр!#REF!=\"V\",\"Ф127\",\"\")))))","v":{"$error":"#REF!"}},{"$f":"Реестр!J1342","v":0},0]
[{"$f":"(Реестр!B1343)+0","v":"00:00:00"},{"$f":"Реестр!AM1343","v":0},{"$f":"Реестр!AZ1343","v":0},{"$f":"Реестр!AN1343","v":0},{"$f":"Реестр!G1343","v":0},{"$f":"IF(Реестр!#REF!=\"I\",\"Ф152\",IF(Реестр!#REF!=\"II\",\"Ф127\",IF(Реестр!#REF!=\"III\",\"Ф127\",IF(Реестр!#REF!=\"IV\",\"Ф228\",IF(Реестр!#REF!=\"V\",\"Ф127\",\"\")))))","v":{"$error":"#REF!"}},{"$f":"Реестр!J1343","v":0},{"$f":"E777*G777","v":0}]
[{"$f":"(Реестр!B1344)+0","v":"00:00:00"},{"$f":"Реестр!AM1344","v":0},{"$f":"Реестр!AZ1344","v":0},{"$f":"Реестр!AN1344","v":0},{"$f":"Реестр!G1344","v":0},{"$f":"IF(Реестр!#REF!=\"I\",\"Ф152\",IF(Реестр!#REF!=\"II\",\"Ф127\",IF(Реестр!#REF!=\"III\",\"Ф127\",IF(Реестр!#REF!=\"IV\",\"Ф228\",IF(Реестр!#REF!=\"V\",\"Ф127\",\"\")))))","v":{"$error":"#REF!"}},{"$f":"Реестр!J1344","v":0},0]
[{"$f":"(Реестр!B1345)+0","v":"00:00:00"},{"$f":"Реестр!AM1345","v":0},{"$f":"Реестр!AZ1345","v":0},{"$f":"Реестр!AN1345","v":0},{"$f":"Реестр!G1345","v":0},{"$f":"IF(Реестр!#REF!=\"I\",\"Ф152\",IF(Реестр!#REF!=\"II\",\"Ф127\",IF(Реестр!#REF!=\"III\",\"Ф127\",IF(Реестр!#REF!=\"IV\",\"Ф228\",IF(Реестр!#REF!=\"V\",\"Ф127\",\"\")))))","v":{"$error":"#REF!"}},{"$f":"Реестр!J1345","v":0},0]
[{"$f":"(Реестр!B1346)+0","v":"00:00:00"},{"$f":"Реестр!AM1346","v":0},{"$f":"Реестр!AZ1346","v":0},{"$f":"Реестр!AN1346","v":0},{"$f":"Реестр!G1346","v":0},{"$f":"IF(Реестр!#REF!=\"I\",\"Ф152\",IF(Реестр!#REF!=\"II\",\"Ф127\",IF(Реестр!#REF!=\"III\",\"Ф127\",IF(Реестр!#REF!=\"IV\",\"Ф228\",IF(Реестр!#REF!=\"V\",\"Ф127\",\"\")))))","v":{"$error":"#REF!"}},{"$f":"Реестр!J1346","v":0},0]
[{"$f":"(Реестр!B1347)+0","v":"00:00:00"},{"$f":"Реестр!AM1347","v":0},{"$f":"Реестр!AZ1347","v":0},{"$f":"Реестр!AN1347","v":0},{"$f":"Реестр!G1347","v":0},{"$f":"IF(Реестр!#REF!=\"I\",\"Ф152\",IF(Реестр!#REF!=\"II\",\"Ф127\",IF(Реестр!#REF!=\"III\",\"Ф127\",IF(Реестр!#REF!=\"IV\",\"Ф228\",IF(Реестр!#REF!=\"V\",\"Ф127\",\"\")))))","v":{"$error":"#REF!"}},{"$f":"Реестр!J1347","v":0},0]
[{"$f":"(Реестр!B1348)+0","v":"00:00:00"},{"$f":"Реестр!AM1348","v":0},{"$f":"Реестр!AZ1348","v":0},{"$f":"Реестр!AN1348","v":0},{"$f":"Реестр!G1348","v":0},{"$f":"IF(Реестр!#REF!=\"I\",\"Ф152\",IF(Реестр!#REF!=\"II\",\"Ф127\",IF(Реестр!#REF!=\"III\",\"Ф127\",IF(Реестр!#REF!=\"IV\",\"Ф228\",IF(Реестр!#REF!=\"V\",\"Ф127\",\"\")))))","v":{"$error":"#REF!"}},{"$f":"Реестр!J1348","v":0},0]
[{"$f":"(Реестр!B1349)+0","v":"00:00:00"},{"$f":"Реестр!AM1349","v":0},{"$f":"Реестр!AZ1349","v":0},{"$f":"Реестр!AN1349","v":0},{"$f":"Реестр!G1349","v":0},{"$f":"IF(Реестр!#REF!=\"I\",\"Ф152\",IF(Реестр!#REF!=\"II\",\"Ф127\",IF(Реестр!#REF!=\"III\",\"Ф127\",IF(Реестр!#REF!=\"IV\",\"Ф228\",IF(Реестр!#REF!=\"V\",\"Ф127\",\"\")))))","v":{"$error":"#REF!"}},{"$f":"Реестр!J1349","v":0},0]
[{"$f":"(Реестр!B1350)+0","v":"00:00:00"},{"$f":"Реестр!AM1350","v":0},{"$f":"Реестр!AZ1350","v":0},{"$f":"Реестр!AN1350","v":0},{"$f":"Реестр!G1350","v":0},{"$f":"IF(Реестр!#REF!=\"I\",\"Ф152\",IF(Реестр!#REF!=\"II\",\"Ф127\",IF(Реестр!#REF!=\"III\",\"Ф127\",IF(Реестр!#REF!=\"IV\",\"Ф228\",IF(Реестр!#REF!=\"V\",\"Ф127\",\"\")))))","v":{"$error":"#REF!"}},{"$f":"Реестр!J1350","v":0},0]
[{"$f":"(Реестр!B1351)+0","v":"00:00:00"},{"$f":"Реестр!AM1351","v":0},{"$f":"Реестр!AZ1351","v":0},{"$f":"Реестр!AN1351","v":0},{"$f":"Реестр!G1351","v":0},{"$f":"IF(Реестр!#REF!=\"I\",\"Ф152\",IF(Реестр!#REF!=\"II\",\"Ф127\",IF(Реестр!#REF!=\"III\",\"Ф127\",IF(Реестр!#REF!=\"IV\",\"Ф228\",IF(Реестр!#REF!=\"V\",\"Ф127\",\"\")))))","v":{"$error":"#REF!"}},{"$f":"Реестр!J1351","v":0},0]
[{"$f":"(Реестр!B1352)+0","v":"00:00:00"},{"$f":"Реестр!AM1352","v":0},{"$f":"Реестр!AZ1352","v":0},{"$f":"Реестр!AN1352","v":0},{"$f":"Реестр!G1352","v":0},{"$f":"IF(Реестр!#REF!=\"I\",\"Ф152\",IF(Реестр!#REF!=\"II\",\"Ф127\",IF(Реестр!#REF!=\"III\",\"Ф127\",IF(Реестр!#REF!=\"IV\",\"Ф228\",IF(Реестр!#REF!=\"V\",\"Ф127\",\"\")))))","v":{"$error":"#REF!"}},{"$f":"Реестр!J1352","v":0},0]
[{"$f":"(Реестр!B1353)+0","v":"00:00:00"},{"$f":"Реестр!AM1353","v":0},{"$f":"Реестр!AZ1353","v":0},{"$f":"Реестр!AN1353","v":0},{"$f":"Реестр!G1353","v":0},{"$f":"IF(Реестр!#REF!=\"I\",\"Ф152\",IF(Реестр!#REF!=\"II\",\"Ф127\",IF(Реестр!#REF!=\"III\",\"Ф127\",IF(Реестр!#REF!=\"IV\",\"Ф228\",IF(Реестр!#REF!=\"V\",\"Ф127\",\"\")))))","v":{"$error":"#REF!"}},{"$f":"Реестр!J1353","v":0},0]
[{"$f":"(Реестр!B1354)+0","v":"00:00:00"},{"$f":"Реестр!AM1354","v":0},{"$f":"Реестр!AZ1354","v":0},{"$f":"Реестр!AN1354","v":0},{"$f":"Реестр!G1354","v":0},{"$f":"IF(Реестр!#REF!=\"I\",\"Ф152\",IF(Реестр!#REF!=\"II\",\"Ф127\",IF(Реестр!#REF!=\"III\",\"Ф127\",IF(Реестр!#REF!=\"IV\",\"Ф228\",IF(Реестр!#REF!=\"V\",\"Ф127\",\"\")))))","v":{"$error":"#REF!"}},{"$f":"Реестр!J1354","v":0},0]
[{"$f":"(Реестр!B1355)+0","v":"00:00:00"},{"$f":"Реестр!AM1355","v":0},{"$f":"Реестр!AZ1355","v":0},{"$f":"Реестр!AN1355","v":0},{"$f":"Реестр!G1355","v":0},{"$f":"IF(Реестр!#REF!=\"I\",\"Ф152\",IF(Реестр!#REF!=\"II\",\"Ф127\",IF(Реестр!#REF!=\"III\",\"Ф127\",IF(Реестр!#REF!=\"IV\",\"Ф228\",IF(Реестр!#REF!=\"V\",\"Ф127\",\"\")))))","v":{"$error":"#REF!"}},{"$f":"Реестр!J1355","v":0},0]
[{"$f":"(Реестр!B1356)+0","v":"00:00:00"},{"$f":"Реестр!AM1356","v":0},{"$f":"Реестр!AZ1356","v":0},{"$f":"Реестр!AN1356","v":0},{"$f":"Реестр!G1356","v":0},{"$f":"IF(Реестр!#REF!=\"I\",\"Ф152\",IF(Реестр!#REF!=\"II\",\"Ф127\",IF(Реестр!#REF!=\"III\",\"Ф127\",IF(Реестр!#REF!=\"IV\",\"Ф228\",IF(Реестр!#REF!=\"V\",\"Ф127\",\"\")))))","v":{"$error":"#REF!"}},{"$f":"Реестр!J1356","v":0},0]
[{"$f":"(Реестр!B1357)+0","v":"00:00:00"},{"$f":"Реестр!AM1357","v":0},{"$f":"Реестр!AZ1357","v":0},{"$f":"Реестр!AN1357","v":0},{"$f":"Реестр!G1357","v":0},{"$f":"IF(Реестр!#REF!=\"I\",\"Ф152\",IF(Реестр!#REF!=\"II\",\"Ф127\",IF(Реестр!#REF!=\"III\",\"Ф127\",IF(Реестр!#REF!=\"IV\",\"Ф228\",IF(Реестр!#REF!=\"V\",\"Ф127\",\"\")))))","v":{"$error":"#REF!"}},{"$f":"Реестр!J1357","v":0},0]
[{"$f":"(Реестр!B1358)+0","v":"00:00:00"},{"$f":"Реестр!AM1358","v":0},{"$f":"Реестр!AZ1358","v":0},{"$f":"Реестр!AN1358","v":0},{"$f":"Реестр!G1358","v":0},{"$f":"IF(Реестр!#REF!=\"I\",\"Ф152\",IF(Реестр!#REF!=\"II\",\"Ф127\",IF(Реестр!#REF!=\"III\",\"Ф127\",IF(Реестр!#REF!=\"IV\",\"Ф228\",IF(Реестр!#REF!=\"V\",\"Ф127\",\"\")))))","v":{"$error":"#REF!"}},{"$f":"Реестр!J1358","v":0},0]
[{"$f":"(Реестр!B1359)+0","v":"00:00:00"},{"$f":"Реестр!AM1359","v":0},{"$f":"Реестр!AZ1359","v":0},{"$f":"Реестр!AN1359","v":0},{"$f":"Реестр!G1359","v":0},{"$f":"IF(Реестр!#REF!=\"I\",\"Ф152\",IF(Реестр!#REF!=\"II\",\"Ф127\",IF(Реестр!#REF!=\"III\",\"Ф127\",IF(Реестр!#REF!=\"IV\",\"Ф228\",IF(Реестр!#REF!=\"V\",\"Ф127\",\"\")))))","v":{"$error":"#REF!"}},{"$f":"Реестр!J1359","v":0},0]
[{"$f":"(Реестр!B1360)+0","v":"00:00:00"},{"$f":"Реестр!AM1360","v":0},{"$f":"Реестр!AZ1360","v":0},{"$f":"Реестр!AN1360","v":0},{"$f":"Реестр!G1360","v":0},{"$f":"IF(Реестр!#REF!=\"I\",\"Ф152\",IF(Реестр!#REF!=\"II\",\"Ф127\",IF(Реестр!#REF!=\"III\",\"Ф127\",IF(Реестр!#REF!=\"IV\",\"Ф228\",IF(Реестр!#REF!=\"V\",\"Ф127\",\"\")))))","v":{"$error":"#REF!"}},{"$f":"Реестр!J1360","v":0},0]
[{"$f":"(Реестр!B1361)+0","v":"00:00:00"},{"$f":"Реестр!AM1361","v":0},{"$f":"Реестр!AZ1361","v":0},{"$f":"Реестр!AN1361","v":0},{"$f":"Реестр!G1361","v":0},{"$f":"IF(Реестр!#REF!=\"I\",\"Ф152\",IF(Реестр!#REF!=\"II\",\"Ф127\",IF(Реестр!#REF!=\"III\",\"Ф127\",IF(Реестр!#REF!=\"IV\",\"Ф228\",IF(Реестр!#REF!=\"V\",\"Ф127\",\"\")))))","v":{"$error":"#REF!"}},{"$f":"Реестр!J1361","v":0},0]
[{"$f":"(Реестр!B1362)+0","v":"00:00:00"},{"$f":"Реестр!AM1362","v":0},{"$f":"Реестр!AZ1362","v":0},{"$f":"Реестр!AN1362","v":0},{"$f":"Реестр!G1362","v":0},{"$f":"IF(Реестр!#REF!=\"I\",\"Ф152\",IF(Реестр!#REF!=\"II\",\"Ф127\",IF(Реестр!#REF!=\"III\",\"Ф127\",IF(Реестр!#REF!=\"IV\",\"Ф228\",IF(Реестр!#REF!=\"V\",\"Ф127\",\"\")))))","v":{"$error":"#REF!"}},{"$f":"Реестр!J1362","v":0},0]
[{"$f":"(Реестр!B1363)+0","v":"00:00:00"},{"$f":"Реестр!AM1363","v":0},{"$f":"Реестр!AZ1363","v":0},{"$f":"Реестр!AN1363","v":0},{"$f":"Реестр!G1363","v":0},{"$f":"IF(Реестр!#REF!=\"I\",\"Ф152\",IF(Реестр!#REF!=\"II\",\"Ф127\",IF(Реестр!#REF!=\"III\",\"Ф127\",IF(Реестр!#REF!=\"IV\",\"Ф228\",IF(Реестр!#REF!=\"V\",\"Ф127\",\"\")))))","v":{"$error":"#REF!"}},{"$f":"Реестр!J1363","v":0},0]
[{"$f":"(Реестр!B1364)+0","v":"00:00:00"},{"$f":"Реестр!AM1364","v":0},{"$f":"Реестр!AZ1364","v":0},{"$f":"Реестр!AN1364","v":0},{"$f":"Реестр!G1364","v":0},{"$f":"IF(Реестр!#REF!=\"I\",\"Ф152\",IF(Реестр!#REF!=\"II\",\"Ф127\",IF(Реестр!#REF!=\"III\",\"Ф127\",IF(Реестр!#REF!=\"IV\",\"Ф228\",IF(Реестр!#REF!=\"V\",\"Ф127\",\"\")))))","v":{"$error":"#REF!"}},{"$f":"Реестр!J1364","v":0},0]
[{"$f":"(Реестр!B1365)+0","v":"00:00:00"},{"$f":"Реестр!AM1365","v":0},{"$f":"Реестр!AZ1365","v":0},{"$f":"Реестр!AN1365","v":0},{"$f":"Реестр!G1365","v":0},{"$f":"IF(Реестр!#REF!=\"I\",\"Ф152\",IF(Реестр!#REF!=\"II\",\"Ф127\",IF(Реестр!#REF!=\"III\",\"Ф127\",IF(Реестр!#REF!=\"IV\",\"Ф228\",IF(Реестр!#REF!=\"V\",\"Ф127\",\"\")))))","v":{"$error":"#REF!"}},{"$f":"Реестр!J1365","v":0},0]
[{"$f":"(Реестр!B1366)+0","v":"00:00:00"},{"$f":"Реестр!AM1366","v":0},{"$f":"Реестр!AZ1366","v":0},{"$f":"Реестр!AN1366","v":0},{"$f":"Реестр!G1366","v":0},{"$f":"IF(Реестр!#REF!=\"I\",\"Ф152\",IF(Реестр!#REF!=\"II\",\"Ф127\",IF(Реестр!#REF!=\"III\",\"Ф127\",IF(Реестр!#REF!=\"IV\",\"Ф228\",IF(Реестр!#REF!=\"V\",\"Ф127\",\"\")))))","v":{"$error":"#REF!"}},{"$f":"Реестр!J1366","v":0},0]
[{"$f":"(Реестр!B1367)+0","v":"00:00:00"},{"$f":"Реестр!AM1367","v":0},{"$f":"Реестр!AZ1367","v":0},{"$f":"Реестр!AN1367","v":0},{"$f":"Реестр!G1367","v":0},{"$f":"IF(Реестр!#REF!=\"I\",\"Ф152\",IF(Реестр!#REF!=\"II\",\"Ф127\",IF(Реестр!#REF!=\"III\",\"Ф127\",IF(Реестр!#REF!=\"IV\",\"Ф228\",IF(Реестр!#REF!=\"V\",\"Ф127\",\"\")))))","v":{"$error":"#REF!"}},{"$f":"Реестр!J1367","v":0},0]
[{"$f":"(Реестр!B1368)+0","v":"00:00:00"},{"$f":"Реестр!AM1368","v":0},{"$f":"Реестр!AZ1368","v":0},{"$f":"Реестр!AN1368","v":0},{"$f":"Реестр!G1368","v":0},{"$f":"IF(Реестр!#REF!=\"I\",\"Ф152\",IF(Реестр!#REF!=\"II\",\"Ф127\",IF(Реестр!#REF!=\"III\",\"Ф127\",IF(Реестр!#REF!=\"IV\",\"Ф228\",IF(Реестр!#REF!=\"V\",\"Ф127\",\"\")))))","v":{"$error":"#REF!"}},{"$f":"Реестр!J1368","v":0},0]
[{"$f":"(Реестр!B1369)+0","v":"00:00:00"},{"$f":"Реестр!AM1369","v":0},{"$f":"Реестр!AZ1369","v":0},{"$f":"Реестр!AN1369","v":0},{"$f":"Реестр!G1369","v":0},{"$f":"IF(Реестр!#REF!=\"I\",\"Ф152\",IF(Реестр!#REF!=\"II\",\"Ф127\",IF(Реестр!#REF!=\"III\",\"Ф127\",IF(Реестр!#REF!=\"IV\",\"Ф228\",IF(Реестр!#REF!=\"V\",\"Ф127\",\"\")))))","v":{"$error":"#REF!"}},{"$f":"Реестр!J1369","v":0},0]
[{"$f":"(Реестр!B1370)+0","v":"00:00:00"},{"$f":"Реестр!AM1370","v":0},{"$f":"Реестр!AZ1370","v":0},{"$f":"Реестр!AN1370","v":0},{"$f":"Реестр!G1370","v":0},{"$f":"IF(Реестр!#REF!=\"I\",\"Ф152\",IF(Реестр!#REF!=\"II\",\"Ф127\",IF(Реестр!#REF!=\"III\",\"Ф127\",IF(Реестр!#REF!=\"IV\",\"Ф228\",IF(Реестр!#REF!=\"V\",\"Ф127\",\"\")))))","v":{"$error":"#REF!"}},{"$f":"Реестр!J1370","v":0},0]
[{"$f":"(Реестр!B1371)+0","v":"00:00:00"},{"$f":"Реестр!AM1371","v":0},{"$f":"Реестр!AZ1371","v":0},{"$f":"Реестр!AN1371","v":0},{"$f":"Реестр!G1371","v":0},{"$f":"IF(Реестр!#REF!=\"I\",\"Ф152\",IF(Реестр!#REF!=\"II\",\"Ф127\",IF(Реестр!#REF!=\"III\",\"Ф127\",IF(Реестр!#REF!=\"IV\",\"Ф228\",IF(Реестр!#REF!=\"V\",\"Ф127\",\"\")))))","v":{"$error":"#REF!"}},{"$f":"Реестр!J1371","v":0},0]
[{"$f":"(Реестр!B1372)+0","v":"00:00:00"},{"$f":"Реестр!AM1372","v":0},{"$f":"Реестр!AZ1372","v":0},{"$f":"Реестр!AN1372","v":0},{"$f":"Реестр!G1372","v":0},{"$f":"IF(Реестр!#REF!=\"I\",\"Ф152\",IF(Реестр!#REF!=\"II\",\"Ф127\",IF(Реестр!#REF!=\"III\",\"Ф127\",IF(Реестр!#REF!=\"IV\",\"Ф228\",IF(Реестр!#REF!=\"V\",\"Ф127\",\"\")))))","v":{"$error":"#REF!"}},{"$f":"Реестр!J1372","v":0},0]
[{"$f":"(Реестр!B1373)+0","v":"00:00:00"},{"$f":"Реестр!AM1373","v":0},{"$f":"Реестр!AZ1373","v":0},{"$f":"Реестр!AN1373","v":0},{"$f":"Реестр!G1373","v":0},{"$f":"IF(Реестр!#REF!=\"I\",\"Ф152\",IF(Реестр!#REF!=\"II\",\"Ф127\",IF(Реестр!#REF!=\"III\",\"Ф127\",IF(Реестр!#REF!=\"IV\",\"Ф228\",IF(Реестр!#REF!=\"V\",\"Ф127\",\"\")))))","v":{"$error":"#REF!"}},{"$f":"Реестр!J1373","v":0},0]
[{"$f":"(Реестр!B1374)+0","v":"00:00:00"},{"$f":"Реестр!AM1374","v":0},{"$f":"Реестр!AZ1374","v":0},{"$f":"Реестр!AN1374","v":0},{"$f":"Реестр!G1374","v":0},{"$f":"IF(Реестр!#REF!=\"I\",\"Ф152\",IF(Реестр!#REF!=\"II\",\"Ф127\",IF(Реестр!#REF!=\"III\",\"Ф127\",IF(Реестр!#REF!=\"IV\",\"Ф228\",IF(Реестр!#REF!=\"V\",\"Ф127\",\"\")))))","v":{"$error":"#REF!"}},{"$f":"Реестр!J1374","v":0},0]
[{"$f":"(Реестр!B1375)+0","v":"00:00:00"},{"$f":"Реестр!AM1375","v":0},{"$f":"Реестр!AZ1375","v":0},{"$f":"Реестр!AN1375","v":0},{"$f":"Реестр!G1375","v":0},{"$f":"IF(Реестр!#REF!=\"I\",\"Ф152\",IF(Реестр!#REF!=\"II\",\"Ф127\",IF(Реестр!#REF!=\"III\",\"Ф127\",IF(Реестр!#REF!=\"IV\",\"Ф228\",IF(Реестр!#REF!=\"V\",\"Ф127\",\"\")))))","v":{"$error":"#REF!"}},{"$f":"Реестр!J1375","v":0},0]
[{"$f":"(Реестр!B1376)+0","v":"00:00:00"},{"$f":"Реестр!AM1376","v":0},{"$f":"Реестр!AZ1376","v":0},{"$f":"Реестр!AN1376","v":0},{"$f":"Реестр!G1376","v":0},{"$f":"IF(Реестр!#REF!=\"I\",\"Ф152\",IF(Реестр!#REF!=\"II\",\"Ф127\",IF(Реестр!#REF!=\"III\",\"Ф127\",IF(Реестр!#REF!=\"IV\",\"Ф228\",IF(Реестр!#REF!=\"V\",\"Ф127\",\"\")))))","v":{"$error":"#REF!"}},{"$f":"Реестр!J1376","v":0},0]
[{"$f":"(Реестр!B1377)+0","v":"00:00:00"},{"$f":"Реестр!AM1377","v":0},{"$f":"Реестр!AZ1377","v":0},{"$f":"Реестр!AN1377","v":0},{"$f":"Реестр!G1377","v":0},{"$f":"IF(Реестр!#REF!=\"I\",\"Ф152\",IF(Реестр!#REF!=\"II\",\"Ф127\",IF(Реестр!#REF!=\"III\",\"Ф127\",IF(Реестр!#REF!=\"IV\",\"Ф228\",IF(Реестр!#REF!=\"V\",\"Ф127\",\"\")))))","v":{"$error":"#REF!"}},{"$f":"Реестр!J1377","v":0},0]
[{"$f":"(Реестр!B1378)+0","v":"00:00:00"},{"$f":"Реестр!AM1378","v":0},{"$f":"Реестр!AZ1378","v":0},{"$f":"Реестр!AN1378","v":0},{"$f":"Реестр!G1378","v":0},{"$f":"IF(Реестр!#REF!=\"I\",\"Ф152\",IF(Реестр!#REF!=\"II\",\"Ф127\",IF(Реестр!#REF!=\"III\",\"Ф127\",IF(Реестр!#REF!=\"IV\",\"Ф228\",IF(Реестр!#REF!=\"V\",\"Ф127\",\"\")))))","v":{"$error":"#REF!"}},{"$f":"Реестр!J1378","v":0},0]
[{"$f":"(Реестр!B1379)+0","v":"00:00:00"},{"$f":"Реестр!AM1379","v":0},{"$f":"Реестр!AZ1379","v":0},{"$f":"Реестр!AN1379","v":0},{"$f":"Реестр!G1379","v":0},{"$f":"IF(Реестр!#REF!=\"I\",\"Ф152\",IF(Реестр!#REF!=\"II\",\"Ф127\",IF(Реестр!#REF!=\"III\",\"Ф127\",IF(Реестр!#REF!=\"IV\",\"Ф228\",IF(Реестр!#REF!=\"V\",\"Ф127\",\"\")))))","v":{"$error":"#REF!"}},{"$f":"Реестр!J1379","v":0},0]
[{"$f":"(Реестр!B1380)+0","v":"00:00:00"},{"$f":"Реестр!AM1380","v":0},{"$f":"Реестр!AZ1380","v":0},{"$f":"Реестр!AN1380","v":0},{"$f":"Реестр!G1380","v":0},{"$f":"IF(Реестр!#REF!=\"I\",\"Ф152\",IF(Реестр!#REF!=\"II\",\"Ф127\",IF(Реестр!#REF!=\"III\",\"Ф127\",IF(Реестр!#REF!=\"IV\",\"Ф228\",IF(Реестр!#REF!=\"V\",\"Ф127\",\"\")))))","v":{"$error":"#REF!"}},{"$f":"Реестр!J1380","v":0},0]
[{"$f":"(Реестр!B1381)+0","v":"00:00:00"},{"$f":"Реестр!AM1381","v":0},{"$f":"Реестр!AZ1381","v":0},{"$f":"Реестр!AN1381","v":0},{"$f":"Реестр!G1381","v":0},{"$f":"IF(Реестр!#REF!=\"I\",\"Ф152\",IF(Реестр!#REF!=\"II\",\"Ф127\",IF(Реестр!#REF!=\"III\",\"Ф127\",IF(Реестр!#REF!=\"IV\",\"Ф228\",IF(Реестр!#REF!=\"V\",\"Ф127\",\"\")))))","v":{"$error":"#REF!"}},{"$f":"Реестр!J1381","v":0},0]
[{"$f":"(Реестр!B1382)+0","v":"00:00:00"},{"$f":"Реестр!AM1382","v":0},{"$f":"Реестр!AZ1382","v":0},{"$f":"Реестр!AN1382","v":0},{"$f":"Реестр!G1382","v":0},{"$f":"IF(Реестр!#REF!=\"I\",\"Ф152\",IF(Реестр!#REF!=\"II\",\"Ф127\",IF(Реестр!#REF!=\"III\",\"Ф127\",IF(Реестр!#REF!=\"IV\",\"Ф228\",IF(Реестр!#REF!=\"V\",\"Ф127\",\"\")))))","v":{"$error":"#REF!"}},{"$f":"Реестр!J1382","v":0},0]
[{"$f":"(Реестр!B1383)+0","v":"00:00:00"},{"$f":"Реестр!AM1383","v":0},{"$f":"Реестр!AZ1383","v":0},{"$f":"Реестр!AN1383","v":0},{"$f":"Реестр!G1383","v":0},{"$f":"IF(Реестр!#REF!=\"I\",\"Ф152\",IF(Реестр!#REF!=\"II\",\"Ф127\",IF(Реестр!#REF!=\"III\",\"Ф127\",IF(Реестр!#REF!=\"IV\",\"Ф228\",IF(Реестр!#REF!=\"V\",\"Ф127\",\"\")))))","v":{"$error":"#REF!"}},{"$f":"Реестр!J1383","v":0},0]
[{"$f":"(Реестр!B1384)+0","v":"00:00:00"},{"$f":"Реестр!AM1384","v":0},{"$f":"Реестр!AZ1384","v":0},{"$f":"Реестр!AN1384","v":0},{"$f":"Реестр!G1384","v":0},{"$f":"IF(Реестр!#REF!=\"I\",\"Ф152\",IF(Реестр!#REF!=\"II\",\"Ф127\",IF(Реестр!#REF!=\"III\",\"Ф127\",IF(Реестр!#REF!=\"IV\",\"Ф228\",IF(Реестр!#REF!=\"V\",\"Ф127\",\"\")))))","v":{"$error":"#REF!"}},{"$f":"Реестр!J1384","v":0},0]
[{"$f":"(Реестр!B1385)+0","v":"00:00:00"},{"$f":"Реестр!AM1385","v":0},{"$f":"Реестр!AZ1385","v":0},{"$f":"Реестр!AN1385","v":0},{"$f":"Реестр!G1385","v":0},{"$f":"IF(Реестр!#REF!=\"I\",\"Ф152\",IF(Реестр!#REF!=\"II\",\"Ф127\",IF(Реестр!#REF!=\"III\",\"Ф127\",IF(Реестр!#REF!=\"IV\",\"Ф228\",IF(Реестр!#REF!=\"V\",\"Ф127\",\"\")))))","v":{"$error":"#REF!"}},{"$f":"Реестр!J1385","v":0},0]
[{"$f":"(Реестр!B1386)+0","v":"00:00:00"},{"$f":"Реестр!AM1386","v":0},{"$f":"Реестр!AZ1386","v":0},{"$f":"Реестр!AN1386","v":0},{"$f":"Реестр!G1386","v":0},{"$f":"IF(Реестр!#REF!=\"I\",\"Ф152\",IF(Реестр!#REF!=\"II\",\"Ф127\",IF(Реестр!#REF!=\"III\",\"Ф127\",IF(Реестр!#REF!=\"IV\",\"Ф228\",IF(Реестр!#REF!=\"V\",\"Ф127\",\"\")))))","v":{"$error":"#REF!"}},{"$f":"Реестр!J1386","v":0},0]
[{"$f":"(Реестр!B1387)+0","v":"00:00:00"},{"$f":"Реестр!AM1387","v":0},{"$f":"Реестр!AZ1387","v":0},{"$f":"Реестр!AN1387","v":0},{"$f":"Реестр!G1387","v":0},{"$f":"IF(Реестр!#REF!=\"I\",\"Ф152\",IF(Реестр!#REF!=\"II\",\"Ф127\",IF(Реестр!#REF!=\"III\",\"Ф127\",IF(Реестр!#REF!=\"IV\",\"Ф228\",IF(Реестр!#REF!=\"V\",\"Ф127\",\"\")))))","v":{"$error":"#REF!"}},{"$f":"Реестр!J1387","v":0},0]
[{"$f":"(Реестр!B1388)+0","v":"00:00:00"},{"$f":"Реестр!AM1388","v":0},{"$f":"Реестр!AZ1388","v":0},{"$f":"Реестр!AN1388","v":0},{"$f":"Реестр!G1388","v":0},{"$f":"IF(Реестр!#REF!=\"I\",\"Ф152\",IF(Реестр!#REF!=\"II\",\"Ф127\",IF(Реестр!#REF!=\"III\",\"Ф127\",IF(Реестр!#REF!=\"IV\",\"Ф228\",IF(Реестр!#REF!=\"V\",\"Ф127\",\"\")))))","v":{"$error":"#REF!"}},{"$f":"Реестр!J1388","v":0},0]
[{"$f":"(Реестр!B1389)+0","v":"00:00:00"},{"$f":"Реестр!AM1389","v":0},{"$f":"Реестр!AZ1389","v":0},{"$f":"Реестр!AN1389","v":0},{"$f":"Реестр!G1389","v":0},{"$f":"IF(Реестр!#REF!=\"I\",\"Ф152\",IF(Реестр!#REF!=\"II\",\"Ф127\",IF(Реестр!#REF!=\"III\",\"Ф127\",IF(Реестр!#REF!=\"IV\",\"Ф228\",IF(Реестр!#REF!=\"V\",\"Ф127\",\"\")))))","v":{"$error":"#REF!"}},{"$f":"Реестр!J1389","v":0},0]
[{"$f":"(Реестр!B1390)+0","v":"00:00:00"},{"$f":"Реестр!AM1390","v":0},{"$f":"Реестр!AZ1390","v":0},{"$f":"Реестр!AN1390","v":0},{"$f":"Реестр!G1390","v":0},{"$f":"IF(Реестр!#REF!=\"I\",\"Ф152\",IF(Реестр!#REF!=\"II\",\"Ф127\",IF(Реестр!#REF!=\"III\",\"Ф127\",IF(Реестр!#REF!=\"IV\",\"Ф228\",IF(Реестр!#REF!=\"V\",\"Ф127\",\"\")))))","v":{"$error":"#REF!"}},{"$f":"Реестр!J1390","v":0},0]
[{"$f":"(Реестр!B1391)+0","v":"00:00:00"},{"$f":"Реестр!AM1391","v":0},{"$f":"Реестр!AZ1391","v":0},{"$f":"Реестр!AN1391","v":0},{"$f":"Реестр!G1391","v":0},{"$f":"IF(Реестр!#REF!=\"I\",\"Ф152\",IF(Реестр!#REF!=\"II\",\"Ф127\",IF(Реестр!#REF!=\"III\",\"Ф127\",IF(Реестр!#REF!=\"IV\",\"Ф228\",IF(Реестр!#REF!=\"V\",\"Ф127\",\"\")))))","v":{"$error":"#REF!"}},{"$f":"Реестр!J1391","v":0},0]
[{"$f":"(Реестр!B1392)+0","v":"00:00:00"},{"$f":"Реестр!AM1392","v":0},{"$f":"Реестр!AZ1392","v":0},{"$f":"Реестр!AN1392","v":0},{"$f":"Реестр!G1392","v":0},{"$f":"IF(Реестр!#REF!=\"I\",\"Ф152\",IF(Реестр!#REF!=\"II\",\"Ф127\",IF(Реестр!#REF!=\"III\",\"Ф127\",IF(Реестр!#REF!=\"IV\",\"Ф228\",IF(Реестр!#REF!=\"V\",\"Ф127\",\"\")))))","v":{"$error":"#REF!"}},{"$f":"Реестр!J1392","v":0},0]
[{"$f":"(Реестр!B1393)+0","v":"00:00:00"},{"$f":"Реестр!AM1393","v":0},{"$f":"Реестр!AZ1393","v":0},{"$f":"Реестр!AN1393","v":0},{"$f":"Реестр!G1393","v":0},{"$f":"IF(Реестр!#REF!=\"I\",\"Ф152\",IF(Реестр!#REF!=\"II\",\"Ф127\",IF(Реестр!#REF!=\"III\",\"Ф127\",IF(Реестр!#REF!=\"IV\",\"Ф228\",IF(Реестр!#REF!=\"V\",\"Ф127\",\"\")))))","v":{"$error":"#REF!"}},{"$f":"Реестр!J1393","v":0},0]
[{"$f":"(Реестр!B1394)+0","v":"00:00:00"},{"$f":"Реестр!AM1394","v":0},{"$f":"Реестр!AZ1394","v":0},{"$f":"Реестр!AN1394","v":0},{"$f":"Реестр!G1394","v":0},{"$f":"IF(Реестр!#REF!=\"I\",\"Ф152\",IF(Реестр!#REF!=\"II\",\"Ф127\",IF(Реестр!#REF!=\"III\",\"Ф127\",IF(Реестр!#REF!=\"IV\",\"Ф228\",IF(Реестр!#REF!=\"V\",\"Ф127\",\"\")))))","v":{"$error":"#REF!"}},{"$f":"Реестр!J1394","v":0},0]
[{"$f":"(Реестр!B1395)+0","v":"00:00:00"},{"$f":"Реестр!AM1395","v":0},{"$f":"Реестр!AZ1395","v":0},{"$f":"Реестр!AN1395","v":0},{"$f":"Реестр!G1395","v":0},{"$f":"IF(Реестр!#REF!=\"I\",\"Ф152\",IF(Реестр!#REF!=\"II\",\"Ф127\",IF(Реестр!#REF!=\"III\",\"Ф127\",IF(Реестр!#REF!=\"IV\",\"Ф228\",IF(Реестр!#REF!=\"V\",\"Ф127\",\"\")))))","v":{"$error":"#REF!"}},{"$f":"Реестр!J1395","v":0},0]
[{"$f":"(Реестр!B1396)+0","v":"00:00:00"},{"$f":"Реестр!AM1396","v":0},{"$f":"Реестр!AZ1396","v":0},{"$f":"Реестр!AN1396","v":0},{"$f":"Реестр!G1396","v":0},{"$f":"IF(Реестр!#REF!=\"I\",\"Ф152\",IF(Реестр!#REF!=\"II\",\"Ф127\",IF(Реестр!#REF!=\"III\",\"Ф127\",IF(Реестр!#REF!=\"IV\",\"Ф228\",IF(Реестр!#REF!=\"V\",\"Ф127\",\"\")))))","v":{"$error":"#REF!"}},{"$f":"Реестр!J1396","v":0},0]
[{"$f":"(Реестр!B1397)+0","v":"00:00:00"},{"$f":"Реестр!AM1397","v":0},{"$f":"Реестр!AZ1397","v":0},{"$f":"Реестр!AN1397","v":0},{"$f":"Реестр!G1397","v":0},{"$f":"IF(Реестр!#REF!=\"I\",\"Ф152\",IF(Реестр!#REF!=\"II\",\"Ф127\",IF(Реестр!#REF!=\"III\",\"Ф127\",IF(Реестр!#REF!=\"IV\",\"Ф228\",IF(Реестр!#REF!=\"V\",\"Ф127\",\"\")))))","v":{"$error":"#REF!"}},{"$f":"Реестр!J1397","v":0},0]
[{"$f":"(Реестр!B1398)+0","v":"00:00:00"},{"$f":"Реестр!AM1398","v":0},{"$f":"Реестр!AZ1398","v":0},{"$f":"Реестр!AN1398","v":0},{"$f":"Реестр!G1398","v":0},{"$f":"IF(Реестр!#REF!=\"I\",\"Ф152\",IF(Реестр!#REF!=\"II\",\"Ф127\",IF(Реестр!#REF!=\"III\",\"Ф127\",IF(Реестр!#REF!=\"IV\",\"Ф228\",IF(Реестр!#REF!=\"V\",\"Ф127\",\"\")))))","v":{"$error":"#REF!"}},{"$f":"Реестр!J1398","v":0},0]
[{"$f":"(Реестр!B1399)+0","v":"00:00:00"},{"$f":"Реестр!AM1399","v":0},{"$f":"Реестр!AZ1399","v":0},{"$f":"Реестр!AN1399","v":0},{"$f":"Реестр!G1399","v":0},{"$f":"IF(Реестр!#REF!=\"I\",\"Ф152\",IF(Реестр!#REF!=\"II\",\"Ф127\",IF(Реестр!#REF!=\"III\",\"Ф127\",IF(Реестр!#REF!=\"IV\",\"Ф228\",IF(Реестр!#REF!=\"V\",\"Ф127\",\"\")))))","v":{"$error":"#REF!"}},{"$f":"Реестр!J1399","v":0},0]
[{"$f":"(Реестр!B1400)+0","v":"00:00:00"},{"$f":"Реестр!AM1400","v":0},{"$f":"Реестр!AZ1400","v":0},{"$f":"Реестр!AN1400","v":0},{"$f":"Реестр!G1400","v":0},{"$f":"IF(Реестр!#REF!=\"I\",\"Ф152\",IF(Реестр!#REF!=\"II\",\"Ф127\",IF(Реестр!#REF!=\"III\",\"Ф127\",IF(Реестр!#REF!=\"IV\",\"Ф228\",IF(Реестр!#REF!=\"V\",\"Ф127\",\"\")))))","v":{"$error":"#REF!"}},{"$f":"Реестр!J1400","v":0},0]
[{"$f":"(Реестр!B1401)+0","v":"00:00:00"},{"$f":"Реестр!AM1401","v":0},{"$f":"Реестр!AZ1401","v":0},{"$f":"Реестр!AN1401","v":0},{"$f":"Реестр!G1401","v":0},{"$f":"IF(Реестр!#REF!=\"I\",\"Ф152\",IF(Реестр!#REF!=\"II\",\"Ф127\",IF(Реестр!#REF!=\"III\",\"Ф127\",IF(Реестр!#REF!=\"IV\",\"Ф228\",IF(Реестр!#REF!=\"V\",\"Ф127\",\"\")))))","v":{"$error":"#REF!"}},{"$f":"Реестр!J1401","v":0},0]
[{"$f":"(Реестр!B1402)+0","v":"00:00:00"},{"$f":"Реестр!AM1402","v":0},{"$f":"Реестр!AZ1402","v":0},{"$f":"Реестр!AN1402","v":0},{"$f":"Реестр!G1402","v":0},{"$f":"IF(Реестр!#REF!=\"I\",\"Ф152\",IF(Реестр!#REF!=\"II\",\"Ф127\",IF(Реестр!#REF!=\"III\",\"Ф127\",IF(Реестр!#REF!=\"IV\",\"Ф228\",IF(Реестр!#REF!=\"V\",\"Ф127\",\"\")))))","v":{"$error":"#REF!"}},{"$f":"Реестр!J1402","v":0},0]
[{"$f":"(Реестр!B1403)+0","v":"00:00:00"},{"$f":"Реестр!AM1403","v":0},{"$f":"Реестр!AZ1403","v":0},{"$f":"Реестр!AN1403","v":0},{"$f":"Реестр!G1403","v":0},{"$f":"IF(Реестр!#REF!=\"I\",\"Ф152\",IF(Реестр!#REF!=\"II\",\"Ф127\",IF(Реестр!#REF!=\"III\",\"Ф127\",IF(Реестр!#REF!=\"IV\",\"Ф228\",IF(Реестр!#REF!=\"V\",\"Ф127\",\"\")))))","v":{"$error":"#REF!"}},{"$f":"Реестр!J1403","v":0},0]
[{"$f":"(Реестр!B1404)+0","v":"00:00:00"},{"$f":"Реестр!AM1404","v":0},{"$f":"Реестр!AZ1404","v":0},{"$f":"Реестр!AN1404","v":0},{"$f":"Реестр!G1404","v":0},{"$f":"IF(Реестр!#REF!=\"I\",\"Ф152\",IF(Реестр!#REF!=\"II\",\"Ф127\",IF(Реестр!#REF!=\"III\",\"Ф127\",IF(Реестр!#REF!=\"IV\",\"Ф228\",IF(Реестр!#REF!=\"V\",\"Ф127\",\"\")))))","v":{"$error":"#REF!"}},{"$f":"Реестр!J1404","v":0},0]
[{"$f":"(Реестр!B1405)+0","v":"00:00:00"},{"$f":"Реестр!AM1405","v":0},{"$f":"Реестр!AZ1405","v":0},{"$f":"Реестр!AN1405","v":0},{"$f":"Реестр!G1405","v":0},{"$f":"IF(Реестр!#REF!=\"I\",\"Ф152\",IF(Реестр!#REF!=\"II\",\"Ф127\",IF(Реестр!#REF!=\"III\",\"Ф127\",IF(Реестр!#REF!=\"IV\",\"Ф228\",IF(Реестр!#REF!=\"V\",\"Ф127\",\"\")))))","v":{"$error":"#REF!"}},{"$f":"Реестр!J1405","v":0},0]
[{"$f":"(Реестр!B1406)+0","v":"00:00:00"},{"$f":"Реестр!AM1406","v":0},{"$f":"Реестр!AZ1406","v":0},{"$f":"Реестр!AN1406","v":0},{"$f":"Реестр!G1406","v":0},{"$f":"IF(Реестр!#REF!=\"I\",\"Ф152\",IF(Реестр!#REF!=\"II\",\"Ф127\",IF(Реестр!#REF!=\"III\",\"Ф127\",IF(Реестр!#REF!=\"IV\",\"Ф228\",IF(Реестр!#REF!=\"V\",\"Ф127\",\"\")))))","v":{"$error":"#REF!"}},{"$f":"Реестр!J1406","v":0},0]
[{"$f":"(Реестр!B1407)+0","v":"00:00:00"},{"$f":"Реестр!AM1407","v":0},{"$f":"Реестр!AZ1407","v":0},{"$f":"Реестр!AN1407","v":0},{"$f":"Реестр!G1407","v":0},{"$f":"IF(Реестр!#REF!=\"I\",\"Ф152\",IF(Реестр!#REF!=\"II\",\"Ф127\",IF(Реестр!#REF!=\"III\",\"Ф127\",IF(Реестр!#REF!=\"IV\",\"Ф228\",IF(Реестр!#REF!=\"V\",\"Ф127\",\"\")))))","v":{"$error":"#REF!"}},{"$f":"Реестр!J1407","v":0},{"$f":"E841*G841","v":0}]
[{"$f":"(Реестр!B1408)+0","v":"00:00:00"},{"$f":"Реестр!AM1408","v":0},{"$f":"Реестр!AZ1408","v":0},{"$f":"Реестр!AN1408","v":0},{"$f":"Реестр!G1408","v":0},{"$f":"IF(Реестр!#REF!=\"I\",\"Ф152\",IF(Реестр!#REF!=\"II\",\"Ф127\",IF(Реестр!#REF!=\"III\",\"Ф127\",IF(Реестр!#REF!=\"IV\",\"Ф228\",IF(Реестр!#REF!=\"V\",\"Ф127\",\"\")))))","v":{"$error":"#REF!"}},{"$f":"Реестр!J1408","v":0},0]
[{"$f":"(Реестр!B1409)+0","v":"00:00:00"},{"$f":"Реестр!AM1409","v":0},{"$f":"Реестр!AZ1409","v":0},{"$f":"Реестр!AN1409","v":0},{"$f":"Реестр!G1409","v":0},{"$f":"IF(Реестр!#REF!=\"I\",\"Ф152\",IF(Реестр!#REF!=\"II\",\"Ф127\",IF(Реестр!#REF!=\"III\",\"Ф127\",IF(Реестр!#REF!=\"IV\",\"Ф228\",IF(Реестр!#REF!=\"V\",\"Ф127\",\"\")))))","v":{"$error":"#REF!"}},{"$f":"Реестр!J1409","v":0},0]
[{"$f":"(Реестр!B1410)+0","v":"00:00:00"},{"$f":"Реестр!AM1410","v":0},{"$f":"Реестр!AZ1410","v":0},{"$f":"Реестр!AN1410","v":0},{"$f":"Реестр!G1410","v":0},{"$f":"IF(Реестр!#REF!=\"I\",\"Ф152\",IF(Реестр!#REF!=\"II\",\"Ф127\",IF(Реестр!#REF!=\"III\",\"Ф127\",IF(Реестр!#REF!=\"IV\",\"Ф228\",IF(Реестр!#REF!=\"V\",\"Ф127\",\"\")))))","v":{"$error":"#REF!"}},{"$f":"Реестр!J1410","v":0},0]
[{"$f":"(Реестр!B1411)+0","v":"00:00:00"},{"$f":"Реестр!AM1411","v":0},{"$f":"Реестр!AZ1411","v":0},{"$f":"Реестр!AN1411","v":0},{"$f":"Реестр!G1411","v":0},{"$f":"IF(Реестр!#REF!=\"I\",\"Ф152\",IF(Реестр!#REF!=\"II\",\"Ф127\",IF(Реестр!#REF!=\"III\",\"Ф127\",IF(Реестр!#REF!=\"IV\",\"Ф228\",IF(Реестр!#REF!=\"V\",\"Ф127\",\"\")))))","v":{"$error":"#REF!"}},{"$f":"Реестр!J1411","v":0},0]
[{"$f":"(Реестр!B1412)+0","v":"00:00:00"},{"$f":"Реестр!AM1412","v":0},{"$f":"Реестр!AZ1412","v":0},{"$f":"Реестр!AN1412","v":0},{"$f":"Реестр!G1412","v":0},{"$f":"IF(Реестр!#REF!=\"I\",\"Ф152\",IF(Реестр!#REF!=\"II\",\"Ф127\",IF(Реестр!#REF!=\"III\",\"Ф127\",IF(Реестр!#REF!=\"IV\",\"Ф228\",IF(Реестр!#REF!=\"V\",\"Ф127\",\"\")))))","v":{"$error":"#REF!"}},{"$f":"Реестр!J1412","v":0},0]
[{"$f":"(Реестр!B1413)+0","v":"00:00:00"},{"$f":"Реестр!AM1413","v":0},{"$f":"Реестр!AZ1413","v":0},{"$f":"Реестр!AN1413","v":0},{"$f":"Реестр!G1413","v":0},{"$f":"IF(Реестр!#REF!=\"I\",\"Ф152\",IF(Реестр!#REF!=\"II\",\"Ф127\",IF(Реестр!#REF!=\"III\",\"Ф127\",IF(Реестр!#REF!=\"IV\",\"Ф228\",IF(Реестр!#REF!=\"V\",\"Ф127\",\"\")))))","v":{"$error":"#REF!"}},{"$f":"Реестр!J1413","v":0},0]
[{"$f":"(Реестр!B1414)+0","v":"00:00:00"},{"$f":"Реестр!AM1414","v":0},{"$f":"Реестр!AZ1414","v":0},{"$f":"Реестр!AN1414","v":0},{"$f":"Реестр!G1414","v":0},{"$f":"IF(Реестр!#REF!=\"I\",\"Ф152\",IF(Реестр!#REF!=\"II\",\"Ф127\",IF(Реестр!#REF!=\"III\",\"Ф127\",IF(Реестр!#REF!=\"IV\",\"Ф228\",IF(Реестр!#REF!=\"V\",\"Ф127\",\"\")))))","v":{"$error":"#REF!"}},{"$f":"Реестр!J1414","v":0},0]
[{"$f":"(Реестр!B1415)+0","v":"00:00:00"},{"$f":"Реестр!AM1415","v":0},{"$f":"Реестр!AZ1415","v":0},{"$f":"Реестр!AN1415","v":0},{"$f":"Реестр!G1415","v":0},{"$f":"IF(Реестр!#REF!=\"I\",\"Ф152\",IF(Реестр!#REF!=\"II\",\"Ф127\",IF(Реестр!#REF!=\"III\",\"Ф127\",IF(Реестр!#REF!=\"IV\",\"Ф228\",IF(Реестр!#REF!=\"V\",\"Ф127\",\"\")))))","v":{"$error":"#REF!"}},{"$f":"Реестр!J1415","v":0},0]
[{"$f":"(Реестр!B1416)+0","v":"00:00:00"},{"$f":"Реестр!AM1416","v":0},{"$f":"Реестр!AZ1416","v":0},{"$f":"Реестр!AN1416","v":0},{"$f":"Реестр!G1416","v":0},{"$f":"IF(Реестр!#REF!=\"I\",\"Ф152\",IF(Реестр!#REF!=\"II\",\"Ф127\",IF(Реестр!#REF!=\"III\",\"Ф127\",IF(Реестр!#REF!=\"IV\",\"Ф228\",IF(Реестр!#REF!=\"V\",\"Ф127\",\"\")))))","v":{"$error":"#REF!"}},{"$f":"Реестр!J1416","v":0},0]
[{"$f":"(Реестр!B1417)+0","v":"00:00:00"},{"$f":"Реестр!AM1417","v":0},{"$f":"Реестр!AZ1417","v":0},{"$f":"Реестр!AN1417","v":0},{"$f":"Реестр!G1417","v":0},{"$f":"IF(Реестр!#REF!=\"I\",\"Ф152\",IF(Реестр!#REF!=\"II\",\"Ф127\",IF(Реестр!#REF!=\"III\",\"Ф127\",IF(Реестр!#REF!=\"IV\",\"Ф228\",IF(Реестр!#REF!=\"V\",\"Ф127\",\"\")))))","v":{"$error":"#REF!"}},{"$f":"Реестр!J1417","v":0},0]
[{"$f":"(Реестр!B1418)+0","v":"00:00:00"},{"$f":"Реестр!AM1418","v":0},{"$f":"Реестр!AZ1418","v":0},{"$f":"Реестр!AN1418","v":0},{"$f":"Реестр!G1418","v":0},{"$f":"IF(Реестр!#REF!=\"I\",\"Ф152\",IF(Реестр!#REF!=\"II\",\"Ф127\",IF(Реестр!#REF!=\"III\",\"Ф127\",IF(Реестр!#REF!=\"IV\",\"Ф228\",IF(Реестр!#REF!=\"V\",\"Ф127\",\"\")))))","v":{"$error":"#REF!"}},{"$f":"Реестр!J1418","v":0},0]
[{"$f":"(Реестр!B1419)+0","v":"00:00:00"},{"$f":"Реестр!AM1419","v":0},{"$f":"Реестр!AZ1419","v":0},{"$f":"Реестр!AN1419","v":0},{"$f":"Реестр!G1419","v":0},{"$f":"IF(Реестр!#REF!=\"I\",\"Ф152\",IF(Реестр!#REF!=\"II\",\"Ф127\",IF(Реестр!#REF!=\"III\",\"Ф127\",IF(Реестр!#REF!=\"IV\",\"Ф228\",IF(Реестр!#REF!=\"V\",\"Ф127\",\"\")))))","v":{"$error":"#REF!"}},{"$f":"Реестр!J1419","v":0},0]
[{"$f":"(Реестр!B1420)+0","v":"00:00:00"},{"$f":"Реестр!AM1420","v":0},{"$f":"Реестр!AZ1420","v":0},{"$f":"Реестр!AN1420","v":0},{"$f":"Реестр!G1420","v":0},{"$f":"IF(Реестр!#REF!=\"I\",\"Ф152\",IF(Реестр!#REF!=\"II\",\"Ф127\",IF(Реестр!#REF!=\"III\",\"Ф127\",IF(Реестр!#REF!=\"IV\",\"Ф228\",IF(Реестр!#REF!=\"V\",\"Ф127\",\"\")))))","v":{"$error":"#REF!"}},{"$f":"Реестр!J1420","v":0},0]
[{"$f":"(Реестр!B1421)+0","v":"00:00:00"},{"$f":"Реестр!AM1421","v":0},{"$f":"Реестр!AZ1421","v":0},{"$f":"Реестр!AN1421","v":0},{"$f":"Реестр!G1421","v":0},{"$f":"IF(Реестр!#REF!=\"I\",\"Ф152\",IF(Реестр!#REF!=\"II\",\"Ф127\",IF(Реестр!#REF!=\"III\",\"Ф127\",IF(Реестр!#REF!=\"IV\",\"Ф228\",IF(Реестр!#REF!=\"V\",\"Ф127\",\"\")))))","v":{"$error":"#REF!"}},{"$f":"Реестр!J1421","v":0},0]
[{"$f":"(Реестр!B1422)+0","v":"00:00:00"},{"$f":"Реестр!AM1422","v":0},{"$f":"Реестр!AZ1422","v":0},{"$f":"Реестр!AN1422","v":0},{"$f":"Реестр!G1422","v":0},{"$f":"IF(Реестр!#REF!=\"I\",\"Ф152\",IF(Реестр!#REF!=\"II\",\"Ф127\",IF(Реестр!#REF!=\"III\",\"Ф127\",IF(Реестр!#REF!=\"IV\",\"Ф228\",IF(Реестр!#REF!=\"V\",\"Ф127\",\"\")))))","v":{"$error":"#REF!"}},{"$f":"Реестр!J1422","v":0},0]
[{"$f":"(Реестр!B1423)+0","v":"00:00:00"},{"$f":"Реестр!AM1423","v":0},{"$f":"Реестр!AZ1423","v":0},{"$f":"Реестр!AN1423","v":0},{"$f":"Реестр!G1423","v":0},{"$f":"IF(Реестр!#REF!=\"I\",\"Ф152\",IF(Реестр!#REF!=\"II\",\"Ф127\",IF(Реестр!#REF!=\"III\",\"Ф127\",IF(Реестр!#REF!=\"IV\",\"Ф228\",IF(Реестр!#REF!=\"V\",\"Ф127\",\"\")))))","v":{"$error":"#REF!"}},{"$f":"Реестр!J1423","v":0},0]
[{"$f":"(Реестр!B1424)+0","v":"00:00:00"},{"$f":"Реестр!AM1424","v":0},{"$f":"Реестр!AZ1424","v":0},{"$f":"Реестр!AN1424","v":0},{"$f":"Реестр!G1424","v":0},{"$f":"IF(Реестр!#REF!=\"I\",\"Ф152\",IF(Реестр!#REF!=\"II\",\"Ф127\",IF(Реестр!#REF!=\"III\",\"Ф127\",IF(Реестр!#REF!=\"IV\",\"Ф228\",IF(Реестр!#REF!=\"V\",\"Ф127\",\"\")))))","v":{"$error":"#REF!"}},{"$f":"Реестр!J1424","v":0},0]
[{"$f":"(Реестр!B1425)+0","v":"00:00:00"},{"$f":"Реестр!AM1425","v":0},{"$f":"Реестр!AZ1425","v":0},{"$f":"Реестр!AN1425","v":0},{"$f":"Реестр!G1425","v":0},{"$f":"IF(Реестр!#REF!=\"I\",\"Ф152\",IF(Реестр!#REF!=\"II\",\"Ф127\",IF(Реестр!#REF!=\"III\",\"Ф127\",IF(Реестр!#REF!=\"IV\",\"Ф228\",IF(Реестр!#REF!=\"V\",\"Ф127\",\"\")))))","v":{"$error":"#REF!"}},{"$f":"Реестр!J1425","v":0},0]
[{"$f":"(Реестр!B1426)+0","v":"00:00:00"},{"$f":"Реестр!AM1426","v":0},{"$f":"Реестр!AZ1426","v":0},{"$f":"Реестр!AN1426","v":0},{"$f":"Реестр!G1426","v":0},{"$f":"IF(Реестр!#REF!=\"I\",\"Ф152\",IF(Реестр!#REF!=\"II\",\"Ф127\",IF(Реестр!#REF!=\"III\",\"Ф127\",IF(Реестр!#REF!=\"IV\",\"Ф228\",IF(Реестр!#REF!=\"V\",\"Ф127\",\"\")))))","v":{"$error":"#REF!"}},{"$f":"Реестр!J1426","v":0},0]
[{"$f":"(Реестр!B1427)+0","v":"00:00:00"},{"$f":"Реестр!AM1427","v":0},{"$f":"Реестр!AZ1427","v":0},{"$f":"Реестр!AN1427","v":0},{"$f":"Реестр!G1427","v":0},{"$f":"IF(Реестр!#REF!=\"I\",\"Ф152\",IF(Реестр!#REF!=\"II\",\"Ф127\",IF(Реестр!#REF!=\"III\",\"Ф127\",IF(Реестр!#REF!=\"IV\",\"Ф228\",IF(Реестр!#REF!=\"V\",\"Ф127\",\"\")))))","v":{"$error":"#REF!"}},{"$f":"Реестр!J1427","v":0},0]
[{"$f":"(Реестр!B1428)+0","v":"00:00:00"},{"$f":"Реестр!AM1428","v":0},{"$f":"Реестр!AZ1428","v":0},{"$f":"Реестр!AN1428","v":0},{"$f":"Реестр!G1428","v":0},{"$f":"IF(Реестр!#REF!=\"I\",\"Ф152\",IF(Реестр!#REF!=\"II\",\"Ф127\",IF(Реестр!#REF!=\"III\",\"Ф127\",IF(Реестр!#REF!=\"IV\",\"Ф228\",IF(Реестр!#REF!=\"V\",\"Ф127\",\"\")))))","v":{"$error":"#REF!"}},{"$f":"Реестр!J1428","v":0},0]
[{"$f":"(Реестр!B1429)+0","v":"00:00:00"},{"$f":"Реестр!AM1429","v":0},{"$f":"Реестр!AZ1429","v":0},{"$f":"Реестр!AN1429","v":0},{"$f":"Реестр!G1429","v":0},{"$f":"IF(Реестр!#REF!=\"I\",\"Ф152\",IF(Реестр!#REF!=\"II\",\"Ф127\",IF(Реестр!#REF!=\"III\",\"Ф127\",IF(Реестр!#REF!=\"IV\",\"Ф228\",IF(Реестр!#REF!=\"V\",\"Ф127\",\"\")))))","v":{"$error":"#REF!"}},{"$f":"Реестр!J1429","v":0},0]
[{"$f":"(Реестр!B1430)+0","v":"00:00:00"},{"$f":"Реестр!AM1430","v":0},{"$f":"Реестр!AZ1430","v":0},{"$f":"Реестр!AN1430","v":0},{"$f":"Реестр!G1430","v":0},{"$f":"IF(Реестр!#REF!=\"I\",\"Ф152\",IF(Реестр!#REF!=\"II\",\"Ф127\",IF(Реестр!#REF!=\"III\",\"Ф127\",IF(Реестр!#REF!=\"IV\",\"Ф228\",IF(Реестр!#REF!=\"V\",\"Ф127\",\"\")))))","v":{"$error":"#REF!"}},{"$f":"Реестр!J1430","v":0},0]
[{"$f":"(Реестр!B1431)+0","v":"00:00:00"},{"$f":"Реестр!AM1431","v":0},{"$f":"Реестр!AZ1431","v":0},{"$f":"Реестр!AN1431","v":0},{"$f":"Реестр!G1431","v":0},{"$f":"IF(Реестр!#REF!=\"I\",\"Ф152\",IF(Реестр!#REF!=\"II\",\"Ф127\",IF(Реестр!#REF!=\"III\",\"Ф127\",IF(Реестр!#REF!=\"IV\",\"Ф228\",IF(Реестр!#REF!=\"V\",\"Ф127\",\"\")))))","v":{"$error":"#REF!"}},{"$f":"Реестр!J1431","v":0},0]
[{"$f":"(Реестр!B1432)+0","v":"00:00:00"},{"$f":"Реестр!AM1432","v":0},{"$f":"Реестр!AZ1432","v":0},{"$f":"Реестр!AN1432","v":0},{"$f":"Реестр!G1432","v":0},{"$f":"IF(Реестр!#REF!=\"I\",\"Ф152\",IF(Реестр!#REF!=\"II\",\"Ф127\",IF(Реестр!#REF!=\"III\",\"Ф127\",IF(Реестр!#REF!=\"IV\",\"Ф228\",IF(Реестр!#REF!=\"V\",\"Ф127\",\"\")))))","v":{"$error":"#REF!"}},{"$f":"Реестр!J1432","v":0},0]
[{"$f":"(Реестр!B1433)+0","v":"00:00:00"},{"$f":"Реестр!AM1433","v":0},{"$f":"Реестр!AZ1433","v":0},{"$f":"Реестр!AN1433","v":0},{"$f":"Реестр!G1433","v":0},{"$f":"IF(Реестр!#REF!=\"I\",\"Ф152\",IF(Реестр!#REF!=\"II\",\"Ф127\",IF(Реестр!#REF!=\"III\",\"Ф127\",IF(Реестр!#REF!=\"IV\",\"Ф228\",IF(Реестр!#REF!=\"V\",\"Ф127\",\"\")))))","v":{"$error":"#REF!"}},{"$f":"Реестр!J1433","v":0},0]
[{"$f":"(Реестр!B1434)+0","v":"00:00:00"},{"$f":"Реестр!AM1434","v":0},{"$f":"Реестр!AZ1434","v":0},{"$f":"Реестр!AN1434","v":0},{"$f":"Реестр!G1434","v":0},{"$f":"IF(Реестр!#REF!=\"I\",\"Ф152\",IF(Реестр!#REF!=\"II\",\"Ф127\",IF(Реестр!#REF!=\"III\",\"Ф127\",IF(Реестр!#REF!=\"IV\",\"Ф228\",IF(Реестр!#REF!=\"V\",\"Ф127\",\"\")))))","v":{"$error":"#REF!"}},{"$f":"Реестр!J1434","v":0},0]
[{"$f":"(Реестр!B1435)+0","v":"00:00:00"},{"$f":"Реестр!AM1435","v":0},{"$f":"Реестр!AZ1435","v":0},{"$f":"Реестр!AN1435","v":0},{"$f":"Реестр!G1435","v":0},{"$f":"IF(Реестр!#REF!=\"I\",\"Ф152\",IF(Реестр!#REF!=\"II\",\"Ф127\",IF(Реестр!#REF!=\"III\",\"Ф127\",IF(Реестр!#REF!=\"IV\",\"Ф228\",IF(Реестр!#REF!=\"V\",\"Ф127\",\"\")))))","v":{"$error":"#REF!"}},{"$f":"Реестр!J1435","v":0},0]
[{"$f":"(Реестр!B1436)+0","v":"00:00:00"},{"$f":"Реестр!AM1436","v":0},{"$f":"Реестр!AZ1436","v":0},{"$f":"Реестр!AN1436","v":0},{"$f":"Реестр!G1436","v":0},{"$f":"IF(Реестр!#REF!=\"I\",\"Ф152\",IF(Реестр!#REF!=\"II\",\"Ф127\",IF(Реестр!#REF!=\"III\",\"Ф127\",IF(Реестр!#REF!=\"IV\",\"Ф228\",IF(Реестр!#REF!=\"V\",\"Ф127\",\"\")))))","v":{"$error":"#REF!"}},{"$f":"Реестр!J1436","v":0},0]
[{"$f":"(Реестр!B1437)+0","v":"00:00:00"},{"$f":"Реестр!AM1437","v":0},{"$f":"Реестр!AZ1437","v":0},{"$f":"Реестр!AN1437","v":0},{"$f":"Реестр!G1437","v":0},{"$f":"IF(Реестр!#REF!=\"I\",\"Ф152\",IF(Реестр!#REF!=\"II\",\"Ф127\",IF(Реестр!#REF!=\"III\",\"Ф127\",IF(Реестр!#REF!=\"IV\",\"Ф228\",IF(Реестр!#REF!=\"V\",\"Ф127\",\"\")))))","v":{"$error":"#REF!"}},{"$f":"Реестр!J1437","v":0},0]
[{"$f":"(Реестр!B1438)+0","v":"00:00:00"},{"$f":"Реестр!AM1438","v":0},{"$f":"Реестр!AZ1438","v":0},{"$f":"Реестр!AN1438","v":0},{"$f":"Реестр!G1438","v":0},{"$f":"IF(Реестр!#REF!=\"I\",\"Ф152\",IF(Реестр!#REF!=\"II\",\"Ф127\",IF(Реестр!#REF!=\"III\",\"Ф127\",IF(Реестр!#REF!=\"IV\",\"Ф228\",IF(Реестр!#REF!=\"V\",\"Ф127\",\"\")))))","v":{"$error":"#REF!"}},{"$f":"Реестр!J1438","v":0},0]
[{"$f":"(Реестр!B1439)+0","v":"00:00:00"},{"$f":"Реестр!AM1439","v":0},{"$f":"Реестр!AZ1439","v":0},{"$f":"Реестр!AN1439","v":0},{"$f":"Реестр!G1439","v":0},{"$f":"IF(Реестр!#REF!=\"I\",\"Ф152\",IF(Реестр!#REF!=\"II\",\"Ф127\",IF(Реестр!#REF!=\"III\",\"Ф127\",IF(Реестр!#REF!=\"IV\",\"Ф228\",IF(Реестр!#REF!=\"V\",\"Ф127\",\"\")))))","v":{"$error":"#REF!"}},{"$f":"Реестр!J1439","v":0},0]
[{"$f":"(Реестр!B1440)+0","v":"00:00:00"},{"$f":"Реестр!AM1440","v":0},{"$f":"Реестр!AZ1440","v":0},{"$f":"Реестр!AN1440","v":0},{"$f":"Реестр!G1440","v":0},{"$f":"IF(Реестр!#REF!=\"I\",\"Ф152\",IF(Реестр!#REF!=\"II\",\"Ф127\",IF(Реестр!#REF!=\"III\",\"Ф127\",IF(Реестр!#REF!=\"IV\",\"Ф228\",IF(Реестр!#REF!=\"V\",\"Ф127\",\"\")))))","v":{"$error":"#REF!"}},{"$f":"Реестр!J1440","v":0},0]
[{"$f":"(Реестр!B1441)+0","v":"00:00:00"},{"$f":"Реестр!AM1441","v":0},{"$f":"Реестр!AZ1441","v":0},{"$f":"Реестр!AN1441","v":0},{"$f":"Реестр!G1441","v":0},{"$f":"IF(Реестр!#REF!=\"I\",\"Ф152\",IF(Реестр!#REF!=\"II\",\"Ф127\",IF(Реестр!#REF!=\"III\",\"Ф127\",IF(Реестр!#REF!=\"IV\",\"Ф228\",IF(Реестр!#REF!=\"V\",\"Ф127\",\"\")))))","v":{"$error":"#REF!"}},{"$f":"Реестр!J1441","v":0},0]
[{"$f":"(Реестр!B1442)+0","v":"00:00:00"},{"$f":"Реестр!AM1442","v":0},{"$f":"Реестр!AZ1442","v":0},{"$f":"Реестр!AN1442","v":0},{"$f":"Реестр!G1442","v":0},{"$f":"IF(Реестр!#REF!=\"I\",\"Ф152\",IF(Реестр!#REF!=\"II\",\"Ф127\",IF(Реестр!#REF!=\"III\",\"Ф127\",IF(Реестр!#REF!=\"IV\",\"Ф228\",IF(Реестр!#REF!=\"V\",\"Ф127\",\"\")))))","v":{"$error":"#REF!"}},{"$f":"Реестр!J1442","v":0},0]
[{"$f":"(Реестр!B1443)+0","v":"00:00:00"},{"$f":"Реестр!AM1443","v":0},{"$f":"Реестр!AZ1443","v":0},{"$f":"Реестр!AN1443","v":0},{"$f":"Реестр!G1443","v":0},{"$f":"IF(Реестр!#REF!=\"I\",\"Ф152\",IF(Реестр!#REF!=\"II\",\"Ф127\",IF(Реестр!#REF!=\"III\",\"Ф127\",IF(Реестр!#REF!=\"IV\",\"Ф228\",IF(Реестр!#REF!=\"V\",\"Ф127\",\"\")))))","v":{"$error":"#REF!"}},{"$f":"Реестр!J1443","v":0},0]
[{"$f":"(Реестр!B1444)+0","v":"00:00:00"},{"$f":"Реестр!AM1444","v":0},{"$f":"Реестр!AZ1444","v":0},{"$f":"Реестр!AN1444","v":0},{"$f":"Реестр!G1444","v":0},{"$f":"IF(Реестр!#REF!=\"I\",\"Ф152\",IF(Реестр!#REF!=\"II\",\"Ф127\",IF(Реестр!#REF!=\"III\",\"Ф127\",IF(Реестр!#REF!=\"IV\",\"Ф228\",IF(Реестр!#REF!=\"V\",\"Ф127\",\"\")))))","v":{"$error":"#REF!"}},{"$f":"Реестр!J1444","v":0},0]
[{"$f":"(Реестр!B1445)+0","v":"00:00:00"},{"$f":"Реестр!AM1445","v":0},{"$f":"Реестр!AZ1445","v":0},{"$f":"Реестр!AN1445","v":0},{"$f":"Реестр!G1445","v":0},{"$f":"IF(Реестр!#REF!=\"I\",\"Ф152\",IF(Реестр!#REF!=\"II\",\"Ф127\",IF(Реестр!#REF!=\"III\",\"Ф127\",IF(Реестр!#REF!=\"IV\",\"Ф228\",IF(Реестр!#REF!=\"V\",\"Ф127\",\"\")))))","v":{"$error":"#REF!"}},{"$f":"Реестр!J1445","v":0},0]
[{"$f":"(Реестр!B1446)+0","v":"00:00:00"},{"$f":"Реестр!AM1446","v":0},{"$f":"Реестр!AZ1446","v":0},{"$f":"Реестр!AN1446","v":0},{"$f":"Реестр!G1446","v":0},{"$f":"IF(Реестр!#REF!=\"I\",\"Ф152\",IF(Реестр!#REF!=\"II\",\"Ф127\",IF(Реестр!#REF!=\"III\",\"Ф127\",IF(Реестр!#REF!=\"IV\",\"Ф228\",IF(Реестр!#REF!=\"V\",\"Ф127\",\"\")))))","v":{"$error":"#REF!"}},{"$f":"Реестр!J1446","v":0},0]
[{"$f":"(Реестр!B1447)+0","v":"00:00:00"},{"$f":"Реестр!AM1447","v":0},{"$f":"Реестр!AZ1447","v":0},{"$f":"Реестр!AN1447","v":0},{"$f":"Реестр!G1447","v":0},{"$f":"IF(Реестр!#REF!=\"I\",\"Ф152\",IF(Реестр!#REF!=\"II\",\"Ф127\",IF(Реестр!#REF!=\"III\",\"Ф127\",IF(Реестр!#REF!=\"IV\",\"Ф228\",IF(Реестр!#REF!=\"V\",\"Ф127\",\"\")))))","v":{"$error":"#REF!"}},{"$f":"Реестр!J1447","v":0},0]
[{"$f":"(Реестр!B1448)+0","v":"00:00:00"},{"$f":"Реестр!AM1448","v":0},{"$f":"Реестр!AZ1448","v":0},{"$f":"Реестр!AN1448","v":0},{"$f":"Реестр!G1448","v":0},{"$f":"IF(Реестр!#REF!=\"I\",\"Ф152\",IF(Реестр!#REF!=\"II\",\"Ф127\",IF(Реестр!#REF!=\"III\",\"Ф127\",IF(Реестр!#REF!=\"IV\",\"Ф228\",IF(Реестр!#REF!=\"V\",\"Ф127\",\"\")))))","v":{"$error":"#REF!"}},{"$f":"Реестр!J1448","v":0},0]
[{"$f":"(Реестр!B1449)+0","v":"00:00:00"},{"$f":"Реестр!AM1449","v":0},{"$f":"Реестр!AZ1449","v":0},{"$f":"Реестр!AN1449","v":0},{"$f":"Реестр!G1449","v":0},{"$f":"IF(Реестр!#REF!=\"I\",\"Ф152\",IF(Реестр!#REF!=\"II\",\"Ф127\",IF(Реестр!#REF!=\"III\",\"Ф127\",IF(Реестр!#REF!=\"IV\",\"Ф228\",IF(Реестр!#REF!=\"V\",\"Ф127\",\"\")))))","v":{"$error":"#REF!"}},{"$f":"Реестр!J1449","v":0},0]
[{"$f":"(Реестр!B1450)+0","v":"00:00:00"},{"$f":"Реестр!AM1450","v":0},{"$f":"Реестр!AZ1450","v":0},{"$f":"Реестр!AN1450","v":0},{"$f":"Реестр!G1450","v":0},{"$f":"IF(Реестр!#REF!=\"I\",\"Ф152\",IF(Реестр!#REF!=\"II\",\"Ф127\",IF(Реестр!#REF!=\"III\",\"Ф127\",IF(Реестр!#REF!=\"IV\",\"Ф228\",IF(Реестр!#REF!=\"V\",\"Ф127\",\"\")))))","v":{"$error":"#REF!"}},{"$f":"Реестр!J1450","v":0},0]
[{"$f":"(Реестр!B1451)+0","v":"00:00:00"},{"$f":"Реестр!AM1451","v":0},{"$f":"Реестр!AZ1451","v":0},{"$f":"Реестр!AN1451","v":0},{"$f":"Реестр!G1451","v":0},{"$f":"IF(Реестр!#REF!=\"I\",\"Ф152\",IF(Реестр!#REF!=\"II\",\"Ф127\",IF(Реестр!#REF!=\"III\",\"Ф127\",IF(Реестр!#REF!=\"IV\",\"Ф228\",IF(Реестр!#REF!=\"V\",\"Ф127\",\"\")))))","v":{"$error":"#REF!"}},{"$f":"Реестр!J1451","v":0},0]
[{"$f":"(Реестр!B1452)+0","v":"00:00:00"},{"$f":"Реестр!AM1452","v":0},{"$f":"Реестр!AZ1452","v":0},{"$f":"Реестр!AN1452","v":0},{"$f":"Реестр!G1452","v":0},{"$f":"IF(Реестр!#REF!=\"I\",\"Ф152\",IF(Реестр!#REF!=\"II\",\"Ф127\",IF(Реестр!#REF!=\"III\",\"Ф127\",IF(Реестр!#REF!=\"IV\",\"Ф228\",IF(Реестр!#REF!=\"V\",\"Ф127\",\"\")))))","v":{"$error":"#REF!"}},{"$f":"Реестр!J1452","v":0},0]
[{"$f":"(Реестр!B1453)+0","v":"00:00:00"},{"$f":"Реестр!AM1453","v":0},{"$f":"Реестр!AZ1453","v":0},{"$f":"Реестр!AN1453","v":0},{"$f":"Реестр!G1453","v":0},{"$f":"IF(Реестр!#REF!=\"I\",\"Ф152\",IF(Реестр!#REF!=\"II\",\"Ф127\",IF(Реестр!#REF!=\"III\",\"Ф127\",IF(Реестр!#REF!=\"IV\",\"Ф228\",IF(Реестр!#REF!=\"V\",\"Ф127\",\"\")))))","v":{"$error":"#REF!"}},{"$f":"Реестр!J1453","v":0},0]
[{"$f":"(Реестр!B1454)+0","v":"00:00:00"},{"$f":"Реестр!AM1454","v":0},{"$f":"Реестр!AZ1454","v":0},{"$f":"Реестр!AN1454","v":0},{"$f":"Реестр!G1454","v":0},{"$f":"IF(Реестр!#REF!=\"I\",\"Ф152\",IF(Реестр!#REF!=\"II\",\"Ф127\",IF(Реестр!#REF!=\"III\",\"Ф127\",IF(Реестр!#REF!=\"IV\",\"Ф228\",IF(Реестр!#REF!=\"V\",\"Ф127\",\"\")))))","v":{"$error":"#REF!"}},{"$f":"Реестр!J1454","v":0},0]
[{"$f":"(Реестр!B1455)+0","v":"00:00:00"},{"$f":"Реестр!AM1455","v":0},{"$f":"Реестр!AZ1455","v":0},{"$f":"Реестр!AN1455","v":0},{"$f":"Реестр!G1455","v":0},{"$f":"IF(Реестр!#REF!=\"I\",\"Ф152\",IF(Реестр!#REF!=\"II\",\"Ф127\",IF(Реестр!#REF!=\"III\",\"Ф127\",IF(Реестр!#REF!=\"IV\",\"Ф228\",IF(Реестр!#REF!=\"V\",\"Ф127\",\"\")))))","v":{"$error":"#REF!"}},{"$f":"Реестр!J1455","v":0},0]
[{"$f":"(Реестр!B1456)+0","v":"00:00:00"},{"$f":"Реестр!AM1456","v":0},{"$f":"Реестр!AZ1456","v":0},{"$f":"Реестр!AN1456","v":0},{"$f":"Реестр!G1456","v":0},{"$f":"IF(Реестр!#REF!=\"I\",\"Ф152\",IF(Реестр!#REF!=\"II\",\"Ф127\",IF(Реестр!#REF!=\"III\",\"Ф127\",IF(Реестр!#REF!=\"IV\",\"Ф228\",IF(Реестр!#REF!=\"V\",\"Ф127\",\"\")))))","v":{"$error":"#REF!"}},{"$f":"Реестр!J1456","v":0},0]
[{"$f":"(Реестр!B1457)+0","v":"00:00:00"},{"$f":"Реестр!AM1457","v":0},{"$f":"Реестр!AZ1457","v":0},{"$f":"Реестр!AN1457","v":0},{"$f":"Реестр!G1457","v":0},{"$f":"IF(Реестр!#REF!=\"I\",\"Ф152\",IF(Реестр!#REF!=\"II\",\"Ф127\",IF(Реестр!#REF!=\"III\",\"Ф127\",IF(Реестр!#REF!=\"IV\",\"Ф228\",IF(Реестр!#REF!=\"V\",\"Ф127\",\"\")))))","v":{"$error":"#REF!"}},{"$f":"Реестр!J1457","v":0},0]
[{"$f":"(Реестр!B1458)+0","v":"00:00:00"},{"$f":"Реестр!AM1458","v":0},{"$f":"Реестр!AZ1458","v":0},{"$f":"Реестр!AN1458","v":0},{"$f":"Реестр!G1458","v":0},{"$f":"IF(Реестр!#REF!=\"I\",\"Ф152\",IF(Реестр!#REF!=\"II\",\"Ф127\",IF(Реестр!#REF!=\"III\",\"Ф127\",IF(Реестр!#REF!=\"IV\",\"Ф228\",IF(Реестр!#REF!=\"V\",\"Ф127\",\"\")))))","v":{"$error":"#REF!"}},{"$f":"Реестр!J1458","v":0},0]
[{"$f":"(Реестр!B1459)+0","v":"00:00:00"},{"$f":"Реестр!AM1459","v":0},{"$f":"Реестр!AZ1459","v":0},{"$f":"Реестр!AN1459","v":0},{"$f":"Реестр!G1459","v":0},{"$f":"IF(Реестр!#REF!=\"I\",\"Ф152\",IF(Реестр!#REF!=\"II\",\"Ф127\",IF(Реестр!#REF!=\"III\",\"Ф127\",IF(Реестр!#REF!=\"IV\",\"Ф228\",IF(Реестр!#REF!=\"V\",\"Ф127\",\"\")))))","v":{"$error":"#REF!"}},{"$f":"Реестр!J1459","v":0},0]
[{"$f":"(Реестр!B1460)+0","v":"00:00:00"},{"$f":"Реестр!AM1460","v":0},{"$f":"Реестр!AZ1460","v":0},{"$f":"Реестр!AN1460","v":0},{"$f":"Реестр!G1460","v":0},{"$f":"IF(Реестр!#REF!=\"I\",\"Ф152\",IF(Реестр!#REF!=\"II\",\"Ф127\",IF(Реестр!#REF!=\"III\",\"Ф127\",IF(Реестр!#REF!=\"IV\",\"Ф228\",IF(Реестр!#REF!=\"V\",\"Ф127\",\"\")))))","v":{"$error":"#REF!"}},{"$f":"Реестр!J1460","v":0},0]
[{"$f":"(Реестр!B1461)+0","v":"00:00:00"},{"$f":"Реестр!AM1461","v":0},{"$f":"Реестр!AZ1461","v":0},{"$f":"Реестр!AN1461","v":0},{"$f":"Реестр!G1461","v":0},{"$f":"IF(Реестр!#REF!=\"I\",\"Ф152\",IF(Реестр!#REF!=\"II\",\"Ф127\",IF(Реестр!#REF!=\"III\",\"Ф127\",IF(Реестр!#REF!=\"IV\",\"Ф228\",IF(Реестр!#REF!=\"V\",\"Ф127\",\"\")))))","v":{"$error":"#REF!"}},{"$f":"Реестр!J1461","v":0},0]
[{"$f":"(Реестр!B1462)+0","v":"00:00:00"},{"$f":"Реестр!AM1462","v":0},{"$f":"Реестр!AZ1462","v":0},{"$f":"Реестр!AN1462","v":0},{"$f":"Реестр!G1462","v":0},{"$f":"IF(Реестр!#REF!=\"I\",\"Ф152\",IF(Реестр!#REF!=\"II\",\"Ф127\",IF(Реестр!#REF!=\"III\",\"Ф127\",IF(Реестр!#REF!=\"IV\",\"Ф228\",IF(Реестр!#REF!=\"V\",\"Ф127\",\"\")))))","v":{"$error":"#REF!"}},{"$f":"Реестр!J1462","v":0},0]
[{"$f":"(Реестр!B1463)+0","v":"00:00:00"},{"$f":"Реестр!AM1463","v":0},{"$f":"Реестр!AZ1463","v":0},{"$f":"Реестр!AN1463","v":0},{"$f":"Реестр!G1463","v":0},{"$f":"IF(Реестр!#REF!=\"I\",\"Ф152\",IF(Реестр!#REF!=\"II\",\"Ф127\",IF(Реестр!#REF!=\"III\",\"Ф127\",IF(Реестр!#REF!=\"IV\",\"Ф228\",IF(Реестр!#REF!=\"V\",\"Ф127\",\"\")))))","v":{"$error":"#REF!"}},{"$f":"Реестр!J1463","v":0},0]
[{"$f":"(Реестр!B1464)+0","v":"00:00:00"},{"$f":"Реестр!AM1464","v":0},{"$f":"Реестр!AZ1464","v":0},{"$f":"Реестр!AN1464","v":0},{"$f":"Реестр!G1464","v":0},{"$f":"IF(Реестр!#REF!=\"I\",\"Ф152\",IF(Реестр!#REF!=\"II\",\"Ф127\",IF(Реестр!#REF!=\"III\",\"Ф127\",IF(Реестр!#REF!=\"IV\",\"Ф228\",IF(Реестр!#REF!=\"V\",\"Ф127\",\"\")))))","v":{"$error":"#REF!"}},{"$f":"Реестр!J1464","v":0},0]
[{"$f":"(Реестр!B1465)+0","v":"00:00:00"},{"$f":"Реестр!AM1465","v":0},{"$f":"Реестр!AZ1465","v":0},{"$f":"Реестр!AN1465","v":0},{"$f":"Реестр!G1465","v":0},{"$f":"IF(Реестр!#REF!=\"I\",\"Ф152\",IF(Реестр!#REF!=\"II\",\"Ф127\",IF(Реестр!#REF!=\"III\",\"Ф127\",IF(Реестр!#REF!=\"IV\",\"Ф228\",IF(Реестр!#REF!=\"V\",\"Ф127\",\"\")))))","v":{"$error":"#REF!"}},{"$f":"Реестр!J1465","v":0},0]
[{"$f":"(Реестр!B1466)+0","v":"00:00:00"},{"$f":"Реестр!AM1466","v":0},{"$f":"Реестр!AZ1466","v":0},{"$f":"Реестр!AN1466","v":0},{"$f":"Реестр!G1466","v":0},{"$f":"IF(Реестр!#REF!=\"I\",\"Ф152\",IF(Реестр!#REF!=\"II\",\"Ф127\",IF(Реестр!#REF!=\"III\",\"Ф127\",IF(Реестр!#REF!=\"IV\",\"Ф228\",IF(Реестр!#REF!=\"V\",\"Ф127\",\"\")))))","v":{"$error":"#REF!"}},{"$f":"Реестр!J1466","v":0},0]
[{"$f":"(Реестр!B1467)+0","v":"00:00:00"},{"$f":"Реестр!AM1467","v":0},{"$f":"Реестр!AZ1467","v":0},{"$f":"Реестр!AN1467","v":0},{"$f":"Реестр!G1467","v":0},{"$f":"IF(Реестр!#REF!=\"I\",\"Ф152\",IF(Реестр!#REF!=\"II\",\"Ф127\",IF(Реестр!#REF!=\"III\",\"Ф127\",IF(Реестр!#REF!=\"IV\",\"Ф228\",IF(Реестр!#REF!=\"V\",\"Ф127\",\"\")))))","v":{"$error":"#REF!"}},{"$f":"Реестр!J1467","v":0},0]
[{"$f":"(Реестр!B1468)+0","v":"00:00:00"},{"$f":"Реестр!AM1468","v":0},{"$f":"Реестр!AZ1468","v":0},{"$f":"Реестр!AN1468","v":0},{"$f":"Реестр!G1468","v":0},{"$f":"IF(Реестр!#REF!=\"I\",\"Ф152\",IF(Реестр!#REF!=\"II\",\"Ф127\",IF(Реестр!#REF!=\"III\",\"Ф127\",IF(Реестр!#REF!=\"IV\",\"Ф228\",IF(Реестр!#REF!=\"V\",\"Ф127\",\"\")))))","v":{"$error":"#REF!"}},{"$f":"Реестр!J1468","v":0},0]
[{"$f":"(Реестр!B1469)+0","v":"00:00:00"},{"$f":"Реестр!AM1469","v":0},{"$f":"Реестр!AZ1469","v":0},{"$f":"Реестр!AN1469","v":0},{"$f":"Реестр!G1469","v":0},{"$f":"IF(Реестр!#REF!=\"I\",\"Ф152\",IF(Реестр!#REF!=\"II\",\"Ф127\",IF(Реестр!#REF!=\"III\",\"Ф127\",IF(Реестр!#REF!=\"IV\",\"Ф228\",IF(Реестр!#REF!=\"V\",\"Ф127\",\"\")))))","v":{"$error":"#REF!"}},{"$f":"Реестр!J1469","v":0},0]
[{"$f":"(Реестр!B1470)+0","v":"00:00:00"},{"$f":"Реестр!AM1470","v":0},{"$f":"Реестр!AZ1470","v":0},{"$f":"Реестр!AN1470","v":0},{"$f":"Реестр!G1470","v":0},{"$f":"IF(Реестр!#REF!=\"I\",\"Ф152\",IF(Реестр!#REF!=\"II\",\"Ф127\",IF(Реестр!#REF!=\"III\",\"Ф127\",IF(Реестр!#REF!=\"IV\",\"Ф228\",IF(Реестр!#REF!=\"V\",\"Ф127\",\"\")))))","v":{"$error":"#REF!"}},{"$f":"Реестр!J1470","v":0},0]
[{"$f":"(Реестр!B1471)+0","v":"00:00:00"},{"$f":"Реестр!AM1471","v":0},{"$f":"Реестр!AZ1471","v":0},{"$f":"Реестр!AN1471","v":0},{"$f":"Реестр!G1471","v":0},{"$f":"IF(Реестр!#REF!=\"I\",\"Ф152\",IF(Реестр!#REF!=\"II\",\"Ф127\",IF(Реестр!#REF!=\"III\",\"Ф127\",IF(Реестр!#REF!=\"IV\",\"Ф228\",IF(Реестр!#REF!=\"V\",\"Ф127\",\"\")))))","v":{"$error":"#REF!"}},{"$f":"Реестр!J1471","v":0},{"$f":"E905*G905","v":0}]
[{"$f":"(Реестр!B1472)+0","v":"00:00:00"},{"$f":"Реестр!AM1472","v":0},{"$f":"Реестр!AZ1472","v":0},{"$f":"Реестр!AN1472","v":0},{"$f":"Реестр!G1472","v":0},{"$f":"IF(Реестр!#REF!=\"I\",\"Ф152\",IF(Реестр!#REF!=\"II\",\"Ф127\",IF(Реестр!#REF!=\"III\",\"Ф127\",IF(Реестр!#REF!=\"IV\",\"Ф228\",IF(Реестр!#REF!=\"V\",\"Ф127\",\"\")))))","v":{"$error":"#REF!"}},{"$f":"Реестр!J1472","v":0},0]
[{"$f":"(Реестр!B1473)+0","v":"00:00:00"},{"$f":"Реестр!AM1473","v":0},{"$f":"Реестр!AZ1473","v":0},{"$f":"Реестр!AN1473","v":0},{"$f":"Реестр!G1473","v":0},{"$f":"IF(Реестр!#REF!=\"I\",\"Ф152\",IF(Реестр!#REF!=\"II\",\"Ф127\",IF(Реестр!#REF!=\"III\",\"Ф127\",IF(Реестр!#REF!=\"IV\",\"Ф228\",IF(Реестр!#REF!=\"V\",\"Ф127\",\"\")))))","v":{"$error":"#REF!"}},{"$f":"Реестр!J1473","v":0},0]
[{"$f":"(Реестр!B1474)+0","v":"00:00:00"},{"$f":"Реестр!AM1474","v":0},{"$f":"Реестр!AZ1474","v":0},{"$f":"Реестр!AN1474","v":0},{"$f":"Реестр!G1474","v":0},{"$f":"IF(Реестр!#REF!=\"I\",\"Ф152\",IF(Реестр!#REF!=\"II\",\"Ф127\",IF(Реестр!#REF!=\"III\",\"Ф127\",IF(Реестр!#REF!=\"IV\",\"Ф228\",IF(Реестр!#REF!=\"V\",\"Ф127\",\"\")))))","v":{"$error":"#REF!"}},{"$f":"Реестр!J1474","v":0},0]
[{"$f":"(Реестр!B1475)+0","v":"00:00:00"},{"$f":"Реестр!AM1475","v":0},{"$f":"Реестр!AZ1475","v":0},{"$f":"Реестр!AN1475","v":0},{"$f":"Реестр!G1475","v":0},{"$f":"IF(Реестр!#REF!=\"I\",\"Ф152\",IF(Реестр!#REF!=\"II\",\"Ф127\",IF(Реестр!#REF!=\"III\",\"Ф127\",IF(Реестр!#REF!=\"IV\",\"Ф228\",IF(Реестр!#REF!=\"V\",\"Ф127\",\"\")))))","v":{"$error":"#REF!"}},{"$f":"Реестр!J1475","v":0},0]
[{"$f":"(Реестр!B1476)+0","v":"00:00:00"},{"$f":"Реестр!AM1476","v":0},{"$f":"Реестр!AZ1476","v":0},{"$f":"Реестр!AN1476","v":0},{"$f":"Реестр!G1476","v":0},{"$f":"IF(Реестр!#REF!=\"I\",\"Ф152\",IF(Реестр!#REF!=\"II\",\"Ф127\",IF(Реестр!#REF!=\"III\",\"Ф127\",IF(Реестр!#REF!=\"IV\",\"Ф228\",IF(Реестр!#REF!=\"V\",\"Ф127\",\"\")))))","v":{"$error":"#REF!"}},{"$f":"Реестр!J1476","v":0},0]
[{"$f":"(Реестр!B1477)+0","v":"00:00:00"},{"$f":"Реестр!AM1477","v":0},{"$f":"Реестр!AZ1477","v":0},{"$f":"Реестр!AN1477","v":0},{"$f":"Реестр!G1477","v":0},{"$f":"IF(Реестр!#REF!=\"I\",\"Ф152\",IF(Реестр!#REF!=\"II\",\"Ф127\",IF(Реестр!#REF!=\"III\",\"Ф127\",IF(Реестр!#REF!=\"IV\",\"Ф228\",IF(Реестр!#REF!=\"V\",\"Ф127\",\"\")))))","v":{"$error":"#REF!"}},{"$f":"Реестр!J1477","v":0},0]
[{"$f":"(Реестр!B1478)+0","v":"00:00:00"},{"$f":"Реестр!AM1478","v":0},{"$f":"Реестр!AZ1478","v":0},{"$f":"Реестр!AN1478","v":0},{"$f":"Реестр!G1478","v":0},{"$f":"IF(Реестр!#REF!=\"I\",\"Ф152\",IF(Реестр!#REF!=\"II\",\"Ф127\",IF(Реестр!#REF!=\"III\",\"Ф127\",IF(Реестр!#REF!=\"IV\",\"Ф228\",IF(Реестр!#REF!=\"V\",\"Ф127\",\"\")))))","v":{"$error":"#REF!"}},{"$f":"Реестр!J1478","v":0},0]
[{"$f":"(Реестр!B1479)+0","v":"00:00:00"},{"$f":"Реестр!AM1479","v":0},{"$f":"Реестр!AZ1479","v":0},{"$f":"Реестр!AN1479","v":0},{"$f":"Реестр!G1479","v":0},{"$f":"IF(Реестр!#REF!=\"I\",\"Ф152\",IF(Реестр!#REF!=\"II\",\"Ф127\",IF(Реестр!#REF!=\"III\",\"Ф127\",IF(Реестр!#REF!=\"IV\",\"Ф228\",IF(Реестр!#REF!=\"V\",\"Ф127\",\"\")))))","v":{"$error":"#REF!"}},{"$f":"Реестр!J1479","v":0},0]
[{"$f":"(Реестр!B1480)+0","v":"00:00:00"},{"$f":"Реестр!AM1480","v":0},{"$f":"Реестр!AZ1480","v":0},{"$f":"Реестр!AN1480","v":0},{"$f":"Реестр!G1480","v":0},{"$f":"IF(Реестр!#REF!=\"I\",\"Ф152\",IF(Реестр!#REF!=\"II\",\"Ф127\",IF(Реестр!#REF!=\"III\",\"Ф127\",IF(Реестр!#REF!=\"IV\",\"Ф228\",IF(Реестр!#REF!=\"V\",\"Ф127\",\"\")))))","v":{"$error":"#REF!"}},{"$f":"Реестр!J1480","v":0},0]
[{"$f":"(Реестр!B1481)+0","v":"00:00:00"},{"$f":"Реестр!AM1481","v":0},{"$f":"Реестр!AZ1481","v":0},{"$f":"Реестр!AN1481","v":0},{"$f":"Реестр!G1481","v":0},{"$f":"IF(Реестр!#REF!=\"I\",\"Ф152\",IF(Реестр!#REF!=\"II\",\"Ф127\",IF(Реестр!#REF!=\"III\",\"Ф127\",IF(Реестр!#REF!=\"IV\",\"Ф228\",IF(Реестр!#REF!=\"V\",\"Ф127\",\"\")))))","v":{"$error":"#REF!"}},{"$f":"Реестр!J1481","v":0},0]
[{"$f":"(Реестр!B1482)+0","v":"00:00:00"},{"$f":"Реестр!AM1482","v":0},{"$f":"Реестр!AZ1482","v":0},{"$f":"Реестр!AN1482","v":0},{"$f":"Реестр!G1482","v":0},{"$f":"IF(Реестр!#REF!=\"I\",\"Ф152\",IF(Реестр!#REF!=\"II\",\"Ф127\",IF(Реестр!#REF!=\"III\",\"Ф127\",IF(Реестр!#REF!=\"IV\",\"Ф228\",IF(Реестр!#REF!=\"V\",\"Ф127\",\"\")))))","v":{"$error":"#REF!"}},{"$f":"Реестр!J1482","v":0},0]
[{"$f":"(Реестр!B1483)+0","v":"00:00:00"},{"$f":"Реестр!AM1483","v":0},{"$f":"Реестр!AZ1483","v":0},{"$f":"Реестр!AN1483","v":0},{"$f":"Реестр!G1483","v":0},{"$f":"IF(Реестр!#REF!=\"I\",\"Ф152\",IF(Реестр!#REF!=\"II\",\"Ф127\",IF(Реестр!#REF!=\"III\",\"Ф127\",IF(Реестр!#REF!=\"IV\",\"Ф228\",IF(Реестр!#REF!=\"V\",\"Ф127\",\"\")))))","v":{"$error":"#REF!"}},{"$f":"Реестр!J1483","v":0},0]
[{"$f":"(Реестр!B1484)+0","v":"00:00:00"},{"$f":"Реестр!AM1484","v":0},{"$f":"Реестр!AZ1484","v":0},{"$f":"Реестр!AN1484","v":0},{"$f":"Реестр!G1484","v":0},{"$f":"IF(Реестр!#REF!=\"I\",\"Ф152\",IF(Реестр!#REF!=\"II\",\"Ф127\",IF(Реестр!#REF!=\"III\",\"Ф127\",IF(Реестр!#REF!=\"IV\",\"Ф228\",IF(Реестр!#REF!=\"V\",\"Ф127\",\"\")))))","v":{"$error":"#REF!"}},{"$f":"Реестр!J1484","v":0},0]
[{"$f":"(Реестр!B1485)+0","v":"00:00:00"},{"$f":"Реестр!AM1485","v":0},{"$f":"Реестр!AZ1485","v":0},{"$f":"Реестр!AN1485","v":0},{"$f":"Реестр!G1485","v":0},{"$f":"IF(Реестр!#REF!=\"I\",\"Ф152\",IF(Реестр!#REF!=\"II\",\"Ф127\",IF(Реестр!#REF!=\"III\",\"Ф127\",IF(Реестр!#REF!=\"IV\",\"Ф228\",IF(Реестр!#REF!=\"V\",\"Ф127\",\"\")))))","v":{"$error":"#REF!"}},{"$f":"Реестр!J1485","v":0},0]
[{"$f":"(Реестр!B1486)+0","v":"00:00:00"},{"$f":"Реестр!AM1486","v":0},{"$f":"Реестр!AZ1486","v":0},{"$f":"Реестр!AN1486","v":0},{"$f":"Реестр!G1486","v":0},{"$f":"IF(Реестр!#REF!=\"I\",\"Ф152\",IF(Реестр!#REF!=\"II\",\"Ф127\",IF(Реестр!#REF!=\"III\",\"Ф127\",IF(Реестр!#REF!=\"IV\",\"Ф228\",IF(Реестр!#REF!=\"V\",\"Ф127\",\"\")))))","v":{"$error":"#REF!"}},{"$f":"Реестр!J1486","v":0},0]
[{"$f":"(Реестр!B1487)+0","v":"00:00:00"},{"$f":"Реестр!AM1487","v":0},{"$f":"Реестр!AZ1487","v":0},{"$f":"Реестр!AN1487","v":0},{"$f":"Реестр!G1487","v":0},{"$f":"IF(Реестр!#REF!=\"I\",\"Ф152\",IF(Реестр!#REF!=\"II\",\"Ф127\",IF(Реестр!#REF!=\"III\",\"Ф127\",IF(Реестр!#REF!=\"IV\",\"Ф228\",IF(Реестр!#REF!=\"V\",\"Ф127\",\"\")))))","v":{"$error":"#REF!"}},{"$f":"Реестр!J1487","v":0},0]
[{"$f":"(Реестр!B1488)+0","v":"00:00:00"},{"$f":"Реестр!AM1488","v":0},{"$f":"Реестр!AZ1488","v":0},{"$f":"Реестр!AN1488","v":0},{"$f":"Реестр!G1488","v":0},{"$f":"IF(Реестр!#REF!=\"I\",\"Ф152\",IF(Реестр!#REF!=\"II\",\"Ф127\",IF(Реестр!#REF!=\"III\",\"Ф127\",IF(Реестр!#REF!=\"IV\",\"Ф228\",IF(Реестр!#REF!=\"V\",\"Ф127\",\"\")))))","v":{"$error":"#REF!"}},{"$f":"Реестр!J1488","v":0},0]
[{"$f":"(Реестр!B1489)+0","v":"00:00:00"},{"$f":"Реестр!AM1489","v":0},{"$f":"Реестр!AZ1489","v":0},{"$f":"Реестр!AN1489","v":0},{"$f":"Реестр!G1489","v":0},{"$f":"IF(Реестр!#REF!=\"I\",\"Ф152\",IF(Реестр!#REF!=\"II\",\"Ф127\",IF(Реестр!#REF!=\"III\",\"Ф127\",IF(Реестр!#REF!=\"IV\",\"Ф228\",IF(Реестр!#REF!=\"V\",\"Ф127\",\"\")))))","v":{"$error":"#REF!"}},{"$f":"Реестр!J1489","v":0},0]
[{"$f":"(Реестр!B1490)+0","v":"00:00:00"},{"$f":"Реестр!AM1490","v":0},{"$f":"Реестр!AZ1490","v":0},{"$f":"Реестр!AN1490","v":0},{"$f":"Реестр!G1490","v":0},{"$f":"IF(Реестр!#REF!=\"I\",\"Ф152\",IF(Реестр!#REF!=\"II\",\"Ф127\",IF(Реестр!#REF!=\"III\",\"Ф127\",IF(Реестр!#REF!=\"IV\",\"Ф228\",IF(Реестр!#REF!=\"V\",\"Ф127\",\"\")))))","v":{"$error":"#REF!"}},{"$f":"Реестр!J1490","v":0},0]
[{"$f":"(Реестр!B1491)+0","v":"00:00:00"},{"$f":"Реестр!AM1491","v":0},{"$f":"Реестр!AZ1491","v":0},{"$f":"Реестр!AN1491","v":0},{"$f":"Реестр!G1491","v":0},{"$f":"IF(Реестр!#REF!=\"I\",\"Ф152\",IF(Реестр!#REF!=\"II\",\"Ф127\",IF(Реестр!#REF!=\"III\",\"Ф127\",IF(Реестр!#REF!=\"IV\",\"Ф228\",IF(Реестр!#REF!=\"V\",\"Ф127\",\"\")))))","v":{"$error":"#REF!"}},{"$f":"Реестр!J1491","v":0},0]
[{"$f":"(Реестр!B1492)+0","v":"00:00:00"},{"$f":"Реестр!AM1492","v":0},{"$f":"Реестр!AZ1492","v":0},{"$f":"Реестр!AN1492","v":0},{"$f":"Реестр!G1492","v":0},{"$f":"IF(Реестр!#REF!=\"I\",\"Ф152\",IF(Реестр!#REF!=\"II\",\"Ф127\",IF(Реестр!#REF!=\"III\",\"Ф127\",IF(Реестр!#REF!=\"IV\",\"Ф228\",IF(Реестр!#REF!=\"V\",\"Ф127\",\"\")))))","v":{"$error":"#REF!"}},{"$f":"Реестр!J1492","v":0},0]
[{"$f":"(Реестр!B1493)+0","v":"00:00:00"},{"$f":"Реестр!AM1493","v":0},{"$f":"Реестр!AZ1493","v":0},{"$f":"Реестр!AN1493","v":0},{"$f":"Реестр!G1493","v":0},{"$f":"IF(Реестр!#REF!=\"I\",\"Ф152\",IF(Реестр!#REF!=\"II\",\"Ф127\",IF(Реестр!#REF!=\"III\",\"Ф127\",IF(Реестр!#REF!=\"IV\",\"Ф228\",IF(Реестр!#REF!=\"V\",\"Ф127\",\"\")))))","v":{"$error":"#REF!"}},{"$f":"Реестр!J1493","v":0},0]
[{"$f":"(Реестр!B1494)+0","v":"00:00:00"},{"$f":"Реестр!AM1494","v":0},{"$f":"Реестр!AZ1494","v":0},{"$f":"Реестр!AN1494","v":0},{"$f":"Реестр!G1494","v":0},{"$f":"IF(Реестр!#REF!=\"I\",\"Ф152\",IF(Реестр!#REF!=\"II\",\"Ф127\",IF(Реестр!#REF!=\"III\",\"Ф127\",IF(Реестр!#REF!=\"IV\",\"Ф228\",IF(Реестр!#REF!=\"V\",\"Ф127\",\"\")))))","v":{"$error":"#REF!"}},{"$f":"Реестр!J1494","v":0},0]
[{"$f":"(Реестр!B1495)+0","v":"00:00:00"},{"$f":"Реестр!AM1495","v":0},{"$f":"Реестр!AZ1495","v":0},{"$f":"Реестр!AN1495","v":0},{"$f":"Реестр!G1495","v":0},{"$f":"IF(Реестр!#REF!=\"I\",\"Ф152\",IF(Реестр!#REF!=\"II\",\"Ф127\",IF(Реестр!#REF!=\"III\",\"Ф127\",IF(Реестр!#REF!=\"IV\",\"Ф228\",IF(Реестр!#REF!=\"V\",\"Ф127\",\"\")))))","v":{"$error":"#REF!"}},{"$f":"Реестр!J1495","v":0},0]
[{"$f":"(Реестр!B1496)+0","v":"00:00:00"},{"$f":"Реестр!AM1496","v":0},{"$f":"Реестр!AZ1496","v":0},{"$f":"Реестр!AN1496","v":0},{"$f":"Реестр!G1496","v":0},{"$f":"IF(Реестр!#REF!=\"I\",\"Ф152\",IF(Реестр!#REF!=\"II\",\"Ф127\",IF(Реестр!#REF!=\"III\",\"Ф127\",IF(Реестр!#REF!=\"IV\",\"Ф228\",IF(Реестр!#REF!=\"V\",\"Ф127\",\"\")))))","v":{"$error":"#REF!"}},{"$f":"Реестр!J1496","v":0},0]
[{"$f":"(Реестр!B1497)+0","v":"00:00:00"},{"$f":"Реестр!AM1497","v":0},{"$f":"Реестр!AZ1497","v":0},{"$f":"Реестр!AN1497","v":0},{"$f":"Реестр!G1497","v":0},{"$f":"IF(Реестр!#REF!=\"I\",\"Ф152\",IF(Реестр!#REF!=\"II\",\"Ф127\",IF(Реестр!#REF!=\"III\",\"Ф127\",IF(Реестр!#REF!=\"IV\",\"Ф228\",IF(Реестр!#REF!=\"V\",\"Ф127\",\"\")))))","v":{"$error":"#REF!"}},{"$f":"Реестр!J1497","v":0},0]
[{"$f":"(Реестр!B1498)+0","v":"00:00:00"},{"$f":"Реестр!AM1498","v":0},{"$f":"Реестр!AZ1498","v":0},{"$f":"Реестр!AN1498","v":0},{"$f":"Реестр!G1498","v":0},{"$f":"IF(Реестр!#REF!=\"I\",\"Ф152\",IF(Реестр!#REF!=\"II\",\"Ф127\",IF(Реестр!#REF!=\"III\",\"Ф127\",IF(Реестр!#REF!=\"IV\",\"Ф228\",IF(Реестр!#REF!=\"V\",\"Ф127\",\"\")))))","v":{"$error":"#REF!"}},{"$f":"Реестр!J1498","v":0},0]
[{"$f":"(Реестр!B1499)+0","v":"00:00:00"},{"$f":"Реестр!AM1499","v":0},{"$f":"Реестр!AZ1499","v":0},{"$f":"Реестр!AN1499","v":0},{"$f":"Реестр!G1499","v":0},{"$f":"IF(Реестр!#REF!=\"I\",\"Ф152\",IF(Реестр!#REF!=\"II\",\"Ф127\",IF(Реестр!#REF!=\"III\",\"Ф127\",IF(Реестр!#REF!=\"IV\",\"Ф228\",IF(Реестр!#REF!=\"V\",\"Ф127\",\"\")))))","v":{"$error":"#REF!"}},{"$f":"Реестр!J1499","v":0},0]
[{"$f":"(Реестр!B1500)+0","v":"00:00:00"},{"$f":"Реестр!AM1500","v":0},{"$f":"Реестр!AZ1500","v":0},{"$f":"Реестр!AN1500","v":0},{"$f":"Реестр!G1500","v":0},{"$f":"IF(Реестр!#REF!=\"I\",\"Ф152\",IF(Реестр!#REF!=\"II\",\"Ф127\",IF(Реестр!#REF!=\"III\",\"Ф127\",IF(Реестр!#REF!=\"IV\",\"Ф228\",IF(Реестр!#REF!=\"V\",\"Ф127\",\"\")))))","v":{"$error":"#REF!"}},{"$f":"Реестр!J1500","v":0},0]
[{"$f":"(Реестр!B1501)+0","v":"00:00:00"},{"$f":"Реестр!AM1501","v":0},{"$f":"Реестр!AZ1501","v":0},{"$f":"Реестр!AN1501","v":0},{"$f":"Реестр!G1501","v":0},{"$f":"IF(Реестр!#REF!=\"I\",\"Ф152\",IF(Реестр!#REF!=\"II\",\"Ф127\",IF(Реестр!#REF!=\"III\",\"Ф127\",IF(Реестр!#REF!=\"IV\",\"Ф228\",IF(Реестр!#REF!=\"V\",\"Ф127\",\"\")))))","v":{"$error":"#REF!"}},{"$f":"Реестр!J1501","v":0},0]
[{"$f":"(Реестр!B1502)+0","v":"00:00:00"},{"$f":"Реестр!AM1502","v":0},{"$f":"Реестр!AZ1502","v":0},{"$f":"Реестр!AN1502","v":0},{"$f":"Реестр!G1502","v":0},{"$f":"IF(Реестр!#REF!=\"I\",\"Ф152\",IF(Реестр!#REF!=\"II\",\"Ф127\",IF(Реестр!#REF!=\"III\",\"Ф127\",IF(Реестр!#REF!=\"IV\",\"Ф228\",IF(Реестр!#REF!=\"V\",\"Ф127\",\"\")))))","v":{"$error":"#REF!"}},{"$f":"Реестр!J1502","v":0},0]
[{"$f":"(Реестр!B1503)+0","v":"00:00:00"},{"$f":"Реестр!AM1503","v":0},{"$f":"Реестр!AZ1503","v":0},{"$f":"Реестр!AN1503","v":0},{"$f":"Реестр!G1503","v":0},{"$f":"IF(Реестр!#REF!=\"I\",\"Ф152\",IF(Реестр!#REF!=\"II\",\"Ф127\",IF(Реестр!#REF!=\"III\",\"Ф127\",IF(Реестр!#REF!=\"IV\",\"Ф228\",IF(Реестр!#REF!=\"V\",\"Ф127\",\"\")))))","v":{"$error":"#REF!"}},{"$f":"Реестр!J1503","v":0},0]
[{"$f":"(Реестр!B1504)+0","v":"00:00:00"},{"$f":"Реестр!AM1504","v":0},{"$f":"Реестр!AZ1504","v":0},{"$f":"Реестр!AN1504","v":0},{"$f":"Реестр!G1504","v":0},{"$f":"IF(Реестр!#REF!=\"I\",\"Ф152\",IF(Реестр!#REF!=\"II\",\"Ф127\",IF(Реестр!#REF!=\"III\",\"Ф127\",IF(Реестр!#REF!=\"IV\",\"Ф228\",IF(Реестр!#REF!=\"V\",\"Ф127\",\"\")))))","v":{"$error":"#REF!"}},{"$f":"Реестр!J1504","v":0},0]
[{"$f":"(Реестр!B1505)+0","v":"00:00:00"},{"$f":"Реестр!AM1505","v":0},{"$f":"Реестр!AZ1505","v":0},{"$f":"Реестр!AN1505","v":0},{"$f":"Реестр!G1505","v":0},{"$f":"IF(Реестр!#REF!=\"I\",\"Ф152\",IF(Реестр!#REF!=\"II\",\"Ф127\",IF(Реестр!#REF!=\"III\",\"Ф127\",IF(Реестр!#REF!=\"IV\",\"Ф228\",IF(Реестр!#REF!=\"V\",\"Ф127\",\"\")))))","v":{"$error":"#REF!"}},{"$f":"Реестр!J1505","v":0},0]
[{"$f":"(Реестр!B1506)+0","v":"00:00:00"},{"$f":"Реестр!AM1506","v":0},{"$f":"Реестр!AZ1506","v":0},{"$f":"Реестр!AN1506","v":0},{"$f":"Реестр!G1506","v":0},{"$f":"IF(Реестр!#REF!=\"I\",\"Ф152\",IF(Реестр!#REF!=\"II\",\"Ф127\",IF(Реестр!#REF!=\"III\",\"Ф127\",IF(Реестр!#REF!=\"IV\",\"Ф228\",IF(Реестр!#REF!=\"V\",\"Ф127\",\"\")))))","v":{"$error":"#REF!"}},{"$f":"Реестр!J1506","v":0},0]
[{"$f":"(Реестр!B1507)+0","v":"00:00:00"},{"$f":"Реестр!AM1507","v":0},{"$f":"Реестр!AZ1507","v":0},{"$f":"Реестр!AN1507","v":0},{"$f":"Реестр!G1507","v":0},{"$f":"IF(Реестр!#REF!=\"I\",\"Ф152\",IF(Реестр!#REF!=\"II\",\"Ф127\",IF(Реестр!#REF!=\"III\",\"Ф127\",IF(Реестр!#REF!=\"IV\",\"Ф228\",IF(Реестр!#REF!=\"V\",\"Ф127\",\"\")))))","v":{"$error":"#REF!"}},{"$f":"Реестр!J1507","v":0},0]
[{"$f":"(Реестр!B1508)+0","v":"00:00:00"},{"$f":"Реестр!AM1508","v":0},{"$f":"Реестр!AZ1508","v":0},{"$f":"Реестр!AN1508","v":0},{"$f":"Реестр!G1508","v":0},{"$f":"IF(Реестр!#REF!=\"I\",\"Ф152\",IF(Реестр!#REF!=\"II\",\"Ф127\",IF(Реестр!#REF!=\"III\",\"Ф127\",IF(Реестр!#REF!=\"IV\",\"Ф228\",IF(Реестр!#REF!=\"V\",\"Ф127\",\"\")))))","v":{"$error":"#REF!"}},{"$f":"Реестр!J1508","v":0},0]
[{"$f":"(Реестр!B1509)+0","v":"00:00:00"},{"$f":"Реестр!AM1509","v":0},{"$f":"Реестр!AZ1509","v":0},{"$f":"Реестр!AN1509","v":0},{"$f":"Реестр!G1509","v":0},{"$f":"IF(Реестр!#REF!=\"I\",\"Ф152\",IF(Реестр!#REF!=\"II\",\"Ф127\",IF(Реестр!#REF!=\"III\",\"Ф127\",IF(Реестр!#REF!=\"IV\",\"Ф228\",IF(Реестр!#REF!=\"V\",\"Ф127\",\"\")))))","v":{"$error":"#REF!"}},{"$f":"Реестр!J1509","v":0},0]
[{"$f":"(Реестр!B1510)+0","v":"00:00:00"},{"$f":"Реестр!AM1510","v":0},{"$f":"Реестр!AZ1510","v":0},{"$f":"Реестр!AN1510","v":0},{"$f":"Реестр!G1510","v":0},{"$f":"IF(Реестр!#REF!=\"I\",\"Ф152\",IF(Реестр!#REF!=\"II\",\"Ф127\",IF(Реестр!#REF!=\"III\",\"Ф127\",IF(Реестр!#REF!=\"IV\",\"Ф228\",IF(Реестр!#REF!=\"V\",\"Ф127\",\"\")))))","v":{"$error":"#REF!"}},{"$f":"Реестр!J1510","v":0},0]
[{"$f":"(Реестр!B1511)+0","v":"00:00:00"},{"$f":"Реестр!AM1511","v":0},{"$f":"Реестр!AZ1511","v":0},{"$f":"Реестр!AN1511","v":0},{"$f":"Реестр!G1511","v":0},{"$f":"IF(Реестр!#REF!=\"I\",\"Ф152\",IF(Реестр!#REF!=\"II\",\"Ф127\",IF(Реестр!#REF!=\"III\",\"Ф127\",IF(Реестр!#REF!=\"IV\",\"Ф228\",IF(Реестр!#REF!=\"V\",\"Ф127\",\"\")))))","v":{"$error":"#REF!"}},{"$f":"Реестр!J1511","v":0},0]
[{"$f":"(Реестр!B1512)+0","v":"00:00:00"},{"$f":"Реестр!AM1512","v":0},{"$f":"Реестр!AZ1512","v":0},{"$f":"Реестр!AN1512","v":0},{"$f":"Реестр!G1512","v":0},{"$f":"IF(Реестр!#REF!=\"I\",\"Ф152\",IF(Реестр!#REF!=\"II\",\"Ф127\",IF(Реестр!#REF!=\"III\",\"Ф127\",IF(Реестр!#REF!=\"IV\",\"Ф228\",IF(Реестр!#REF!=\"V\",\"Ф127\",\"\")))))","v":{"$error":"#REF!"}},{"$f":"Реестр!J1512","v":0},0]
[{"$f":"(Реестр!B1513)+0","v":"00:00:00"},{"$f":"Реестр!AM1513","v":0},{"$f":"Реестр!AZ1513","v":0},{"$f":"Реестр!AN1513","v":0},{"$f":"Реестр!G1513","v":0},{"$f":"IF(Реестр!#REF!=\"I\",\"Ф152\",IF(Реестр!#REF!=\"II\",\"Ф127\",IF(Реестр!#REF!=\"III\",\"Ф127\",IF(Реестр!#REF!=\"IV\",\"Ф228\",IF(Реестр!#REF!=\"V\",\"Ф127\",\"\")))))","v":{"$error":"#REF!"}},{"$f":"Реестр!J1513","v":0},0]
[{"$f":"(Реестр!B1514)+0","v":"00:00:00"},{"$f":"Реестр!AM1514","v":0},{"$f":"Реестр!AZ1514","v":0},{"$f":"Реестр!AN1514","v":0},{"$f":"Реестр!G1514","v":0},{"$f":"IF(Реестр!#REF!=\"I\",\"Ф152\",IF(Реестр!#REF!=\"II\",\"Ф127\",IF(Реестр!#REF!=\"III\",\"Ф127\",IF(Реестр!#REF!=\"IV\",\"Ф228\",IF(Реестр!#REF!=\"V\",\"Ф127\",\"\")))))","v":{"$error":"#REF!"}},{"$f":"Реестр!J1514","v":0},0]
[{"$f":"(Реестр!B1515)+0","v":"00:00:00"},{"$f":"Реестр!AM1515","v":0},{"$f":"Реестр!AZ1515","v":0},{"$f":"Реестр!AN1515","v":0},{"$f":"Реестр!G1515","v":0},{"$f":"IF(Реестр!#REF!=\"I\",\"Ф152\",IF(Реестр!#REF!=\"II\",\"Ф127\",IF(Реестр!#REF!=\"III\",\"Ф127\",IF(Реестр!#REF!=\"IV\",\"Ф228\",IF(Реестр!#REF!=\"V\",\"Ф127\",\"\")))))","v":{"$error":"#REF!"}},{"$f":"Реестр!J1515","v":0},0]
[{"$f":"(Реестр!B1516)+0","v":"00:00:00"},{"$f":"Реестр!AM1516","v":0},{"$f":"Реестр!AZ1516","v":0},{"$f":"Реестр!AN1516","v":0},{"$f":"Реестр!G1516","v":0},{"$f":"IF(Реестр!#REF!=\"I\",\"Ф152\",IF(Реестр!#REF!=\"II\",\"Ф127\",IF(Реестр!#REF!=\"III\",\"Ф127\",IF(Реестр!#REF!=\"IV\",\"Ф228\",IF(Реестр!#REF!=\"V\",\"Ф127\",\"\")))))","v":{"$error":"#REF!"}},{"$f":"Реестр!J1516","v":0},0]
[{"$f":"(Реестр!B1517)+0","v":"00:00:00"},{"$f":"Реестр!AM1517","v":0},{"$f":"Реестр!AZ1517","v":0},{"$f":"Реестр!AN1517","v":0},{"$f":"Реестр!G1517","v":0},{"$f":"IF(Реестр!#REF!=\"I\",\"Ф152\",IF(Реестр!#REF!=\"II\",\"Ф127\",IF(Реестр!#REF!=\"III\",\"Ф127\",IF(Реестр!#REF!=\"IV\",\"Ф228\",IF(Реестр!#REF!=\"V\",\"Ф127\",\"\")))))","v":{"$error":"#REF!"}},{"$f":"Реестр!J1517","v":0},0]
[{"$f":"(Реестр!B1518)+0","v":"00:00:00"},{"$f":"Реестр!AM1518","v":0},{"$f":"Реестр!AZ1518","v":0},{"$f":"Реестр!AN1518","v":0},{"$f":"Реестр!G1518","v":0},{"$f":"IF(Реестр!#REF!=\"I\",\"Ф152\",IF(Реестр!#REF!=\"II\",\"Ф127\",IF(Реестр!#REF!=\"III\",\"Ф127\",IF(Реестр!#REF!=\"IV\",\"Ф228\",IF(Реестр!#REF!=\"V\",\"Ф127\",\"\")))))","v":{"$error":"#REF!"}},{"$f":"Реестр!J1518","v":0},0]
[{"$f":"(Реестр!B1519)+0","v":"00:00:00"},{"$f":"Реестр!AM1519","v":0},{"$f":"Реестр!AZ1519","v":0},{"$f":"Реестр!AN1519","v":0},{"$f":"Реестр!G1519","v":0},{"$f":"IF(Реестр!#REF!=\"I\",\"Ф152\",IF(Реестр!#REF!=\"II\",\"Ф127\",IF(Реестр!#REF!=\"III\",\"Ф127\",IF(Реестр!#REF!=\"IV\",\"Ф228\",IF(Реестр!#REF!=\"V\",\"Ф127\",\"\")))))","v":{"$error":"#REF!"}},{"$f":"Реестр!J1519","v":0},0]
[{"$f":"(Реестр!B1520)+0","v":"00:00:00"},{"$f":"Реестр!AM1520","v":0},{"$f":"Реестр!AZ1520","v":0},{"$f":"Реестр!AN1520","v":0},{"$f":"Реестр!G1520","v":0},{"$f":"IF(Реестр!#REF!=\"I\",\"Ф152\",IF(Реестр!#REF!=\"II\",\"Ф127\",IF(Реестр!#REF!=\"III\",\"Ф127\",IF(Реестр!#REF!=\"IV\",\"Ф228\",IF(Реестр!#REF!=\"V\",\"Ф127\",\"\")))))","v":{"$error":"#REF!"}},{"$f":"Реестр!J1520","v":0},0]
[{"$f":"(Реестр!B1521)+0","v":"00:00:00"},{"$f":"Реестр!AM1521","v":0},{"$f":"Реестр!AZ1521","v":0},{"$f":"Реестр!AN1521","v":0},{"$f":"Реестр!G1521","v":0},{"$f":"IF(Реестр!#REF!=\"I\",\"Ф152\",IF(Реестр!#REF!=\"II\",\"Ф127\",IF(Реестр!#REF!=\"III\",\"Ф127\",IF(Реестр!#REF!=\"IV\",\"Ф228\",IF(Реестр!#REF!=\"V\",\"Ф127\",\"\")))))","v":{"$error":"#REF!"}},{"$f":"Реестр!J1521","v":0},0]
[{"$f":"(Реестр!B1522)+0","v":"00:00:00"},{"$f":"Реестр!AM1522","v":0},{"$f":"Реестр!AZ1522","v":0},{"$f":"Реестр!AN1522","v":0},{"$f":"Реестр!G1522","v":0},{"$f":"IF(Реестр!#REF!=\"I\",\"Ф152\",IF(Реестр!#REF!=\"II\",\"Ф127\",IF(Реестр!#REF!=\"III\",\"Ф127\",IF(Реестр!#REF!=\"IV\",\"Ф228\",IF(Реестр!#REF!=\"V\",\"Ф127\",\"\")))))","v":{"$error":"#REF!"}},{"$f":"Реестр!J1522","v":0},0]
[{"$f":"(Реестр!B1523)+0","v":"00:00:00"},{"$f":"Реестр!AM1523","v":0},{"$f":"Реестр!AZ1523","v":0},{"$f":"Реестр!AN1523","v":0},{"$f":"Реестр!G1523","v":0},{"$f":"IF(Реестр!#REF!=\"I\",\"Ф152\",IF(Реестр!#REF!=\"II\",\"Ф127\",IF(Реестр!#REF!=\"III\",\"Ф127\",IF(Реестр!#REF!=\"IV\",\"Ф228\",IF(Реестр!#REF!=\"V\",\"Ф127\",\"\")))))","v":{"$error":"#REF!"}},{"$f":"Реестр!J1523","v":0},0]
[{"$f":"(Реестр!B1524)+0","v":"00:00:00"},{"$f":"Реестр!AM1524","v":0},{"$f":"Реестр!AZ1524","v":0},{"$f":"Реестр!AN1524","v":0},{"$f":"Реестр!G1524","v":0},{"$f":"IF(Реестр!#REF!=\"I\",\"Ф152\",IF(Реестр!#REF!=\"II\",\"Ф127\",IF(Реестр!#REF!=\"III\",\"Ф127\",IF(Реестр!#REF!=\"IV\",\"Ф228\",IF(Реестр!#REF!=\"V\",\"Ф127\",\"\")))))","v":{"$error":"#REF!"}},{"$f":"Реестр!J1524","v":0},0]
[{"$f":"(Реестр!B1525)+0","v":"00:00:00"},{"$f":"Реестр!AM1525","v":0},{"$f":"Реестр!AZ1525","v":0},{"$f":"Реестр!AN1525","v":0},{"$f":"Реестр!G1525","v":0},{"$f":"IF(Реестр!#REF!=\"I\",\"Ф152\",IF(Реестр!#REF!=\"II\",\"Ф127\",IF(Реестр!#REF!=\"III\",\"Ф127\",IF(Реестр!#REF!=\"IV\",\"Ф228\",IF(Реестр!#REF!=\"V\",\"Ф127\",\"\")))))","v":{"$error":"#REF!"}},{"$f":"Реестр!J1525","v":0},0]
[{"$f":"(Реестр!B1526)+0","v":"00:00:00"},{"$f":"Реестр!AM1526","v":0},{"$f":"Реестр!AZ1526","v":0},{"$f":"Реестр!AN1526","v":0},{"$f":"Реестр!G1526","v":0},{"$f":"IF(Реестр!#REF!=\"I\",\"Ф152\",IF(Реестр!#REF!=\"II\",\"Ф127\",IF(Реестр!#REF!=\"III\",\"Ф127\",IF(Реестр!#REF!=\"IV\",\"Ф228\",IF(Реестр!#REF!=\"V\",\"Ф127\",\"\")))))","v":{"$error":"#REF!"}},{"$f":"Реестр!J1526","v":0},0]
[{"$f":"(Реестр!B1527)+0","v":"00:00:00"},{"$f":"Реестр!AM1527","v":0},{"$f":"Реестр!AZ1527","v":0},{"$f":"Реестр!AN1527","v":0},{"$f":"Реестр!G1527","v":0},{"$f":"Реестр!#REF!","v":{"$error":"#REF!"}},{"$f":"Реестр!J1527","v":0},0]
[{"$f":"(Реестр!B1528)+0","v":"00:00:00"},{"$f":"Реестр!AM1528","v":0},{"$f":"Реестр!AZ1528","v":0},{"$f":"Реестр!AN1528","v":0},{"$f":"Реестр!G1528","v":0},{"$f":"Реестр!#REF!","v":{"$error":"#REF!"}},{"$f":"Реестр!J1528","v":0},0]
[{"$f":"(Реестр!B1529)+0","v":"00:00:00"},{"$f":"Реестр!AM1529","v":0},{"$f":"Реестр!AZ1529","v":0},{"$f":"Реестр!AN1529","v":0},{"$f":"Реестр!G1529","v":0},{"$f":"Реестр!#REF!","v":{"$error":"#REF!"}},{"$f":"Реестр!J1529","v":0},0]
[{"$f":"(Реестр!B1530)+0","v":"00:00:00"},{"$f":"Реестр!AM1530","v":0},{"$f":"Реестр!AZ1530","v":0},{"$f":"Реестр!AN1530","v":0},{"$f":"Реестр!G1530","v":0},{"$f":"Реестр!#REF!","v":{"$error":"#REF!"}},{"$f":"Реестр!J1530","v":0},0]
[{"$f":"(Реестр!B1531)+0","v":"00:00:00"},{"$f":"Реестр!AM1531","v":0},{"$f":"Реестр!AZ1531","v":0},{"$f":"Реестр!AN1531","v":0},{"$f":"Реестр!G1531","v":0},{"$f":"Реестр!#REF!","v":{"$error":"#REF!"}},{"$f":"Реестр!J1531","v":0},0]
[{"$f":"(Реестр!B1532)+0","v":"00:00:00"},{"$f":"Реестр!AM1532","v":0},{"$f":"Реестр!AZ1532","v":0},{"$f":"Реестр!AN1532","v":0},{"$f":"Реестр!G1532","v":0},{"$f":"Реестр!#REF!","v":{"$error":"#REF!"}},{"$f":"Реестр!J1532","v":0},0]
[{"$f":"(Реестр!B1533)+0","v":"00:00:00"},{"$f":"Реестр!AM1533","v":0},{"$f":"Реестр!AZ1533","v":0},{"$f":"Реестр!AN1533","v":0},{"$f":"Реестр!G1533","v":0},{"$f":"Реестр!#REF!","v":{"$error":"#REF!"}},{"$f":"Реестр!J1533","v":0},0]
[{"$f":"(Реестр!B1534)+0","v":"00:00:00"},{"$f":"Реестр!AM1534","v":0},{"$f":"Реестр!AZ1534","v":0},{"$f":"Реестр!AN1534","v":0},{"$f":"Реестр!G1534","v":0},{"$f":"Реестр!#REF!","v":{"$error":"#REF!"}},{"$f":"Реестр!J1534","v":0},0]
[{"$f":"(Реестр!B1535)+0","v":"00:00:00"},{"$f":"Реестр!AM1535","v":0},{"$f":"Реестр!AZ1535","v":0},{"$f":"Реестр!AN1535","v":0},{"$f":"Реестр!G1535","v":0},{"$f":"Реестр!#REF!","v":{"$error":"#REF!"}},{"$f":"Реестр!J1535","v":0},{"$f":"E969*G969","v":0}]
[{"$f":"(Реестр!B1536)+0","v":"00:00:00"},{"$f":"Реестр!AM1536","v":0},{"$f":"Реестр!AZ1536","v":0},{"$f":"Реестр!AN1536","v":0},{"$f":"Реестр!G1536","v":0},{"$f":"Реестр!#REF!","v":{"$error":"#REF!"}},{"$f":"Реестр!J1536","v":0},0]
[{"$f":"(Реестр!B1537)+0","v":"00:00:00"},{"$f":"Реестр!AM1537","v":0},{"$f":"Реестр!AZ1537","v":0},{"$f":"Реестр!AN1537","v":0},{"$f":"Реестр!G1537","v":0},{"$f":"Реестр!#REF!","v":{"$error":"#REF!"}},{"$f":"Реестр!J1537","v":0},0]
[{"$f":"(Реестр!B1538)+0","v":"00:00:00"},{"$f":"Реестр!AM1538","v":0},{"$f":"Реестр!AZ1538","v":0},{"$f":"Реестр!AN1538","v":0},{"$f":"Реестр!G1538","v":0},{"$f":"Реестр!#REF!","v":{"$error":"#REF!"}},{"$f":"Реестр!J1538","v":0},0]
[{"$f":"(Реестр!B1539)+0","v":"00:00:00"},{"$f":"Реестр!AM1539","v":0},{"$f":"Реестр!AZ1539","v":0},{"$f":"Реестр!AN1539","v":0},{"$f":"Реестр!G1539","v":0},{"$f":"Реестр!#REF!","v":{"$error":"#REF!"}},{"$f":"Реестр!J1539","v":0},0]
[{"$f":"(Реестр!B1540)+0","v":"00:00:00"},{"$f":"Реестр!AM1540","v":0},{"$f":"Реестр!AZ1540","v":0},{"$f":"Реестр!AN1540","v":0},{"$f":"Реестр!G1540","v":0},{"$f":"Реестр!#REF!","v":{"$error":"#REF!"}},{"$f":"Реестр!J1540","v":0},0]
[{"$f":"(Реестр!B1541)+0","v":"00:00:00"},{"$f":"Реестр!AM1541","v":0},{"$f":"Реестр!AZ1541","v":0},{"$f":"Реестр!AN1541","v":0},{"$f":"Реестр!G1541","v":0},{"$f":"Реестр!#REF!","v":{"$error":"#REF!"}},{"$f":"Реестр!J1541","v":0},0]
[{"$f":"(Реестр!B1542)+0","v":"00:00:00"},null,{"$f":"Реестр!AZ1542","v":0},{"$f":"Реестр!AN1542","v":0},{"$f":"Реестр!G1542","v":0},{"$f":"Реестр!#REF!","v":{"$error":"#REF!"}},{"$f":"Реестр!J1542","v":0},0]
[{"$f":"(Реестр!B1543)+0","v":"00:00:00"},null,{"$f":"Реестр!AZ1543","v":0},{"$f":"Реестр!AN1543","v":0},{"$f":"Реестр!G1543","v":0},{"$f":"Реестр!#REF!","v":{"$error":"#REF!"}},{"$f":"Реестр!J1543","v":0},0]
[{"$f":"(Реестр!B1544)+0","v":"00:00:00"},null,{"$f":"Реестр!AZ1544","v":0},{"$f":"Реестр!AN1544","v":0},{"$f":"Реестр!G1544","v":0},{"$f":"Реестр!#REF!","v":{"$error":"#REF!"}},{"$f":"Реестр!J1544","v":0},0]
[{"$f":"(Реестр!B1545)+0","v":"00:00:00"},null,{"$f":"Реестр!AZ1545","v":0},{"$f":"Реестр!AN1545","v":0},{"$f":"Реестр!G1545","v":0},{"$f":"Реестр!#REF!","v":{"$error":"#REF!"}},{"$f":"Реестр!J1545","v":0},0]
[{"$f":"(Реестр!B1546)+0","v":"00:00:00"},null,{"$f":"Реестр!AZ1546","v":0},{"$f":"Реестр!AN1546","v":0},{"$f":"Реестр!G1546","v":0},{"$f":"Реестр!#REF!","v":{"$error":"#REF!"}},{"$f":"Реестр!J1546","v":0},0]
[{"$f":"(Реестр!B1547)+0","v":"00:00:00"},null,{"$f":"Реестр!AZ1547","v":0},{"$f":"Реестр!AN1547","v":0},{"$f":"Реестр!G1547","v":0},{"$f":"Реестр!#REF!","v":{"$error":"#REF!"}},{"$f":"Реестр!J1547","v":0},0]
[{"$f":"(Реестр!B1548)+0","v":"00:00:00"},null,{"$f":"Реестр!AZ1548","v":0},{"$f":"Реестр!AN1548","v":0},{"$f":"Реестр!G1548","v":0},{"$f":"Реестр!#REF!","v":{"$error":"#REF!"}},{"$f":"Реестр!J1548","v":0},0]
[{"$f":"(Реестр!B1549)+0","v":"00:00:00"},null,{"$f":"Реестр!AZ1549","v":0},{"$f":"Реестр!AN1549","v":0},{"$f":"Реестр!G1549","v":0},{"$f":"Реестр!#REF!","v":{"$error":"#REF!"}},{"$f":"Реестр!J1549","v":0},0]
[{"$f":"(Реестр!B1550)+0","v":"00:00:00"},null,{"$f":"Реестр!AZ1550","v":0},{"$f":"Реестр!AN1550","v":0},{"$f":"Реестр!G1550","v":0},{"$f":"Реестр!#REF!","v":{"$error":"#REF!"}},{"$f":"Реестр!J1550","v":0},0]
[{"$f":"(Реестр!B1551)+0","v":"00:00:00"},null,{"$f":"Реестр!AZ1551","v":0},{"$f":"Реестр!AN1551","v":0},{"$f":"Реестр!G1551","v":0},{"$f":"Реестр!#REF!","v":{"$error":"#REF!"}},{"$f":"Реестр!J1551","v":0},0]
[{"$f":"(Реестр!B1552)+0","v":"00:00:00"},null,{"$f":"Реестр!AZ1552","v":0},{"$f":"Реестр!AN1552","v":0},{"$f":"Реестр!G1552","v":0},{"$f":"Реестр!#REF!","v":{"$error":"#REF!"}},{"$f":"Реестр!J1552","v":0},0]
[{"$f":"(Реестр!B1553)+0","v":"00:00:00"},null,{"$f":"Реестр!AZ1553","v":0},{"$f":"Реестр!AN1553","v":0},{"$f":"Реестр!G1553","v":0},{"$f":"Реестр!#REF!","v":{"$error":"#REF!"}},{"$f":"Реестр!J1553","v":0},0]
[{"$f":"(Реестр!B1554)+0","v":"00:00:00"},null,{"$f":"Реестр!AZ1554","v":0},{"$f":"Реестр!AN1554","v":0},{"$f":"Реестр!G1554","v":0},{"$f":"Реестр!#REF!","v":{"$error":"#REF!"}},{"$f":"Реестр!J1554","v":0},0]
[{"$f":"(Реестр!B1555)+0","v":"00:00:00"},null,{"$f":"Реестр!AZ1555","v":0},{"$f":"Реестр!AN1555","v":0},{"$f":"Реестр!G1555","v":0},{"$f":"Реестр!#REF!","v":{"$error":"#REF!"}},{"$f":"Реестр!J1555","v":0},0]
[{"$f":"(Реестр!B1556)+0","v":"00:00:00"},null,{"$f":"Реестр!AZ1556","v":0},{"$f":"Реестр!AN1556","v":0},{"$f":"Реестр!G1556","v":0},{"$f":"Реестр!#REF!","v":{"$error":"#REF!"}},{"$f":"Реестр!J1556","v":0},0]
[{"$f":"(Реестр!B1557)+0","v":"00:00:00"},null,{"$f":"Реестр!AZ1557","v":0},{"$f":"Реестр!AN1557","v":0},{"$f":"Реестр!G1557","v":0},{"$f":"Реестр!#REF!","v":{"$error":"#REF!"}},{"$f":"Реестр!J1557","v":0},0]
[{"$f":"(Реестр!B1558)+0","v":"00:00:00"},null,{"$f":"Реестр!AZ1558","v":0},{"$f":"Реестр!AN1558","v":0},{"$f":"Реестр!G1558","v":0},{"$f":"Реестр!#REF!","v":{"$error":"#REF!"}},{"$f":"Реестр!J1558","v":0},0]
[{"$f":"(Реестр!B1559)+0","v":"00:00:00"},null,{"$f":"Реестр!AZ1559","v":0},{"$f":"Реестр!AN1559","v":0},{"$f":"Реестр!G1559","v":0},{"$f":"Реестр!#REF!","v":{"$error":"#REF!"}},{"$f":"Реестр!J1559","v":0},0]
[{"$f":"(Реестр!B1560)+0","v":"00:00:00"},null,{"$f":"Реестр!AZ1560","v":0},{"$f":"Реестр!AN1560","v":0},{"$f":"Реестр!G1560","v":0},{"$f":"Реестр!#REF!","v":{"$error":"#REF!"}},{"$f":"Реестр!J1560","v":0},0]
[{"$f":"(Реестр!B1561)+0","v":"00:00:00"},null,{"$f":"Реестр!AZ1561","v":0},{"$f":"Реестр!AN1561","v":0},{"$f":"Реестр!G1561","v":0},{"$f":"Реестр!#REF!","v":{"$error":"#REF!"}},{"$f":"Реестр!J1561","v":0},0]
[{"$f":"(Реестр!B1562)+0","v":"00:00:00"},null,{"$f":"Реестр!AZ1562","v":0},{"$f":"Реестр!AN1562","v":0},{"$f":"Реестр!G1562","v":0},{"$f":"Реестр!#REF!","v":{"$error":"#REF!"}},{"$f":"Реестр!J1562","v":0},0]
[{"$f":"(Реестр!B1563)+0","v":"00:00:00"},null,{"$f":"Реестр!AZ1563","v":0},{"$f":"Реестр!AN1563","v":0},{"$f":"Реестр!G1563","v":0},{"$f":"Реестр!#REF!","v":{"$error":"#REF!"}},{"$f":"Реестр!J1563","v":0},0]
[{"$f":"(Реестр!B1564)+0","v":"00:00:00"},null,{"$f":"Реестр!AZ1564","v":0},{"$f":"Реестр!AN1564","v":0},{"$f":"Реестр!G1564","v":0},{"$f":"Реестр!#REF!","v":{"$error":"#REF!"}},{"$f":"Реестр!J1564","v":0},0]
[{"$f":"(Реестр!B1565)+0","v":"00:00:00"},null,{"$f":"Реестр!AZ1565","v":0},{"$f":"Реестр!AN1565","v":0},{"$f":"Реестр!G1565","v":0},{"$f":"Реестр!#REF!","v":{"$error":"#REF!"}},{"$f":"Реестр!J1565","v":0},0]
[{"$f":"(Реестр!B1566)+0","v":"00:00:00"},null,{"$f":"Реестр!AZ1566","v":0},{"$f":"Реестр!AN1566","v":0},{"$f":"Реестр!G1566","v":0},{"$f":"Реестр!#REF!","v":{"$error":"#REF!"}},{"$f":"Реестр!J1566","v":0},0]
[{"$f":"(Реестр!B1567)+0","v":"00:00:00"},null,{"$f":"Реестр!AZ1567","v":0},{"$f":"Реестр!AN1567","v":0},{"$f":"Реестр!G1567","v":0},{"$f":"Реестр!#REF!","v":{"$error":"#REF!"}},{"$f":"Реестр!J1567","v":0},0]
[{"$f":"(Реестр!B1568)+0","v":"00:00:00"},null,{"$f":"Реестр!AZ1568","v":0},{"$f":"Реестр!AN1568","v":0},{"$f":"Реестр!G1568","v":0},{"$f":"Реестр!#REF!","v":{"$error":"#REF!"}},{"$f":"Реестр!J1568","v":0},0]
[{"$f":"(Реестр!B1569)+0","v":"00:00:00"},null,{"$f":"Реестр!AZ1569","v":0},{"$f":"Реестр!AN1569","v":0},{"$f":"Реестр!G1569","v":0},{"$f":"Реестр!#REF!","v":{"$error":"#REF!"}},{"$f":"Реестр!J1569","v":0},0]
[{"$f":"(Реестр!B1570)+0","v":"00:00:00"},null,{"$f":"Реестр!AZ1570","v":0},{"$f":"Реестр!AN1570","v":0},{"$f":"Реестр!G1570","v":0},{"$f":"Реестр!#REF!","v":{"$error":"#REF!"}},{"$f":"Реестр!J1570","v":0},0]
[{"$f":"(Реестр!B1571)+0","v":"00:00:00"},null,{"$f":"Реестр!AZ1571","v":0},{"$f":"Реестр!AN1571","v":0},{"$f":"Реестр!G1571","v":0},{"$f":"Реестр!#REF!","v":{"$error":"#REF!"}},{"$f":"Реестр!J1571","v":0},0]
[{"$f":"(Реестр!B1572)+0","v":"00:00:00"},null,{"$f":"Реестр!AZ1572","v":0},{"$f":"Реестр!AN1572","v":0},{"$f":"Реестр!G1572","v":0},{"$f":"Реестр!#REF!","v":{"$error":"#REF!"}},{"$f":"Реестр!J1572","v":0},0]
[{"$f":"(Реестр!B1573)+0","v":"00:00:00"},null,{"$f":"Реестр!AZ1573","v":0},{"$f":"Реестр!AN1573","v":0},{"$f":"Реестр!G1573","v":0},{"$f":"Реестр!#REF!","v":{"$error":"#REF!"}},{"$f":"Реестр!J1573","v":0},0]
[{"$f":"(Реестр!B1574)+0","v":"00:00:00"},null,{"$f":"Реестр!AZ1574","v":0},{"$f":"Реестр!AN1574","v":0},{"$f":"Реестр!G1574","v":0},{"$f":"Реестр!#REF!","v":{"$error":"#REF!"}},{"$f":"Реестр!J1574","v":0},0]
[{"$f":"(Реестр!B1575)+0","v":"00:00:00"},null,{"$f":"Реестр!AZ1575","v":0},{"$f":"Реестр!AN1575","v":0},{"$f":"Реестр!G1575","v":0},{"$f":"Реестр!#REF!","v":{"$error":"#REF!"}},{"$f":"Реестр!J1575","v":0},0]
[{"$f":"(Реестр!B1576)+0","v":"00:00:00"},null,{"$f":"Реестр!AZ1576","v":0},{"$f":"Реестр!AN1576","v":0},{"$f":"Реестр!G1576","v":0},{"$f":"Реестр!#REF!","v":{"$error":"#REF!"}},{"$f":"Реестр!J1576","v":0},0]
[{"$f":"(Реестр!B1577)+0","v":"00:00:00"},null,{"$f":"Реестр!AZ1577","v":0},{"$f":"Реестр!AN1577","v":0},{"$f":"Реестр!G1577","v":0},{"$f":"Реестр!#REF!","v":{"$error":"#REF!"}},{"$f":"Реестр!J1577","v":0},0]
[{"$f":"(Реестр!B1578)+0","v":"00:00:00"},null,{"$f":"Реестр!AZ1578","v":0},{"$f":"Реестр!AN1578","v":0},{"$f":"Реестр!G1578","v":0},{"$f":"Реестр!#REF!","v":{"$error":"#REF!"}},{"$f":"Реестр!J1578","v":0},0]
[{"$f":"(Реестр!B1579)+0","v":"00:00:00"},null,{"$f":"Реестр!AZ1579","v":0},{"$f":"Реестр!AN1579","v":0},{"$f":"Реестр!G1579","v":0},null,{"$f":"Реестр!J1579","v":0},0]
[{"$f":"(Реестр!B1580)+0","v":"00:00:00"},null,{"$f":"Реестр!AZ1580","v":0},{"$f":"Реестр!AN1580","v":0},{"$f":"Реестр!G1580","v":0},null,{"$f":"Реестр!J1580","v":0},0]
[{"$f":"(Реестр!B1581)+0","v":"00:00:00"},null,{"$f":"Реестр!AZ1581","v":0},{"$f":"Реестр!AN1581","v":0},{"$f":"Реестр!G1581","v":0},null,{"$f":"Реестр!J1581","v":0},0]
[{"$f":"(Реестр!B1582)+0","v":"00:00:00"},null,{"$f":"Реестр!AZ1582","v":0},{"$f":"Реестр!AN1582","v":0},{"$f":"Реестр!G1582","v":0},null,{"$f":"Реестр!J1582","v":0},0]
[{"$f":"(Реестр!B1583)+0","v":"00:00:00"},null,{"$f":"Реестр!AZ1583","v":0},{"$f":"Реестр!AN1583","v":0},{"$f":"Реестр!G1583","v":0},null,{"$f":"Реестр!J1583","v":0},0]
[{"$f":"(Реестр!B1584)+0","v":"00:00:00"},null,{"$f":"Реестр!AZ1584","v":0},{"$f":"Реестр!AN1584","v":0},{"$f":"Реестр!G1584","v":0},null,{"$f":"Реестр!J1584","v":0},0]
[{"$f":"(Реестр!B1585)+0","v":"00:00:00"},null,{"$f":"Реестр!AZ1585","v":0},{"$f":"Реестр!AN1585","v":0},{"$f":"Реестр!G1585","v":0},null,{"$f":"Реестр!J1585","v":0},0]
[{"$f":"(Реестр!B1586)+0","v":"00:00:00"},null,{"$f":"Реестр!AZ1586","v":0},{"$f":"Реестр!AN1586","v":0},{"$f":"Реестр!G1586","v":0},null,{"$f":"Реестр!J1586","v":0},0]
[{"$f":"(Реестр!B1587)+0","v":"00:00:00"},null,{"$f":"Реестр!AZ1587","v":0},{"$f":"Реестр!AN1587","v":0},{"$f":"Реестр!G1587","v":0},null,{"$f":"Реестр!J1587","v":0},0]
[{"$f":"(Реестр!B1588)+0","v":"00:00:00"},null,{"$f":"Реестр!AZ1588","v":0},{"$f":"Реестр!AN1588","v":0},{"$f":"Реестр!G1588","v":0},null,{"$f":"Реестр!J1588","v":0},0]
[{"$f":"(Реестр!B1589)+0","v":"00:00:00"},null,{"$f":"Реестр!AZ1589","v":0},{"$f":"Реестр!AN1589","v":0},{"$f":"Реестр!G1589","v":0},null,{"$f":"Реестр!J1589","v":0},0]
[{"$f":"(Реестр!B1590)+0","v":"00:00:00"},null,{"$f":"Реестр!AZ1590","v":0},{"$f":"Реестр!AN1590","v":0},{"$f":"Реестр!G1590","v":0},null,{"$f":"Реестр!J1590","v":0},0]
[{"$f":"(Реестр!B1591)+0","v":"00:00:00"},null,{"$f":"Реестр!AZ1591","v":0},{"$f":"Реестр!AN1591","v":0},{"$f":"Реестр!G1591","v":0},null,{"$f":"Реестр!J1591","v":0},0]
[{"$f":"(Реестр!B1592)+0","v":"00:00:00"},null,{"$f":"Реестр!AZ1592","v":0},{"$f":"Реестр!AN1592","v":0},{"$f":"Реестр!G1592","v":0},null,{"$f":"Реестр!J1592","v":0},0]
[{"$f":"(Реестр!B1593)+0","v":"00:00:00"},null,{"$f":"Реестр!AZ1593","v":0},{"$f":"Реестр!AN1593","v":0},{"$f":"Реестр!G1593","v":0},null,{"$f":"Реестр!J1593","v":0},0]
[{"$f":"(Реестр!B1594)+0","v":"00:00:00"},null,{"$f":"Реестр!AZ1594","v":0},{"$f":"Реестр!AN1594","v":0},{"$f":"Реестр!G1594","v":0},null,{"$f":"Реестр!J1594","v":0},0]
[{"$f":"(Реестр!B1595)+0","v":"00:00:00"},null,{"$f":"Реестр!AZ1595","v":0},{"$f":"Реестр!AN1595","v":0},{"$f":"Реестр!G1595","v":0},null,{"$f":"Реестр!J1595","v":0},0]
[{"$f":"(Реестр!B1596)+0","v":"00:00:00"},null,{"$f":"Реестр!AZ1596","v":0},{"$f":"Реестр!AN1596","v":0},{"$f":"Реестр!G1596","v":0},null,{"$f":"Реестр!J1596","v":0},0]
[{"$f":"(Реестр!B1597)+0","v":"00:00:00"},null,{"$f":"Реестр!AZ1597","v":0},{"$f":"Реестр!AN1597","v":0},{"$f":"Реестр!G1597","v":0},null,{"$f":"Реестр!J1597","v":0},0]
[{"$f":"(Реестр!B1598)+0","v":"00:00:00"},null,{"$f":"Реестр!AZ1598","v":0},{"$f":"Реестр!AN1598","v":0},{"$f":"Реестр!G1598","v":0},null,{"$f":"Реестр!J1598","v":0},0]
[{"$f":"(Реестр!B1599)+0","v":"00:00:00"},null,{"$f":"Реестр!AZ1599","v":0},{"$f":"Реестр!AN1599","v":0},{"$f":"Реестр!G1599","v":0},null,{"$f":"Реестр!J1599","v":0},{"$f":"E1033*G1033","v":0}]
[{"$f":"(Реестр!B1600)+0","v":"00:00:00"},null,{"$f":"Реестр!AZ1600","v":0},{"$f":"Реестр!AN1600","v":0},{"$f":"Реестр!G1600","v":0},null,{"$f":"Реестр!J1600","v":0},0]
[{"$f":"(Реестр!B1601)+0","v":"00:00:00"},null,{"$f":"Реестр!AZ1601","v":0},{"$f":"Реестр!AN1601","v":0},{"$f":"Реестр!G1601","v":0},null,{"$f":"Реестр!J1601","v":0},0]
[{"$f":"(Реестр!B1602)+0","v":"00:00:00"},null,{"$f":"Реестр!AZ1602","v":0},{"$f":"Реестр!AN1602","v":0},{"$f":"Реестр!G1602","v":0},null,{"$f":"Реестр!J1602","v":0},0]
[{"$f":"(Реестр!B1603)+0","v":"00:00:00"},null,{"$f":"Реестр!AZ1603","v":0},{"$f":"Реестр!AN1603","v":0},{"$f":"Реестр!G1603","v":0},null,{"$f":"Реестр!J1603","v":0},0]
[{"$f":"(Реестр!B1604)+0","v":"00:00:00"},null,{"$f":"Реестр!AZ1604","v":0},{"$f":"Реестр!AN1604","v":0},{"$f":"Реестр!G1604","v":0},null,{"$f":"Реестр!J1604","v":0},0]
[{"$f":"(Реестр!B1605)+0","v":"00:00:00"},null,{"$f":"Реестр!AZ1605","v":0},{"$f":"Реестр!AN1605","v":0},{"$f":"Реестр!G1605","v":0},null,{"$f":"Реестр!J1605","v":0},0]
[{"$f":"(Реестр!B1606)+0","v":"00:00:00"},null,{"$f":"Реестр!AZ1606","v":0},{"$f":"Реестр!AN1606","v":0},{"$f":"Реестр!G1606","v":0},null,{"$f":"Реестр!J1606","v":0},0]
[{"$f":"(Реестр!B1607)+0","v":"00:00:00"},null,{"$f":"Реестр!AZ1607","v":0},{"$f":"Реестр!AN1607","v":0},{"$f":"Реестр!G1607","v":0},null,{"$f":"Реестр!J1607","v":0},0]
[{"$f":"(Реестр!B1608)+0","v":"00:00:00"},null,{"$f":"Реестр!AZ1608","v":0},{"$f":"Реестр!AN1608","v":0},{"$f":"Реестр!G1608","v":0},null,{"$f":"Реестр!J1608","v":0},0]
[{"$f":"(Реестр!B1609)+0","v":"00:00:00"},null,{"$f":"Реестр!AZ1609","v":0},{"$f":"Реестр!AN1609","v":0},{"$f":"Реестр!G1609","v":0},null,{"$f":"Реестр!J1609","v":0},0]
[{"$f":"(Реестр!B1610)+0","v":"00:00:00"},null,{"$f":"Реестр!AZ1610","v":0},{"$f":"Реестр!AN1610","v":0},{"$f":"Реестр!G1610","v":0},null,{"$f":"Реестр!J1610","v":0},0]
[{"$f":"(Реестр!B1611)+0","v":"00:00:00"},null,{"$f":"Реестр!AZ1611","v":0},{"$f":"Реестр!AN1611","v":0},{"$f":"Реестр!G1611","v":0},null,{"$f":"Реестр!J1611","v":0},0]
[{"$f":"(Реестр!B1612)+0","v":"00:00:00"},null,{"$f":"Реестр!AZ1612","v":0},{"$f":"Реестр!AN1612","v":0},{"$f":"Реестр!G1612","v":0},null,{"$f":"Реестр!J1612","v":0},0]
[{"$f":"(Реестр!B1613)+0","v":"00:00:00"},null,{"$f":"Реестр!AZ1613","v":0},{"$f":"Реестр!AN1613","v":0},{"$f":"Реестр!G1613","v":0},null,{"$f":"Реестр!J1613","v":0},0]
[{"$f":"(Реестр!B1614)+0","v":"00:00:00"},null,{"$f":"Реестр!AZ1614","v":0},{"$f":"Реестр!AN1614","v":0},{"$f":"Реестр!G1614","v":0},null,{"$f":"Реестр!J1614","v":0},0]
[{"$f":"(Реестр!B1615)+0","v":"00:00:00"},null,{"$f":"Реестр!AZ1615","v":0},{"$f":"Реестр!AN1615","v":0},{"$f":"Реестр!G1615","v":0},null,{"$f":"Реестр!J1615","v":0},0]
[{"$f":"(Реестр!B1616)+0","v":"00:00:00"},null,{"$f":"Реестр!AZ1616","v":0},{"$f":"Реестр!AN1616","v":0},{"$f":"Реестр!G1616","v":0},null,{"$f":"Реестр!J1616","v":0},0]
[{"$f":"(Реестр!B1617)+0","v":"00:00:00"},null,{"$f":"Реестр!AZ1617","v":0},{"$f":"Реестр!AN1617","v":0},{"$f":"Реестр!G1617","v":0},null,{"$f":"Реестр!J1617","v":0},0]
[{"$f":"(Реестр!B1618)+0","v":"00:00:00"},null,{"$f":"Реестр!AZ1618","v":0},{"$f":"Реестр!AN1618","v":0},{"$f":"Реестр!G1618","v":0},null,{"$f":"Реестр!J1618","v":0},0]
[{"$f":"(Реестр!B1619)+0","v":"00:00:00"},null,{"$f":"Реестр!AZ1619","v":0},{"$f":"Реестр!AN1619","v":0},{"$f":"Реестр!G1619","v":0},null,{"$f":"Реестр!J1619","v":0},0]
[{"$f":"(Реестр!B1620)+0","v":"00:00:00"},null,{"$f":"Реестр!AZ1620","v":0},{"$f":"Реестр!AN1620","v":0},{"$f":"Реестр!G1620","v":0},null,{"$f":"Реестр!J1620","v":0},0]
[{"$f":"(Реестр!B1621)+0","v":"00:00:00"},null,{"$f":"Реестр!AZ1621","v":0},{"$f":"Реестр!AN1621","v":0},{"$f":"Реестр!G1621","v":0},null,{"$f":"Реестр!J1621","v":0},0]
[{"$f":"(Реестр!B1622)+0","v":"00:00:00"},null,{"$f":"Реестр!AZ1622","v":0},{"$f":"Реестр!AN1622","v":0},{"$f":"Реестр!G1622","v":0},null,{"$f":"Реестр!J1622","v":0},0]
[{"$f":"(Реестр!B1623)+0","v":"00:00:00"},null,{"$f":"Реестр!AZ1623","v":0},{"$f":"Реестр!AN1623","v":0},{"$f":"Реестр!G1623","v":0},null,{"$f":"Реестр!J1623","v":0},0]
[{"$f":"(Реестр!B1624)+0","v":"00:00:00"},null,{"$f":"Реестр!AZ1624","v":0},{"$f":"Реестр!AN1624","v":0},{"$f":"Реестр!G1624","v":0},null,{"$f":"Реестр!J1624","v":0},0]
[{"$f":"(Реестр!B1625)+0","v":"00:00:00"},null,{"$f":"Реестр!AZ1625","v":0},{"$f":"Реестр!AN1625","v":0},{"$f":"Реестр!G1625","v":0},null,{"$f":"Реестр!J1625","v":0},0]
[{"$f":"(Реестр!B1626)+0","v":"00:00:00"},null,{"$f":"Реестр!AZ1626","v":0},{"$f":"Реестр!AN1626","v":0},{"$f":"Реестр!G1626","v":0},null,{"$f":"Реестр!J1626","v":0},0]
[{"$f":"(Реестр!B1627)+0","v":"00:00:00"},null,{"$f":"Реестр!AZ1627","v":0},{"$f":"Реестр!AN1627","v":0},{"$f":"Реестр!G1627","v":0},null,{"$f":"Реестр!J1627","v":0},0]
[{"$f":"(Реестр!B1628)+0","v":"00:00:00"},null,{"$f":"Реестр!AZ1628","v":0},{"$f":"Реестр!AN1628","v":0},{"$f":"Реестр!G1628","v":0},null,{"$f":"Реестр!J1628","v":0},0]
[{"$f":"(Реестр!B1629)+0","v":"00:00:00"},null,{"$f":"Реестр!AZ1629","v":0},{"$f":"Реестр!AN1629","v":0},{"$f":"Реестр!G1629","v":0},null,{"$f":"Реестр!J1629","v":0},0]
[{"$f":"(Реестр!B1630)+0","v":"00:00:00"},null,{"$f":"Реестр!AZ1630","v":0},{"$f":"Реестр!AN1630","v":0},{"$f":"Реестр!G1630","v":0},null,{"$f":"Реестр!J1630","v":0},0]
[{"$f":"(Реестр!B1631)+0","v":"00:00:00"},null,{"$f":"Реестр!AZ1631","v":0},{"$f":"Реестр!AN1631","v":0},{"$f":"Реестр!G1631","v":0},null,{"$f":"Реестр!J1631","v":0},0]
[{"$f":"(Реестр!B1632)+0","v":"00:00:00"},null,{"$f":"Реестр!AZ1632","v":0},{"$f":"Реестр!AN1632","v":0},{"$f":"Реестр!G1632","v":0},null,{"$f":"Реестр!J1632","v":0},0]
[{"$f":"(Реестр!B1633)+0","v":"00:00:00"},null,{"$f":"Реестр!AZ1633","v":0},{"$f":"Реестр!AN1633","v":0},{"$f":"Реестр!G1633","v":0},null,{"$f":"Реестр!J1633","v":0},0]
[{"$f":"(Реестр!B1634)+0","v":"00:00:00"},null,{"$f":"Реестр!AZ1634","v":0},{"$f":"Реестр!AN1634","v":0},{"$f":"Реестр!G1634","v":0},null,{"$f":"Реестр!J1634","v":0},0]
[{"$f":"(Реестр!B1635)+0","v":"00:00:00"},null,{"$f":"Реестр!AZ1635","v":0},{"$f":"Реестр!AN1635","v":0},{"$f":"Реестр!G1635","v":0},null,{"$f":"Реестр!J1635","v":0},0]
[{"$f":"(Реестр!B1636)+0","v":"00:00:00"},null,{"$f":"Реестр!AZ1636","v":0},{"$f":"Реестр!AN1636","v":0},{"$f":"Реестр!G1636","v":0},null,{"$f":"Реестр!J1636","v":0},0]
[{"$f":"(Реестр!B1637)+0","v":"00:00:00"},null,{"$f":"Реестр!AZ1637","v":0},{"$f":"Реестр!AN1637","v":0},{"$f":"Реестр!G1637","v":0},null,{"$f":"Реестр!J1637","v":0},0]
[{"$f":"(Реестр!B1638)+0","v":"00:00:00"},null,{"$f":"Реестр!AZ1638","v":0},{"$f":"Реестр!AN1638","v":0},{"$f":"Реестр!G1638","v":0},null,{"$f":"Реестр!J1638","v":0},0]
[{"$f":"(Реестр!B1639)+0","v":"00:00:00"},null,{"$f":"Реестр!AZ1639","v":0},{"$f":"Реестр!AN1639","v":0},{"$f":"Реестр!G1639","v":0},null,{"$f":"Реестр!J1639","v":0},0]
[{"$f":"(Реестр!B1640)+0","v":"00:00:00"},null,{"$f":"Реестр!AZ1640","v":0},{"$f":"Реестр!AN1640","v":0},{"$f":"Реестр!G1640","v":0},null,{"$f":"Реестр!J1640","v":0},0]
[{"$f":"(Реестр!B1641)+0","v":"00:00:00"},null,{"$f":"Реестр!AZ1641","v":0},{"$f":"Реестр!AN1641","v":0},{"$f":"Реестр!G1641","v":0},null,{"$f":"Реестр!J1641","v":0},0]
[{"$f":"(Реестр!B1642)+0","v":"00:00:00"},null,{"$f":"Реестр!AZ1642","v":0},{"$f":"Реестр!AN1642","v":0},{"$f":"Реестр!G1642","v":0},null,{"$f":"Реестр!J1642","v":0},0]
[{"$f":"(Реестр!B1643)+0","v":"00:00:00"},null,{"$f":"Реестр!AZ1643","v":0},{"$f":"Реестр!AN1643","v":0},{"$f":"Реестр!G1643","v":0},null,{"$f":"Реестр!J1643","v":0},0]
[{"$f":"(Реестр!B1644)+0","v":"00:00:00"},null,{"$f":"Реестр!AZ1644","v":0},{"$f":"Реестр!AN1644","v":0},{"$f":"Реестр!G1644","v":0},null,{"$f":"Реестр!J1644","v":0},0]
[{"$f":"(Реестр!B1645)+0","v":"00:00:00"},null,{"$f":"Реестр!AZ1645","v":0},{"$f":"Реестр!AN1645","v":0},{"$f":"Реестр!G1645","v":0},null,{"$f":"Реестр!J1645","v":0},0]
[{"$f":"(Реестр!B1646)+0","v":"00:00:00"},null,{"$f":"Реестр!AZ1646","v":0},{"$f":"Реестр!AN1646","v":0},{"$f":"Реестр!G1646","v":0},null,{"$f":"Реестр!J1646","v":0},0]
[{"$f":"(Реестр!B1647)+0","v":"00:00:00"},null,{"$f":"Реестр!AZ1647","v":0},{"$f":"Реестр!AN1647","v":0},{"$f":"Реестр!G1647","v":0},null,{"$f":"Реестр!J1647","v":0},0]
[{"$f":"(Реестр!B1648)+0","v":"00:00:00"},null,{"$f":"Реестр!AZ1648","v":0},{"$f":"Реестр!AN1648","v":0},{"$f":"Реестр!G1648","v":0},null,{"$f":"Реестр!J1648","v":0},0]
[{"$f":"(Реестр!B1649)+0","v":"00:00:00"},null,{"$f":"Реестр!AZ1649","v":0},{"$f":"Реестр!AN1649","v":0},{"$f":"Реестр!G1649","v":0},null,{"$f":"Реестр!J1649","v":0},0]
[{"$f":"(Реестр!B1650)+0","v":"00:00:00"},null,{"$f":"Реестр!AZ1650","v":0},{"$f":"Реестр!AN1650","v":0},{"$f":"Реестр!G1650","v":0},null,{"$f":"Реестр!J1650","v":0},0]
[{"$f":"(Реестр!B1651)+0","v":"00:00:00"},null,{"$f":"Реестр!AZ1651","v":0},{"$f":"Реестр!AN1651","v":0},{"$f":"Реестр!G1651","v":0},null,{"$f":"Реестр!J1651","v":0},0]
[{"$f":"(Реестр!B1652)+0","v":"00:00:00"},null,{"$f":"Реестр!AZ1652","v":0},{"$f":"Реестр!AN1652","v":0},{"$f":"Реестр!G1652","v":0},null,{"$f":"Реестр!J1652","v":0},0]
[{"$f":"(Реестр!B1653)+0","v":"00:00:00"},null,{"$f":"Реестр!AZ1653","v":0},{"$f":"Реестр!AN1653","v":0},{"$f":"Реестр!G1653","v":0},null,{"$f":"Реестр!J1653","v":0},0]
[{"$f":"(Реестр!B1654)+0","v":"00:00:00"},null,{"$f":"Реестр!AZ1654","v":0},{"$f":"Реестр!AN1654","v":0},{"$f":"Реестр!G1654","v":0},null,{"$f":"Реестр!J1654","v":0},0]
[{"$f":"(Реестр!B1655)+0","v":"00:00:00"},null,{"$f":"Реестр!AZ1655","v":0},{"$f":"Реестр!AN1655","v":0},{"$f":"Реестр!G1655","v":0},null,{"$f":"Реестр!J1655","v":0},0]
[{"$f":"(Реестр!B1656)+0","v":"00:00:00"},null,{"$f":"Реестр!AZ1656","v":0},{"$f":"Реестр!AN1656","v":0},{"$f":"Реестр!G1656","v":0},null,{"$f":"Реестр!J1656","v":0},0]
[{"$f":"(Реестр!B1657)+0","v":"00:00:00"},null,{"$f":"Реестр!AZ1657","v":0},{"$f":"Реестр!AN1657","v":0},{"$f":"Реестр!G1657","v":0},null,{"$f":"Реестр!J1657","v":0},0]
[{"$f":"(Реестр!B1658)+0","v":"00:00:00"},null,{"$f":"Реестр!AZ1658","v":0},{"$f":"Реестр!AN1658","v":0},{"$f":"Реестр!G1658","v":0},null,{"$f":"Реестр!J1658","v":0},0]
[{"$f":"(Реестр!B1659)+0","v":"00:00:00"},null,{"$f":"Реестр!AZ1659","v":0},{"$f":"Реестр!AN1659","v":0},{"$f":"Реестр!G1659","v":0},null,{"$f":"Реестр!J1659","v":0},0]
[{"$f":"(Реестр!B1660)+0","v":"00:00:00"},null,{"$f":"Реестр!AZ1660","v":0},{"$f":"Реестр!AN1660","v":0},{"$f":"Реестр!G1660","v":0},null,{"$f":"Реестр!J1660","v":0},0]
[{"$f":"(Реестр!B1661)+0","v":"00:00:00"},null,{"$f":"Реестр!AZ1661","v":0},{"$f":"Реестр!AN1661","v":0},{"$f":"Реестр!G1661","v":0},null,{"$f":"Реестр!J1661","v":0},0]
[{"$f":"(Реестр!B1662)+0","v":"00:00:00"},null,{"$f":"Реестр!AZ1662","v":0},{"$f":"Реестр!AN1662","v":0},{"$f":"Реестр!G1662","v":0},null,{"$f":"Реестр!J1662","v":0},0]
[{"$f":"(Реестр!B1663)+0","v":"00:00:00"},null,{"$f":"Реестр!AZ1663","v":0},{"$f":"Реестр!AN1663","v":0},{"$f":"Реестр!G1663","v":0},null,{"$f":"Реестр!J1663","v":0},{"$f":"E1097*G1097","v":0}]
[{"$f":"(Реестр!B1664)+0","v":"00:00:00"},null,{"$f":"Реестр!AZ1664","v":0},{"$f":"Реестр!AN1664","v":0},{"$f":"Реестр!G1664","v":0},null,{"$f":"Реестр!J1664","v":0},0]
[{"$f":"(Реестр!B1665)+0","v":"00:00:00"},null,{"$f":"Реестр!AZ1665","v":0},{"$f":"Реестр!AN1665","v":0},{"$f":"Реестр!G1665","v":0},null,{"$f":"Реестр!J1665","v":0},0]
[{"$f":"(Реестр!B1666)+0","v":"00:00:00"},null,{"$f":"Реестр!AZ1666","v":0},{"$f":"Реестр!AN1666","v":0},{"$f":"Реестр!G1666","v":0},null,{"$f":"Реестр!J1666","v":0},0]
[{"$f":"(Реестр!B1667)+0","v":"00:00:00"},null,{"$f":"Реестр!AZ1667","v":0},{"$f":"Реестр!AN1667","v":0},{"$f":"Реестр!G1667","v":0},null,{"$f":"Реестр!J1667","v":0},0]
[{"$f":"(Реестр!B1668)+0","v":"00:00:00"},null,{"$f":"Реестр!AZ1668","v":0},{"$f":"Реестр!AN1668","v":0},{"$f":"Реестр!G1668","v":0},null,{"$f":"Реестр!J1668","v":0},0]
[{"$f":"(Реестр!B1669)+0","v":"00:00:00"},null,{"$f":"Реестр!AZ1669","v":0},{"$f":"Реестр!AN1669","v":0},{"$f":"Реестр!G1669","v":0},null,{"$f":"Реестр!J1669","v":0},0]
[{"$f":"(Реестр!B1670)+0","v":"00:00:00"},null,{"$f":"Реестр!AZ1670","v":0},{"$f":"Реестр!AN1670","v":0},{"$f":"Реестр!G1670","v":0},null,{"$f":"Реестр!J1670","v":0},0]
[{"$f":"(Реестр!B1671)+0","v":"00:00:00"},null,{"$f":"Реестр!AZ1671","v":0},{"$f":"Реестр!AN1671","v":0},{"$f":"Реестр!G1671","v":0},null,{"$f":"Реестр!J1671","v":0},0]
[{"$f":"(Реестр!B1672)+0","v":"00:00:00"},null,{"$f":"Реестр!AZ1672","v":0},{"$f":"Реестр!AN1672","v":0},{"$f":"Реестр!G1672","v":0},null,{"$f":"Реестр!J1672","v":0},0]
[{"$f":"(Реестр!B1673)+0","v":"00:00:00"},null,{"$f":"Реестр!AZ1673","v":0},{"$f":"Реестр!AN1673","v":0},{"$f":"Реестр!G1673","v":0},null,{"$f":"Реестр!J1673","v":0},0]
[{"$f":"(Реестр!B1674)+0","v":"00:00:00"},null,{"$f":"Реестр!AZ1674","v":0},{"$f":"Реестр!AN1674","v":0},{"$f":"Реестр!G1674","v":0},null,{"$f":"Реестр!J1674","v":0},0]
[{"$f":"(Реестр!B1675)+0","v":"00:00:00"},null,{"$f":"Реестр!AZ1675","v":0},{"$f":"Реестр!AN1675","v":0},{"$f":"Реестр!G1675","v":0},null,{"$f":"Реестр!J1675","v":0},0]
[{"$f":"(Реестр!B1676)+0","v":"00:00:00"},null,{"$f":"Реестр!AZ1676","v":0},{"$f":"Реестр!AN1676","v":0},{"$f":"Реестр!G1676","v":0},null,{"$f":"Реестр!J1676","v":0},0]
[{"$f":"(Реестр!B1677)+0","v":"00:00:00"},null,{"$f":"Реестр!AZ1677","v":0},{"$f":"Реестр!AN1677","v":0},{"$f":"Реестр!G1677","v":0},null,{"$f":"Реестр!J1677","v":0},0]
[{"$f":"(Реестр!B1678)+0","v":"00:00:00"},null,{"$f":"Реестр!AZ1678","v":0},{"$f":"Реестр!AN1678","v":0},{"$f":"Реестр!G1678","v":0},null,{"$f":"Реестр!J1678","v":0},0]
[{"$f":"(Реестр!B1679)+0","v":"00:00:00"},null,{"$f":"Реестр!AZ1679","v":0},{"$f":"Реестр!AN1679","v":0},{"$f":"Реестр!G1679","v":0},null,{"$f":"Реестр!J1679","v":0},0]
[{"$f":"(Реестр!B1680)+0","v":"00:00:00"},null,{"$f":"Реестр!AZ1680","v":0},{"$f":"Реестр!AN1680","v":0},{"$f":"Реестр!G1680","v":0},null,{"$f":"Реестр!J1680","v":0},0]
[{"$f":"(Реестр!B1681)+0","v":"00:00:00"},null,{"$f":"Реестр!AZ1681","v":0},{"$f":"Реестр!AN1681","v":0},{"$f":"Реестр!G1681","v":0},null,{"$f":"Реестр!J1681","v":0},0]
[{"$f":"(Реестр!B1682)+0","v":"00:00:00"},null,{"$f":"Реестр!AZ1682","v":0},{"$f":"Реестр!AN1682","v":0},{"$f":"Реестр!G1682","v":0},null,{"$f":"Реестр!J1682","v":0},0]
[{"$f":"(Реестр!B1683)+0","v":"00:00:00"},null,{"$f":"Реестр!AZ1683","v":0},{"$f":"Реестр!AN1683","v":0},{"$f":"Реестр!G1683","v":0},null,{"$f":"Реестр!J1683","v":0},0]
[{"$f":"(Реестр!B1684)+0","v":"00:00:00"},null,{"$f":"Реестр!AZ1684","v":0},{"$f":"Реестр!AN1684","v":0},{"$f":"Реестр!G1684","v":0},null,{"$f":"Реестр!J1684","v":0},0]
[{"$f":"(Реестр!B1685)+0","v":"00:00:00"},null,{"$f":"Реестр!AZ1685","v":0},{"$f":"Реестр!AN1685","v":0},{"$f":"Реестр!G1685","v":0},null,{"$f":"Реестр!J1685","v":0},0]
[{"$f":"(Реестр!B1686)+0","v":"00:00:00"},null,{"$f":"Реестр!AZ1686","v":0},{"$f":"Реестр!AN1686","v":0},{"$f":"Реестр!G1686","v":0},null,{"$f":"Реестр!J1686","v":0},0]
[{"$f":"(Реестр!B1687)+0","v":"00:00:00"},null,{"$f":"Реестр!AZ1687","v":0},{"$f":"Реестр!AN1687","v":0},{"$f":"Реестр!G1687","v":0},null,{"$f":"Реестр!J1687","v":0},0]
[{"$f":"(Реестр!B1688)+0","v":"00:00:00"},null,{"$f":"Реестр!AZ1688","v":0},{"$f":"Реестр!AN1688","v":0},{"$f":"Реестр!G1688","v":0},null,{"$f":"Реестр!J1688","v":0},0]
[{"$f":"(Реестр!B1689)+0","v":"00:00:00"},null,{"$f":"Реестр!AZ1689","v":0},{"$f":"Реестр!AN1689","v":0},{"$f":"Реестр!G1689","v":0},null,{"$f":"Реестр!J1689","v":0},0]
[{"$f":"(Реестр!B1690)+0","v":"00:00:00"},null,{"$f":"Реестр!AZ1690","v":0},{"$f":"Реестр!AN1690","v":0},{"$f":"Реестр!G1690","v":0},null,{"$f":"Реестр!J1690","v":0},0]
[{"$f":"(Реестр!B1691)+0","v":"00:00:00"},null,{"$f":"Реестр!AZ1691","v":0},{"$f":"Реестр!AN1691","v":0},{"$f":"Реестр!G1691","v":0},null,{"$f":"Реестр!J1691","v":0},0]
[{"$f":"(Реестр!B1692)+0","v":"00:00:00"},null,{"$f":"Реестр!AZ1692","v":0},{"$f":"Реестр!AN1692","v":0},{"$f":"Реестр!G1692","v":0},null,{"$f":"Реестр!J1692","v":0},0]
[{"$f":"(Реестр!B1693)+0","v":"00:00:00"},null,{"$f":"Реестр!AZ1693","v":0},{"$f":"Реестр!AN1693","v":0},{"$f":"Реестр!G1693","v":0},null,{"$f":"Реестр!J1693","v":0},0]
[{"$f":"(Реестр!B1694)+0","v":"00:00:00"},null,{"$f":"Реестр!AZ1694","v":0},{"$f":"Реестр!AN1694","v":0},{"$f":"Реестр!G1694","v":0},null,{"$f":"Реестр!J1694","v":0},0]
[{"$f":"(Реестр!B1695)+0","v":"00:00:00"},null,{"$f":"Реестр!AZ1695","v":0},{"$f":"Реестр!AN1695","v":0},{"$f":"Реестр!G1695","v":0},null,{"$f":"Реестр!J1695","v":0},0]
[{"$f":"(Реестр!B1696)+0","v":"00:00:00"},null,{"$f":"Реестр!AZ1696","v":0},{"$f":"Реестр!AN1696","v":0},{"$f":"Реестр!G1696","v":0},null,{"$f":"Реестр!J1696","v":0},0]
[{"$f":"(Реестр!B1697)+0","v":"00:00:00"},null,{"$f":"Реестр!AZ1697","v":0},{"$f":"Реестр!AN1697","v":0},{"$f":"Реестр!G1697","v":0},null,{"$f":"Реестр!J1697","v":0},0]
[{"$f":"(Реестр!B1698)+0","v":"00:00:00"},null,{"$f":"Реестр!AZ1698","v":0},{"$f":"Реестр!AN1698","v":0},{"$f":"Реестр!G1698","v":0},null,{"$f":"Реестр!J1698","v":0},0]
[{"$f":"(Реестр!B1699)+0","v":"00:00:00"},null,{"$f":"Реестр!AZ1699","v":0},{"$f":"Реестр!AN1699","v":0},{"$f":"Реестр!G1699","v":0},null,{"$f":"Реестр!J1699","v":0},0]
[{"$f":"(Реестр!B1700)+0","v":"00:00:00"},null,{"$f":"Реестр!AZ1700","v":0},{"$f":"Реестр!AN1700","v":0},{"$f":"Реестр!G1700","v":0},null,{"$f":"Реестр!J1700","v":0},0]
[{"$f":"(Реестр!B1701)+0","v":"00:00:00"},null,{"$f":"Реестр!AZ1701","v":0},{"$f":"Реестр!AN1701","v":0},{"$f":"Реестр!G1701","v":0},null,{"$f":"Реестр!J1701","v":0},0]
[{"$f":"(Реестр!B1702)+0","v":"00:00:00"},null,{"$f":"Реестр!AZ1702","v":0},{"$f":"Реестр!AN1702","v":0},{"$f":"Реестр!G1702","v":0},null,{"$f":"Реестр!J1702","v":0},0]
[{"$f":"(Реестр!B1703)+0","v":"00:00:00"},null,{"$f":"Реестр!AZ1703","v":0},{"$f":"Реестр!AN1703","v":0},{"$f":"Реестр!G1703","v":0},null,{"$f":"Реестр!J1703","v":0},0]
[{"$f":"(Реестр!B1704)+0","v":"00:00:00"},null,{"$f":"Реестр!AZ1704","v":0},{"$f":"Реестр!AN1704","v":0},{"$f":"Реестр!G1704","v":0},null,{"$f":"Реестр!J1704","v":0},0]
[{"$f":"(Реестр!B1705)+0","v":"00:00:00"},null,{"$f":"Реестр!AZ1705","v":0},{"$f":"Реестр!AN1705","v":0},{"$f":"Реестр!G1705","v":0},null,{"$f":"Реестр!J1705","v":0},0]
[{"$f":"(Реестр!B1706)+0","v":"00:00:00"},null,{"$f":"Реестр!AZ1706","v":0},{"$f":"Реестр!AN1706","v":0},{"$f":"Реестр!G1706","v":0},null,{"$f":"Реестр!J1706","v":0},0]
[{"$f":"(Реестр!B1707)+0","v":"00:00:00"},null,{"$f":"Реестр!AZ1707","v":0},{"$f":"Реестр!AN1707","v":0},{"$f":"Реестр!G1707","v":0},null,{"$f":"Реестр!J1707","v":0},0]
[{"$f":"(Реестр!B1708)+0","v":"00:00:00"},null,{"$f":"Реестр!AZ1708","v":0},{"$f":"Реестр!AN1708","v":0},{"$f":"Реестр!G1708","v":0},null,{"$f":"Реестр!J1708","v":0},0]
[{"$f":"(Реестр!B1709)+0","v":"00:00:00"},null,{"$f":"Реестр!AZ1709","v":0},{"$f":"Реестр!AN1709","v":0},{"$f":"Реестр!G1709","v":0},null,{"$f":"Реестр!J1709","v":0},0]
[{"$f":"(Реестр!B1710)+0","v":"00:00:00"},null,{"$f":"Реестр!AZ1710","v":0},{"$f":"Реестр!AN1710","v":0},{"$f":"Реестр!G1710","v":0},null,{"$f":"Реестр!J1710","v":0},0]
[{"$f":"(Реестр!B1711)+0","v":"00:00:00"},null,{"$f":"Реестр!AZ1711","v":0},{"$f":"Реестр!AN1711","v":0},{"$f":"Реестр!G1711","v":0},null,{"$f":"Реестр!J1711","v":0},0]
[{"$f":"(Реестр!B1712)+0","v":"00:00:00"},null,{"$f":"Реестр!AZ1712","v":0},{"$f":"Реестр!AN1712","v":0},{"$f":"Реестр!G1712","v":0},null,{"$f":"Реестр!J1712","v":0},0]
[{"$f":"(Реестр!B1713)+0","v":"00:00:00"},null,{"$f":"Реестр!AZ1713","v":0},{"$f":"Реестр!AN1713","v":0},{"$f":"Реестр!G1713","v":0},null,{"$f":"Реестр!J1713","v":0},0]
[{"$f":"(Реестр!B1714)+0","v":"00:00:00"},null,{"$f":"Реестр!AZ1714","v":0},{"$f":"Реестр!AN1714","v":0},{"$f":"Реестр!G1714","v":0},null,{"$f":"Реестр!J1714","v":0},0]
[{"$f":"(Реестр!B1715)+0","v":"00:00:00"},null,{"$f":"Реестр!AZ1715","v":0},{"$f":"Реестр!AN1715","v":0},{"$f":"Реестр!G1715","v":0},null,{"$f":"Реестр!J1715","v":0},0]
[{"$f":"(Реестр!B1716)+0","v":"00:00:00"},null,{"$f":"Реестр!AZ1716","v":0},{"$f":"Реестр!AN1716","v":0},{"$f":"Реестр!G1716","v":0},null,{"$f":"Реестр!J1716","v":0},0]
[{"$f":"(Реестр!B1717)+0","v":"00:00:00"},null,{"$f":"Реестр!AZ1717","v":0},{"$f":"Реестр!AN1717","v":0},{"$f":"Реестр!G1717","v":0},null,{"$f":"Реестр!J1717","v":0},0]
[{"$f":"(Реестр!B1718)+0","v":"00:00:00"},null,{"$f":"Реестр!AZ1718","v":0},{"$f":"Реестр!AN1718","v":0},{"$f":"Реестр!G1718","v":0},null,{"$f":"Реестр!J1718","v":0},0]
[{"$f":"(Реестр!B1719)+0","v":"00:00:00"},null,{"$f":"Реестр!AZ1719","v":0},{"$f":"Реестр!AN1719","v":0},{"$f":"Реестр!G1719","v":0},null,{"$f":"Реестр!J1719","v":0},0]
[{"$f":"(Реестр!B1720)+0","v":"00:00:00"},null,{"$f":"Реестр!AZ1720","v":0},{"$f":"Реестр!AN1720","v":0},{"$f":"Реестр!G1720","v":0},null,{"$f":"Реестр!J1720","v":0},0]
[{"$f":"(Реестр!B1721)+0","v":"00:00:00"},null,{"$f":"Реестр!AZ1721","v":0},{"$f":"Реестр!AN1721","v":0},{"$f":"Реестр!G1721","v":0},null,{"$f":"Реестр!J1721","v":0},0]
[{"$f":"(Реестр!B1722)+0","v":"00:00:00"},null,{"$f":"Реестр!AZ1722","v":0},{"$f":"Реестр!AN1722","v":0},{"$f":"Реестр!G1722","v":0},null,{"$f":"Реестр!J1722","v":0},0]
[{"$f":"(Реестр!B1723)+0","v":"00:00:00"},null,{"$f":"Реестр!AZ1723","v":0},{"$f":"Реестр!AN1723","v":0},{"$f":"Реестр!G1723","v":0},null,{"$f":"Реестр!J1723","v":0},0]
[{"$f":"(Реестр!B1724)+0","v":"00:00:00"},null,{"$f":"Реестр!AZ1724","v":0},{"$f":"Реестр!AN1724","v":0},{"$f":"Реестр!G1724","v":0},null,{"$f":"Реестр!J1724","v":0},0]
[{"$f":"(Реестр!B1725)+0","v":"00:00:00"},null,{"$f":"Реестр!AZ1725","v":0},{"$f":"Реестр!AN1725","v":0},{"$f":"Реестр!G1725","v":0},null,{"$f":"Реестр!J1725","v":0},0]
[{"$f":"(Реестр!B1726)+0","v":"00:00:00"},null,{"$f":"Реестр!AZ1726","v":0},{"$f":"Реестр!AN1726","v":0},{"$f":"Реестр!G1726","v":0},null,{"$f":"Реестр!J1726","v":0},0]
[{"$f":"(Реестр!B1727)+0","v":"00:00:00"},null,{"$f":"Реестр!AZ1727","v":0},{"$f":"Реестр!AN1727","v":0},{"$f":"Реестр!G1727","v":0},null,{"$f":"Реестр!J1727","v":0},{"$f":"E1161*G1161","v":0}]
[{"$f":"(Реестр!B1728)+0","v":"00:00:00"},null,{"$f":"Реестр!AZ1728","v":0},{"$f":"Реестр!AN1728","v":0},{"$f":"Реестр!G1728","v":0},null,{"$f":"Реестр!J1728","v":0},0]
[{"$f":"(Реестр!B1729)+0","v":"00:00:00"},null,{"$f":"Реестр!AZ1729","v":0},{"$f":"Реестр!AN1729","v":0},{"$f":"Реестр!G1729","v":0},null,{"$f":"Реестр!J1729","v":0},0]
[{"$f":"(Реестр!B1730)+0","v":"00:00:00"},null,{"$f":"Реестр!AZ1730","v":0},{"$f":"Реестр!AN1730","v":0},{"$f":"Реестр!G1730","v":0},null,{"$f":"Реестр!J1730","v":0},0]
[{"$f":"(Реестр!B1731)+0","v":"00:00:00"},null,{"$f":"Реестр!AZ1731","v":0},{"$f":"Реестр!AN1731","v":0},{"$f":"Реестр!G1731","v":0},null,{"$f":"Реестр!J1731","v":0},0]
[{"$f":"(Реестр!B1732)+0","v":"00:00:00"},null,{"$f":"Реестр!AZ1732","v":0},{"$f":"Реестр!AN1732","v":0},{"$f":"Реестр!G1732","v":0},null,{"$f":"Реестр!J1732","v":0},0]
[{"$f":"(Реестр!B1733)+0","v":"00:00:00"},null,{"$f":"Реестр!AZ1733","v":0},{"$f":"Реестр!AN1733","v":0},{"$f":"Реестр!G1733","v":0},null,{"$f":"Реестр!J1733","v":0},0]
[{"$f":"(Реестр!B1734)+0","v":"00:00:00"},null,{"$f":"Реестр!AZ1734","v":0},{"$f":"Реестр!AN1734","v":0},{"$f":"Реестр!G1734","v":0},null,{"$f":"Реестр!J1734","v":0},0]
[{"$f":"(Реестр!B1735)+0","v":"00:00:00"},null,{"$f":"Реестр!AZ1735","v":0},{"$f":"Реестр!AN1735","v":0},{"$f":"Реестр!G1735","v":0},null,{"$f":"Реестр!J1735","v":0},0]
[{"$f":"(Реестр!B1736)+0","v":"00:00:00"},null,{"$f":"Реестр!AZ1736","v":0},{"$f":"Реестр!AN1736","v":0},{"$f":"Реестр!G1736","v":0},null,{"$f":"Реестр!J1736","v":0},0]
[{"$f":"(Реестр!B1737)+0","v":"00:00:00"},null,{"$f":"Реестр!AZ1737","v":0},{"$f":"Реестр!AN1737","v":0},{"$f":"Реестр!G1737","v":0},null,{"$f":"Реестр!J1737","v":0},0]
[{"$f":"(Реестр!B1738)+0","v":"00:00:00"},null,{"$f":"Реестр!AZ1738","v":0},{"$f":"Реестр!AN1738","v":0},{"$f":"Реестр!G1738","v":0},null,{"$f":"Реестр!J1738","v":0},0]
[{"$f":"(Реестр!B1739)+0","v":"00:00:00"},null,{"$f":"Реестр!AZ1739","v":0},{"$f":"Реестр!AN1739","v":0},{"$f":"Реестр!G1739","v":0},null,{"$f":"Реестр!J1739","v":0},0]
[{"$f":"(Реестр!B1740)+0","v":"00:00:00"},null,{"$f":"Реестр!AZ1740","v":0},{"$f":"Реестр!AN1740","v":0},{"$f":"Реестр!G1740","v":0},null,{"$f":"Реестр!J1740","v":0},0]
[{"$f":"(Реестр!B1741)+0","v":"00:00:00"},null,{"$f":"Реестр!AZ1741","v":0},{"$f":"Реестр!AN1741","v":0},{"$f":"Реестр!G1741","v":0},null,{"$f":"Реестр!J1741","v":0},0]
[{"$f":"(Реестр!B1742)+0","v":"00:00:00"},null,{"$f":"Реестр!AZ1742","v":0},{"$f":"Реестр!AN1742","v":0},{"$f":"Реестр!G1742","v":0},null,{"$f":"Реестр!J1742","v":0},0]
[{"$f":"(Реестр!B1743)+0","v":"00:00:00"},null,{"$f":"Реестр!AZ1743","v":0},{"$f":"Реестр!AN1743","v":0},{"$f":"Реестр!G1743","v":0},null,{"$f":"Реестр!J1743","v":0},0]
[{"$f":"(Реестр!B1744)+0","v":"00:00:00"},null,{"$f":"Реестр!AZ1744","v":0},{"$f":"Реестр!AN1744","v":0},{"$f":"Реестр!G1744","v":0},null,{"$f":"Реестр!J1744","v":0},0]
[{"$f":"(Реестр!B1745)+0","v":"00:00:00"},null,{"$f":"Реестр!AZ1745","v":0},{"$f":"Реестр!AN1745","v":0},{"$f":"Реестр!G1745","v":0},null,{"$f":"Реестр!J1745","v":0},0]
[{"$f":"(Реестр!B1746)+0","v":"00:00:00"},null,{"$f":"Реестр!AZ1746","v":0},{"$f":"Реестр!AN1746","v":0},{"$f":"Реестр!G1746","v":0},null,{"$f":"Реестр!J1746","v":0},0]
[{"$f":"(Реестр!B1747)+0","v":"00:00:00"},null,{"$f":"Реестр!AZ1747","v":0},{"$f":"Реестр!AN1747","v":0},{"$f":"Реестр!G1747","v":0},null,{"$f":"Реестр!J1747","v":0},0]
[{"$f":"(Реестр!B1748)+0","v":"00:00:00"},null,{"$f":"Реестр!AZ1748","v":0},{"$f":"Реестр!AN1748","v":0},{"$f":"Реестр!G1748","v":0},null,{"$f":"Реестр!J1748","v":0},0]
[{"$f":"(Реестр!B1749)+0","v":"00:00:00"},null,{"$f":"Реестр!AZ1749","v":0},{"$f":"Реестр!AN1749","v":0},{"$f":"Реестр!G1749","v":0},null,{"$f":"Реестр!J1749","v":0},0]
[{"$f":"(Реестр!B1750)+0","v":"00:00:00"},null,{"$f":"Реестр!AZ1750","v":0},{"$f":"Реестр!AN1750","v":0},{"$f":"Реестр!G1750","v":0},null,{"$f":"Реестр!J1750","v":0},0]
[{"$f":"(Реестр!B1751)+0","v":"00:00:00"},null,{"$f":"Реестр!AZ1751","v":0},{"$f":"Реестр!AN1751","v":0},{"$f":"Реестр!G1751","v":0},null,{"$f":"Реестр!J1751","v":0},0]
[{"$f":"(Реестр!B1752)+0","v":"00:00:00"},null,{"$f":"Реестр!AZ1752","v":0},{"$f":"Реестр!AN1752","v":0},{"$f":"Реестр!G1752","v":0},null,{"$f":"Реестр!J1752","v":0},0]
[{"$f":"(Реестр!B1753)+0","v":"00:00:00"},null,{"$f":"Реестр!AZ1753","v":0},{"$f":"Реестр!AN1753","v":0},{"$f":"Реестр!G1753","v":0},null,{"$f":"Реестр!J1753","v":0},0]
[{"$f":"(Реестр!B1754)+0","v":"00:00:00"},null,{"$f":"Реестр!AZ1754","v":0},{"$f":"Реестр!AN1754","v":0},{"$f":"Реестр!G1754","v":0},null,{"$f":"Реестр!J1754","v":0},0]
[{"$f":"(Реестр!B1755)+0","v":"00:00:00"},null,{"$f":"Реестр!AZ1755","v":0},{"$f":"Реестр!AN1755","v":0},{"$f":"Реестр!G1755","v":0},null,{"$f":"Реестр!J1755","v":0},0]
[{"$f":"(Реестр!B1756)+0","v":"00:00:00"},null,{"$f":"Реестр!AZ1756","v":0},{"$f":"Реестр!AN1756","v":0},{"$f":"Реестр!G1756","v":0},null,{"$f":"Реестр!J1756","v":0},0]
[{"$f":"(Реестр!B1757)+0","v":"00:00:00"},null,{"$f":"Реестр!AZ1757","v":0},{"$f":"Реестр!AN1757","v":0},{"$f":"Реестр!G1757","v":0},null,{"$f":"Реестр!J1757","v":0},0]
[{"$f":"(Реестр!B1758)+0","v":"00:00:00"},null,{"$f":"Реестр!AZ1758","v":0},{"$f":"Реестр!AN1758","v":0},{"$f":"Реестр!G1758","v":0},null,{"$f":"Реестр!J1758","v":0},0]
[{"$f":"(Реестр!B1759)+0","v":"00:00:00"},null,{"$f":"Реестр!AZ1759","v":0},{"$f":"Реестр!AN1759","v":0},{"$f":"Реестр!G1759","v":0},null,{"$f":"Реестр!J1759","v":0},0]
[{"$f":"(Реестр!B1760)+0","v":"00:00:00"},null,{"$f":"Реестр!AZ1760","v":0},{"$f":"Реестр!AN1760","v":0},{"$f":"Реестр!G1760","v":0},null,{"$f":"Реестр!J1760","v":0},0]
[{"$f":"(Реестр!B1761)+0","v":"00:00:00"},null,{"$f":"Реестр!AZ1761","v":0},{"$f":"Реестр!AN1761","v":0},{"$f":"Реестр!G1761","v":0},null,{"$f":"Реестр!J1761","v":0},0]
[{"$f":"(Реестр!B1762)+0","v":"00:00:00"},null,{"$f":"Реестр!AZ1762","v":0},{"$f":"Реестр!AN1762","v":0},{"$f":"Реестр!G1762","v":0},null,{"$f":"Реестр!J1762","v":0},0]
[{"$f":"(Реестр!B1763)+0","v":"00:00:00"},null,{"$f":"Реестр!AZ1763","v":0},{"$f":"Реестр!AN1763","v":0},{"$f":"Реестр!G1763","v":0},null,{"$f":"Реестр!J1763","v":0},0]
[{"$f":"(Реестр!B1764)+0","v":"00:00:00"},null,{"$f":"Реестр!AZ1764","v":0},{"$f":"Реестр!AN1764","v":0},{"$f":"Реестр!G1764","v":0},null,{"$f":"Реестр!J1764","v":0},0]
[{"$f":"(Реестр!B1765)+0","v":"00:00:00"},null,{"$f":"Реестр!AZ1765","v":0},{"$f":"Реестр!AN1765","v":0},{"$f":"Реестр!G1765","v":0},null,{"$f":"Реестр!J1765","v":0},0]
[{"$f":"(Реестр!B1766)+0","v":"00:00:00"},null,{"$f":"Реестр!AZ1766","v":0},{"$f":"Реестр!AN1766","v":0},{"$f":"Реестр!G1766","v":0},null,{"$f":"Реестр!J1766","v":0},0]
[{"$f":"(Реестр!B1767)+0","v":"00:00:00"},null,{"$f":"Реестр!AZ1767","v":0},{"$f":"Реестр!AN1767","v":0},{"$f":"Реестр!G1767","v":0},null,{"$f":"Реестр!J1767","v":0},0]
[{"$f":"(Реестр!B1768)+0","v":"00:00:00"},null,{"$f":"Реестр!AZ1768","v":0},{"$f":"Реестр!AN1768","v":0},{"$f":"Реестр!G1768","v":0},null,{"$f":"Реестр!J1768","v":0},0]
[{"$f":"(Реестр!B1769)+0","v":"00:00:00"},null,{"$f":"Реестр!AZ1769","v":0},{"$f":"Реестр!AN1769","v":0},{"$f":"Реестр!G1769","v":0},null,{"$f":"Реестр!J1769","v":0},0]
[{"$f":"(Реестр!B1770)+0","v":"00:00:00"},null,{"$f":"Реестр!AZ1770","v":0},{"$f":"Реестр!AN1770","v":0},{"$f":"Реестр!G1770","v":0},null,{"$f":"Реестр!J1770","v":0},0]
[{"$f":"(Реестр!B1771)+0","v":"00:00:00"},null,{"$f":"Реестр!AZ1771","v":0},{"$f":"Реестр!AN1771","v":0},{"$f":"Реестр!G1771","v":0},null,{"$f":"Реестр!J1771","v":0},0]
[{"$f":"(Реестр!B1772)+0","v":"00:00:00"},null,{"$f":"Реестр!AZ1772","v":0},{"$f":"Реестр!AN1772","v":0},{"$f":"Реестр!G1772","v":0},null,{"$f":"Реестр!J1772","v":0},0]
[{"$f":"(Реестр!B1773)+0","v":"00:00:00"},null,{"$f":"Реестр!AZ1773","v":0},{"$f":"Реестр!AN1773","v":0},{"$f":"Реестр!G1773","v":0},null,{"$f":"Реестр!J1773","v":0},0]
[{"$f":"(Реестр!B1774)+0","v":"00:00:00"},null,{"$f":"Реестр!AZ1774","v":0},{"$f":"Реестр!AN1774","v":0},{"$f":"Реестр!G1774","v":0},null,{"$f":"Реестр!J1774","v":0},0]
[{"$f":"(Реестр!B1775)+0","v":"00:00:00"},null,{"$f":"Реестр!AZ1775","v":0},{"$f":"Реестр!AN1775","v":0},{"$f":"Реестр!G1775","v":0},null,{"$f":"Реестр!J1775","v":0},0]
[{"$f":"(Реестр!B1776)+0","v":"00:00:00"},null,{"$f":"Реестр!AZ1776","v":0},{"$f":"Реестр!AN1776","v":0},{"$f":"Реестр!G1776","v":0},null,{"$f":"Реестр!J1776","v":0},0]
[{"$f":"(Реестр!B1777)+0","v":"00:00:00"},null,{"$f":"Реестр!AZ1777","v":0},{"$f":"Реестр!AN1777","v":0},{"$f":"Реестр!G1777","v":0},null,{"$f":"Реестр!J1777","v":0},0]
[{"$f":"(Реестр!B1778)+0","v":"00:00:00"},null,{"$f":"Реестр!AZ1778","v":0},{"$f":"Реестр!AN1778","v":0},{"$f":"Реестр!G1778","v":0},null,{"$f":"Реестр!J1778","v":0},0]
[{"$f":"(Реестр!B1779)+0","v":"00:00:00"},null,{"$f":"Реестр!AZ1779","v":0},{"$f":"Реестр!AN1779","v":0},{"$f":"Реестр!G1779","v":0},null,{"$f":"Реестр!J1779","v":0},0]
[{"$f":"(Реестр!B1780)+0","v":"00:00:00"},null,{"$f":"Реестр!AZ1780","v":0},{"$f":"Реестр!AN1780","v":0},{"$f":"Реестр!G1780","v":0},null,{"$f":"Реестр!J1780","v":0},0]
[{"$f":"(Реестр!B1781)+0","v":"00:00:00"},null,{"$f":"Реестр!AZ1781","v":0},{"$f":"Реестр!AN1781","v":0},{"$f":"Реестр!G1781","v":0},null,{"$f":"Реестр!J1781","v":0},0]
[{"$f":"(Реестр!B1782)+0","v":"00:00:00"},null,{"$f":"Реестр!AZ1782","v":0},{"$f":"Реестр!AN1782","v":0},{"$f":"Реестр!G1782","v":0},null,{"$f":"Реестр!J1782","v":0},0]
[{"$f":"(Реестр!B1783)+0","v":"00:00:00"},null,{"$f":"Реестр!AZ1783","v":0},{"$f":"Реестр!AN1783","v":0},{"$f":"Реестр!G1783","v":0},null,{"$f":"Реестр!J1783","v":0},0]
[{"$f":"(Реестр!B1784)+0","v":"00:00:00"},null,{"$f":"Реестр!AZ1784","v":0},{"$f":"Реестр!AN1784","v":0},{"$f":"Реестр!G1784","v":0},null,{"$f":"Реестр!J1784","v":0},0]
[{"$f":"(Реестр!B1785)+0","v":"00:00:00"},null,{"$f":"Реестр!AZ1785","v":0},{"$f":"Реестр!AN1785","v":0},{"$f":"Реестр!G1785","v":0},null,{"$f":"Реестр!J1785","v":0},0]
[{"$f":"(Реестр!B1786)+0","v":"00:00:00"},null,{"$f":"Реестр!AZ1786","v":0},{"$f":"Реестр!AN1786","v":0},{"$f":"Реестр!G1786","v":0},null,{"$f":"Реестр!J1786","v":0},0]
[{"$f":"(Реестр!B1787)+0","v":"00:00:00"},null,{"$f":"Реестр!AZ1787","v":0},{"$f":"Реестр!AN1787","v":0},{"$f":"Реестр!G1787","v":0},null,{"$f":"Реестр!J1787","v":0},0]
[{"$f":"(Реестр!B1788)+0","v":"00:00:00"},null,{"$f":"Реестр!AZ1788","v":0},{"$f":"Реестр!AN1788","v":0},{"$f":"Реестр!G1788","v":0},null,{"$f":"Реестр!J1788","v":0},0]
[{"$f":"(Реестр!B1789)+0","v":"00:00:00"},null,{"$f":"Реестр!AZ1789","v":0},{"$f":"Реестр!AN1789","v":0},{"$f":"Реестр!G1789","v":0},null,{"$f":"Реестр!J1789","v":0},0]
[{"$f":"(Реестр!B1790)+0","v":"00:00:00"},null,{"$f":"Реестр!AZ1790","v":0},{"$f":"Реестр!AN1790","v":0},{"$f":"Реестр!G1790","v":0},null,{"$f":"Реестр!J1790","v":0},0]
[{"$f":"(Реестр!B1791)+0","v":"00:00:00"},null,{"$f":"Реестр!AZ1791","v":0},{"$f":"Реестр!AN1791","v":0},{"$f":"Реестр!G1791","v":0},null,{"$f":"Реестр!J1791","v":0},{"$f":"E1225*G1225","v":0}]
[{"$f":"(Реестр!B1792)+0","v":"00:00:00"},null,{"$f":"Реестр!AZ1792","v":0},{"$f":"Реестр!AN1792","v":0},{"$f":"Реестр!G1792","v":0},null,{"$f":"Реестр!J1792","v":0},0]
[{"$f":"(Реестр!B1793)+0","v":"00:00:00"},null,{"$f":"Реестр!AZ1793","v":0},{"$f":"Реестр!AN1793","v":0},{"$f":"Реестр!G1793","v":0},null,{"$f":"Реестр!J1793","v":0},0]
[{"$f":"(Реестр!B1794)+0","v":"00:00:00"},null,{"$f":"Реестр!AZ1794","v":0},{"$f":"Реестр!AN1794","v":0},{"$f":"Реестр!G1794","v":0},null,{"$f":"Реестр!J1794","v":0},0]
[{"$f":"(Реестр!B1795)+0","v":"00:00:00"},null,{"$f":"Реестр!AZ1795","v":0},{"$f":"Реестр!AN1795","v":0},{"$f":"Реестр!G1795","v":0},null,{"$f":"Реестр!J1795","v":0},0]
[{"$f":"(Реестр!B1796)+0","v":"00:00:00"},null,{"$f":"Реестр!AZ1796","v":0},{"$f":"Реестр!AN1796","v":0},{"$f":"Реестр!G1796","v":0},null,{"$f":"Реестр!J1796","v":0},0]
[{"$f":"(Реестр!B1797)+0","v":"00:00:00"},null,{"$f":"Реестр!AZ1797","v":0},{"$f":"Реестр!AN1797","v":0},{"$f":"Реестр!G1797","v":0},null,{"$f":"Реестр!J1797","v":0},0]
[{"$f":"(Реестр!B1798)+0","v":"00:00:00"},null,{"$f":"Реестр!AZ1798","v":0},{"$f":"Реестр!AN1798","v":0},{"$f":"Реестр!G1798","v":0},null,{"$f":"Реестр!J1798","v":0},0]
[{"$f":"(Реестр!B1799)+0","v":"00:00:00"},null,{"$f":"Реестр!AZ1799","v":0},{"$f":"Реестр!AN1799","v":0},{"$f":"Реестр!G1799","v":0},null,{"$f":"Реестр!J1799","v":0},0]
[{"$f":"(Реестр!B1800)+0","v":"00:00:00"},null,{"$f":"Реестр!AZ1800","v":0},{"$f":"Реестр!AN1800","v":0},{"$f":"Реестр!G1800","v":0},null,{"$f":"Реестр!J1800","v":0},0]
[{"$f":"(Реестр!B1801)+0","v":"00:00:00"},null,{"$f":"Реестр!AZ1801","v":0},{"$f":"Реестр!AN1801","v":0},{"$f":"Реестр!G1801","v":0},null,{"$f":"Реестр!J1801","v":0},0]
[{"$f":"(Реестр!B1802)+0","v":"00:00:00"},null,{"$f":"Реестр!AZ1802","v":0},{"$f":"Реестр!AN1802","v":0},{"$f":"Реестр!G1802","v":0},null,{"$f":"Реестр!J1802","v":0},0]
[{"$f":"(Реестр!B1803)+0","v":"00:00:00"},null,{"$f":"Реестр!AZ1803","v":0},{"$f":"Реестр!AN1803","v":0},{"$f":"Реестр!G1803","v":0},null,{"$f":"Реестр!J1803","v":0},0]
[{"$f":"(Реестр!B1804)+0","v":"00:00:00"},null,{"$f":"Реестр!AZ1804","v":0},{"$f":"Реестр!AN1804","v":0},{"$f":"Реестр!G1804","v":0},null,{"$f":"Реестр!J1804","v":0},0]
[{"$f":"(Реестр!B1805)+0","v":"00:00:00"},null,{"$f":"Реестр!AZ1805","v":0},{"$f":"Реестр!AN1805","v":0},{"$f":"Реестр!G1805","v":0},null,{"$f":"Реестр!J1805","v":0},0]
[{"$f":"(Реестр!B1806)+0","v":"00:00:00"},null,{"$f":"Реестр!AZ1806","v":0},{"$f":"Реестр!AN1806","v":0},{"$f":"Реестр!G1806","v":0},null,{"$f":"Реестр!J1806","v":0},0]
[{"$f":"(Реестр!B1807)+0","v":"00:00:00"},null,{"$f":"Реестр!AZ1807","v":0},{"$f":"Реестр!AN1807","v":0},{"$f":"Реестр!G1807","v":0},null,{"$f":"Реестр!J1807","v":0},0]
[{"$f":"(Реестр!B1808)+0","v":"00:00:00"},null,{"$f":"Реестр!AZ1808","v":0},{"$f":"Реестр!AN1808","v":0},{"$f":"Реестр!G1808","v":0},null,{"$f":"Реестр!J1808","v":0},0]
[{"$f":"(Реестр!B1809)+0","v":"00:00:00"},null,{"$f":"Реестр!AZ1809","v":0},{"$f":"Реестр!AN1809","v":0},{"$f":"Реестр!G1809","v":0},null,{"$f":"Реестр!J1809","v":0},0]
[{"$f":"(Реестр!B1810)+0","v":"00:00:00"},null,{"$f":"Реестр!AZ1810","v":0},{"$f":"Реестр!AN1810","v":0},{"$f":"Реестр!G1810","v":0},null,{"$f":"Реестр!J1810","v":0},0]
[{"$f":"(Реестр!B1811)+0","v":"00:00:00"},null,{"$f":"Реестр!AZ1811","v":0},{"$f":"Реестр!AN1811","v":0},{"$f":"Реестр!G1811","v":0},null,{"$f":"Реестр!J1811","v":0},0]
[{"$f":"(Реестр!B1812)+0","v":"00:00:00"},null,{"$f":"Реестр!AZ1812","v":0},{"$f":"Реестр!AN1812","v":0},{"$f":"Реестр!G1812","v":0},null,{"$f":"Реестр!J1812","v":0},0]
[{"$f":"(Реестр!B1813)+0","v":"00:00:00"},null,{"$f":"Реестр!AZ1813","v":0},{"$f":"Реестр!AN1813","v":0},{"$f":"Реестр!G1813","v":0},null,{"$f":"Реестр!J1813","v":0},0]
[{"$f":"(Реестр!B1814)+0","v":"00:00:00"},null,{"$f":"Реестр!AZ1814","v":0},{"$f":"Реестр!AN1814","v":0},{"$f":"Реестр!G1814","v":0},null,{"$f":"Реестр!J1814","v":0},0]
[{"$f":"(Реестр!B1815)+0","v":"00:00:00"},null,{"$f":"Реестр!AZ1815","v":0},{"$f":"Реестр!AN1815","v":0},{"$f":"Реестр!G1815","v":0},null,{"$f":"Реестр!J1815","v":0},0]
[{"$f":"(Реестр!B1816)+0","v":"00:00:00"},null,{"$f":"Реестр!AZ1816","v":0},{"$f":"Реестр!AN1816","v":0},{"$f":"Реестр!G1816","v":0},null,{"$f":"Реестр!J1816","v":0},0]
[{"$f":"(Реестр!B1817)+0","v":"00:00:00"},null,{"$f":"Реестр!AZ1817","v":0},{"$f":"Реестр!AN1817","v":0},{"$f":"Реестр!G1817","v":0},null,{"$f":"Реестр!J1817","v":0},0]
[{"$f":"(Реестр!B1818)+0","v":"00:00:00"},null,{"$f":"Реестр!AZ1818","v":0},{"$f":"Реестр!AN1818","v":0},{"$f":"Реестр!G1818","v":0},null,{"$f":"Реестр!J1818","v":0},0]
[{"$f":"(Реестр!B1819)+0","v":"00:00:00"},null,{"$f":"Реестр!AZ1819","v":0},{"$f":"Реестр!AN1819","v":0},{"$f":"Реестр!G1819","v":0},null,{"$f":"Реестр!J1819","v":0},0]
[{"$f":"(Реестр!B1820)+0","v":"00:00:00"},null,{"$f":"Реестр!AZ1820","v":0},{"$f":"Реестр!AN1820","v":0},{"$f":"Реестр!G1820","v":0},null,{"$f":"Реестр!J1820","v":0},0]
[{"$f":"(Реестр!B1821)+0","v":"00:00:00"},null,{"$f":"Реестр!AZ1821","v":0},{"$f":"Реестр!AN1821","v":0},{"$f":"Реестр!G1821","v":0},null,{"$f":"Реестр!J1821","v":0},0]
[{"$f":"(Реестр!B1822)+0","v":"00:00:00"},null,{"$f":"Реестр!AZ1822","v":0},{"$f":"Реестр!AN1822","v":0},{"$f":"Реестр!G1822","v":0},null,{"$f":"Реестр!J1822","v":0},0]
[{"$f":"(Реестр!B1823)+0","v":"00:00:00"},null,{"$f":"Реестр!AZ1823","v":0},{"$f":"Реестр!AN1823","v":0},{"$f":"Реестр!G1823","v":0},null,{"$f":"Реестр!J1823","v":0},0]
[{"$f":"(Реестр!B1824)+0","v":"00:00:00"},null,{"$f":"Реестр!AZ1824","v":0},{"$f":"Реестр!AN1824","v":0},{"$f":"Реестр!G1824","v":0},null,{"$f":"Реестр!J1824","v":0},0]
[{"$f":"(Реестр!B1825)+0","v":"00:00:00"},null,{"$f":"Реестр!AZ1825","v":0},{"$f":"Реестр!AN1825","v":0},{"$f":"Реестр!G1825","v":0},null,{"$f":"Реестр!J1825","v":0},0]
[{"$f":"(Реестр!B1826)+0","v":"00:00:00"},null,{"$f":"Реестр!AZ1826","v":0},{"$f":"Реестр!AN1826","v":0},{"$f":"Реестр!G1826","v":0},null,{"$f":"Реестр!J1826","v":0},0]
[{"$f":"(Реестр!B1827)+0","v":"00:00:00"},null,{"$f":"Реестр!AZ1827","v":0},{"$f":"Реестр!AN1827","v":0},{"$f":"Реестр!G1827","v":0},null,{"$f":"Реестр!J1827","v":0},0]
[{"$f":"(Реестр!B1828)+0","v":"00:00:00"},null,{"$f":"Реестр!AZ1828","v":0},{"$f":"Реестр!AN1828","v":0},{"$f":"Реестр!G1828","v":0},null,{"$f":"Реестр!J1828","v":0},0]
[{"$f":"(Реестр!B1829)+0","v":"00:00:00"},null,{"$f":"Реестр!AZ1829","v":0},{"$f":"Реестр!AN1829","v":0},{"$f":"Реестр!G1829","v":0},null,{"$f":"Реестр!J1829","v":0},0]
[{"$f":"(Реестр!B1830)+0","v":"00:00:00"},null,{"$f":"Реестр!AZ1830","v":0},{"$f":"Реестр!AN1830","v":0},{"$f":"Реестр!G1830","v":0},null,{"$f":"Реестр!J1830","v":0},0]
[{"$f":"(Реестр!B1831)+0","v":"00:00:00"},null,{"$f":"Реестр!AZ1831","v":0},{"$f":"Реестр!AN1831","v":0},{"$f":"Реестр!G1831","v":0},null,{"$f":"Реестр!J1831","v":0},0]
[{"$f":"(Реестр!B1832)+0","v":"00:00:00"},null,{"$f":"Реестр!AZ1832","v":0},{"$f":"Реестр!AN1832","v":0},{"$f":"Реестр!G1832","v":0},null,{"$f":"Реестр!J1832","v":0},0]
[{"$f":"(Реестр!B1833)+0","v":"00:00:00"},null,{"$f":"Реестр!AZ1833","v":0},{"$f":"Реестр!AN1833","v":0},{"$f":"Реестр!G1833","v":0},null,{"$f":"Реестр!J1833","v":0},0]
[{"$f":"(Реестр!B1834)+0","v":"00:00:00"},null,{"$f":"Реестр!AZ1834","v":0},{"$f":"Реестр!AN1834","v":0},{"$f":"Реестр!G1834","v":0},null,{"$f":"Реестр!J1834","v":0},0]
[{"$f":"(Реестр!B1835)+0","v":"00:00:00"},null,{"$f":"Реестр!AZ1835","v":0},{"$f":"Реестр!AN1835","v":0},{"$f":"Реестр!G1835","v":0},null,{"$f":"Реестр!J1835","v":0},0]
[{"$f":"(Реестр!B1836)+0","v":"00:00:00"},null,{"$f":"Реестр!AZ1836","v":0},{"$f":"Реестр!AN1836","v":0},{"$f":"Реестр!G1836","v":0},null,{"$f":"Реестр!J1836","v":0},0]
[{"$f":"(Реестр!B1837)+0","v":"00:00:00"},null,{"$f":"Реестр!AZ1837","v":0},{"$f":"Реестр!AN1837","v":0},{"$f":"Реестр!G1837","v":0},null,{"$f":"Реестр!J1837","v":0},0]
[{"$f":"(Реестр!B1838)+0","v":"00:00:00"},null,{"$f":"Реестр!AZ1838","v":0},{"$f":"Реестр!AN1838","v":0},{"$f":"Реестр!G1838","v":0},null,{"$f":"Реестр!J1838","v":0},0]
[{"$f":"(Реестр!B1839)+0","v":"00:00:00"},null,{"$f":"Реестр!AZ1839","v":0},{"$f":"Реестр!AN1839","v":0},{"$f":"Реестр!G1839","v":0},null,{"$f":"Реестр!J1839","v":0},0]
[{"$f":"(Реестр!B1840)+0","v":"00:00:00"},null,{"$f":"Реестр!AZ1840","v":0},{"$f":"Реестр!AN1840","v":0},{"$f":"Реестр!G1840","v":0},null,{"$f":"Реестр!J1840","v":0},0]
[{"$f":"(Реестр!B1841)+0","v":"00:00:00"},null,{"$f":"Реестр!AZ1841","v":0},{"$f":"Реестр!AN1841","v":0},{"$f":"Реестр!G1841","v":0},null,{"$f":"Реестр!J1841","v":0},0]
[{"$f":"(Реестр!B1842)+0","v":"00:00:00"},null,{"$f":"Реестр!AZ1842","v":0},{"$f":"Реестр!AN1842","v":0},{"$f":"Реестр!G1842","v":0},null,{"$f":"Реестр!J1842","v":0},0]
[{"$f":"(Реестр!B1843)+0","v":"00:00:00"},null,{"$f":"Реестр!AZ1843","v":0},{"$f":"Реестр!AN1843","v":0},{"$f":"Реестр!G1843","v":0},null,{"$f":"Реестр!J1843","v":0},0]
[{"$f":"(Реестр!B1844)+0","v":"00:00:00"},null,{"$f":"Реестр!AZ1844","v":0},{"$f":"Реестр!AN1844","v":0},{"$f":"Реестр!G1844","v":0},null,{"$f":"Реестр!J1844","v":0},0]
[{"$f":"(Реестр!B1845)+0","v":"00:00:00"},null,{"$f":"Реестр!AZ1845","v":0},{"$f":"Реестр!AN1845","v":0},{"$f":"Реестр!G1845","v":0},null,{"$f":"Реестр!J1845","v":0},0]
[{"$f":"(Реестр!B1846)+0","v":"00:00:00"},null,{"$f":"Реестр!AZ1846","v":0},{"$f":"Реестр!AN1846","v":0},{"$f":"Реестр!G1846","v":0},null,{"$f":"Реестр!J1846","v":0},0]
[{"$f":"(Реестр!B1847)+0","v":"00:00:00"},null,{"$f":"Реестр!AZ1847","v":0},{"$f":"Реестр!AN1847","v":0},{"$f":"Реестр!G1847","v":0},null,{"$f":"Реестр!J1847","v":0},0]
[{"$f":"(Реестр!B1848)+0","v":"00:00:00"},null,{"$f":"Реестр!AZ1848","v":0},{"$f":"Реестр!AN1848","v":0},{"$f":"Реестр!G1848","v":0},null,{"$f":"Реестр!J1848","v":0},0]
[{"$f":"(Реестр!B1849)+0","v":"00:00:00"},null,{"$f":"Реестр!AZ1849","v":0},{"$f":"Реестр!AN1849","v":0},{"$f":"Реестр!G1849","v":0},null,{"$f":"Реестр!J1849","v":0},0]
[{"$f":"(Реестр!B1850)+0","v":"00:00:00"},null,{"$f":"Реестр!AZ1850","v":0},{"$f":"Реестр!AN1850","v":0},{"$f":"Реестр!G1850","v":0},null,{"$f":"Реестр!J1850","v":0},0]
[{"$f":"(Реестр!B1851)+0","v":"00:00:00"},null,{"$f":"Реестр!AZ1851","v":0},{"$f":"Реестр!AN1851","v":0},{"$f":"Реестр!G1851","v":0},null,{"$f":"Реестр!J1851","v":0},0]
[{"$f":"(Реестр!B1852)+0","v":"00:00:00"},null,{"$f":"Реестр!AZ1852","v":0},{"$f":"Реестр!AN1852","v":0},{"$f":"Реестр!G1852","v":0},null,{"$f":"Реестр!J1852","v":0},0]
[{"$f":"(Реестр!B1853)+0","v":"00:00:00"},null,{"$f":"Реестр!AZ1853","v":0},{"$f":"Реестр!AN1853","v":0},{"$f":"Реестр!G1853","v":0},null,{"$f":"Реестр!J1853","v":0},0]
[{"$f":"(Реестр!B1854)+0","v":"00:00:00"},null,{"$f":"Реестр!AZ1854","v":0},{"$f":"Реестр!AN1854","v":0},{"$f":"Реестр!G1854","v":0},null,{"$f":"Реестр!J1854","v":0},0]
[{"$f":"(Реестр!B1855)+0","v":"00:00:00"},null,{"$f":"Реестр!AZ1855","v":0},{"$f":"Реестр!AN1855","v":0},{"$f":"Реестр!G1855","v":0},null,{"$f":"Реестр!J1855","v":0},{"$f":"E1289*G1289","v":0}]
[{"$f":"(Реестр!B1856)+0","v":"00:00:00"},null,{"$f":"Реестр!AZ1856","v":0},{"$f":"Реестр!AN1856","v":0},{"$f":"Реестр!G1856","v":0},null,{"$f":"Реестр!J1856","v":0},0]
[{"$f":"(Реестр!B1857)+0","v":"00:00:00"},null,{"$f":"Реестр!AZ1857","v":0},{"$f":"Реестр!AN1857","v":0},{"$f":"Реестр!G1857","v":0},null,{"$f":"Реестр!J1857","v":0},0]
[{"$f":"(Реестр!B1858)+0","v":"00:00:00"},null,{"$f":"Реестр!AZ1858","v":0},{"$f":"Реестр!AN1858","v":0},{"$f":"Реестр!G1858","v":0},null,{"$f":"Реестр!J1858","v":0},0]
[{"$f":"(Реестр!B1859)+0","v":"00:00:00"},null,{"$f":"Реестр!AZ1859","v":0},{"$f":"Реестр!AN1859","v":0},{"$f":"Реестр!G1859","v":0},null,{"$f":"Реестр!J1859","v":0},0]
[{"$f":"(Реестр!B1860)+0","v":"00:00:00"},null,{"$f":"Реестр!AZ1860","v":0},{"$f":"Реестр!AN1860","v":0},{"$f":"Реестр!G1860","v":0},null,{"$f":"Реестр!J1860","v":0},0]
[{"$f":"(Реестр!B1861)+0","v":"00:00:00"},null,{"$f":"Реестр!AZ1861","v":0},{"$f":"Реестр!AN1861","v":0},{"$f":"Реестр!G1861","v":0},null,{"$f":"Реестр!J1861","v":0},0]
[{"$f":"(Реестр!B1862)+0","v":"00:00:00"},null,{"$f":"Реестр!AZ1862","v":0},{"$f":"Реестр!AN1862","v":0},{"$f":"Реестр!G1862","v":0},null,{"$f":"Реестр!J1862","v":0},0]
[{"$f":"(Реестр!B1863)+0","v":"00:00:00"},null,{"$f":"Реестр!AZ1863","v":0},{"$f":"Реестр!AN1863","v":0},{"$f":"Реестр!G1863","v":0},null,{"$f":"Реестр!J1863","v":0},0]
[{"$f":"(Реестр!B1864)+0","v":"00:00:00"},null,{"$f":"Реестр!AZ1864","v":0},{"$f":"Реестр!AN1864","v":0},{"$f":"Реестр!G1864","v":0},null,{"$f":"Реестр!J1864","v":0},0]
[{"$f":"(Реестр!B1865)+0","v":"00:00:00"},null,{"$f":"Реестр!AZ1865","v":0},{"$f":"Реестр!AN1865","v":0},{"$f":"Реестр!G1865","v":0},null,{"$f":"Реестр!J1865","v":0},0]
[{"$f":"(Реестр!B1866)+0","v":"00:00:00"},null,{"$f":"Реестр!AZ1866","v":0},{"$f":"Реестр!AN1866","v":0},{"$f":"Реестр!G1866","v":0},null,{"$f":"Реестр!J1866","v":0},0]
[{"$f":"(Реестр!B1867)+0","v":"00:00:00"},null,{"$f":"Реестр!AZ1867","v":0},{"$f":"Реестр!AN1867","v":0},{"$f":"Реестр!G1867","v":0},null,{"$f":"Реестр!J1867","v":0},0]
[{"$f":"(Реестр!B1868)+0","v":"00:00:00"},null,{"$f":"Реестр!AZ1868","v":0},{"$f":"Реестр!AN1868","v":0},{"$f":"Реестр!G1868","v":0},null,{"$f":"Реестр!J1868","v":0},0]
[{"$f":"(Реестр!B1869)+0","v":"00:00:00"},null,{"$f":"Реестр!AZ1869","v":0},{"$f":"Реестр!AN1869","v":0},{"$f":"Реестр!G1869","v":0},null,{"$f":"Реестр!J1869","v":0},0]
[{"$f":"(Реестр!B1870)+0","v":"00:00:00"},null,{"$f":"Реестр!AZ1870","v":0},{"$f":"Реестр!AN1870","v":0},{"$f":"Реестр!G1870","v":0},null,{"$f":"Реестр!J1870","v":0},0]
[{"$f":"(Реестр!B1871)+0","v":"00:00:00"},null,{"$f":"Реестр!AZ1871","v":0},{"$f":"Реестр!AN1871","v":0},{"$f":"Реестр!G1871","v":0},null,{"$f":"Реестр!J1871","v":0},0]
[{"$f":"(Реестр!B1872)+0","v":"00:00:00"},null,{"$f":"Реестр!AZ1872","v":0},{"$f":"Реестр!AN1872","v":0},{"$f":"Реестр!G1872","v":0},null,{"$f":"Реестр!J1872","v":0},0]
[{"$f":"(Реестр!B1873)+0","v":"00:00:00"},null,{"$f":"Реестр!AZ1873","v":0},{"$f":"Реестр!AN1873","v":0},{"$f":"Реестр!G1873","v":0},null,{"$f":"Реестр!J1873","v":0},0]
[{"$f":"(Реестр!B1874)+0","v":"00:00:00"},null,{"$f":"Реестр!AZ1874","v":0},{"$f":"Реестр!AN1874","v":0},{"$f":"Реестр!G1874","v":0},null,{"$f":"Реестр!J1874","v":0},0]
[{"$f":"(Реестр!B1875)+0","v":"00:00:00"},null,{"$f":"Реестр!AZ1875","v":0},{"$f":"Реестр!AN1875","v":0},{"$f":"Реестр!G1875","v":0},null,{"$f":"Реестр!J1875","v":0},0]
[{"$f":"(Реестр!B1876)+0","v":"00:00:00"},null,{"$f":"Реестр!AZ1876","v":0},{"$f":"Реестр!AN1876","v":0},{"$f":"Реестр!G1876","v":0},null,{"$f":"Реестр!J1876","v":0},0]
[{"$f":"(Реестр!B1877)+0","v":"00:00:00"},null,{"$f":"Реестр!AZ1877","v":0},{"$f":"Реестр!AN1877","v":0},{"$f":"Реестр!G1877","v":0},null,{"$f":"Реестр!J1877","v":0},0]
[{"$f":"(Реестр!B1878)+0","v":"00:00:00"},null,{"$f":"Реестр!AZ1878","v":0},{"$f":"Реестр!AN1878","v":0},{"$f":"Реестр!G1878","v":0},null,{"$f":"Реестр!J1878","v":0},0]
[{"$f":"(Реестр!B1879)+0","v":"00:00:00"},null,{"$f":"Реестр!AZ1879","v":0},{"$f":"Реестр!AN1879","v":0},{"$f":"Реестр!G1879","v":0},null,{"$f":"Реестр!J1879","v":0},0]
[{"$f":"(Реестр!B1880)+0","v":"00:00:00"},null,{"$f":"Реестр!AZ1880","v":0},{"$f":"Реестр!AN1880","v":0},{"$f":"Реестр!G1880","v":0},null,{"$f":"Реестр!J1880","v":0},0]
[{"$f":"(Реестр!B1881)+0","v":"00:00:00"},null,{"$f":"Реестр!AZ1881","v":0},{"$f":"Реестр!AN1881","v":0},{"$f":"Реестр!G1881","v":0},null,{"$f":"Реестр!J1881","v":0},0]
[{"$f":"(Реестр!B1882)+0","v":"00:00:00"},null,{"$f":"Реестр!AZ1882","v":0},{"$f":"Реестр!AN1882","v":0},{"$f":"Реестр!G1882","v":0},null,{"$f":"Реестр!J1882","v":0},0]
[{"$f":"(Реестр!B1883)+0","v":"00:00:00"},null,{"$f":"Реестр!AZ1883","v":0},{"$f":"Реестр!AN1883","v":0},{"$f":"Реестр!G1883","v":0},null,{"$f":"Реестр!J1883","v":0},0]
[{"$f":"(Реестр!B1884)+0","v":"00:00:00"},null,{"$f":"Реестр!AZ1884","v":0},{"$f":"Реестр!AN1884","v":0},{"$f":"Реестр!G1884","v":0},null,{"$f":"Реестр!J1884","v":0},0]
[{"$f":"(Реестр!B1885)+0","v":"00:00:00"},null,{"$f":"Реестр!AZ1885","v":0},{"$f":"Реестр!AN1885","v":0},{"$f":"Реестр!G1885","v":0},null,{"$f":"Реестр!J1885","v":0},0]
[{"$f":"(Реестр!B1886)+0","v":"00:00:00"},null,{"$f":"Реестр!AZ1886","v":0},{"$f":"Реестр!AN1886","v":0},{"$f":"Реестр!G1886","v":0},null,{"$f":"Реестр!J1886","v":0},0]
[{"$f":"(Реестр!B1887)+0","v":"00:00:00"},null,{"$f":"Реестр!AZ1887","v":0},{"$f":"Реестр!AN1887","v":0},{"$f":"Реестр!G1887","v":0},null,{"$f":"Реестр!J1887","v":0},0]
[{"$f":"(Реестр!B1888)+0","v":"00:00:00"},null,{"$f":"Реестр!AZ1888","v":0},{"$f":"Реестр!AN1888","v":0},{"$f":"Реестр!G1888","v":0},null,{"$f":"Реестр!J1888","v":0},0]
[{"$f":"(Реестр!B1889)+0","v":"00:00:00"},null,{"$f":"Реестр!AZ1889","v":0},{"$f":"Реестр!AN1889","v":0},{"$f":"Реестр!G1889","v":0},null,{"$f":"Реестр!J1889","v":0},0]
[{"$f":"(Реестр!B1890)+0","v":"00:00:00"},null,{"$f":"Реестр!AZ1890","v":0},{"$f":"Реестр!AN1890","v":0},{"$f":"Реестр!G1890","v":0},null,{"$f":"Реестр!J1890","v":0},0]
[{"$f":"(Реестр!B1891)+0","v":"00:00:00"},null,{"$f":"Реестр!AZ1891","v":0},{"$f":"Реестр!AN1891","v":0},{"$f":"Реестр!G1891","v":0},null,{"$f":"Реестр!J1891","v":0},0]
[{"$f":"(Реестр!B1892)+0","v":"00:00:00"},null,{"$f":"Реестр!AZ1892","v":0},{"$f":"Реестр!AN1892","v":0},{"$f":"Реестр!G1892","v":0},null,{"$f":"Реестр!J1892","v":0},0]
[{"$f":"(Реестр!B1893)+0","v":"00:00:00"},null,{"$f":"Реестр!AZ1893","v":0},{"$f":"Реестр!AN1893","v":0},{"$f":"Реестр!G1893","v":0},null,{"$f":"Реестр!J1893","v":0},0]
[{"$f":"(Реестр!B1894)+0","v":"00:00:00"},null,{"$f":"Реестр!AZ1894","v":0},{"$f":"Реестр!AN1894","v":0},{"$f":"Реестр!G1894","v":0},null,{"$f":"Реестр!J1894","v":0},0]
[{"$f":"(Реестр!B1895)+0","v":"00:00:00"},null,{"$f":"Реестр!AZ1895","v":0},{"$f":"Реестр!AN1895","v":0},{"$f":"Реестр!G1895","v":0},null,{"$f":"Реестр!J1895","v":0},0]
[{"$f":"(Реестр!B1896)+0","v":"00:00:00"},null,{"$f":"Реестр!AZ1896","v":0},{"$f":"Реестр!AN1896","v":0},{"$f":"Реестр!G1896","v":0},null,{"$f":"Реестр!J1896","v":0},0]
[{"$f":"(Реестр!B1897)+0","v":"00:00:00"},null,{"$f":"Реестр!AZ1897","v":0},{"$f":"Реестр!AN1897","v":0},{"$f":"Реестр!G1897","v":0},null,{"$f":"Реестр!J1897","v":0},0]
[{"$f":"(Реестр!B1898)+0","v":"00:00:00"},null,{"$f":"Реестр!AZ1898","v":0},{"$f":"Реестр!AN1898","v":0},{"$f":"Реестр!G1898","v":0},null,{"$f":"Реестр!J1898","v":0},0]
[{"$f":"(Реестр!B1899)+0","v":"00:00:00"},null,{"$f":"Реестр!AZ1899","v":0},{"$f":"Реестр!AN1899","v":0},{"$f":"Реестр!G1899","v":0},null,{"$f":"Реестр!J1899","v":0},0]
[{"$f":"(Реестр!B1900)+0","v":"00:00:00"},null,{"$f":"Реестр!AZ1900","v":0},{"$f":"Реестр!AN1900","v":0},{"$f":"Реестр!G1900","v":0},null,{"$f":"Реестр!J1900","v":0},0]
[{"$f":"(Реестр!B1901)+0","v":"00:00:00"},null,{"$f":"Реестр!AZ1901","v":0},{"$f":"Реестр!AN1901","v":0},{"$f":"Реестр!G1901","v":0},null,{"$f":"Реестр!J1901","v":0},0]
[{"$f":"(Реестр!B1902)+0","v":"00:00:00"},null,{"$f":"Реестр!AZ1902","v":0},{"$f":"Реестр!AN1902","v":0},{"$f":"Реестр!G1902","v":0},null,{"$f":"Реестр!J1902","v":0},0]
[{"$f":"(Реестр!B1903)+0","v":"00:00:00"},null,{"$f":"Реестр!AZ1903","v":0},{"$f":"Реестр!AN1903","v":0},{"$f":"Реестр!G1903","v":0},null,{"$f":"Реестр!J1903","v":0},0]
[{"$f":"(Реестр!B1904)+0","v":"00:00:00"},null,{"$f":"Реестр!AZ1904","v":0},{"$f":"Реестр!AN1904","v":0},{"$f":"Реестр!G1904","v":0},null,{"$f":"Реестр!J1904","v":0},0]
[{"$f":"(Реестр!B1905)+0","v":"00:00:00"},null,{"$f":"Реестр!AZ1905","v":0},{"$f":"Реестр!AN1905","v":0},{"$f":"Реестр!G1905","v":0},null,{"$f":"Реестр!J1905","v":0},0]
[{"$f":"(Реестр!B1906)+0","v":"00:00:00"},null,{"$f":"Реестр!AZ1906","v":0},{"$f":"Реестр!AN1906","v":0},{"$f":"Реестр!G1906","v":0},null,{"$f":"Реестр!J1906","v":0},0]
[{"$f":"(Реестр!B1907)+0","v":"00:00:00"},null,{"$f":"Реестр!AZ1907","v":0},{"$f":"Реестр!AN1907","v":0},{"$f":"Реестр!G1907","v":0},null,{"$f":"Реестр!J1907","v":0},0]
[{"$f":"(Реестр!B1908)+0","v":"00:00:00"},null,{"$f":"Реестр!AZ1908","v":0},{"$f":"Реестр!AN1908","v":0},{"$f":"Реестр!G1908","v":0},null,{"$f":"Реестр!J1908","v":0},0]
[{"$f":"(Реестр!B1909)+0","v":"00:00:00"},null,{"$f":"Реестр!AZ1909","v":0},{"$f":"Реестр!AN1909","v":0},{"$f":"Реестр!G1909","v":0},null,{"$f":"Реестр!J1909","v":0},0]
[{"$f":"(Реестр!B1910)+0","v":"00:00:00"},null,{"$f":"Реестр!AZ1910","v":0},{"$f":"Реестр!AN1910","v":0},{"$f":"Реестр!G1910","v":0},null,{"$f":"Реестр!J1910","v":0},0]
[{"$f":"(Реестр!B1911)+0","v":"00:00:00"},null,{"$f":"Реестр!AZ1911","v":0},{"$f":"Реестр!AN1911","v":0},{"$f":"Реестр!G1911","v":0},null,{"$f":"Реестр!J1911","v":0},0]
[{"$f":"(Реестр!B1912)+0","v":"00:00:00"},null,{"$f":"Реестр!AZ1912","v":0},{"$f":"Реестр!AN1912","v":0},{"$f":"Реестр!G1912","v":0},null,{"$f":"Реестр!J1912","v":0},0]
[{"$f":"(Реестр!B1913)+0","v":"00:00:00"},null,{"$f":"Реестр!AZ1913","v":0},{"$f":"Реестр!AN1913","v":0},{"$f":"Реестр!G1913","v":0},null,{"$f":"Реестр!J1913","v":0},0]
[{"$f":"(Реестр!B1914)+0","v":"00:00:00"},null,{"$f":"Реестр!AZ1914","v":0},{"$f":"Реестр!AN1914","v":0},{"$f":"Реестр!G1914","v":0},null,{"$f":"Реестр!J1914","v":0},0]
[{"$f":"(Реестр!B1915)+0","v":"00:00:00"},null,{"$f":"Реестр!AZ1915","v":0},{"$f":"Реестр!AN1915","v":0},{"$f":"Реестр!G1915","v":0},null,{"$f":"Реестр!J1915","v":0},0]
[{"$f":"(Реестр!B1916)+0","v":"00:00:00"},null,{"$f":"Реестр!AZ1916","v":0},{"$f":"Реестр!AN1916","v":0},{"$f":"Реестр!G1916","v":0},null,{"$f":"Реестр!J1916","v":0},0]
[{"$f":"(Реестр!B1917)+0","v":"00:00:00"},null,{"$f":"Реестр!AZ1917","v":0},{"$f":"Реестр!AN1917","v":0},{"$f":"Реестр!G1917","v":0},null,{"$f":"Реестр!J1917","v":0},0]
[{"$f":"(Реестр!B1918)+0","v":"00:00:00"},null,{"$f":"Реестр!AZ1918","v":0},{"$f":"Реестр!AN1918","v":0},{"$f":"Реестр!G1918","v":0},null,{"$f":"Реестр!J1918","v":0},0]
[{"$f":"(Реестр!B1919)+0","v":"00:00:00"},null,{"$f":"Реестр!AZ1919","v":0},{"$f":"Реестр!AN1919","v":0},{"$f":"Реестр!G1919","v":0},null,{"$f":"Реестр!J1919","v":0},{"$f":"E1353*G1353","v":0}]
[{"$f":"(Реестр!B1920)+0","v":"00:00:00"},null,{"$f":"Реестр!AZ1920","v":0},{"$f":"Реестр!AN1920","v":0},{"$f":"Реестр!G1920","v":0},null,{"$f":"Реестр!J1920","v":0},0]
[{"$f":"(Реестр!B1921)+0","v":"00:00:00"},null,{"$f":"Реестр!AZ1921","v":0},{"$f":"Реестр!AN1921","v":0},{"$f":"Реестр!G1921","v":0},null,{"$f":"Реестр!J1921","v":0},0]
[{"$f":"(Реестр!B1922)+0","v":"00:00:00"},null,{"$f":"Реестр!AZ1922","v":0},{"$f":"Реестр!AN1922","v":0},{"$f":"Реестр!G1922","v":0},null,{"$f":"Реестр!J1922","v":0},0]
[{"$f":"(Реестр!B1923)+0","v":"00:00:00"},null,{"$f":"Реестр!AZ1923","v":0},{"$f":"Реестр!AN1923","v":0},{"$f":"Реестр!G1923","v":0},null,{"$f":"Реестр!J1923","v":0},0]
[{"$f":"(Реестр!B1924)+0","v":"00:00:00"},null,{"$f":"Реестр!AZ1924","v":0},{"$f":"Реестр!AN1924","v":0},{"$f":"Реестр!G1924","v":0},null,{"$f":"Реестр!J1924","v":0},0]
[{"$f":"(Реестр!B1925)+0","v":"00:00:00"},null,{"$f":"Реестр!AZ1925","v":0},{"$f":"Реестр!AN1925","v":0},{"$f":"Реестр!G1925","v":0},null,{"$f":"Реестр!J1925","v":0},0]
[{"$f":"(Реестр!B1926)+0","v":"00:00:00"},null,{"$f":"Реестр!AZ1926","v":0},{"$f":"Реестр!AN1926","v":0},{"$f":"Реестр!G1926","v":0},null,{"$f":"Реестр!J1926","v":0},0]
[{"$f":"(Реестр!B1927)+0","v":"00:00:00"},null,{"$f":"Реестр!AZ1927","v":0},{"$f":"Реестр!AN1927","v":0},{"$f":"Реестр!G1927","v":0},null,{"$f":"Реестр!J1927","v":0},0]
[{"$f":"(Реестр!B1928)+0","v":"00:00:00"},null,{"$f":"Реестр!AZ1928","v":0},{"$f":"Реестр!AN1928","v":0},{"$f":"Реестр!G1928","v":0},null,{"$f":"Реестр!J1928","v":0},0]
[{"$f":"(Реестр!B1929)+0","v":"00:00:00"},null,{"$f":"Реестр!AZ1929","v":0},{"$f":"Реестр!AN1929","v":0},{"$f":"Реестр!G1929","v":0},null,{"$f":"Реестр!J1929","v":0},0]
[{"$f":"(Реестр!B1930)+0","v":"00:00:00"},null,{"$f":"Реестр!AZ1930","v":0},{"$f":"Реестр!AN1930","v":0},{"$f":"Реестр!G1930","v":0},null,{"$f":"Реестр!J1930","v":0},0]
[{"$f":"(Реестр!B1931)+0","v":"00:00:00"},null,{"$f":"Реестр!AZ1931","v":0},{"$f":"Реестр!AN1931","v":0},{"$f":"Реестр!G1931","v":0},null,{"$f":"Реестр!J1931","v":0},0]
[{"$f":"(Реестр!B1932)+0","v":"00:00:00"},null,{"$f":"Реестр!AZ1932","v":0},{"$f":"Реестр!AN1932","v":0},{"$f":"Реестр!G1932","v":0},null,{"$f":"Реестр!J1932","v":0},0]
[{"$f":"(Реестр!B1933)+0","v":"00:00:00"},null,{"$f":"Реестр!AZ1933","v":0},{"$f":"Реестр!AN1933","v":0},{"$f":"Реестр!G1933","v":0},null,{"$f":"Реестр!J1933","v":0},0]
[{"$f":"(Реестр!B1934)+0","v":"00:00:00"},null,{"$f":"Реестр!AZ1934","v":0},{"$f":"Реестр!AN1934","v":0},{"$f":"Реестр!G1934","v":0},null,{"$f":"Реестр!J1934","v":0},0]
[{"$f":"(Реестр!B1935)+0","v":"00:00:00"},null,{"$f":"Реестр!AZ1935","v":0},{"$f":"Реестр!AN1935","v":0},{"$f":"Реестр!G1935","v":0},null,{"$f":"Реестр!J1935","v":0},0]
[{"$f":"(Реестр!B1936)+0","v":"00:00:00"},null,{"$f":"Реестр!AZ1936","v":0},{"$f":"Реестр!AN1936","v":0},{"$f":"Реестр!G1936","v":0},null,{"$f":"Реестр!J1936","v":0},0]
[{"$f":"(Реестр!B1937)+0","v":"00:00:00"},null,{"$f":"Реестр!AZ1937","v":0},{"$f":"Реестр!AN1937","v":0},{"$f":"Реестр!G1937","v":0},null,{"$f":"Реестр!J1937","v":0},0]
[{"$f":"(Реестр!B1938)+0","v":"00:00:00"},null,{"$f":"Реестр!AZ1938","v":0},{"$f":"Реестр!AN1938","v":0},{"$f":"Реестр!G1938","v":0},null,{"$f":"Реестр!J1938","v":0},0]
[{"$f":"(Реестр!B1939)+0","v":"00:00:00"},null,{"$f":"Реестр!AZ1939","v":0},{"$f":"Реестр!AN1939","v":0},{"$f":"Реестр!G1939","v":0},null,{"$f":"Реестр!J1939","v":0},0]
[{"$f":"(Реестр!B1940)+0","v":"00:00:00"},null,{"$f":"Реестр!AZ1940","v":0},{"$f":"Реестр!AN1940","v":0},{"$f":"Реестр!G1940","v":0},null,{"$f":"Реестр!J1940","v":0},0]
[{"$f":"(Реестр!B1941)+0","v":"00:00:00"},null,{"$f":"Реестр!AZ1941","v":0},{"$f":"Реестр!AN1941","v":0},{"$f":"Реестр!G1941","v":0},null,{"$f":"Реестр!J1941","v":0},0]
[{"$f":"(Реестр!B1942)+0","v":"00:00:00"},null,{"$f":"Реестр!AZ1942","v":0},{"$f":"Реестр!AN1942","v":0},{"$f":"Реестр!G1942","v":0},null,{"$f":"Реестр!J1942","v":0},0]
[{"$f":"(Реестр!B1943)+0","v":"00:00:00"},null,{"$f":"Реестр!AZ1943","v":0},{"$f":"Реестр!AN1943","v":0},{"$f":"Реестр!G1943","v":0},null,{"$f":"Реестр!J1943","v":0},0]
[{"$f":"(Реестр!B1944)+0","v":"00:00:00"},null,{"$f":"Реестр!AZ1944","v":0},{"$f":"Реестр!AN1944","v":0},{"$f":"Реестр!G1944","v":0},null,{"$f":"Реестр!J1944","v":0},0]
[{"$f":"(Реестр!B1945)+0","v":"00:00:00"},null,{"$f":"Реестр!AZ1945","v":0},{"$f":"Реестр!AN1945","v":0},{"$f":"Реестр!G1945","v":0},null,{"$f":"Реестр!J1945","v":0},0]
[{"$f":"(Реестр!B1946)+0","v":"00:00:00"},null,{"$f":"Реестр!AZ1946","v":0},{"$f":"Реестр!AN1946","v":0},{"$f":"Реестр!G1946","v":0},null,{"$f":"Реестр!J1946","v":0},0]
[{"$f":"(Реестр!B1947)+0","v":"00:00:00"},null,{"$f":"Реестр!AZ1947","v":0},{"$f":"Реестр!AN1947","v":0},{"$f":"Реестр!G1947","v":0},null,{"$f":"Реестр!J1947","v":0},0]
[{"$f":"(Реестр!B1948)+0","v":"00:00:00"},null,{"$f":"Реестр!AZ1948","v":0},{"$f":"Реестр!AN1948","v":0},{"$f":"Реестр!G1948","v":0},null,{"$f":"Реестр!J1948","v":0},0]
[{"$f":"(Реестр!B1949)+0","v":"00:00:00"},null,{"$f":"Реестр!AZ1949","v":0},{"$f":"Реестр!AN1949","v":0},{"$f":"Реестр!G1949","v":0},null,{"$f":"Реестр!J1949","v":0},0]
[{"$f":"(Реестр!B1950)+0","v":"00:00:00"},null,{"$f":"Реестр!AZ1950","v":0},{"$f":"Реестр!AN1950","v":0},{"$f":"Реестр!G1950","v":0},null,{"$f":"Реестр!J1950","v":0},0]
[{"$f":"(Реестр!B1951)+0","v":"00:00:00"},null,{"$f":"Реестр!AZ1951","v":0},{"$f":"Реестр!AN1951","v":0},{"$f":"Реестр!G1951","v":0},null,{"$f":"Реестр!J1951","v":0},0]
[{"$f":"(Реестр!B1952)+0","v":"00:00:00"},null,{"$f":"Реестр!AZ1952","v":0},{"$f":"Реестр!AN1952","v":0},{"$f":"Реестр!G1952","v":0},null,{"$f":"Реестр!J1952","v":0},0]
[{"$f":"(Реестр!B1953)+0","v":"00:00:00"},null,{"$f":"Реестр!AZ1953","v":0},{"$f":"Реестр!AN1953","v":0},{"$f":"Реестр!G1953","v":0},null,{"$f":"Реестр!J1953","v":0},0]
[{"$f":"(Реестр!B1954)+0","v":"00:00:00"},null,{"$f":"Реестр!AZ1954","v":0},{"$f":"Реестр!AN1954","v":0},{"$f":"Реестр!G1954","v":0},null,{"$f":"Реестр!J1954","v":0},0]
[{"$f":"(Реестр!B1955)+0","v":"00:00:00"},null,{"$f":"Реестр!AZ1955","v":0},{"$f":"Реестр!AN1955","v":0},{"$f":"Реестр!G1955","v":0},null,{"$f":"Реестр!J1955","v":0},0]
[{"$f":"(Реестр!B1956)+0","v":"00:00:00"},null,{"$f":"Реестр!AZ1956","v":0},{"$f":"Реестр!AN1956","v":0},{"$f":"Реестр!G1956","v":0},null,{"$f":"Реестр!J1956","v":0},0]
[{"$f":"(Реестр!B1957)+0","v":"00:00:00"},null,{"$f":"Реестр!AZ1957","v":0},{"$f":"Реестр!AN1957","v":0},{"$f":"Реестр!G1957","v":0},null,{"$f":"Реестр!J1957","v":0},0]
[{"$f":"(Реестр!B1958)+0","v":"00:00:00"},null,{"$f":"Реестр!AZ1958","v":0},{"$f":"Реестр!AN1958","v":0},{"$f":"Реестр!G1958","v":0},null,{"$f":"Реестр!J1958","v":0},0]
[{"$f":"(Реестр!B1959)+0","v":"00:00:00"},null,{"$f":"Реестр!AZ1959","v":0},{"$f":"Реестр!AN1959","v":0},{"$f":"Реестр!G1959","v":0},null,{"$f":"Реестр!J1959","v":0},0]
[{"$f":"(Реестр!B1960)+0","v":"00:00:00"},null,{"$f":"Реестр!AZ1960","v":0},{"$f":"Реестр!AN1960","v":0},{"$f":"Реестр!G1960","v":0},null,{"$f":"Реестр!J1960","v":0},0]
[{"$f":"(Реестр!B1961)+0","v":"00:00:00"},null,{"$f":"Реестр!AZ1961","v":0},{"$f":"Реестр!AN1961","v":0},{"$f":"Реестр!G1961","v":0},null,{"$f":"Реестр!J1961","v":0},0]
[{"$f":"(Реестр!B1962)+0","v":"00:00:00"},null,{"$f":"Реестр!AZ1962","v":0},{"$f":"Реестр!AN1962","v":0},{"$f":"Реестр!G1962","v":0},null,{"$f":"Реестр!J1962","v":0},0]
[{"$f":"(Реестр!B1963)+0","v":"00:00:00"},null,{"$f":"Реестр!AZ1963","v":0},{"$f":"Реестр!AN1963","v":0},{"$f":"Реестр!G1963","v":0},null,{"$f":"Реестр!J1963","v":0},0]
[{"$f":"(Реестр!B1964)+0","v":"00:00:00"},null,{"$f":"Реестр!AZ1964","v":0},{"$f":"Реестр!AN1964","v":0},{"$f":"Реестр!G1964","v":0},null,{"$f":"Реестр!J1964","v":0},0]
[{"$f":"(Реестр!B1965)+0","v":"00:00:00"},null,{"$f":"Реестр!AZ1965","v":0},{"$f":"Реестр!AN1965","v":0},{"$f":"Реестр!G1965","v":0},null,{"$f":"Реестр!J1965","v":0},0]
[{"$f":"(Реестр!B1966)+0","v":"00:00:00"},null,{"$f":"Реестр!AZ1966","v":0},{"$f":"Реестр!AN1966","v":0},{"$f":"Реестр!G1966","v":0},null,{"$f":"Реестр!J1966","v":0},0]
[{"$f":"(Реестр!B1967)+0","v":"00:00:00"},null,{"$f":"Реестр!AZ1967","v":0},{"$f":"Реестр!AN1967","v":0},{"$f":"Реестр!G1967","v":0},null,{"$f":"Реестр!J1967","v":0},0]
[{"$f":"(Реестр!B1968)+0","v":"00:00:00"},null,{"$f":"Реестр!AZ1968","v":0},{"$f":"Реестр!AN1968","v":0},{"$f":"Реестр!G1968","v":0},null,{"$f":"Реестр!J1968","v":0},0]
[{"$f":"(Реестр!B1969)+0","v":"00:00:00"},null,{"$f":"Реестр!AZ1969","v":0},{"$f":"Реестр!AN1969","v":0},{"$f":"Реестр!G1969","v":0},null,{"$f":"Реестр!J1969","v":0},0]
[{"$f":"(Реестр!B1970)+0","v":"00:00:00"},null,{"$f":"Реестр!AZ1970","v":0},{"$f":"Реестр!AN1970","v":0},{"$f":"Реестр!G1970","v":0},null,{"$f":"Реестр!J1970","v":0},0]
[{"$f":"(Реестр!B1971)+0","v":"00:00:00"},null,{"$f":"Реестр!AZ1971","v":0},{"$f":"Реестр!AN1971","v":0},{"$f":"Реестр!G1971","v":0},null,{"$f":"Реестр!J1971","v":0},0]
[{"$f":"(Реестр!B1972)+0","v":"00:00:00"},null,{"$f":"Реестр!AZ1972","v":0},{"$f":"Реестр!AN1972","v":0},{"$f":"Реестр!G1972","v":0},null,{"$f":"Реестр!J1972","v":0},0]
[{"$f":"(Реестр!B1973)+0","v":"00:00:00"},null,{"$f":"Реестр!AZ1973","v":0},{"$f":"Реестр!AN1973","v":0},{"$f":"Реестр!G1973","v":0},null,{"$f":"Реестр!J1973","v":0},0]
[{"$f":"(Реестр!B1974)+0","v":"00:00:00"},null,{"$f":"Реестр!AZ1974","v":0},{"$f":"Реестр!AN1974","v":0},{"$f":"Реестр!G1974","v":0},null,{"$f":"Реестр!J1974","v":0},0]
[{"$f":"(Реестр!B1975)+0","v":"00:00:00"},null,{"$f":"Реестр!AZ1975","v":0},{"$f":"Реестр!AN1975","v":0},{"$f":"Реестр!G1975","v":0},null,{"$f":"Реестр!J1975","v":0},0]
[{"$f":"(Реестр!B1976)+0","v":"00:00:00"},null,{"$f":"Реестр!AZ1976","v":0},{"$f":"Реестр!AN1976","v":0},{"$f":"Реестр!G1976","v":0},null,{"$f":"Реестр!J1976","v":0},0]
[{"$f":"(Реестр!B1977)+0","v":"00:00:00"},null,{"$f":"Реестр!AZ1977","v":0},{"$f":"Реестр!AN1977","v":0},{"$f":"Реестр!G1977","v":0},null,{"$f":"Реестр!J1977","v":0},0]
[{"$f":"(Реестр!B1978)+0","v":"00:00:00"},null,{"$f":"Реестр!AZ1978","v":0},{"$f":"Реестр!AN1978","v":0},{"$f":"Реестр!G1978","v":0},null,{"$f":"Реестр!J1978","v":0},0]
[{"$f":"(Реестр!B1979)+0","v":"00:00:00"},null,{"$f":"Реестр!AZ1979","v":0},{"$f":"Реестр!AN1979","v":0},{"$f":"Реестр!G1979","v":0},null,{"$f":"Реестр!J1979","v":0},0]
[{"$f":"(Реестр!B1980)+0","v":"00:00:00"},null,{"$f":"Реестр!AZ1980","v":0},{"$f":"Реестр!AN1980","v":0},{"$f":"Реестр!G1980","v":0},null,{"$f":"Реестр!J1980","v":0},0]
[{"$f":"(Реестр!B1981)+0","v":"00:00:00"},null,{"$f":"Реестр!AZ1981","v":0},{"$f":"Реестр!AN1981","v":0},{"$f":"Реестр!G1981","v":0},null,{"$f":"Реестр!J1981","v":0},0]
[{"$f":"(Реестр!B1982)+0","v":"00:00:00"},null,{"$f":"Реестр!AZ1982","v":0},{"$f":"Реестр!AN1982","v":0},{"$f":"Реестр!G1982","v":0},null,{"$f":"Реестр!J1982","v":0},0]
[{"$f":"(Реестр!B1983)+0","v":"00:00:00"},null,{"$f":"Реестр!AZ1983","v":0},{"$f":"Реестр!AN1983","v":0},{"$f":"Реестр!G1983","v":0},null,{"$f":"Реестр!J1983","v":0},{"$f":"E1417*G1417","v":0}]
[{"$f":"(Реестр!B1984)+0","v":"00:00:00"},null,{"$f":"Реестр!AZ1984","v":0},{"$f":"Реестр!AN1984","v":0},{"$f":"Реестр!G1984","v":0},null,{"$f":"Реестр!J1984","v":0},0]
[{"$f":"(Реестр!B1985)+0","v":"00:00:00"},null,{"$f":"Реестр!AZ1985","v":0},{"$f":"Реестр!AN1985","v":0},{"$f":"Реестр!G1985","v":0},null,{"$f":"Реестр!J1985","v":0},0]
[{"$f":"(Реестр!B1986)+0","v":"00:00:00"},null,{"$f":"Реестр!AZ1986","v":0},{"$f":"Реестр!AN1986","v":0},{"$f":"Реестр!G1986","v":0},null,{"$f":"Реестр!J1986","v":0},0]
[{"$f":"(Реестр!B1987)+0","v":"00:00:00"},null,{"$f":"Реестр!AZ1987","v":0},{"$f":"Реестр!AN1987","v":0},{"$f":"Реестр!G1987","v":0},null,{"$f":"Реестр!J1987","v":0},0]
[{"$f":"(Реестр!B1988)+0","v":"00:00:00"},null,{"$f":"Реестр!AZ1988","v":0},{"$f":"Реестр!AN1988","v":0},{"$f":"Реестр!G1988","v":0},null,{"$f":"Реестр!J1988","v":0},0]
[{"$f":"(Реестр!B1989)+0","v":"00:00:00"},null,{"$f":"Реестр!AZ1989","v":0},{"$f":"Реестр!AN1989","v":0},{"$f":"Реестр!G1989","v":0},null,{"$f":"Реестр!J1989","v":0},0]
[{"$f":"(Реестр!B1990)+0","v":"00:00:00"},null,{"$f":"Реестр!AZ1990","v":0},{"$f":"Реестр!AN1990","v":0},{"$f":"Реестр!G1990","v":0},null,{"$f":"Реестр!J1990","v":0},0]
[{"$f":"(Реестр!B1991)+0","v":"00:00:00"},null,{"$f":"Реестр!AZ1991","v":0},{"$f":"Реестр!AN1991","v":0},{"$f":"Реестр!G1991","v":0},null,{"$f":"Реестр!J1991","v":0},0]
[{"$f":"(Реестр!B1992)+0","v":"00:00:00"},null,{"$f":"Реестр!AZ1992","v":0},{"$f":"Реестр!AN1992","v":0},{"$f":"Реестр!G1992","v":0},null,{"$f":"Реестр!J1992","v":0},0]
[{"$f":"(Реестр!B1993)+0","v":"00:00:00"},null,{"$f":"Реестр!AZ1993","v":0},{"$f":"Реестр!AN1993","v":0},{"$f":"Реестр!G1993","v":0},null,{"$f":"Реестр!J1993","v":0},0]
[{"$f":"(Реестр!B1994)+0","v":"00:00:00"},null,{"$f":"Реестр!AZ1994","v":0},{"$f":"Реестр!AN1994","v":0},{"$f":"Реестр!G1994","v":0},null,{"$f":"Реестр!J1994","v":0},0]
[{"$f":"(Реестр!B1995)+0","v":"00:00:00"},null,{"$f":"Реестр!AZ1995","v":0},{"$f":"Реестр!AN1995","v":0},{"$f":"Реестр!G1995","v":0},null,{"$f":"Реестр!J1995","v":0},0]
[{"$f":"(Реестр!B1996)+0","v":"00:00:00"},null,{"$f":"Реестр!AZ1996","v":0},{"$f":"Реестр!AN1996","v":0},{"$f":"Реестр!G1996","v":0},null,{"$f":"Реестр!J1996","v":0},0]
[{"$f":"(Реестр!B1997)+0","v":"00:00:00"},null,{"$f":"Реестр!AZ1997","v":0},{"$f":"Реестр!AN1997","v":0},{"$f":"Реестр!G1997","v":0},null,{"$f":"Реестр!J1997","v":0},0]
[{"$f":"(Реестр!B1998)+0","v":"00:00:00"},null,{"$f":"Реестр!AZ1998","v":0},{"$f":"Реестр!AN1998","v":0},{"$f":"Реестр!G1998","v":0},null,{"$f":"Реестр!J1998","v":0},0]
[{"$f":"(Реестр!B1999)+0","v":"00:00:00"},null,{"$f":"Реестр!AZ1999","v":0},{"$f":"Реестр!AN1999","v":0},{"$f":"Реестр!G1999","v":0},null,{"$f":"Реестр!J1999","v":0},0]
[{"$f":"(Реестр!B2000)+0","v":"00:00:00"},null,{"$f":"Реестр!AZ2000","v":0},{"$f":"Реестр!AN2000","v":0},{"$f":"Реестр!G2000","v":0},null,{"$f":"Реестр!J2000","v":0},0]
[{"$f":"(Реестр!B2001)+0","v":"00:00:00"},null,{"$f":"Реестр!AZ2001","v":0},{"$f":"Реестр!AN2001","v":0},{"$f":"Реестр!G2001","v":0},null,{"$f":"Реестр!J2001","v":0},0]
[{"$f":"(Реестр!B2002)+0","v":"00:00:00"},null,{"$f":"Реестр!AZ2002","v":0},{"$f":"Реестр!AN2002","v":0},{"$f":"Реестр!G2002","v":0},null,{"$f":"Реестр!J2002","v":0},0]
[{"$f":"(Реестр!B2003)+0","v":"00:00:00"},null,{"$f":"Реестр!AZ2003","v":0},{"$f":"Реестр!AN2003","v":0},{"$f":"Реестр!G2003","v":0},null,{"$f":"Реестр!J2003","v":0},0]
[{"$f":"(Реестр!B2004)+0","v":"00:00:00"},null,{"$f":"Реестр!AZ2004","v":0},{"$f":"Реестр!AN2004","v":0},{"$f":"Реестр!G2004","v":0},null,{"$f":"Реестр!J2004","v":0},0]
[{"$f":"(Реестр!B2005)+0","v":"00:00:00"},null,{"$f":"Реестр!AZ2005","v":0},{"$f":"Реестр!AN2005","v":0},{"$f":"Реестр!G2005","v":0},null,{"$f":"Реестр!J2005","v":0},0]
[{"$f":"(Реестр!B2006)+0","v":"00:00:00"},null,{"$f":"Реестр!AZ2006","v":0},{"$f":"Реестр!AN2006","v":0},{"$f":"Реестр!G2006","v":0},null,{"$f":"Реестр!J2006","v":0},0]
[{"$f":"(Реестр!B2007)+0","v":"00:00:00"},null,{"$f":"Реестр!AZ2007","v":0},{"$f":"Реестр!AN2007","v":0},{"$f":"Реестр!G2007","v":0},null,{"$f":"Реестр!J2007","v":0},0]
[{"$f":"(Реестр!B2008)+0","v":"00:00:00"},null,{"$f":"Реестр!AZ2008","v":0},{"$f":"Реестр!AN2008","v":0},{"$f":"Реестр!G2008","v":0},null,{"$f":"Реестр!J2008","v":0},0]
[{"$f":"(Реестр!B2009)+0","v":"00:00:00"},null,{"$f":"Реестр!AZ2009","v":0},{"$f":"Реестр!AN2009","v":0},{"$f":"Реестр!G2009","v":0},null,{"$f":"Реестр!J2009","v":0},0]
[{"$f":"(Реестр!B2010)+0","v":"00:00:00"},null,{"$f":"Реестр!AZ2010","v":0},{"$f":"Реестр!AN2010","v":0},{"$f":"Реестр!G2010","v":0},null,{"$f":"Реестр!J2010","v":0},0]
[{"$f":"(Реестр!B2011)+0","v":"00:00:00"},null,{"$f":"Реестр!AZ2011","v":0},{"$f":"Реестр!AN2011","v":0},{"$f":"Реестр!G2011","v":0},null,{"$f":"Реестр!J2011","v":0},0]
[{"$f":"(Реестр!B2012)+0","v":"00:00:00"},null,{"$f":"Реестр!AZ2012","v":0},{"$f":"Реестр!AN2012","v":0},{"$f":"Реестр!G2012","v":0},null,{"$f":"Реестр!J2012","v":0},0]
[{"$f":"(Реестр!B2013)+0","v":"00:00:00"},null,{"$f":"Реестр!AZ2013","v":0},{"$f":"Реестр!AN2013","v":0},{"$f":"Реестр!G2013","v":0},null,{"$f":"Реестр!J2013","v":0},0]
[{"$f":"(Реестр!B2014)+0","v":"00:00:00"},null,{"$f":"Реестр!AZ2014","v":0},{"$f":"Реестр!AN2014","v":0},{"$f":"Реестр!G2014","v":0},null,{"$f":"Реестр!J2014","v":0},0]
[{"$f":"(Реестр!B2015)+0","v":"00:00:00"},null,{"$f":"Реестр!AZ2015","v":0},{"$f":"Реестр!AN2015","v":0},{"$f":"Реестр!G2015","v":0},null,{"$f":"Реестр!J2015","v":0},0]
[{"$f":"(Реестр!B2016)+0","v":"00:00:00"},null,{"$f":"Реестр!AZ2016","v":0},{"$f":"Реестр!AN2016","v":0},{"$f":"Реестр!G2016","v":0},null,{"$f":"Реестр!J2016","v":0},0]
[{"$f":"(Реестр!B2017)+0","v":"00:00:00"},null,{"$f":"Реестр!AZ2017","v":0},{"$f":"Реестр!AN2017","v":0},{"$f":"Реестр!G2017","v":0},null,{"$f":"Реестр!J2017","v":0},0]
[{"$f":"(Реестр!B2018)+0","v":"00:00:00"},null,{"$f":"Реестр!AZ2018","v":0},{"$f":"Реестр!AN2018","v":0},{"$f":"Реестр!G2018","v":0},null,{"$f":"Реестр!J2018","v":0},0]
[{"$f":"(Реестр!B2019)+0","v":"00:00:00"},null,{"$f":"Реестр!AZ2019","v":0},{"$f":"Реестр!AN2019","v":0},{"$f":"Реестр!G2019","v":0},null,{"$f":"Реестр!J2019","v":0},0]
[{"$f":"(Реестр!B2020)+0","v":"00:00:00"},null,{"$f":"Реестр!AZ2020","v":0},{"$f":"Реестр!AN2020","v":0},{"$f":"Реестр!G2020","v":0},null,{"$f":"Реестр!J2020","v":0},0]
[{"$f":"(Реестр!B2021)+0","v":"00:00:00"},null,{"$f":"Реестр!AZ2021","v":0},{"$f":"Реестр!AN2021","v":0},{"$f":"Реестр!G2021","v":0},null,{"$f":"Реестр!J2021","v":0},0]
[{"$f":"(Реестр!B2022)+0","v":"00:00:00"},null,{"$f":"Реестр!AZ2022","v":0},{"$f":"Реестр!AN2022","v":0},{"$f":"Реестр!G2022","v":0},null,{"$f":"Реестр!J2022","v":0},0]
[{"$f":"(Реестр!B2023)+0","v":"00:00:00"},null,{"$f":"Реестр!AZ2023","v":0},{"$f":"Реестр!AN2023","v":0},{"$f":"Реестр!G2023","v":0},null,{"$f":"Реестр!J2023","v":0},0]
[{"$f":"(Реестр!B2024)+0","v":"00:00:00"},null,{"$f":"Реестр!AZ2024","v":0},{"$f":"Реестр!AN2024","v":0},{"$f":"Реестр!G2024","v":0},null,{"$f":"Реестр!J2024","v":0},0]
[{"$f":"(Реестр!B2025)+0","v":"00:00:00"},null,{"$f":"Реестр!AZ2025","v":0},{"$f":"Реестр!AN2025","v":0},{"$f":"Реестр!G2025","v":0},null,{"$f":"Реестр!J2025","v":0},0]
[{"$f":"(Реестр!B2026)+0","v":"00:00:00"},null,{"$f":"Реестр!AZ2026","v":0},{"$f":"Реестр!AN2026","v":0},{"$f":"Реестр!G2026","v":0},null,{"$f":"Реестр!J2026","v":0},0]
[{"$f":"(Реестр!B2027)+0","v":"00:00:00"},null,{"$f":"Реестр!AZ2027","v":0},{"$f":"Реестр!AN2027","v":0},{"$f":"Реестр!G2027","v":0},null,{"$f":"Реестр!J2027","v":0},0]
[{"$f":"(Реестр!B2028)+0","v":"00:00:00"},null,{"$f":"Реестр!AZ2028","v":0},{"$f":"Реестр!AN2028","v":0},{"$f":"Реестр!G2028","v":0},null,{"$f":"Реестр!J2028","v":0},0]
[{"$f":"(Реестр!B2029)+0","v":"00:00:00"},null,{"$f":"Реестр!AZ2029","v":0},{"$f":"Реестр!AN2029","v":0},{"$f":"Реестр!G2029","v":0},null,{"$f":"Реестр!J2029","v":0},0]
[{"$f":"(Реестр!B2030)+0","v":"00:00:00"},null,{"$f":"Реестр!AZ2030","v":0},{"$f":"Реестр!AN2030","v":0},{"$f":"Реестр!G2030","v":0},null,{"$f":"Реестр!J2030","v":0},0]
[{"$f":"(Реестр!B2031)+0","v":"00:00:00"},null,{"$f":"Реестр!AZ2031","v":0},{"$f":"Реестр!AN2031","v":0},{"$f":"Реестр!G2031","v":0},null,{"$f":"Реестр!J2031","v":0},0]
[{"$f":"(Реестр!B2032)+0","v":"00:00:00"},null,{"$f":"Реестр!AZ2032","v":0},{"$f":"Реестр!AN2032","v":0},{"$f":"Реестр!G2032","v":0},null,{"$f":"Реестр!J2032","v":0},0]
[{"$f":"(Реестр!B2033)+0","v":"00:00:00"},null,{"$f":"Реестр!AZ2033","v":0},{"$f":"Реестр!AN2033","v":0},{"$f":"Реестр!G2033","v":0},null,{"$f":"Реестр!J2033","v":0},0]
[{"$f":"(Реестр!B2034)+0","v":"00:00:00"},null,{"$f":"Реестр!AZ2034","v":0},{"$f":"Реестр!AN2034","v":0},{"$f":"Реестр!G2034","v":0},null,{"$f":"Реестр!J2034","v":0},0]
[{"$f":"(Реестр!B2035)+0","v":"00:00:00"},null,{"$f":"Реестр!AZ2035","v":0},{"$f":"Реестр!AN2035","v":0},{"$f":"Реестр!G2035","v":0},null,{"$f":"Реестр!J2035","v":0},0]
[{"$f":"(Реестр!B2036)+0","v":"00:00:00"},null,{"$f":"Реестр!AZ2036","v":0},{"$f":"Реестр!AN2036","v":0},{"$f":"Реестр!G2036","v":0},null,{"$f":"Реестр!J2036","v":0},0]
[{"$f":"(Реестр!B2037)+0","v":"00:00:00"},null,{"$f":"Реестр!AZ2037","v":0},{"$f":"Реестр!AN2037","v":0},{"$f":"Реестр!G2037","v":0},null,{"$f":"Реестр!J2037","v":0},0]
[{"$f":"(Реестр!B2038)+0","v":"00:00:00"},null,{"$f":"Реестр!AZ2038","v":0},{"$f":"Реестр!AN2038","v":0},{"$f":"Реестр!G2038","v":0},null,{"$f":"Реестр!J2038","v":0},0]
[{"$f":"(Реестр!B2039)+0","v":"00:00:00"},null,{"$f":"Реестр!AZ2039","v":0},{"$f":"Реестр!AN2039","v":0},{"$f":"Реестр!G2039","v":0},null,{"$f":"Реестр!J2039","v":0},0]
[{"$f":"(Реестр!B2040)+0","v":"00:00:00"},null,{"$f":"Реестр!AZ2040","v":0},{"$f":"Реестр!AN2040","v":0},{"$f":"Реестр!G2040","v":0},null,{"$f":"Реестр!J2040","v":0},0]
[{"$f":"(Реестр!B2041)+0","v":"00:00:00"},null,{"$f":"Реестр!AZ2041","v":0},{"$f":"Реестр!AN2041","v":0},{"$f":"Реестр!G2041","v":0},null,{"$f":"Реестр!J2041","v":0},0]
[{"$f":"(Реестр!B2042)+0","v":"00:00:00"},null,{"$f":"Реестр!AZ2042","v":0},{"$f":"Реестр!AN2042","v":0},{"$f":"Реестр!G2042","v":0},null,{"$f":"Реестр!J2042","v":0},0]
[{"$f":"(Реестр!B2043)+0","v":"00:00:00"},null,{"$f":"Реестр!AZ2043","v":0},{"$f":"Реестр!AN2043","v":0},{"$f":"Реестр!G2043","v":0},null,{"$f":"Реестр!J2043","v":0},0]
[{"$f":"(Реестр!B2044)+0","v":"00:00:00"},null,{"$f":"Реестр!AZ2044","v":0},{"$f":"Реестр!AN2044","v":0},{"$f":"Реестр!G2044","v":0},null,{"$f":"Реестр!J2044","v":0},0]
[{"$f":"(Реестр!B2045)+0","v":"00:00:00"},null,{"$f":"Реестр!AZ2045","v":0},{"$f":"Реестр!AN2045","v":0},{"$f":"Реестр!G2045","v":0},null,{"$f":"Реестр!J2045","v":0},0]
[{"$f":"(Реестр!B2046)+0","v":"00:00:00"},null,{"$f":"Реестр!AZ2046","v":0},{"$f":"Реестр!AN2046","v":0},{"$f":"Реестр!G2046","v":0},null,{"$f":"Реестр!J2046","v":0},0]
[{"$f":"(Реестр!B2047)+0","v":"00:00:00"},null,{"$f":"Реестр!AZ2047","v":0},{"$f":"Реестр!AN2047","v":0},{"$f":"Реестр!G2047","v":0},null,{"$f":"Реестр!J2047","v":0},{"$f":"E1481*G1481","v":0}]
[{"$f":"(Реестр!B2048)+0","v":"00:00:00"},null,{"$f":"Реестр!AZ2048","v":0},{"$f":"Реестр!AN2048","v":0},{"$f":"Реестр!G2048","v":0},null,{"$f":"Реестр!J2048","v":0},0]
[{"$f":"(Реестр!B2049)+0","v":"00:00:00"},null,{"$f":"Реестр!AZ2049","v":0},{"$f":"Реестр!AN2049","v":0},{"$f":"Реестр!G2049","v":0},null,{"$f":"Реестр!J2049","v":0},0]
[{"$f":"(Реестр!B2050)+0","v":"00:00:00"},null,{"$f":"Реестр!AZ2050","v":0},{"$f":"Реестр!AN2050","v":0},{"$f":"Реестр!G2050","v":0},null,{"$f":"Реестр!J2050","v":0},0]
[{"$f":"(Реестр!B2051)+0","v":"00:00:00"},null,{"$f":"Реестр!AZ2051","v":0},{"$f":"Реестр!AN2051","v":0},{"$f":"Реестр!G2051","v":0},null,{"$f":"Реестр!J2051","v":0},0]
[{"$f":"(Реестр!B2052)+0","v":"00:00:00"},null,{"$f":"Реестр!AZ2052","v":0},{"$f":"Реестр!AN2052","v":0},{"$f":"Реестр!G2052","v":0},null,{"$f":"Реестр!J2052","v":0},0]
[{"$f":"(Реестр!B2053)+0","v":"00:00:00"},null,{"$f":"Реестр!AZ2053","v":0},{"$f":"Реестр!AN2053","v":0},{"$f":"Реестр!G2053","v":0},null,{"$f":"Реестр!J2053","v":0},0]
[{"$f":"(Реестр!B2054)+0","v":"00:00:00"},null,{"$f":"Реестр!AZ2054","v":0},{"$f":"Реестр!AN2054","v":0},{"$f":"Реестр!G2054","v":0},null,{"$f":"Реестр!J2054","v":0},0]
[{"$f":"(Реестр!B2055)+0","v":"00:00:00"},null,{"$f":"Реестр!AZ2055","v":0},{"$f":"Реестр!AN2055","v":0},{"$f":"Реестр!G2055","v":0},null,{"$f":"Реестр!J2055","v":0},0]
[{"$f":"(Реестр!B2056)+0","v":"00:00:00"},null,{"$f":"Реестр!AZ2056","v":0},{"$f":"Реестр!AN2056","v":0},{"$f":"Реестр!G2056","v":0},null,{"$f":"Реестр!J2056","v":0},0]
[{"$f":"(Реестр!B2057)+0","v":"00:00:00"},null,{"$f":"Реестр!AZ2057","v":0},{"$f":"Реестр!AN2057","v":0},{"$f":"Реестр!G2057","v":0},null,{"$f":"Реестр!J2057","v":0},0]
[{"$f":"(Реестр!B2058)+0","v":"00:00:00"},null,{"$f":"Реестр!AZ2058","v":0},{"$f":"Реестр!AN2058","v":0},{"$f":"Реестр!G2058","v":0},null,{"$f":"Реестр!J2058","v":0},0]
[{"$f":"(Реестр!B2059)+0","v":"00:00:00"},null,{"$f":"Реестр!AZ2059","v":0},{"$f":"Реестр!AN2059","v":0},{"$f":"Реестр!G2059","v":0},null,{"$f":"Реестр!J2059","v":0},0]
[{"$f":"(Реестр!B2060)+0","v":"00:00:00"},null,{"$f":"Реестр!AZ2060","v":0},{"$f":"Реестр!AN2060","v":0},{"$f":"Реестр!G2060","v":0},null,{"$f":"Реестр!J2060","v":0},0]
[{"$f":"(Реестр!B2061)+0","v":"00:00:00"},null,{"$f":"Реестр!AZ2061","v":0},{"$f":"Реестр!AN2061","v":0},{"$f":"Реестр!G2061","v":0},null,{"$f":"Реестр!J2061","v":0},0]
[{"$f":"(Реестр!B2062)+0","v":"00:00:00"},null,{"$f":"Реестр!AZ2062","v":0},{"$f":"Реестр!AN2062","v":0},{"$f":"Реестр!G2062","v":0},null,{"$f":"Реестр!J2062","v":0},0]
[{"$f":"(Реестр!B2063)+0","v":"00:00:00"},null,{"$f":"Реестр!AZ2063","v":0},{"$f":"Реестр!AN2063","v":0},{"$f":"Реестр!G2063","v":0},null,{"$f":"Реестр!J2063","v":0},0]
[{"$f":"(Реестр!B2064)+0","v":"00:00:00"},null,{"$f":"Реестр!AZ2064","v":0},{"$f":"Реестр!AN2064","v":0},{"$f":"Реестр!G2064","v":0},null,{"$f":"Реестр!J2064","v":0},0]
[{"$f":"(Реестр!B2065)+0","v":"00:00:00"},null,{"$f":"Реестр!AZ2065","v":0},{"$f":"Реестр!AN2065","v":0},{"$f":"Реестр!G2065","v":0},null,{"$f":"Реестр!J2065","v":0},0]
[{"$f":"(Реестр!B2066)+0","v":"00:00:00"},null,{"$f":"Реестр!AZ2066","v":0},{"$f":"Реестр!AN2066","v":0},{"$f":"Реестр!G2066","v":0},null,{"$f":"Реестр!J2066","v":0},0]
[{"$f":"(Реестр!B2067)+0","v":"00:00:00"},null,{"$f":"Реестр!AZ2067","v":0},{"$f":"Реестр!AN2067","v":0},{"$f":"Реестр!G2067","v":0},null,{"$f":"Реестр!J2067","v":0},0]
[{"$f":"(Реестр!B2068)+0","v":"00:00:00"},null,{"$f":"Реестр!AZ2068","v":0},{"$f":"Реестр!AN2068","v":0},{"$f":"Реестр!G2068","v":0},null,{"$f":"Реестр!J2068","v":0},0]
[{"$f":"(Реестр!B2069)+0","v":"00:00:00"},null,{"$f":"Реестр!AZ2069","v":0},{"$f":"Реестр!AN2069","v":0},{"$f":"Реестр!G2069","v":0},null,{"$f":"Реестр!J2069","v":0},0]
[{"$f":"(Реестр!B2070)+0","v":"00:00:00"},null,{"$f":"Реестр!AZ2070","v":0},{"$f":"Реестр!AN2070","v":0},{"$f":"Реестр!G2070","v":0},null,{"$f":"Реестр!J2070","v":0},0]
[{"$f":"(Реестр!B2071)+0","v":"00:00:00"},null,{"$f":"Реестр!AZ2071","v":0},{"$f":"Реестр!AN2071","v":0},{"$f":"Реестр!G2071","v":0},null,{"$f":"Реестр!J2071","v":0},0]
[{"$f":"(Реестр!B2072)+0","v":"00:00:00"},null,{"$f":"Реестр!AZ2072","v":0},{"$f":"Реестр!AN2072","v":0},{"$f":"Реестр!G2072","v":0},null,{"$f":"Реестр!J2072","v":0},0]
[{"$f":"(Реестр!B2073)+0","v":"00:00:00"},null,{"$f":"Реестр!AZ2073","v":0},{"$f":"Реестр!AN2073","v":0},{"$f":"Реестр!G2073","v":0},null,{"$f":"Реестр!J2073","v":0},0]
[{"$f":"(Реестр!B2074)+0","v":"00:00:00"},null,{"$f":"Реестр!AZ2074","v":0},{"$f":"Реестр!AN2074","v":0},{"$f":"Реестр!G2074","v":0},null,{"$f":"Реестр!J2074","v":0},0]
[{"$f":"(Реестр!B2075)+0","v":"00:00:00"},null,{"$f":"Реестр!AZ2075","v":0},{"$f":"Реестр!AN2075","v":0},{"$f":"Реестр!G2075","v":0},null,{"$f":"Реестр!J2075","v":0},0]
[{"$f":"(Реестр!B2076)+0","v":"00:00:00"},null,{"$f":"Реестр!AZ2076","v":0},{"$f":"Реестр!AN2076","v":0},{"$f":"Реестр!G2076","v":0},null,{"$f":"Реестр!J2076","v":0},0]
[{"$f":"(Реестр!B2077)+0","v":"00:00:00"},null,{"$f":"Реестр!AZ2077","v":0},{"$f":"Реестр!AN2077","v":0},{"$f":"Реестр!G2077","v":0},null,{"$f":"Реестр!J2077","v":0},0]
[{"$f":"(Реестр!B2078)+0","v":"00:00:00"},null,{"$f":"Реестр!AZ2078","v":0},{"$f":"Реестр!AN2078","v":0},{"$f":"Реестр!G2078","v":0},null,{"$f":"Реестр!J2078","v":0},0]
[{"$f":"(Реестр!B2079)+0","v":"00:00:00"},null,{"$f":"Реестр!AZ2079","v":0},{"$f":"Реестр!AN2079","v":0},{"$f":"Реестр!G2079","v":0},null,{"$f":"Реестр!J2079","v":0},0]
[{"$f":"(Реестр!B2080)+0","v":"00:00:00"},null,{"$f":"Реестр!AZ2080","v":0},{"$f":"Реестр!AN2080","v":0},{"$f":"Реестр!G2080","v":0},null,{"$f":"Реестр!J2080","v":0},0]
[{"$f":"(Реестр!B2081)+0","v":"00:00:00"},null,{"$f":"Реестр!AZ2081","v":0},{"$f":"Реестр!AN2081","v":0},{"$f":"Реестр!G2081","v":0},null,{"$f":"Реестр!J2081","v":0},0]
[{"$f":"(Реестр!B2082)+0","v":"00:00:00"},null,{"$f":"Реестр!AZ2082","v":0},{"$f":"Реестр!AN2082","v":0},{"$f":"Реестр!G2082","v":0},null,{"$f":"Реестр!J2082","v":0},0]
[{"$f":"(Реестр!B2083)+0","v":"00:00:00"},null,{"$f":"Реестр!AZ2083","v":0},{"$f":"Реестр!AN2083","v":0},{"$f":"Реестр!G2083","v":0},null,{"$f":"Реестр!J2083","v":0},0]
[{"$f":"(Реестр!B2084)+0","v":"00:00:00"},null,{"$f":"Реестр!AZ2084","v":0},{"$f":"Реестр!AN2084","v":0},{"$f":"Реестр!G2084","v":0},null,{"$f":"Реестр!J2084","v":0},0]
[{"$f":"(Реестр!B2085)+0","v":"00:00:00"},null,{"$f":"Реестр!AZ2085","v":0},{"$f":"Реестр!AN2085","v":0},{"$f":"Реестр!G2085","v":0},null,{"$f":"Реестр!J2085","v":0},0]
[{"$f":"(Реестр!B2086)+0","v":"00:00:00"},null,{"$f":"Реестр!AZ2086","v":0},{"$f":"Реестр!AN2086","v":0},{"$f":"Реестр!G2086","v":0},null,{"$f":"Реестр!J2086","v":0},0]
[{"$f":"(Реестр!B2087)+0","v":"00:00:00"},null,{"$f":"Реестр!AZ2087","v":0},{"$f":"Реестр!AN2087","v":0},{"$f":"Реестр!G2087","v":0},null,{"$f":"Реестр!J2087","v":0},0]
[{"$f":"(Реестр!B2088)+0","v":"00:00:00"},null,{"$f":"Реестр!AZ2088","v":0},{"$f":"Реестр!AN2088","v":0},{"$f":"Реестр!G2088","v":0},null,{"$f":"Реестр!J2088","v":0},0]
[{"$f":"(Реестр!B2089)+0","v":"00:00:00"},null,{"$f":"Реестр!AZ2089","v":0},{"$f":"Реестр!AN2089","v":0},{"$f":"Реестр!G2089","v":0},null,{"$f":"Реестр!J2089","v":0},0]
[{"$f":"(Реестр!B2090)+0","v":"00:00:00"},null,{"$f":"Реестр!AZ2090","v":0},{"$f":"Реестр!AN2090","v":0},{"$f":"Реестр!G2090","v":0},null,{"$f":"Реестр!J2090","v":0},0]
[{"$f":"(Реестр!B2091)+0","v":"00:00:00"},null,{"$f":"Реестр!AZ2091","v":0},{"$f":"Реестр!AN2091","v":0},{"$f":"Реестр!G2091","v":0},null,{"$f":"Реестр!J2091","v":0},0]
[{"$f":"(Реестр!B2092)+0","v":"00:00:00"},null,{"$f":"Реестр!AZ2092","v":0},{"$f":"Реестр!AN2092","v":0},{"$f":"Реестр!G2092","v":0},null,{"$f":"Реестр!J2092","v":0},0]
[{"$f":"(Реестр!B2093)+0","v":"00:00:00"},null,{"$f":"Реестр!AZ2093","v":0},{"$f":"Реестр!AN2093","v":0},{"$f":"Реестр!G2093","v":0},null,{"$f":"Реестр!J2093","v":0},0]
[{"$f":"(Реестр!B2094)+0","v":"00:00:00"},null,{"$f":"Реестр!AZ2094","v":0},{"$f":"Реестр!AN2094","v":0},{"$f":"Реестр!G2094","v":0},null,{"$f":"Реестр!J2094","v":0},0]
[{"$f":"(Реестр!B2095)+0","v":"00:00:00"},null,{"$f":"Реестр!AZ2095","v":0},{"$f":"Реестр!AN2095","v":0},{"$f":"Реестр!G2095","v":0},null,{"$f":"Реестр!J2095","v":0},0]
[{"$f":"(Реестр!B2096)+0","v":"00:00:00"},null,{"$f":"Реестр!AZ2096","v":0},{"$f":"Реестр!AN2096","v":0},{"$f":"Реестр!G2096","v":0},null,{"$f":"Реестр!J2096","v":0},0]
[{"$f":"(Реестр!B2097)+0","v":"00:00:00"},null,{"$f":"Реестр!AZ2097","v":0},{"$f":"Реестр!AN2097","v":0},{"$f":"Реестр!G2097","v":0},null,{"$f":"Реестр!J2097","v":0},0]
[{"$f":"(Реестр!B2098)+0","v":"00:00:00"},null,{"$f":"Реестр!AZ2098","v":0},{"$f":"Реестр!AN2098","v":0},{"$f":"Реестр!G2098","v":0},null,{"$f":"Реестр!J2098","v":0},0]
[{"$f":"(Реестр!B2099)+0","v":"00:00:00"},null,{"$f":"Реестр!AZ2099","v":0},{"$f":"Реестр!AN2099","v":0},{"$f":"Реестр!G2099","v":0},null,{"$f":"Реестр!J2099","v":0},0]
[{"$f":"(Реестр!B2100)+0","v":"00:00:00"},null,{"$f":"Реестр!AZ2100","v":0},{"$f":"Реестр!AN2100","v":0},{"$f":"Реестр!G2100","v":0},null,{"$f":"Реестр!J2100","v":0},0]
[{"$f":"(Реестр!B2101)+0","v":"00:00:00"},null,{"$f":"Реестр!AZ2101","v":0},{"$f":"Реестр!AN2101","v":0},{"$f":"Реестр!G2101","v":0},null,{"$f":"Реестр!J2101","v":0},0]
[{"$f":"(Реестр!B2102)+0","v":"00:00:00"},null,{"$f":"Реестр!AZ2102","v":0},{"$f":"Реестр!AN2102","v":0},{"$f":"Реестр!G2102","v":0},null,{"$f":"Реестр!J2102","v":0},0]
[{"$f":"(Реестр!B2103)+0","v":"00:00:00"},null,{"$f":"Реестр!AZ2103","v":0},{"$f":"Реестр!AN2103","v":0},{"$f":"Реестр!G2103","v":0},null,{"$f":"Реестр!J2103","v":0},0]
[{"$f":"(Реестр!B2104)+0","v":"00:00:00"},null,{"$f":"Реестр!AZ2104","v":0},{"$f":"Реестр!AN2104","v":0},{"$f":"Реестр!G2104","v":0},null,{"$f":"Реестр!J2104","v":0},0]
[{"$f":"(Реестр!B2105)+0","v":"00:00:00"},null,{"$f":"Реестр!AZ2105","v":0},{"$f":"Реестр!AN2105","v":0},{"$f":"Реестр!G2105","v":0},null,{"$f":"Реестр!J2105","v":0},0]
[{"$f":"(Реестр!B2106)+0","v":"00:00:00"},null,{"$f":"Реестр!AZ2106","v":0},{"$f":"Реестр!AN2106","v":0},{"$f":"Реестр!G2106","v":0},null,{"$f":"Реестр!J2106","v":0},0]
[{"$f":"(Реестр!B2107)+0","v":"00:00:00"},null,{"$f":"Реестр!AZ2107","v":0},{"$f":"Реестр!AN2107","v":0},{"$f":"Реестр!G2107","v":0},null,{"$f":"Реестр!J2107","v":0},0]
[{"$f":"(Реестр!B2108)+0","v":"00:00:00"},null,{"$f":"Реестр!AZ2108","v":0},{"$f":"Реестр!AN2108","v":0},{"$f":"Реестр!G2108","v":0},null,{"$f":"Реестр!J2108","v":0},0]
[{"$f":"(Реестр!B2109)+0","v":"00:00:00"},null,{"$f":"Реестр!AZ2109","v":0},{"$f":"Реестр!AN2109","v":0},{"$f":"Реестр!G2109","v":0},null,{"$f":"Реестр!J2109","v":0},0]
[{"$f":"(Реестр!B2110)+0","v":"00:00:00"},null,{"$f":"Реестр!AZ2110","v":0},{"$f":"Реестр!AN2110","v":0},{"$f":"Реестр!G2110","v":0},null,{"$f":"Реестр!J2110","v":0},0]
[{"$f":"(Реестр!B2111)+0","v":"00:00:00"},null,{"$f":"Реестр!AZ2111","v":0},{"$f":"Реестр!AN2111","v":0},{"$f":"Реестр!G2111","v":0},null,{"$f":"Реестр!J2111","v":0},{"$f":"E1545*G1545","v":0}]
[{"$f":"(Реестр!B2112)+0","v":"00:00:00"},null,{"$f":"Реестр!AZ2112","v":0},{"$f":"Реестр!AN2112","v":0},{"$f":"Реестр!G2112","v":0},null,{"$f":"Реестр!J2112","v":0},0]
[{"$f":"(Реестр!B2113)+0","v":"00:00:00"},null,{"$f":"Реестр!AZ2113","v":0},{"$f":"Реестр!AN2113","v":0},{"$f":"Реестр!G2113","v":0},null,{"$f":"Реестр!J2113","v":0},0]
[{"$f":"(Реестр!B2114)+0","v":"00:00:00"},null,{"$f":"Реестр!AZ2114","v":0},{"$f":"Реестр!AN2114","v":0},{"$f":"Реестр!G2114","v":0},null,{"$f":"Реестр!J2114","v":0},0]
[{"$f":"(Реестр!B2115)+0","v":"00:00:00"},null,{"$f":"Реестр!AZ2115","v":0},{"$f":"Реестр!AN2115","v":0},{"$f":"Реестр!G2115","v":0},null,{"$f":"Реестр!J2115","v":0},0]
[{"$f":"(Реестр!B2116)+0","v":"00:00:00"},null,{"$f":"Реестр!AZ2116","v":0},{"$f":"Реестр!AN2116","v":0},{"$f":"Реестр!G2116","v":0},null,{"$f":"Реестр!J2116","v":0},0]
[{"$f":"(Реестр!B2117)+0","v":"00:00:00"},null,{"$f":"Реестр!AZ2117","v":0},{"$f":"Реестр!AN2117","v":0},{"$f":"Реестр!G2117","v":0},null,{"$f":"Реестр!J2117","v":0},0]
[{"$f":"(Реестр!B2118)+0","v":"00:00:00"},null,{"$f":"Реестр!AZ2118","v":0},{"$f":"Реестр!AN2118","v":0},{"$f":"Реестр!G2118","v":0},null,{"$f":"Реестр!J2118","v":0},0]
[{"$f":"(Реестр!B2119)+0","v":"00:00:00"},null,{"$f":"Реестр!AZ2119","v":0},{"$f":"Реестр!AN2119","v":0},{"$f":"Реестр!G2119","v":0},null,{"$f":"Реестр!J2119","v":0},0]
[{"$f":"(Реестр!B2120)+0","v":"00:00:00"},null,{"$f":"Реестр!AZ2120","v":0},{"$f":"Реестр!AN2120","v":0},{"$f":"Реестр!G2120","v":0},null,{"$f":"Реестр!J2120","v":0},0]
[{"$f":"(Реестр!B2121)+0","v":"00:00:00"},null,{"$f":"Реестр!AZ2121","v":0},{"$f":"Реестр!AN2121","v":0},{"$f":"Реестр!G2121","v":0},null,{"$f":"Реестр!J2121","v":0},0]
[{"$f":"(Реестр!B2122)+0","v":"00:00:00"},null,{"$f":"Реестр!AZ2122","v":0},{"$f":"Реестр!AN2122","v":0},{"$f":"Реестр!G2122","v":0},null,{"$f":"Реестр!J2122","v":0},0]
[{"$f":"(Реестр!B2123)+0","v":"00:00:00"},null,{"$f":"Реестр!AZ2123","v":0},{"$f":"Реестр!AN2123","v":0},{"$f":"Реестр!G2123","v":0},null,{"$f":"Реестр!J2123","v":0},0]
[{"$f":"(Реестр!B2124)+0","v":"00:00:00"},null,{"$f":"Реестр!AZ2124","v":0},{"$f":"Реестр!AN2124","v":0},{"$f":"Реестр!G2124","v":0},null,{"$f":"Реестр!J2124","v":0},0]
[{"$f":"(Реестр!B2125)+0","v":"00:00:00"},null,{"$f":"Реестр!AZ2125","v":0},{"$f":"Реестр!AN2125","v":0},{"$f":"Реестр!G2125","v":0},null,{"$f":"Реестр!J2125","v":0},0]
[{"$f":"(Реестр!B2126)+0","v":"00:00:00"},null,{"$f":"Реестр!AZ2126","v":0},{"$f":"Реестр!AN2126","v":0},{"$f":"Реестр!G2126","v":0},null,{"$f":"Реестр!J2126","v":0},0]
[{"$f":"(Реестр!B2127)+0","v":"00:00:00"},null,{"$f":"Реестр!AZ2127","v":0},{"$f":"Реестр!AN2127","v":0},{"$f":"Реестр!G2127","v":0},null,{"$f":"Реестр!J2127","v":0},0]
[{"$f":"(Реестр!B2128)+0","v":"00:00:00"},null,{"$f":"Реестр!AZ2128","v":0},{"$f":"Реестр!AN2128","v":0},{"$f":"Реестр!G2128","v":0},null,{"$f":"Реестр!J2128","v":0},0]
[{"$f":"(Реестр!B2129)+0","v":"00:00:00"},null,{"$f":"Реестр!AZ2129","v":0},{"$f":"Реестр!AN2129","v":0},{"$f":"Реестр!G2129","v":0},null,{"$f":"Реестр!J2129","v":0},0]
[{"$f":"(Реестр!B2130)+0","v":"00:00:00"},null,{"$f":"Реестр!AZ2130","v":0},{"$f":"Реестр!AN2130","v":0},{"$f":"Реестр!G2130","v":0},null,{"$f":"Реестр!J2130","v":0},0]
[{"$f":"(Реестр!B2131)+0","v":"00:00:00"},null,{"$f":"Реестр!AZ2131","v":0},{"$f":"Реестр!AN2131","v":0},{"$f":"Реестр!G2131","v":0},null,{"$f":"Реестр!J2131","v":0},0]
[{"$f":"(Реестр!B2132)+0","v":"00:00:00"},null,{"$f":"Реестр!AZ2132","v":0},{"$f":"Реестр!AN2132","v":0},{"$f":"Реестр!G2132","v":0},null,{"$f":"Реестр!J2132","v":0},0]
[{"$f":"(Реестр!B2133)+0","v":"00:00:00"},null,{"$f":"Реестр!AZ2133","v":0},{"$f":"Реестр!AN2133","v":0},{"$f":"Реестр!G2133","v":0},null,{"$f":"Реестр!J2133","v":0},0]
[{"$f":"(Реестр!B2134)+0","v":"00:00:00"},null,{"$f":"Реестр!AZ2134","v":0},{"$f":"Реестр!AN2134","v":0},{"$f":"Реестр!G2134","v":0},null,{"$f":"Реестр!J2134","v":0},0]
[{"$f":"(Реестр!B2135)+0","v":"00:00:00"},null,{"$f":"Реестр!AZ2135","v":0},{"$f":"Реестр!AN2135","v":0},{"$f":"Реестр!G2135","v":0},null,{"$f":"Реестр!J2135","v":0},0]
[{"$f":"(Реестр!B2136)+0","v":"00:00:00"},null,{"$f":"Реестр!AZ2136","v":0},{"$f":"Реестр!AN2136","v":0},{"$f":"Реестр!G2136","v":0},null,{"$f":"Реестр!J2136","v":0},0]
[{"$f":"(Реестр!B2137)+0","v":"00:00:00"},null,{"$f":"Реестр!AZ2137","v":0},{"$f":"Реестр!AN2137","v":0},{"$f":"Реестр!G2137","v":0},null,{"$f":"Реестр!J2137","v":0},0]
[{"$f":"(Реестр!B2138)+0","v":"00:00:00"},null,{"$f":"Реестр!AZ2138","v":0},{"$f":"Реестр!AN2138","v":0},{"$f":"Реестр!G2138","v":0},null,{"$f":"Реестр!J2138","v":0},0]
[{"$f":"(Реестр!B2139)+0","v":"00:00:00"},null,{"$f":"Реестр!AZ2139","v":0},{"$f":"Реестр!AN2139","v":0},{"$f":"Реестр!G2139","v":0},null,{"$f":"Реестр!J2139","v":0},0]
[{"$f":"(Реестр!B2140)+0","v":"00:00:00"},null,{"$f":"Реестр!AZ2140","v":0},{"$f":"Реестр!AN2140","v":0},{"$f":"Реестр!G2140","v":0},null,{"$f":"Реестр!J2140","v":0},0]
[{"$f":"(Реестр!B2141)+0","v":"00:00:00"},null,{"$f":"Реестр!AZ2141","v":0},{"$f":"Реестр!AN2141","v":0},{"$f":"Реестр!G2141","v":0},null,{"$f":"Реестр!J2141","v":0},0]
[{"$f":"(Реестр!B2142)+0","v":"00:00:00"},null,{"$f":"Реестр!AZ2142","v":0},{"$f":"Реестр!AN2142","v":0},{"$f":"Реестр!G2142","v":0},null,{"$f":"Реестр!J2142","v":0},0]
[{"$f":"(Реестр!B2143)+0","v":"00:00:00"},null,{"$f":"Реестр!AZ2143","v":0},{"$f":"Реестр!AN2143","v":0},{"$f":"Реестр!G2143","v":0},null,{"$f":"Реестр!J2143","v":0},0]
[{"$f":"(Реестр!B2144)+0","v":"00:00:00"},null,{"$f":"Реестр!AZ2144","v":0},{"$f":"Реестр!AN2144","v":0},{"$f":"Реестр!G2144","v":0},null,{"$f":"Реестр!J2144","v":0},0]
[{"$f":"(Реестр!B2145)+0","v":"00:00:00"},null,{"$f":"Реестр!AZ2145","v":0},{"$f":"Реестр!AN2145","v":0},{"$f":"Реестр!G2145","v":0},null,{"$f":"Реестр!J2145","v":0},0]
[{"$f":"(Реестр!B2146)+0","v":"00:00:00"},null,{"$f":"Реестр!AZ2146","v":0},{"$f":"Реестр!AN2146","v":0},{"$f":"Реестр!G2146","v":0},null,{"$f":"Реестр!J2146","v":0},0]
[{"$f":"(Реестр!B2147)+0","v":"00:00:00"},null,{"$f":"Реестр!AZ2147","v":0},{"$f":"Реестр!AN2147","v":0},{"$f":"Реестр!G2147","v":0},null,{"$f":"Реестр!J2147","v":0},0]
[{"$f":"(Реестр!B2148)+0","v":"00:00:00"},null,{"$f":"Реестр!AZ2148","v":0},{"$f":"Реестр!AN2148","v":0},{"$f":"Реестр!G2148","v":0},null,{"$f":"Реестр!J2148","v":0},0]
[{"$f":"(Реестр!B2149)+0","v":"00:00:00"},null,{"$f":"Реестр!AZ2149","v":0},{"$f":"Реестр!AN2149","v":0},{"$f":"Реестр!G2149","v":0},null,{"$f":"Реестр!J2149","v":0},0]
[{"$f":"(Реестр!B2150)+0","v":"00:00:00"},null,{"$f":"Реестр!AZ2150","v":0},{"$f":"Реестр!AN2150","v":0},{"$f":"Реестр!G2150","v":0},null,{"$f":"Реестр!J2150","v":0},0]
[{"$f":"(Реестр!B2151)+0","v":"00:00:00"},null,{"$f":"Реестр!AZ2151","v":0},{"$f":"Реестр!AN2151","v":0},{"$f":"Реестр!G2151","v":0},null,{"$f":"Реестр!J2151","v":0},0]
[{"$f":"(Реестр!B2152)+0","v":"00:00:00"},null,{"$f":"Реестр!AZ2152","v":0},{"$f":"Реестр!AN2152","v":0},{"$f":"Реестр!G2152","v":0},null,{"$f":"Реестр!J2152","v":0},0]
[{"$f":"(Реестр!B2153)+0","v":"00:00:00"},null,{"$f":"Реестр!AZ2153","v":0},{"$f":"Реестр!AN2153","v":0},{"$f":"Реестр!G2153","v":0},null,{"$f":"Реестр!J2153","v":0},0]
[{"$f":"(Реестр!B2154)+0","v":"00:00:00"},null,{"$f":"Реестр!AZ2154","v":0},{"$f":"Реестр!AN2154","v":0},{"$f":"Реестр!G2154","v":0},null,{"$f":"Реестр!J2154","v":0},0]
[{"$f":"(Реестр!B2155)+0","v":"00:00:00"},null,{"$f":"Реестр!AZ2155","v":0},{"$f":"Реестр!AN2155","v":0},{"$f":"Реестр!G2155","v":0},null,{"$f":"Реестр!J2155","v":0},0]
[{"$f":"(Реестр!B2156)+0","v":"00:00:00"},null,{"$f":"Реестр!AZ2156","v":0},{"$f":"Реестр!AN2156","v":0},{"$f":"Реестр!G2156","v":0},null,{"$f":"Реестр!J2156","v":0},0]
[{"$f":"(Реестр!B2157)+0","v":"00:00:00"},null,{"$f":"Реестр!AZ2157","v":0},{"$f":"Реестр!AN2157","v":0},{"$f":"Реестр!G2157","v":0},null,{"$f":"Реестр!J2157","v":0},0]
[{"$f":"(Реестр!B2158)+0","v":"00:00:00"},null,{"$f":"Реестр!AZ2158","v":0},{"$f":"Реестр!AN2158","v":0},{"$f":"Реестр!G2158","v":0},null,{"$f":"Реестр!J2158","v":0},0]
[{"$f":"(Реестр!B2159)+0","v":"00:00:00"},null,{"$f":"Реестр!AZ2159","v":0},{"$f":"Реестр!AN2159","v":0},{"$f":"Реестр!G2159","v":0},null,{"$f":"Реестр!J2159","v":0},0]
[{"$f":"(Реестр!B2160)+0","v":"00:00:00"},null,{"$f":"Реестр!AZ2160","v":0},{"$f":"Реестр!AN2160","v":0},{"$f":"Реестр!G2160","v":0},null,{"$f":"Реестр!J2160","v":0},0]
[{"$f":"(Реестр!B2161)+0","v":"00:00:00"},null,{"$f":"Реестр!AZ2161","v":0},{"$f":"Реестр!AN2161","v":0},{"$f":"Реестр!G2161","v":0},null,{"$f":"Реестр!J2161","v":0},0]
[{"$f":"(Реестр!B2162)+0","v":"00:00:00"},null,{"$f":"Реестр!AZ2162","v":0},{"$f":"Реестр!AN2162","v":0},{"$f":"Реестр!G2162","v":0},null,{"$f":"Реестр!J2162","v":0},0]
[{"$f":"(Реестр!B2163)+0","v":"00:00:00"},null,{"$f":"Реестр!AZ2163","v":0},{"$f":"Реестр!AN2163","v":0},{"$f":"Реестр!G2163","v":0},null,{"$f":"Реестр!J2163","v":0},0]
[{"$f":"(Реестр!B2164)+0","v":"00:00:00"},null,{"$f":"Реестр!AZ2164","v":0},{"$f":"Реестр!AN2164","v":0},{"$f":"Реестр!G2164","v":0},null,{"$f":"Реестр!J2164","v":0},0]
[{"$f":"(Реестр!B2165)+0","v":"00:00:00"},null,{"$f":"Реестр!AZ2165","v":0},{"$f":"Реестр!AN2165","v":0},{"$f":"Реестр!G2165","v":0},null,{"$f":"Реестр!J2165","v":0},0]
[{"$f":"(Реестр!B2166)+0","v":"00:00:00"},null,{"$f":"Реестр!AZ2166","v":0},{"$f":"Реестр!AN2166","v":0},{"$f":"Реестр!G2166","v":0},null,{"$f":"Реестр!J2166","v":0},0]
[{"$f":"(Реестр!B2167)+0","v":"00:00:00"},null,{"$f":"Реестр!AZ2167","v":0},{"$f":"Реестр!AN2167","v":0},{"$f":"Реестр!G2167","v":0},null,{"$f":"Реестр!J2167","v":0},0]
[{"$f":"(Реестр!B2168)+0","v":"00:00:00"},null,{"$f":"Реестр!AZ2168","v":0},{"$f":"Реестр!AN2168","v":0},{"$f":"Реестр!G2168","v":0},null,{"$f":"Реестр!J2168","v":0},0]
[{"$f":"(Реестр!B2169)+0","v":"00:00:00"},null,{"$f":"Реестр!AZ2169","v":0},{"$f":"Реестр!AN2169","v":0},{"$f":"Реестр!G2169","v":0},null,{"$f":"Реестр!J2169","v":0},0]
[{"$f":"(Реестр!B2170)+0","v":"00:00:00"},null,{"$f":"Реестр!AZ2170","v":0},{"$f":"Реестр!AN2170","v":0},{"$f":"Реестр!G2170","v":0},null,{"$f":"Реестр!J2170","v":0},0]
[{"$f":"(Реестр!B2171)+0","v":"00:00:00"},null,{"$f":"Реестр!AZ2171","v":0},{"$f":"Реестр!AN2171","v":0},{"$f":"Реестр!G2171","v":0},null,{"$f":"Реестр!J2171","v":0},0]
[{"$f":"(Реестр!B2172)+0","v":"00:00:00"},null,{"$f":"Реестр!AZ2172","v":0},{"$f":"Реестр!AN2172","v":0},{"$f":"Реестр!G2172","v":0},null,{"$f":"Реестр!J2172","v":0},0]
[{"$f":"(Реестр!B2173)+0","v":"00:00:00"},null,{"$f":"Реестр!AZ2173","v":0},{"$f":"Реестр!AN2173","v":0},{"$f":"Реестр!G2173","v":0},null,{"$f":"Реестр!J2173","v":0},0]
[{"$f":"(Реестр!B2174)+0","v":"00:00:00"},null,{"$f":"Реестр!AZ2174","v":0},{"$f":"Реестр!AN2174","v":0},{"$f":"Реестр!G2174","v":0},null,{"$f":"Реестр!J2174","v":0},0]
[{"$f":"(Реестр!B2175)+0","v":"00:00:00"},null,{"$f":"Реестр!AZ2175","v":0},{"$f":"Реестр!AN2175","v":0},{"$f":"Реестр!G2175","v":0},null,{"$f":"Реестр!J2175","v":0},{"$f":"E1609*G1609","v":0}]
[{"$f":"(Реестр!B2176)+0","v":"00:00:00"},null,{"$f":"Реестр!AZ2176","v":0},{"$f":"Реестр!AN2176","v":0},{"$f":"Реестр!G2176","v":0},null,{"$f":"Реестр!J2176","v":0},0]
[{"$f":"(Реестр!B2177)+0","v":"00:00:00"},null,{"$f":"Реестр!AZ2177","v":0},{"$f":"Реестр!AN2177","v":0},{"$f":"Реестр!G2177","v":0},null,{"$f":"Реестр!J2177","v":0},0]
[{"$f":"(Реестр!B2178)+0","v":"00:00:00"},null,{"$f":"Реестр!AZ2178","v":0},{"$f":"Реестр!AN2178","v":0},{"$f":"Реестр!G2178","v":0},null,{"$f":"Реестр!J2178","v":0},0]
[{"$f":"(Реестр!B2179)+0","v":"00:00:00"},null,{"$f":"Реестр!AZ2179","v":0},{"$f":"Реестр!AN2179","v":0},{"$f":"Реестр!G2179","v":0},null,{"$f":"Реестр!J2179","v":0},0]
[{"$f":"(Реестр!B2180)+0","v":"00:00:00"},null,{"$f":"Реестр!AZ2180","v":0},{"$f":"Реестр!AN2180","v":0},{"$f":"Реестр!G2180","v":0},null,{"$f":"Реестр!J2180","v":0},0]
[{"$f":"(Реестр!B2181)+0","v":"00:00:00"},null,{"$f":"Реестр!AZ2181","v":0},{"$f":"Реестр!AN2181","v":0},{"$f":"Реестр!G2181","v":0},null,{"$f":"Реестр!J2181","v":0},0]
[{"$f":"(Реестр!B2182)+0","v":"00:00:00"},null,{"$f":"Реестр!AZ2182","v":0},{"$f":"Реестр!AN2182","v":0},{"$f":"Реестр!G2182","v":0},null,{"$f":"Реестр!J2182","v":0},0]
[{"$f":"(Реестр!B2183)+0","v":"00:00:00"},null,{"$f":"Реестр!AZ2183","v":0},{"$f":"Реестр!AN2183","v":0},{"$f":"Реестр!G2183","v":0},null,{"$f":"Реестр!J2183","v":0},0]
[{"$f":"(Реестр!B2184)+0","v":"00:00:00"},null,{"$f":"Реестр!AZ2184","v":0},{"$f":"Реестр!AN2184","v":0},{"$f":"Реестр!G2184","v":0},null,{"$f":"Реестр!J2184","v":0},0]
[{"$f":"(Реестр!B2185)+0","v":"00:00:00"},null,{"$f":"Реестр!AZ2185","v":0},{"$f":"Реестр!AN2185","v":0},{"$f":"Реестр!G2185","v":0},null,{"$f":"Реестр!J2185","v":0},0]
[{"$f":"(Реестр!B2186)+0","v":"00:00:00"},null,{"$f":"Реестр!AZ2186","v":0},{"$f":"Реестр!AN2186","v":0},{"$f":"Реестр!G2186","v":0},null,{"$f":"Реестр!J2186","v":0},0]
[{"$f":"(Реестр!B2187)+0","v":"00:00:00"},null,{"$f":"Реестр!AZ2187","v":0},{"$f":"Реестр!AN2187","v":0},{"$f":"Реестр!G2187","v":0},null,{"$f":"Реестр!J2187","v":0},0]
[{"$f":"(Реестр!B2188)+0","v":"00:00:00"},null,{"$f":"Реестр!AZ2188","v":0},{"$f":"Реестр!AN2188","v":0},{"$f":"Реестр!G2188","v":0},null,{"$f":"Реестр!J2188","v":0},0]
[{"$f":"(Реестр!B2189)+0","v":"00:00:00"},null,{"$f":"Реестр!AZ2189","v":0},{"$f":"Реестр!AN2189","v":0},{"$f":"Реестр!G2189","v":0},null,{"$f":"Реестр!J2189","v":0},0]
[{"$f":"(Реестр!B2190)+0","v":"00:00:00"},null,{"$f":"Реестр!AZ2190","v":0},{"$f":"Реестр!AN2190","v":0},{"$f":"Реестр!G2190","v":0},null,{"$f":"Реестр!J2190","v":0},0]
[{"$f":"(Реестр!B2191)+0","v":"00:00:00"},null,{"$f":"Реестр!AZ2191","v":0},{"$f":"Реестр!AN2191","v":0},{"$f":"Реестр!G2191","v":0},null,{"$f":"Реестр!J2191","v":0},0]
[{"$f":"(Реестр!B2192)+0","v":"00:00:00"},null,{"$f":"Реестр!AZ2192","v":0},{"$f":"Реестр!AN2192","v":0},{"$f":"Реестр!G2192","v":0},null,{"$f":"Реестр!J2192","v":0},0]
[{"$f":"(Реестр!B2193)+0","v":"00:00:00"},null,{"$f":"Реестр!AZ2193","v":0},{"$f":"Реестр!AN2193","v":0},{"$f":"Реестр!G2193","v":0},null,{"$f":"Реестр!J2193","v":0},0]
[{"$f":"(Реестр!B2194)+0","v":"00:00:00"},null,{"$f":"Реестр!AZ2194","v":0},{"$f":"Реестр!AN2194","v":0},{"$f":"Реестр!G2194","v":0},null,{"$f":"Реестр!J2194","v":0},0]
[{"$f":"(Реестр!B2195)+0","v":"00:00:00"},null,{"$f":"Реестр!AZ2195","v":0},{"$f":"Реестр!AN2195","v":0},{"$f":"Реестр!G2195","v":0},null,{"$f":"Реестр!J2195","v":0},0]
[{"$f":"(Реестр!B2196)+0","v":"00:00:00"},null,{"$f":"Реестр!AZ2196","v":0},{"$f":"Реестр!AN2196","v":0},{"$f":"Реестр!G2196","v":0},null,{"$f":"Реестр!J2196","v":0},0]
[{"$f":"(Реестр!B2197)+0","v":"00:00:00"},null,{"$f":"Реестр!AZ2197","v":0},{"$f":"Реестр!AN2197","v":0},{"$f":"Реестр!G2197","v":0},null,{"$f":"Реестр!J2197","v":0},0]
[{"$f":"(Реестр!B2198)+0","v":"00:00:00"},null,{"$f":"Реестр!AZ2198","v":0},{"$f":"Реестр!AN2198","v":0},{"$f":"Реестр!G2198","v":0},null,{"$f":"Реестр!J2198","v":0},0]
[{"$f":"(Реестр!B2199)+0","v":"00:00:00"},null,{"$f":"Реестр!AZ2199","v":0},{"$f":"Реестр!AN2199","v":0},{"$f":"Реестр!G2199","v":0},null,{"$f":"Реестр!J2199","v":0},0]
[{"$f":"(Реестр!B2200)+0","v":"00:00:00"},null,{"$f":"Реестр!AZ2200","v":0},{"$f":"Реестр!AN2200","v":0},{"$f":"Реестр!G2200","v":0},null,{"$f":"Реестр!J2200","v":0},0]
[{"$f":"(Реестр!B2201)+0","v":"00:00:00"},null,{"$f":"Реестр!AZ2201","v":0},{"$f":"Реестр!AN2201","v":0},{"$f":"Реестр!G2201","v":0},null,{"$f":"Реестр!J2201","v":0},0]
[{"$f":"(Реестр!B2202)+0","v":"00:00:00"},null,{"$f":"Реестр!AZ2202","v":0},{"$f":"Реестр!AN2202","v":0},{"$f":"Реестр!G2202","v":0},null,{"$f":"Реестр!J2202","v":0},0]
[{"$f":"(Реестр!B2203)+0","v":"00:00:00"},null,{"$f":"Реестр!AZ2203","v":0},{"$f":"Реестр!AN2203","v":0},{"$f":"Реестр!G2203","v":0},null,{"$f":"Реестр!J2203","v":0},0]
[{"$f":"(Реестр!B2204)+0","v":"00:00:00"},null,{"$f":"Реестр!AZ2204","v":0},{"$f":"Реестр!AN2204","v":0},{"$f":"Реестр!G2204","v":0},null,{"$f":"Реестр!J2204","v":0},0]
[{"$f":"(Реестр!B2205)+0","v":"00:00:00"},null,{"$f":"Реестр!AZ2205","v":0},{"$f":"Реестр!AN2205","v":0},{"$f":"Реестр!G2205","v":0},null,{"$f":"Реестр!J2205","v":0},0]
[{"$f":"(Реестр!B2206)+0","v":"00:00:00"},null,{"$f":"Реестр!AZ2206","v":0},{"$f":"Реестр!AN2206","v":0},{"$f":"Реестр!G2206","v":0},null,{"$f":"Реестр!J2206","v":0},0]
[{"$f":"(Реестр!B2207)+0","v":"00:00:00"},null,{"$f":"Реестр!AZ2207","v":0},{"$f":"Реестр!AN2207","v":0},{"$f":"Реестр!G2207","v":0},null,{"$f":"Реестр!J2207","v":0},0]
[{"$f":"(Реестр!B2208)+0","v":"00:00:00"},null,{"$f":"Реестр!AZ2208","v":0},{"$f":"Реестр!AN2208","v":0},{"$f":"Реестр!G2208","v":0},null,{"$f":"Реестр!J2208","v":0},0]
[{"$f":"(Реестр!B2209)+0","v":"00:00:00"},null,{"$f":"Реестр!AZ2209","v":0},{"$f":"Реестр!AN2209","v":0},{"$f":"Реестр!G2209","v":0},null,{"$f":"Реестр!J2209","v":0},0]
[{"$f":"(Реестр!B2210)+0","v":"00:00:00"},null,{"$f":"Реестр!AZ2210","v":0},{"$f":"Реестр!AN2210","v":0},{"$f":"Реестр!G2210","v":0},null,{"$f":"Реестр!J2210","v":0},0]
[{"$f":"(Реестр!B2211)+0","v":"00:00:00"},null,{"$f":"Реестр!AZ2211","v":0},{"$f":"Реестр!AN2211","v":0},{"$f":"Реестр!G2211","v":0},null,{"$f":"Реестр!J2211","v":0},0]
[{"$f":"(Реестр!B2212)+0","v":"00:00:00"},null,{"$f":"Реестр!AZ2212","v":0},{"$f":"Реестр!AN2212","v":0},{"$f":"Реестр!G2212","v":0},null,{"$f":"Реестр!J2212","v":0},0]
[{"$f":"(Реестр!B2213)+0","v":"00:00:00"},null,{"$f":"Реестр!AZ2213","v":0},{"$f":"Реестр!AN2213","v":0},{"$f":"Реестр!G2213","v":0},null,{"$f":"Реестр!J2213","v":0},0]
[{"$f":"(Реестр!B2214)+0","v":"00:00:00"},null,{"$f":"Реестр!AZ2214","v":0},{"$f":"Реестр!AN2214","v":0},{"$f":"Реестр!G2214","v":0},null,{"$f":"Реестр!J2214","v":0},0]
[{"$f":"(Реестр!B2215)+0","v":"00:00:00"},null,{"$f":"Реестр!AZ2215","v":0},{"$f":"Реестр!AN2215","v":0},{"$f":"Реестр!G2215","v":0},null,{"$f":"Реестр!J2215","v":0},0]
[{"$f":"(Реестр!B2216)+0","v":"00:00:00"},null,{"$f":"Реестр!AZ2216","v":0},{"$f":"Реестр!AN2216","v":0},{"$f":"Реестр!G2216","v":0},null,{"$f":"Реестр!J2216","v":0},0]
[{"$f":"(Реестр!B2217)+0","v":"00:00:00"},null,{"$f":"Реестр!AZ2217","v":0},{"$f":"Реестр!AN2217","v":0},{"$f":"Реестр!G2217","v":0},null,{"$f":"Реестр!J2217","v":0},0]
[{"$f":"(Реестр!B2218)+0","v":"00:00:00"},null,{"$f":"Реестр!AZ2218","v":0},{"$f":"Реестр!AN2218","v":0},{"$f":"Реестр!G2218","v":0},null,{"$f":"Реестр!J2218","v":0},0]
[{"$f":"(Реестр!B2219)+0","v":"00:00:00"},null,{"$f":"Реестр!AZ2219","v":0},{"$f":"Реестр!AN2219","v":0},{"$f":"Реестр!G2219","v":0},null,{"$f":"Реестр!J2219","v":0},0]
[{"$f":"(Реестр!B2220)+0","v":"00:00:00"},null,{"$f":"Реестр!AZ2220","v":0},{"$f":"Реестр!AN2220","v":0},{"$f":"Реестр!G2220","v":0},null,{"$f":"Реестр!J2220","v":0},0]
[{"$f":"(Реестр!B2221)+0","v":"00:00:00"},null,{"$f":"Реестр!AZ2221","v":0},{"$f":"Реестр!AN2221","v":0},{"$f":"Реестр!G2221","v":0},null,{"$f":"Реестр!J2221","v":0},0]
[{"$f":"(Реестр!B2222)+0","v":"00:00:00"},null,{"$f":"Реестр!AZ2222","v":0},{"$f":"Реестр!AN2222","v":0},{"$f":"Реестр!G2222","v":0},null,{"$f":"Реестр!J2222","v":0},0]
[{"$f":"(Реестр!B2223)+0","v":"00:00:00"},null,{"$f":"Реестр!AZ2223","v":0},{"$f":"Реестр!AN2223","v":0},{"$f":"Реестр!G2223","v":0},null,{"$f":"Реестр!J2223","v":0},0]
[{"$f":"(Реестр!B2224)+0","v":"00:00:00"},null,{"$f":"Реестр!AZ2224","v":0},{"$f":"Реестр!AN2224","v":0},{"$f":"Реестр!G2224","v":0},null,{"$f":"Реестр!J2224","v":0},0]
[{"$f":"(Реестр!B2225)+0","v":"00:00:00"},null,{"$f":"Реестр!AZ2225","v":0},{"$f":"Реестр!AN2225","v":0},{"$f":"Реестр!G2225","v":0},null,{"$f":"Реестр!J2225","v":0},0]
[{"$f":"(Реестр!B2226)+0","v":"00:00:00"},null,{"$f":"Реестр!AZ2226","v":0},{"$f":"Реестр!AN2226","v":0},{"$f":"Реестр!G2226","v":0},null,{"$f":"Реестр!J2226","v":0},0]
[{"$f":"(Реестр!B2227)+0","v":"00:00:00"},null,{"$f":"Реестр!AZ2227","v":0},{"$f":"Реестр!AN2227","v":0},{"$f":"Реестр!G2227","v":0},null,{"$f":"Реестр!J2227","v":0},0]
[{"$f":"(Реестр!B2228)+0","v":"00:00:00"},null,{"$f":"Реестр!AZ2228","v":0},{"$f":"Реестр!AN2228","v":0},{"$f":"Реестр!G2228","v":0},null,{"$f":"Реестр!J2228","v":0},0]
[{"$f":"(Реестр!B2229)+0","v":"00:00:00"},null,{"$f":"Реестр!AZ2229","v":0},{"$f":"Реестр!AN2229","v":0},{"$f":"Реестр!G2229","v":0},null,{"$f":"Реестр!J2229","v":0},0]
[{"$f":"(Реестр!B2230)+0","v":"00:00:00"},null,{"$f":"Реестр!AZ2230","v":0},{"$f":"Реестр!AN2230","v":0},{"$f":"Реестр!G2230","v":0},null,{"$f":"Реестр!J2230","v":0},0]
[{"$f":"(Реестр!B2231)+0","v":"00:00:00"},null,{"$f":"Реестр!AZ2231","v":0},{"$f":"Реестр!AN2231","v":0},{"$f":"Реестр!G2231","v":0},null,{"$f":"Реестр!J2231","v":0},0]
[{"$f":"(Реестр!B2232)+0","v":"00:00:00"},null,{"$f":"Реестр!AZ2232","v":0},{"$f":"Реестр!AN2232","v":0},{"$f":"Реестр!G2232","v":0},null,{"$f":"Реестр!J2232","v":0},0]
[{"$f":"(Реестр!B2233)+0","v":"00:00:00"},null,{"$f":"Реестр!AZ2233","v":0},{"$f":"Реестр!AN2233","v":0},{"$f":"Реестр!G2233","v":0},null,{"$f":"Реестр!J2233","v":0},0]
[{"$f":"(Реестр!B2234)+0","v":"00:00:00"},null,{"$f":"Реестр!AZ2234","v":0},{"$f":"Реестр!AN2234","v":0},{"$f":"Реестр!G2234","v":0},null,{"$f":"Реестр!J2234","v":0},0]
[{"$f":"(Реестр!B2235)+0","v":"00:00:00"},null,{"$f":"Реестр!AZ2235","v":0},{"$f":"Реестр!AN2235","v":0},{"$f":"Реестр!G2235","v":0},null,{"$f":"Реестр!J2235","v":0},0]
[{"$f":"(Реестр!B2236)+0","v":"00:00:00"},null,{"$f":"Реестр!AZ2236","v":0},{"$f":"Реестр!AN2236","v":0},{"$f":"Реестр!G2236","v":0},null,{"$f":"Реестр!J2236","v":0},0]
[{"$f":"(Реестр!B2237)+0","v":"00:00:00"},null,{"$f":"Реестр!AZ2237","v":0},{"$f":"Реестр!AN2237","v":0},{"$f":"Реестр!G2237","v":0},null,{"$f":"Реестр!J2237","v":0},0]
[{"$f":"(Реестр!B2238)+0","v":"00:00:00"},null,{"$f":"Реестр!AZ2238","v":0},{"$f":"Реестр!AN2238","v":0},{"$f":"Реестр!G2238","v":0},null,{"$f":"Реестр!J2238","v":0},0]
[{"$f":"(Реестр!B2239)+0","v":"00:00:00"},null,{"$f":"Реестр!AZ2239","v":0},{"$f":"Реестр!AN2239","v":0},{"$f":"Реестр!G2239","v":0},null,{"$f":"Реестр!J2239","v":0},{"$f":"E1673*G1673","v":0}]
[{"$f":"(Реестр!B2240)+0","v":"00:00:00"},null,{"$f":"Реестр!AZ2240","v":0},{"$f":"Реестр!AN2240","v":0},{"$f":"Реестр!G2240","v":0},null,{"$f":"Реестр!J2240","v":0},0]
[{"$f":"(Реестр!B2241)+0","v":"00:00:00"},null,{"$f":"Реестр!AZ2241","v":0},{"$f":"Реестр!AN2241","v":0},{"$f":"Реестр!G2241","v":0},null,{"$f":"Реестр!J2241","v":0},0]
[{"$f":"(Реестр!B2242)+0","v":"00:00:00"},null,{"$f":"Реестр!AZ2242","v":0},{"$f":"Реестр!AN2242","v":0},{"$f":"Реестр!G2242","v":0},null,{"$f":"Реестр!J2242","v":0},0]
[{"$f":"(Реестр!B2243)+0","v":"00:00:00"},null,{"$f":"Реестр!AZ2243","v":0},{"$f":"Реестр!AN2243","v":0},{"$f":"Реестр!G2243","v":0},null,{"$f":"Реестр!J2243","v":0},0]
[{"$f":"(Реестр!B2244)+0","v":"00:00:00"},null,{"$f":"Реестр!AZ2244","v":0},{"$f":"Реестр!AN2244","v":0},{"$f":"Реестр!G2244","v":0},null,{"$f":"Реестр!J2244","v":0},0]
[{"$f":"(Реестр!B2245)+0","v":"00:00:00"},null,{"$f":"Реестр!AZ2245","v":0},{"$f":"Реестр!AN2245","v":0},{"$f":"Реестр!G2245","v":0},null,{"$f":"Реестр!J2245","v":0},0]
[{"$f":"(Реестр!B2246)+0","v":"00:00:00"},null,{"$f":"Реестр!AZ2246","v":0},{"$f":"Реестр!AN2246","v":0},{"$f":"Реестр!G2246","v":0},null,{"$f":"Реестр!J2246","v":0},0]
[{"$f":"(Реестр!B2247)+0","v":"00:00:00"},null,{"$f":"Реестр!AZ2247","v":0},{"$f":"Реестр!AN2247","v":0},{"$f":"Реестр!G2247","v":0},null,{"$f":"Реестр!J2247","v":0},0]
[{"$f":"(Реестр!B2248)+0","v":"00:00:00"},null,{"$f":"Реестр!AZ2248","v":0},{"$f":"Реестр!AN2248","v":0},{"$f":"Реестр!G2248","v":0},null,{"$f":"Реестр!J2248","v":0},0]
[{"$f":"(Реестр!B2249)+0","v":"00:00:00"},null,{"$f":"Реестр!AZ2249","v":0},{"$f":"Реестр!AN2249","v":0},{"$f":"Реестр!G2249","v":0},null,{"$f":"Реестр!J2249","v":0},0]
[{"$f":"(Реестр!B2250)+0","v":"00:00:00"},null,{"$f":"Реестр!AZ2250","v":0},{"$f":"Реестр!AN2250","v":0},{"$f":"Реестр!G2250","v":0},null,{"$f":"Реестр!J2250","v":0},0]
[{"$f":"(Реестр!B2251)+0","v":"00:00:00"},null,{"$f":"Реестр!AZ2251","v":0},{"$f":"Реестр!AN2251","v":0},{"$f":"Реестр!G2251","v":0},null,{"$f":"Реестр!J2251","v":0},0]
[{"$f":"(Реестр!B2252)+0","v":"00:00:00"},null,{"$f":"Реестр!AZ2252","v":0},{"$f":"Реестр!AN2252","v":0},{"$f":"Реестр!G2252","v":0},null,{"$f":"Реестр!J2252","v":0},0]
[{"$f":"(Реестр!B2253)+0","v":"00:00:00"},null,{"$f":"Реестр!AZ2253","v":0},{"$f":"Реестр!AN2253","v":0},{"$f":"Реестр!G2253","v":0},null,{"$f":"Реестр!J2253","v":0},0]
[{"$f":"(Реестр!B2254)+0","v":"00:00:00"},null,{"$f":"Реестр!AZ2254","v":0},{"$f":"Реестр!AN2254","v":0},{"$f":"Реестр!G2254","v":0},null,{"$f":"Реестр!J2254","v":0},0]
[{"$f":"(Реестр!B2255)+0","v":"00:00:00"},null,{"$f":"Реестр!AZ2255","v":0},{"$f":"Реестр!AN2255","v":0},{"$f":"Реестр!G2255","v":0},null,{"$f":"Реестр!J2255","v":0},0]
[{"$f":"(Реестр!B2256)+0","v":"00:00:00"},null,{"$f":"Реестр!AZ2256","v":0},{"$f":"Реестр!AN2256","v":0},{"$f":"Реестр!G2256","v":0},null,{"$f":"Реестр!J2256","v":0},0]
[{"$f":"(Реестр!B2257)+0","v":"00:00:00"},null,{"$f":"Реестр!AZ2257","v":0},{"$f":"Реестр!AN2257","v":0},{"$f":"Реестр!G2257","v":0},null,{"$f":"Реестр!J2257","v":0},0]
[{"$f":"(Реестр!B2258)+0","v":"00:00:00"},null,{"$f":"Реестр!AZ2258","v":0},{"$f":"Реестр!AN2258","v":0},{"$f":"Реестр!G2258","v":0},null,{"$f":"Реестр!J2258","v":0},0]
[{"$f":"(Реестр!B2259)+0","v":"00:00:00"},null,{"$f":"Реестр!AZ2259","v":0},{"$f":"Реестр!AN2259","v":0},{"$f":"Реестр!G2259","v":0},null,{"$f":"Реестр!J2259","v":0},0]
[{"$f":"(Реестр!B2260)+0","v":"00:00:00"},null,{"$f":"Реестр!AZ2260","v":0},{"$f":"Реестр!AN2260","v":0},{"$f":"Реестр!G2260","v":0},null,{"$f":"Реестр!J2260","v":0},0]
[{"$f":"(Реестр!B2261)+0","v":"00:00:00"},null,{"$f":"Реестр!AZ2261","v":0},{"$f":"Реестр!AN2261","v":0},{"$f":"Реестр!G2261","v":0},null,{"$f":"Реестр!J2261","v":0},0]
[{"$f":"(Реестр!B2262)+0","v":"00:00:00"},null,{"$f":"Реестр!AZ2262","v":0},{"$f":"Реестр!AN2262","v":0},{"$f":"Реестр!G2262","v":0},null,{"$f":"Реестр!J2262","v":0},0]
[{"$f":"(Реестр!B2263)+0","v":"00:00:00"},null,{"$f":"Реестр!AZ2263","v":0},{"$f":"Реестр!AN2263","v":0},{"$f":"Реестр!G2263","v":0},null,{"$f":"Реестр!J2263","v":0},0]
[{"$f":"(Реестр!B2264)+0","v":"00:00:00"},null,{"$f":"Реестр!AZ2264","v":0},{"$f":"Реестр!AN2264","v":0},{"$f":"Реестр!G2264","v":0},null,{"$f":"Реестр!J2264","v":0},0]
[{"$f":"(Реестр!B2265)+0","v":"00:00:00"},null,{"$f":"Реестр!AZ2265","v":0},{"$f":"Реестр!AN2265","v":0},{"$f":"Реестр!G2265","v":0},null,{"$f":"Реестр!J2265","v":0},0]
[{"$f":"(Реестр!B2266)+0","v":"00:00:00"},null,{"$f":"Реестр!AZ2266","v":0},{"$f":"Реестр!AN2266","v":0},{"$f":"Реестр!G2266","v":0},null,{"$f":"Реестр!J2266","v":0},0]
[{"$f":"(Реестр!B2267)+0","v":"00:00:00"},null,{"$f":"Реестр!AZ2267","v":0},{"$f":"Реестр!AN2267","v":0},{"$f":"Реестр!G2267","v":0},null,{"$f":"Реестр!J2267","v":0},0]
[{"$f":"(Реестр!B2268)+0","v":"00:00:00"},null,{"$f":"Реестр!AZ2268","v":0},{"$f":"Реестр!AN2268","v":0},{"$f":"Реестр!G2268","v":0},null,{"$f":"Реестр!J2268","v":0},0]
[{"$f":"(Реестр!B2269)+0","v":"00:00:00"},null,{"$f":"Реестр!AZ2269","v":0},{"$f":"Реестр!AN2269","v":0},{"$f":"Реестр!G2269","v":0},null,{"$f":"Реестр!J2269","v":0},0]
[{"$f":"(Реестр!B2270)+0","v":"00:00:00"},null,{"$f":"Реестр!AZ2270","v":0},{"$f":"Реестр!AN2270","v":0},{"$f":"Реестр!G2270","v":0},null,{"$f":"Реестр!J2270","v":0},0]
[{"$f":"(Реестр!B2271)+0","v":"00:00:00"},null,{"$f":"Реестр!AZ2271","v":0},{"$f":"Реестр!AN2271","v":0},{"$f":"Реестр!G2271","v":0},null,{"$f":"Реестр!J2271","v":0},0]
[{"$f":"(Реестр!B2272)+0","v":"00:00:00"},null,{"$f":"Реестр!AZ2272","v":0},{"$f":"Реестр!AN2272","v":0},{"$f":"Реестр!G2272","v":0},null,{"$f":"Реестр!J2272","v":0},0]
[{"$f":"(Реестр!B2273)+0","v":"00:00:00"},null,{"$f":"Реестр!AZ2273","v":0},{"$f":"Реестр!AN2273","v":0},{"$f":"Реестр!G2273","v":0},null,{"$f":"Реестр!J2273","v":0},0]
[{"$f":"(Реестр!B2274)+0","v":"00:00:00"},null,{"$f":"Реестр!AZ2274","v":0},{"$f":"Реестр!AN2274","v":0},{"$f":"Реестр!G2274","v":0},null,{"$f":"Реестр!J2274","v":0},0]
[{"$f":"(Реестр!B2275)+0","v":"00:00:00"},null,{"$f":"Реестр!AZ2275","v":0},{"$f":"Реестр!AN2275","v":0},{"$f":"Реестр!G2275","v":0},null,{"$f":"Реестр!J2275","v":0},0]
[{"$f":"(Реестр!B2276)+0","v":"00:00:00"},null,{"$f":"Реестр!AZ2276","v":0},{"$f":"Реестр!AN2276","v":0},{"$f":"Реестр!G2276","v":0},null,{"$f":"Реестр!J2276","v":0},0]
[{"$f":"(Реестр!B2277)+0","v":"00:00:00"},null,{"$f":"Реестр!AZ2277","v":0},{"$f":"Реестр!AN2277","v":0},{"$f":"Реестр!G2277","v":0},null,{"$f":"Реестр!J2277","v":0},0]
[{"$f":"(Реестр!B2278)+0","v":"00:00:00"},null,{"$f":"Реестр!AZ2278","v":0},{"$f":"Реестр!AN2278","v":0},{"$f":"Реестр!G2278","v":0},null,{"$f":"Реестр!J2278","v":0},0]
[{"$f":"(Реестр!B2279)+0","v":"00:00:00"},null,{"$f":"Реестр!AZ2279","v":0},{"$f":"Реестр!AN2279","v":0},{"$f":"Реестр!G2279","v":0},null,{"$f":"Реестр!J2279","v":0},0]
[{"$f":"(Реестр!B2280)+0","v":"00:00:00"},null,{"$f":"Реестр!AZ2280","v":0},{"$f":"Реестр!AN2280","v":0},{"$f":"Реестр!G2280","v":0},null,{"$f":"Реестр!J2280","v":0},0]
[{"$f":"(Реестр!B2281)+0","v":"00:00:00"},null,{"$f":"Реестр!AZ2281","v":0},{"$f":"Реестр!AN2281","v":0},{"$f":"Реестр!G2281","v":0},null,{"$f":"Реестр!J2281","v":0},0]
[{"$f":"(Реестр!B2282)+0","v":"00:00:00"},null,{"$f":"Реестр!AZ2282","v":0},{"$f":"Реестр!AN2282","v":0},{"$f":"Реестр!G2282","v":0},null,{"$f":"Реестр!J2282","v":0},0]
[{"$f":"(Реестр!B2283)+0","v":"00:00:00"},null,{"$f":"Реестр!AZ2283","v":0},{"$f":"Реестр!AN2283","v":0},{"$f":"Реестр!G2283","v":0},null,{"$f":"Реестр!J2283","v":0},0]
[{"$f":"(Реестр!B2284)+0","v":"00:00:00"},null,{"$f":"Реестр!AZ2284","v":0},{"$f":"Реестр!AN2284","v":0},{"$f":"Реестр!G2284","v":0},null,{"$f":"Реестр!J2284","v":0},0]
[{"$f":"(Реестр!B2285)+0","v":"00:00:00"},null,{"$f":"Реестр!AZ2285","v":0},{"$f":"Реестр!AN2285","v":0},{"$f":"Реестр!G2285","v":0},null,{"$f":"Реестр!J2285","v":0},0]
[{"$f":"(Реестр!B2286)+0","v":"00:00:00"},null,{"$f":"Реестр!AZ2286","v":0},{"$f":"Реестр!AN2286","v":0},{"$f":"Реестр!G2286","v":0},null,{"$f":"Реестр!J2286","v":0},0]
[{"$f":"(Реестр!B2287)+0","v":"00:00:00"},null,{"$f":"Реестр!AZ2287","v":0},{"$f":"Реестр!AN2287","v":0},{"$f":"Реестр!G2287","v":0},null,{"$f":"Реестр!J2287","v":0},0]
[{"$f":"(Реестр!B2288)+0","v":"00:00:00"},null,{"$f":"Реестр!AZ2288","v":0},{"$f":"Реестр!AN2288","v":0},{"$f":"Реестр!G2288","v":0},null,{"$f":"Реестр!J2288","v":0},0]
[{"$f":"(Реестр!B2289)+0","v":"00:00:00"},null,{"$f":"Реестр!AZ2289","v":0},{"$f":"Реестр!AN2289","v":0},{"$f":"Реестр!G2289","v":0},null,{"$f":"Реестр!J2289","v":0},0]
[{"$f":"(Реестр!B2290)+0","v":"00:00:00"},null,{"$f":"Реестр!AZ2290","v":0},{"$f":"Реестр!AN2290","v":0},{"$f":"Реестр!G2290","v":0},null,{"$f":"Реестр!J2290","v":0},0]
[{"$f":"(Реестр!B2291)+0","v":"00:00:00"},null,{"$f":"Реестр!AZ2291","v":0},{"$f":"Реестр!AN2291","v":0},{"$f":"Реестр!G2291","v":0},null,{"$f":"Реестр!J2291","v":0},0]
[{"$f":"(Реестр!B2292)+0","v":"00:00:00"},null,{"$f":"Реестр!AZ2292","v":0},{"$f":"Реестр!AN2292","v":0},{"$f":"Реестр!G2292","v":0},null,{"$f":"Реестр!J2292","v":0},0]
[{"$f":"(Реестр!B2293)+0","v":"00:00:00"},null,{"$f":"Реестр!AZ2293","v":0},{"$f":"Реестр!AN2293","v":0},{"$f":"Реестр!G2293","v":0},null,{"$f":"Реестр!J2293","v":0},0]
[{"$f":"(Реестр!B2294)+0","v":"00:00:00"},null,{"$f":"Реестр!AZ2294","v":0},{"$f":"Реестр!AN2294","v":0},{"$f":"Реестр!G2294","v":0},null,{"$f":"Реестр!J2294","v":0},0]
[{"$f":"(Реестр!B2295)+0","v":"00:00:00"},null,{"$f":"Реестр!AZ2295","v":0},{"$f":"Реестр!AN2295","v":0},{"$f":"Реестр!G2295","v":0},null,{"$f":"Реестр!J2295","v":0},0]
[{"$f":"(Реестр!B2296)+0","v":"00:00:00"},null,{"$f":"Реестр!AZ2296","v":0},{"$f":"Реестр!AN2296","v":0},{"$f":"Реестр!G2296","v":0},null,{"$f":"Реестр!J2296","v":0},0]
[{"$f":"(Реестр!B2297)+0","v":"00:00:00"},null,{"$f":"Реестр!AZ2297","v":0},{"$f":"Реестр!AN2297","v":0},{"$f":"Реестр!G2297","v":0},null,{"$f":"Реестр!J2297","v":0},0]
[{"$f":"(Реестр!B2298)+0","v":"00:00:00"},null,{"$f":"Реестр!AZ2298","v":0},{"$f":"Реестр!AN2298","v":0},{"$f":"Реестр!G2298","v":0},null,{"$f":"Реестр!J2298","v":0},0]
[{"$f":"(Реестр!B2299)+0","v":"00:00:00"},null,{"$f":"Реестр!AZ2299","v":0},{"$f":"Реестр!AN2299","v":0},{"$f":"Реестр!G2299","v":0},null,{"$f":"Реестр!J2299","v":0},0]
[{"$f":"(Реестр!B2300)+0","v":"00:00:00"},null,{"$f":"Реестр!AZ2300","v":0},{"$f":"Реестр!AN2300","v":0},{"$f":"Реестр!G2300","v":0},null,{"$f":"Реестр!J2300","v":0},0]
[{"$f":"(Реестр!B2301)+0","v":"00:00:00"},null,{"$f":"Реестр!AZ2301","v":0},{"$f":"Реестр!AN2301","v":0},{"$f":"Реестр!G2301","v":0},null,{"$f":"Реестр!J2301","v":0},0]
[{"$f":"(Реестр!B2302)+0","v":"00:00:00"},null,{"$f":"Реестр!AZ2302","v":0},{"$f":"Реестр!AN2302","v":0},{"$f":"Реестр!G2302","v":0},null,{"$f":"Реестр!J2302","v":0},0]
[{"$f":"(Реестр!B2303)+0","v":"00:00:00"},null,{"$f":"Реестр!AZ2303","v":0},{"$f":"Реестр!AN2303","v":0},{"$f":"Реестр!G2303","v":0},null,{"$f":"Реестр!J2303","v":0},{"$f":"E1737*G1737","v":0}]
[{"$f":"(Реестр!B2304)+0","v":"00:00:00"},null,{"$f":"Реестр!AZ2304","v":0},{"$f":"Реестр!AN2304","v":0},{"$f":"Реестр!G2304","v":0},null,{"$f":"Реестр!J2304","v":0},0]
[{"$f":"(Реестр!B2305)+0","v":"00:00:00"},null,{"$f":"Реестр!AZ2305","v":0},{"$f":"Реестр!AN2305","v":0},{"$f":"Реестр!G2305","v":0},null,{"$f":"Реестр!J2305","v":0},0]
[{"$f":"(Реестр!B2306)+0","v":"00:00:00"},null,{"$f":"Реестр!AZ2306","v":0},{"$f":"Реестр!AN2306","v":0},{"$f":"Реестр!G2306","v":0},null,{"$f":"Реестр!J2306","v":0},0]
[{"$f":"(Реестр!B2307)+0","v":"00:00:00"},null,{"$f":"Реестр!AZ2307","v":0},{"$f":"Реестр!AN2307","v":0},{"$f":"Реестр!G2307","v":0},null,{"$f":"Реестр!J2307","v":0},0]
[{"$f":"(Реестр!B2308)+0","v":"00:00:00"},null,{"$f":"Реестр!AZ2308","v":0},{"$f":"Реестр!AN2308","v":0},{"$f":"Реестр!G2308","v":0},null,{"$f":"Реестр!J2308","v":0},0]
[{"$f":"(Реестр!B2309)+0","v":"00:00:00"},null,{"$f":"Реестр!AZ2309","v":0},{"$f":"Реестр!AN2309","v":0},{"$f":"Реестр!G2309","v":0},null,{"$f":"Реестр!J2309","v":0},0]
[{"$f":"(Реестр!B2310)+0","v":"00:00:00"},null,{"$f":"Реестр!AZ2310","v":0},{"$f":"Реестр!AN2310","v":0},{"$f":"Реестр!G2310","v":0},null,{"$f":"Реестр!J2310","v":0},0]
[{"$f":"(Реестр!B2311)+0","v":"00:00:00"},null,{"$f":"Реестр!AZ2311","v":0},{"$f":"Реестр!AN2311","v":0},{"$f":"Реестр!G2311","v":0},null,{"$f":"Реестр!J2311","v":0},0]
[{"$f":"(Реестр!B2312)+0","v":"00:00:00"},null,{"$f":"Реестр!AZ2312","v":0},{"$f":"Реестр!AN2312","v":0},{"$f":"Реестр!G2312","v":0},null,{"$f":"Реестр!J2312","v":0},0]
[{"$f":"(Реестр!B2313)+0","v":"00:00:00"},null,{"$f":"Реестр!AZ2313","v":0},{"$f":"Реестр!AN2313","v":0},{"$f":"Реестр!G2313","v":0},null,{"$f":"Реестр!J2313","v":0},0]
[{"$f":"(Реестр!B2314)+0","v":"00:00:00"},null,{"$f":"Реестр!AZ2314","v":0},{"$f":"Реестр!AN2314","v":0},{"$f":"Реестр!G2314","v":0},null,{"$f":"Реестр!J2314","v":0},0]
[{"$f":"(Реестр!B2315)+0","v":"00:00:00"},null,{"$f":"Реестр!AZ2315","v":0},{"$f":"Реестр!AN2315","v":0},{"$f":"Реестр!G2315","v":0},null,{"$f":"Реестр!J2315","v":0},0]
[{"$f":"(Реестр!B2316)+0","v":"00:00:00"},null,{"$f":"Реестр!AZ2316","v":0},{"$f":"Реестр!AN2316","v":0},{"$f":"Реестр!G2316","v":0},null,{"$f":"Реестр!J2316","v":0},0]
[{"$f":"(Реестр!B2317)+0","v":"00:00:00"},null,{"$f":"Реестр!AZ2317","v":0},{"$f":"Реестр!AN2317","v":0},{"$f":"Реестр!G2317","v":0},null,{"$f":"Реестр!J2317","v":0},0]
[{"$f":"(Реестр!B2318)+0","v":"00:00:00"},null,{"$f":"Реестр!AZ2318","v":0},{"$f":"Реестр!AN2318","v":0},{"$f":"Реестр!G2318","v":0},null,{"$f":"Реестр!J2318","v":0},0]
[{"$f":"(Реестр!B2319)+0","v":"00:00:00"},null,{"$f":"Реестр!AZ2319","v":0},{"$f":"Реестр!AN2319","v":0},{"$f":"Реестр!G2319","v":0},null,{"$f":"Реестр!J2319","v":0},0]
[{"$f":"(Реестр!B2320)+0","v":"00:00:00"},null,{"$f":"Реестр!AZ2320","v":0},{"$f":"Реестр!AN2320","v":0},{"$f":"Реестр!G2320","v":0},null,{"$f":"Реестр!J2320","v":0},0]
[{"$f":"(Реестр!B2321)+0","v":"00:00:00"},null,{"$f":"Реестр!AZ2321","v":0},{"$f":"Реестр!AN2321","v":0},{"$f":"Реестр!G2321","v":0},null,{"$f":"Реестр!J2321","v":0},0]
[{"$f":"(Реестр!B2322)+0","v":"00:00:00"},null,{"$f":"Реестр!AZ2322","v":0},{"$f":"Реестр!AN2322","v":0},{"$f":"Реестр!G2322","v":0},null,{"$f":"Реестр!J2322","v":0},0]
[{"$f":"(Реестр!B2323)+0","v":"00:00:00"},null,{"$f":"Реестр!AZ2323","v":0},{"$f":"Реестр!AN2323","v":0},{"$f":"Реестр!G2323","v":0},null,{"$f":"Реестр!J2323","v":0},0]
[{"$f":"(Реестр!B2324)+0","v":"00:00:00"},null,{"$f":"Реестр!AZ2324","v":0},{"$f":"Реестр!AN2324","v":0},{"$f":"Реестр!G2324","v":0},null,{"$f":"Реестр!J2324","v":0},0]
[{"$f":"(Реестр!B2325)+0","v":"00:00:00"},null,{"$f":"Реестр!AZ2325","v":0},{"$f":"Реестр!AN2325","v":0},{"$f":"Реестр!G2325","v":0},null,{"$f":"Реестр!J2325","v":0},0]
[{"$f":"(Реестр!B2326)+0","v":"00:00:00"},null,{"$f":"Реестр!AZ2326","v":0},{"$f":"Реестр!AN2326","v":0},{"$f":"Реестр!G2326","v":0},null,{"$f":"Реестр!J2326","v":0},0]
[{"$f":"(Реестр!B2327)+0","v":"00:00:00"},null,{"$f":"Реестр!AZ2327","v":0},{"$f":"Реестр!AN2327","v":0},{"$f":"Реестр!G2327","v":0},null,{"$f":"Реестр!J2327","v":0},0]
[{"$f":"(Реестр!B2328)+0","v":"00:00:00"},null,{"$f":"Реестр!AZ2328","v":0},{"$f":"Реестр!AN2328","v":0},{"$f":"Реестр!G2328","v":0},null,{"$f":"Реестр!J2328","v":0},0]
[{"$f":"(Реестр!B2329)+0","v":"00:00:00"},null,{"$f":"Реестр!AZ2329","v":0},{"$f":"Реестр!AN2329","v":0},{"$f":"Реестр!G2329","v":0},null,{"$f":"Реестр!J2329","v":0},0]
[{"$f":"(Реестр!B2330)+0","v":"00:00:00"},null,{"$f":"Реестр!AZ2330","v":0},{"$f":"Реестр!AN2330","v":0},{"$f":"Реестр!G2330","v":0},null,{"$f":"Реестр!J2330","v":0},0]
[{"$f":"(Реестр!B2331)+0","v":"00:00:00"},null,{"$f":"Реестр!AZ2331","v":0},{"$f":"Реестр!AN2331","v":0},{"$f":"Реестр!G2331","v":0},null,{"$f":"Реестр!J2331","v":0},0]
[{"$f":"(Реестр!B2332)+0","v":"00:00:00"},null,{"$f":"Реестр!AZ2332","v":0},{"$f":"Реестр!AN2332","v":0},{"$f":"Реестр!G2332","v":0},null,{"$f":"Реестр!J2332","v":0},0]
[{"$f":"(Реестр!B2333)+0","v":"00:00:00"},null,{"$f":"Реестр!AZ2333","v":0},{"$f":"Реестр!AN2333","v":0},{"$f":"Реестр!G2333","v":0},null,{"$f":"Реестр!J2333","v":0},0]
[{"$f":"(Реестр!B2334)+0","v":"00:00:00"},null,{"$f":"Реестр!AZ2334","v":0},{"$f":"Реестр!AN2334","v":0},{"$f":"Реестр!G2334","v":0},null,{"$f":"Реестр!J2334","v":0},0]
[{"$f":"(Реестр!B2335)+0","v":"00:00:00"},null,{"$f":"Реестр!AZ2335","v":0},{"$f":"Реестр!AN2335","v":0},{"$f":"Реестр!G2335","v":0},null,{"$f":"Реестр!J2335","v":0},0]
[{"$f":"(Реестр!B2336)+0","v":"00:00:00"},null,{"$f":"Реестр!AZ2336","v":0},{"$f":"Реестр!AN2336","v":0},{"$f":"Реестр!G2336","v":0},null,{"$f":"Реестр!J2336","v":0},0]
[{"$f":"(Реестр!B2337)+0","v":"00:00:00"},null,{"$f":"Реестр!AZ2337","v":0},{"$f":"Реестр!AN2337","v":0},{"$f":"Реестр!G2337","v":0},null,{"$f":"Реестр!J2337","v":0},0]
[{"$f":"(Реестр!B2338)+0","v":"00:00:00"},null,{"$f":"Реестр!AZ2338","v":0},{"$f":"Реестр!AN2338","v":0},{"$f":"Реестр!G2338","v":0},null,{"$f":"Реестр!J2338","v":0},0]
[{"$f":"(Реестр!B2339)+0","v":"00:00:00"},null,{"$f":"Реестр!AZ2339","v":0},{"$f":"Реестр!AN2339","v":0},{"$f":"Реестр!G2339","v":0},null,{"$f":"Реестр!J2339","v":0},0]
[{"$f":"(Реестр!B2340)+0","v":"00:00:00"},null,{"$f":"Реестр!AZ2340","v":0},{"$f":"Реестр!AN2340","v":0},{"$f":"Реестр!G2340","v":0},null,{"$f":"Реестр!J2340","v":0},0]
[{"$f":"(Реестр!B2341)+0","v":"00:00:00"},null,{"$f":"Реестр!AZ2341","v":0},{"$f":"Реестр!AN2341","v":0},{"$f":"Реестр!G2341","v":0},null,{"$f":"Реестр!J2341","v":0},0]
[{"$f":"(Реестр!B2342)+0","v":"00:00:00"},null,{"$f":"Реестр!AZ2342","v":0},{"$f":"Реестр!AN2342","v":0},{"$f":"Реестр!G2342","v":0},null,{"$f":"Реестр!J2342","v":0},0]
[{"$f":"(Реестр!B2343)+0","v":"00:00:00"},null,{"$f":"Реестр!AZ2343","v":0},{"$f":"Реестр!AN2343","v":0},{"$f":"Реестр!G2343","v":0},null,{"$f":"Реестр!J2343","v":0},0]
[{"$f":"(Реестр!B2344)+0","v":"00:00:00"},null,{"$f":"Реестр!AZ2344","v":0},{"$f":"Реестр!AN2344","v":0},{"$f":"Реестр!G2344","v":0},null,{"$f":"Реестр!J2344","v":0},0]
[{"$f":"(Реестр!B2345)+0","v":"00:00:00"},null,{"$f":"Реестр!AZ2345","v":0},{"$f":"Реестр!AN2345","v":0},{"$f":"Реестр!G2345","v":0},null,{"$f":"Реестр!J2345","v":0},0]
[{"$f":"(Реестр!B2346)+0","v":"00:00:00"},null,{"$f":"Реестр!AZ2346","v":0},{"$f":"Реестр!AN2346","v":0},{"$f":"Реестр!G2346","v":0},null,{"$f":"Реестр!J2346","v":0},0]
[{"$f":"(Реестр!B2347)+0","v":"00:00:00"},null,{"$f":"Реестр!AZ2347","v":0},{"$f":"Реестр!AN2347","v":0},{"$f":"Реестр!G2347","v":0},null,{"$f":"Реестр!J2347","v":0},0]
[{"$f":"(Реестр!B2348)+0","v":"00:00:00"},null,{"$f":"Реестр!AZ2348","v":0},{"$f":"Реестр!AN2348","v":0},{"$f":"Реестр!G2348","v":0},null,{"$f":"Реестр!J2348","v":0},0]
[{"$f":"(Реестр!B2349)+0","v":"00:00:00"},null,{"$f":"Реестр!AZ2349","v":0},{"$f":"Реестр!AN2349","v":0},{"$f":"Реестр!G2349","v":0},null,{"$f":"Реестр!J2349","v":0},0]
[{"$f":"(Реестр!B2350)+0","v":"00:00:00"},null,{"$f":"Реестр!AZ2350","v":0},{"$f":"Реестр!AN2350","v":0},{"$f":"Реестр!G2350","v":0},null,{"$f":"Реестр!J2350","v":0},0]
[{"$f":"(Реестр!B2351)+0","v":"00:00:00"},null,{"$f":"Реестр!AZ2351","v":0},{"$f":"Реестр!AN2351","v":0},{"$f":"Реестр!G2351","v":0},null,{"$f":"Реестр!J2351","v":0},0]
[{"$f":"(Реестр!B2352)+0","v":"00:00:00"},null,{"$f":"Реестр!AZ2352","v":0},{"$f":"Реестр!AN2352","v":0},{"$f":"Реестр!G2352","v":0},null,{"$f":"Реестр!J2352","v":0},0]
[{"$f":"(Реестр!B2353)+0","v":"00:00:00"},null,{"$f":"Реестр!AZ2353","v":0},{"$f":"Реестр!AN2353","v":0},{"$f":"Реестр!G2353","v":0},null,{"$f":"Реестр!J2353","v":0},0]
[{"$f":"(Реестр!B2354)+0","v":"00:00:00"},null,{"$f":"Реестр!AZ2354","v":0},{"$f":"Реестр!AN2354","v":0},{"$f":"Реестр!G2354","v":0},null,{"$f":"Реестр!J2354","v":0},0]
[{"$f":"(Реестр!B2355)+0","v":"00:00:00"},null,{"$f":"Реестр!AZ2355","v":0},{"$f":"Реестр!AN2355","v":0},{"$f":"Реестр!G2355","v":0},null,{"$f":"Реестр!J2355","v":0},0]
[{"$f":"(Реестр!B2356)+0","v":"00:00:00"},null,{"$f":"Реестр!AZ2356","v":0},{"$f":"Реестр!AN2356","v":0},{"$f":"Реестр!G2356","v":0},null,{"$f":"Реестр!J2356","v":0},0]
[{"$f":"(Реестр!B2357)+0","v":"00:00:00"},null,{"$f":"Реестр!AZ2357","v":0},{"$f":"Реестр!AN2357","v":0},{"$f":"Реестр!G2357","v":0},null,{"$f":"Реестр!J2357","v":0},0]
[{"$f":"(Реестр!B2358)+0","v":"00:00:00"},null,{"$f":"Реестр!AZ2358","v":0},{"$f":"Реестр!AN2358","v":0},{"$f":"Реестр!G2358","v":0},null,{"$f":"Реестр!J2358","v":0},0]
[{"$f":"(Реестр!B2359)+0","v":"00:00:00"},null,{"$f":"Реестр!AZ2359","v":0},{"$f":"Реестр!AN2359","v":0},{"$f":"Реестр!G2359","v":0},null,{"$f":"Реестр!J2359","v":0},0]
[{"$f":"(Реестр!B2360)+0","v":"00:00:00"},null,{"$f":"Реестр!AZ2360","v":0},{"$f":"Реестр!AN2360","v":0},{"$f":"Реестр!G2360","v":0},null,{"$f":"Реестр!J2360","v":0},0]
[{"$f":"(Реестр!B2361)+0","v":"00:00:00"},null,{"$f":"Реестр!AZ2361","v":0},{"$f":"Реестр!AN2361","v":0},{"$f":"Реестр!G2361","v":0},null,{"$f":"Реестр!J2361","v":0},0]
[{"$f":"(Реестр!B2362)+0","v":"00:00:00"},null,{"$f":"Реестр!AZ2362","v":0},{"$f":"Реестр!AN2362","v":0},{"$f":"Реестр!G2362","v":0},null,{"$f":"Реестр!J2362","v":0},0]
[{"$f":"(Реестр!B2363)+0","v":"00:00:00"},null,{"$f":"Реестр!AZ2363","v":0},{"$f":"Реестр!AN2363","v":0},{"$f":"Реестр!G2363","v":0},null,{"$f":"Реестр!J2363","v":0},0]
[{"$f":"(Реестр!B2364)+0","v":"00:00:00"},null,{"$f":"Реестр!AZ2364","v":0},{"$f":"Реестр!AN2364","v":0},{"$f":"Реестр!G2364","v":0},null,{"$f":"Реестр!J2364","v":0},0]
[{"$f":"(Реестр!B2365)+0","v":"00:00:00"},null,{"$f":"Реестр!AZ2365","v":0},{"$f":"Реестр!AN2365","v":0},{"$f":"Реестр!G2365","v":0},null,{"$f":"Реестр!J2365","v":0},0]
[{"$f":"(Реестр!B2366)+0","v":"00:00:00"},null,{"$f":"Реестр!AZ2366","v":0},{"$f":"Реестр!AN2366","v":0},{"$f":"Реестр!G2366","v":0},null,{"$f":"Реестр!J2366","v":0},0]
[{"$f":"(Реестр!B2367)+0","v":"00:00:00"},null,{"$f":"Реестр!AZ2367","v":0},{"$f":"Реестр!AN2367","v":0},{"$f":"Реестр!G2367","v":0},null,{"$f":"Реестр!J2367","v":0},{"$f":"E1801*G1801","v":0}]
[{"$f":"(Реестр!B2368)+0","v":"00:00:00"},null,{"$f":"Реестр!AZ2368","v":0},{"$f":"Реестр!AN2368","v":0},{"$f":"Реестр!G2368","v":0},null,{"$f":"Реестр!J2368","v":0},0]
[{"$f":"(Реестр!B2369)+0","v":"00:00:00"},null,{"$f":"Реестр!AZ2369","v":0},{"$f":"Реестр!AN2369","v":0},{"$f":"Реестр!G2369","v":0},null,{"$f":"Реестр!J2369","v":0},0]
[{"$f":"(Реестр!B2370)+0","v":"00:00:00"},null,{"$f":"Реестр!AZ2370","v":0},{"$f":"Реестр!AN2370","v":0},{"$f":"Реестр!G2370","v":0},null,{"$f":"Реестр!J2370","v":0},0]
[{"$f":"(Реестр!B2371)+0","v":"00:00:00"},null,{"$f":"Реестр!AZ2371","v":0},{"$f":"Реестр!AN2371","v":0},{"$f":"Реестр!G2371","v":0},null,{"$f":"Реестр!J2371","v":0},0]
[{"$f":"(Реестр!B2372)+0","v":"00:00:00"},null,{"$f":"Реестр!AZ2372","v":0},{"$f":"Реестр!AN2372","v":0},{"$f":"Реестр!G2372","v":0},null,{"$f":"Реестр!J2372","v":0},0]
[{"$f":"(Реестр!B2373)+0","v":"00:00:00"},null,{"$f":"Реестр!AZ2373","v":0},{"$f":"Реестр!AN2373","v":0},{"$f":"Реестр!G2373","v":0},null,{"$f":"Реестр!J2373","v":0},0]
[{"$f":"(Реестр!B2374)+0","v":"00:00:00"},null,{"$f":"Реестр!AZ2374","v":0},{"$f":"Реестр!AN2374","v":0},{"$f":"Реестр!G2374","v":0},null,{"$f":"Реестр!J2374","v":0},0]
[{"$f":"(Реестр!B2375)+0","v":"00:00:00"},null,{"$f":"Реестр!AZ2375","v":0},{"$f":"Реестр!AN2375","v":0},{"$f":"Реестр!G2375","v":0},null,{"$f":"Реестр!J2375","v":0},0]
[{"$f":"(Реестр!B2376)+0","v":"00:00:00"},null,{"$f":"Реестр!AZ2376","v":0},{"$f":"Реестр!AN2376","v":0},{"$f":"Реестр!G2376","v":0},null,{"$f":"Реестр!J2376","v":0},0]
[{"$f":"(Реестр!B2377)+0","v":"00:00:00"},null,{"$f":"Реестр!AZ2377","v":0},{"$f":"Реестр!AN2377","v":0},{"$f":"Реестр!G2377","v":0},null,{"$f":"Реестр!J2377","v":0},0]
[{"$f":"(Реестр!B2378)+0","v":"00:00:00"},null,{"$f":"Реестр!AZ2378","v":0},{"$f":"Реестр!AN2378","v":0},{"$f":"Реестр!G2378","v":0},null,{"$f":"Реестр!J2378","v":0},0]
[{"$f":"(Реестр!B2379)+0","v":"00:00:00"},null,{"$f":"Реестр!AZ2379","v":0},{"$f":"Реестр!AN2379","v":0},{"$f":"Реестр!G2379","v":0},null,{"$f":"Реестр!J2379","v":0},0]
[{"$f":"(Реестр!B2380)+0","v":"00:00:00"},null,{"$f":"Реестр!AZ2380","v":0},{"$f":"Реестр!AN2380","v":0},{"$f":"Реестр!G2380","v":0},null,{"$f":"Реестр!J2380","v":0},0]
[{"$f":"(Реестр!B2381)+0","v":"00:00:00"},null,{"$f":"Реестр!AZ2381","v":0},{"$f":"Реестр!AN2381","v":0},{"$f":"Реестр!G2381","v":0},null,{"$f":"Реестр!J2381","v":0},0]
[{"$f":"(Реестр!B2382)+0","v":"00:00:00"},null,{"$f":"Реестр!AZ2382","v":0},{"$f":"Реестр!AN2382","v":0},{"$f":"Реестр!G2382","v":0},null,{"$f":"Реестр!J2382","v":0},0]
[{"$f":"(Реестр!B2383)+0","v":"00:00:00"},null,{"$f":"Реестр!AZ2383","v":0},{"$f":"Реестр!AN2383","v":0},{"$f":"Реестр!G2383","v":0},null,{"$f":"Реестр!J2383","v":0},0]
[{"$f":"(Реестр!B2384)+0","v":"00:00:00"},null,{"$f":"Реестр!AZ2384","v":0},{"$f":"Реестр!AN2384","v":0},{"$f":"Реестр!G2384","v":0},null,{"$f":"Реестр!J2384","v":0},0]
[{"$f":"(Реестр!B2385)+0","v":"00:00:00"},null,{"$f":"Реестр!AZ2385","v":0},{"$f":"Реестр!AN2385","v":0},{"$f":"Реестр!G2385","v":0},null,{"$f":"Реестр!J2385","v":0},0]
[{"$f":"(Реестр!B2386)+0","v":"00:00:00"},null,{"$f":"Реестр!AZ2386","v":0},{"$f":"Реестр!AN2386","v":0},{"$f":"Реестр!G2386","v":0},null,{"$f":"Реестр!J2386","v":0},0]
[{"$f":"(Реестр!B2387)+0","v":"00:00:00"},null,{"$f":"Реестр!AZ2387","v":0},{"$f":"Реестр!AN2387","v":0},{"$f":"Реестр!G2387","v":0},null,{"$f":"Реестр!J2387","v":0},0]
[{"$f":"(Реестр!B2388)+0","v":"00:00:00"},null,{"$f":"Реестр!AZ2388","v":0},{"$f":"Реестр!AN2388","v":0},{"$f":"Реестр!G2388","v":0},null,{"$f":"Реестр!J2388","v":0},0]
[{"$f":"(Реестр!B2389)+0","v":"00:00:00"},null,{"$f":"Реестр!AZ2389","v":0},{"$f":"Реестр!AN2389","v":0},{"$f":"Реестр!G2389","v":0},null,{"$f":"Реестр!J2389","v":0},0]
[{"$f":"(Реестр!B2390)+0","v":"00:00:00"},null,{"$f":"Реестр!AZ2390","v":0},{"$f":"Реестр!AN2390","v":0},{"$f":"Реестр!G2390","v":0},null,{"$f":"Реестр!J2390","v":0},0]
[{"$f":"(Реестр!B2391)+0","v":"00:00:00"},null,{"$f":"Реестр!AZ2391","v":0},{"$f":"Реестр!AN2391","v":0},{"$f":"Реестр!G2391","v":0},null,{"$f":"Реестр!J2391","v":0},0]
[{"$f":"(Реестр!B2392)+0","v":"00:00:00"},null,{"$f":"Реестр!AZ2392","v":0},{"$f":"Реестр!AN2392","v":0},{"$f":"Реестр!G2392","v":0},null,{"$f":"Реестр!J2392","v":0},0]
[{"$f":"(Реестр!B2393)+0","v":"00:00:00"},null,{"$f":"Реестр!AZ2393","v":0},{"$f":"Реестр!AN2393","v":0},{"$f":"Реестр!G2393","v":0},null,{"$f":"Реестр!J2393","v":0},0]
[{"$f":"(Реестр!B2394)+0","v":"00:00:00"},null,{"$f":"Реестр!AZ2394","v":0},{"$f":"Реестр!AN2394","v":0},{"$f":"Реестр!G2394","v":0},null,{"$f":"Реестр!J2394","v":0},0]
[{"$f":"(Реестр!B2395)+0","v":"00:00:00"},null,{"$f":"Реестр!AZ2395","v":0},{"$f":"Реестр!AN2395","v":0},{"$f":"Реестр!G2395","v":0},null,{"$f":"Реестр!J2395","v":0},0]
[{"$f":"(Реестр!B2396)+0","v":"00:00:00"},null,{"$f":"Реестр!AZ2396","v":0},{"$f":"Реестр!AN2396","v":0},{"$f":"Реестр!G2396","v":0},null,{"$f":"Реестр!J2396","v":0},0]
[{"$f":"(Реестр!B2397)+0","v":"00:00:00"},null,{"$f":"Реестр!AZ2397","v":0},{"$f":"Реестр!AN2397","v":0},{"$f":"Реестр!G2397","v":0},null,{"$f":"Реестр!J2397","v":0},0]
[{"$f":"(Реестр!B2398)+0","v":"00:00:00"},null,{"$f":"Реестр!AZ2398","v":0},{"$f":"Реестр!AN2398","v":0},{"$f":"Реестр!G2398","v":0},null,{"$f":"Реестр!J2398","v":0},0]
[{"$f":"(Реестр!B2399)+0","v":"00:00:00"},null,{"$f":"Реестр!AZ2399","v":0},{"$f":"Реестр!AN2399","v":0},{"$f":"Реестр!G2399","v":0},null,{"$f":"Реестр!J2399","v":0},0]
[{"$f":"(Реестр!B2400)+0","v":"00:00:00"},null,{"$f":"Реестр!AZ2400","v":0},{"$f":"Реестр!AN2400","v":0},{"$f":"Реестр!G2400","v":0},null,{"$f":"Реестр!J2400","v":0},0]
[{"$f":"(Реестр!B2401)+0","v":"00:00:00"},null,{"$f":"Реестр!AZ2401","v":0},{"$f":"Реестр!AN2401","v":0},{"$f":"Реестр!G2401","v":0},null,{"$f":"Реестр!J2401","v":0},0]
[{"$f":"(Реестр!B2402)+0","v":"00:00:00"},null,{"$f":"Реестр!AZ2402","v":0},{"$f":"Реестр!AN2402","v":0},{"$f":"Реестр!G2402","v":0},null,{"$f":"Реестр!J2402","v":0},0]
[{"$f":"(Реестр!B2403)+0","v":"00:00:00"},null,{"$f":"Реестр!AZ2403","v":0},{"$f":"Реестр!AN2403","v":0},{"$f":"Реестр!G2403","v":0},null,{"$f":"Реестр!J2403","v":0},0]
[{"$f":"(Реестр!B2404)+0","v":"00:00:00"},null,{"$f":"Реестр!AZ2404","v":0},{"$f":"Реестр!AN2404","v":0},{"$f":"Реестр!G2404","v":0},null,{"$f":"Реестр!J2404","v":0},0]
[{"$f":"(Реестр!B2405)+0","v":"00:00:00"},null,{"$f":"Реестр!AZ2405","v":0},{"$f":"Реестр!AN2405","v":0},{"$f":"Реестр!G2405","v":0},null,{"$f":"Реестр!J2405","v":0},0]
[{"$f":"(Реестр!B2406)+0","v":"00:00:00"},null,{"$f":"Реестр!AZ2406","v":0},{"$f":"Реестр!AN2406","v":0},{"$f":"Реестр!G2406","v":0},null,{"$f":"Реестр!J2406","v":0},0]
[{"$f":"(Реестр!B2407)+0","v":"00:00:00"},null,{"$f":"Реестр!AZ2407","v":0},{"$f":"Реестр!AN2407","v":0},{"$f":"Реестр!G2407","v":0},null,{"$f":"Реестр!J2407","v":0},0]
[{"$f":"(Реестр!B2408)+0","v":"00:00:00"},null,{"$f":"Реестр!AZ2408","v":0},{"$f":"Реестр!AN2408","v":0},{"$f":"Реестр!G2408","v":0},null,{"$f":"Реестр!J2408","v":0},0]
[{"$f":"(Реестр!B2409)+0","v":"00:00:00"},null,{"$f":"Реестр!AZ2409","v":0},{"$f":"Реестр!AN2409","v":0},{"$f":"Реестр!G2409","v":0},null,{"$f":"Реестр!J2409","v":0},0]
[{"$f":"(Реестр!B2410)+0","v":"00:00:00"},null,{"$f":"Реестр!AZ2410","v":0},{"$f":"Реестр!AN2410","v":0},{"$f":"Реестр!G2410","v":0},null,{"$f":"Реестр!J2410","v":0},0]
[{"$f":"(Реестр!B2411)+0","v":"00:00:00"},null,{"$f":"Реестр!AZ2411","v":0},{"$f":"Реестр!AN2411","v":0},{"$f":"Реестр!G2411","v":0},null,{"$f":"Реестр!J2411","v":0},0]
[{"$f":"(Реестр!B2412)+0","v":"00:00:00"},null,{"$f":"Реестр!AZ2412","v":0},{"$f":"Реестр!AN2412","v":0},{"$f":"Реестр!G2412","v":0},null,{"$f":"Реестр!J2412","v":0},0]
[{"$f":"(Реестр!B2413)+0","v":"00:00:00"},null,{"$f":"Реестр!AZ2413","v":0},{"$f":"Реестр!AN2413","v":0},{"$f":"Реестр!G2413","v":0},null,{"$f":"Реестр!J2413","v":0},0]
[{"$f":"(Реестр!B2414)+0","v":"00:00:00"},null,{"$f":"Реестр!AZ2414","v":0},{"$f":"Реестр!AN2414","v":0},{"$f":"Реестр!G2414","v":0},null,{"$f":"Реестр!J2414","v":0},0]
[{"$f":"(Реестр!B2415)+0","v":"00:00:00"},null,{"$f":"Реестр!AZ2415","v":0},{"$f":"Реестр!AN2415","v":0},{"$f":"Реестр!G2415","v":0},null,{"$f":"Реестр!J2415","v":0},0]
[{"$f":"(Реестр!B2416)+0","v":"00:00:00"},null,{"$f":"Реестр!AZ2416","v":0},{"$f":"Реестр!AN2416","v":0},{"$f":"Реестр!G2416","v":0},null,{"$f":"Реестр!J2416","v":0},0]
[{"$f":"(Реестр!B2417)+0","v":"00:00:00"},null,{"$f":"Реестр!AZ2417","v":0},{"$f":"Реестр!AN2417","v":0},{"$f":"Реестр!G2417","v":0},null,{"$f":"Реестр!J2417","v":0},0]
[{"$f":"(Реестр!B2418)+0","v":"00:00:00"},null,{"$f":"Реестр!AZ2418","v":0},{"$f":"Реестр!AN2418","v":0},{"$f":"Реестр!G2418","v":0},null,{"$f":"Реестр!J2418","v":0},0]
[{"$f":"(Реестр!B2419)+0","v":"00:00:00"},null,{"$f":"Реестр!AZ2419","v":0},{"$f":"Реестр!AN2419","v":0},{"$f":"Реестр!G2419","v":0},null,{"$f":"Реестр!J2419","v":0},0]
[{"$f":"(Реестр!B2420)+0","v":"00:00:00"},null,{"$f":"Реестр!AZ2420","v":0},{"$f":"Реестр!AN2420","v":0},{"$f":"Реестр!G2420","v":0},null,{"$f":"Реестр!J2420","v":0},0]
[{"$f":"(Реестр!B2421)+0","v":"00:00:00"},null,{"$f":"Реестр!AZ2421","v":0},{"$f":"Реестр!AN2421","v":0},{"$f":"Реестр!G2421","v":0},null,{"$f":"Реестр!J2421","v":0},0]
[{"$f":"(Реестр!B2422)+0","v":"00:00:00"},null,{"$f":"Реестр!AZ2422","v":0},{"$f":"Реестр!AN2422","v":0},{"$f":"Реестр!G2422","v":0},null,{"$f":"Реестр!J2422","v":0},0]
[{"$f":"(Реестр!B2423)+0","v":"00:00:00"},null,{"$f":"Реестр!AZ2423","v":0},{"$f":"Реестр!AN2423","v":0},{"$f":"Реестр!G2423","v":0},null,{"$f":"Реестр!J2423","v":0},0]
[{"$f":"(Реестр!B2424)+0","v":"00:00:00"},null,{"$f":"Реестр!AZ2424","v":0},{"$f":"Реестр!AN2424","v":0},{"$f":"Реестр!G2424","v":0},null,{"$f":"Реестр!J2424","v":0},0]
[{"$f":"(Реестр!B2425)+0","v":"00:00:00"},null,{"$f":"Реестр!AZ2425","v":0},{"$f":"Реестр!AN2425","v":0},{"$f":"Реестр!G2425","v":0},null,{"$f":"Реестр!J2425","v":0},0]
[{"$f":"(Реестр!B2426)+0","v":"00:00:00"},null,{"$f":"Реестр!AZ2426","v":0},{"$f":"Реестр!AN2426","v":0},{"$f":"Реестр!G2426","v":0},null,{"$f":"Реестр!J2426","v":0},0]
[{"$f":"(Реестр!B2427)+0","v":"00:00:00"},null,{"$f":"Реестр!AZ2427","v":0},{"$f":"Реестр!AN2427","v":0},{"$f":"Реестр!G2427","v":0},null,{"$f":"Реестр!J2427","v":0},0]
[{"$f":"(Реестр!B2428)+0","v":"00:00:00"},null,{"$f":"Реестр!AZ2428","v":0},{"$f":"Реестр!AN2428","v":0},{"$f":"Реестр!G2428","v":0},null,{"$f":"Реестр!J2428","v":0},0]
[{"$f":"(Реестр!B2429)+0","v":"00:00:00"},null,{"$f":"Реестр!AZ2429","v":0},{"$f":"Реестр!AN2429","v":0},{"$f":"Реестр!G2429","v":0},null,{"$f":"Реестр!J2429","v":0},0]
[{"$f":"(Реестр!B2430)+0","v":"00:00:00"},null,{"$f":"Реестр!AZ2430","v":0},{"$f":"Реестр!AN2430","v":0},{"$f":"Реестр!G2430","v":0},null,{"$f":"Реестр!J2430","v":0},0]
[{"$f":"(Реестр!B2431)+0","v":"00:00:00"},null,{"$f":"Реестр!AZ2431","v":0},{"$f":"Реестр!AN2431","v":0},{"$f":"Реестр!G2431","v":0},null,{"$f":"Реестр!J2431","v":0},{"$f":"E1865*G1865","v":0}]
[{"$f":"(Реестр!B2432)+0","v":"00:00:00"},null,{"$f":"Реестр!AZ2432","v":0},{"$f":"Реестр!AN2432","v":0},{"$f":"Реестр!G2432","v":0},null,{"$f":"Реестр!J2432","v":0},0]
[{"$f":"(Реестр!B2433)+0","v":"00:00:00"},null,{"$f":"Реестр!AZ2433","v":0},{"$f":"Реестр!AN2433","v":0},{"$f":"Реестр!G2433","v":0},null,{"$f":"Реестр!J2433","v":0},0]
[{"$f":"(Реестр!B2434)+0","v":"00:00:00"},null,{"$f":"Реестр!AZ2434","v":0},{"$f":"Реестр!AN2434","v":0},{"$f":"Реестр!G2434","v":0},null,{"$f":"Реестр!J2434","v":0},0]
[{"$f":"(Реестр!B2435)+0","v":"00:00:00"},null,{"$f":"Реестр!AZ2435","v":0},{"$f":"Реестр!AN2435","v":0},{"$f":"Реестр!G2435","v":0},null,{"$f":"Реестр!J2435","v":0},0]
[{"$f":"(Реестр!B2436)+0","v":"00:00:00"},null,{"$f":"Реестр!AZ2436","v":0},{"$f":"Реестр!AN2436","v":0},{"$f":"Реестр!G2436","v":0},null,{"$f":"Реестр!J2436","v":0},0]
[{"$f":"(Реестр!B2437)+0","v":"00:00:00"},null,{"$f":"Реестр!AZ2437","v":0},{"$f":"Реестр!AN2437","v":0},{"$f":"Реестр!G2437","v":0},null,{"$f":"Реестр!J2437","v":0},0]
[{"$f":"(Реестр!B2438)+0","v":"00:00:00"},null,{"$f":"Реестр!AZ2438","v":0},{"$f":"Реестр!AN2438","v":0},{"$f":"Реестр!G2438","v":0},null,{"$f":"Реестр!J2438","v":0},0]
[{"$f":"(Реестр!B2439)+0","v":"00:00:00"},null,{"$f":"Реестр!AZ2439","v":0},{"$f":"Реестр!AN2439","v":0},{"$f":"Реестр!G2439","v":0},null,{"$f":"Реестр!J2439","v":0},0]
[{"$f":"(Реестр!B2440)+0","v":"00:00:00"},null,{"$f":"Реестр!AZ2440","v":0},{"$f":"Реестр!AN2440","v":0},{"$f":"Реестр!G2440","v":0},null,{"$f":"Реестр!J2440","v":0},0]
[{"$f":"(Реестр!B2441)+0","v":"00:00:00"},null,{"$f":"Реестр!AZ2441","v":0},{"$f":"Реестр!AN2441","v":0},{"$f":"Реестр!G2441","v":0},null,{"$f":"Реестр!J2441","v":0},0]
[{"$f":"(Реестр!B2442)+0","v":"00:00:00"},null,{"$f":"Реестр!AZ2442","v":0},{"$f":"Реестр!AN2442","v":0},{"$f":"Реестр!G2442","v":0},null,{"$f":"Реестр!J2442","v":0},0]
[{"$f":"(Реестр!B2443)+0","v":"00:00:00"},null,{"$f":"Реестр!AZ2443","v":0},{"$f":"Реестр!AN2443","v":0},{"$f":"Реестр!G2443","v":0},null,{"$f":"Реестр!J2443","v":0},0]
[{"$f":"(Реестр!B2444)+0","v":"00:00:00"},null,{"$f":"Реестр!AZ2444","v":0},{"$f":"Реестр!AN2444","v":0},{"$f":"Реестр!G2444","v":0},null,{"$f":"Реестр!J2444","v":0},0]
[{"$f":"(Реестр!B2445)+0","v":"00:00:00"},null,{"$f":"Реестр!AZ2445","v":0},{"$f":"Реестр!AN2445","v":0},{"$f":"Реестр!G2445","v":0},null,{"$f":"Реестр!J2445","v":0},0]
[{"$f":"(Реестр!B2446)+0","v":"00:00:00"},null,{"$f":"Реестр!AZ2446","v":0},{"$f":"Реестр!AN2446","v":0},{"$f":"Реестр!G2446","v":0},null,{"$f":"Реестр!J2446","v":0},0]
[{"$f":"(Реестр!B2447)+0","v":"00:00:00"},null,{"$f":"Реестр!AZ2447","v":0},{"$f":"Реестр!AN2447","v":0},{"$f":"Реестр!G2447","v":0},null,{"$f":"Реестр!J2447","v":0},0]
[{"$f":"(Реестр!B2448)+0","v":"00:00:00"},null,{"$f":"Реестр!AZ2448","v":0},{"$f":"Реестр!AN2448","v":0},{"$f":"Реестр!G2448","v":0},null,{"$f":"Реестр!J2448","v":0},0]
[{"$f":"(Реестр!B2449)+0","v":"00:00:00"},null,{"$f":"Реестр!AZ2449","v":0},{"$f":"Реестр!AN2449","v":0},{"$f":"Реестр!G2449","v":0},null,{"$f":"Реестр!J2449","v":0},0]
[{"$f":"(Реестр!B2450)+0","v":"00:00:00"},null,{"$f":"Реестр!AZ2450","v":0},{"$f":"Реестр!AN2450","v":0},{"$f":"Реестр!G2450","v":0},null,{"$f":"Реестр!J2450","v":0},0]
[{"$f":"(Реестр!B2451)+0","v":"00:00:00"},null,{"$f":"Реестр!AZ2451","v":0},{"$f":"Реестр!AN2451","v":0},{"$f":"Реестр!G2451","v":0},null,{"$f":"Реестр!J2451","v":0},0]
[{"$f":"(Реестр!B2452)+0","v":"00:00:00"},null,{"$f":"Реестр!AZ2452","v":0},{"$f":"Реестр!AN2452","v":0},{"$f":"Реестр!G2452","v":0},null,{"$f":"Реестр!J2452","v":0},0]
[{"$f":"(Реестр!B2453)+0","v":"00:00:00"},null,{"$f":"Реестр!AZ2453","v":0},{"$f":"Реестр!AN2453","v":0},{"$f":"Реестр!G2453","v":0},null,{"$f":"Реестр!J2453","v":0},0]
[{"$f":"(Реестр!B2454)+0","v":"00:00:00"},null,{"$f":"Реестр!AZ2454","v":0},{"$f":"Реестр!AN2454","v":0},{"$f":"Реестр!G2454","v":0},null,{"$f":"Реестр!J2454","v":0},0]
[{"$f":"(Реестр!B2455)+0","v":"00:00:00"},null,{"$f":"Реестр!AZ2455","v":0},{"$f":"Реестр!AN2455","v":0},{"$f":"Реестр!G2455","v":0},null,{"$f":"Реестр!J2455","v":0},0]
[{"$f":"(Реестр!B2456)+0","v":"00:00:00"},null,{"$f":"Реестр!AZ2456","v":0},{"$f":"Реестр!AN2456","v":0},{"$f":"Реестр!G2456","v":0},null,{"$f":"Реестр!J2456","v":0},0]
[{"$f":"(Реестр!B2457)+0","v":"00:00:00"},null,{"$f":"Реестр!AZ2457","v":0},{"$f":"Реестр!AN2457","v":0},{"$f":"Реестр!G2457","v":0},null,{"$f":"Реестр!J2457","v":0},0]
[{"$f":"(Реестр!B2458)+0","v":"00:00:00"},null,{"$f":"Реестр!AZ2458","v":0},{"$f":"Реестр!AN2458","v":0},{"$f":"Реестр!G2458","v":0},null,{"$f":"Реестр!J2458","v":0},0]
[{"$f":"(Реестр!B2459)+0","v":"00:00:00"},null,{"$f":"Реестр!AZ2459","v":0},{"$f":"Реестр!AN2459","v":0},{"$f":"Реестр!G2459","v":0},null,{"$f":"Реестр!J2459","v":0},0]
[{"$f":"(Реестр!B2460)+0","v":"00:00:00"},null,{"$f":"Реестр!AZ2460","v":0},{"$f":"Реестр!AN2460","v":0},{"$f":"Реестр!G2460","v":0},null,{"$f":"Реестр!J2460","v":0},0]
[{"$f":"(Реестр!B2461)+0","v":"00:00:00"},null,{"$f":"Реестр!AZ2461","v":0},{"$f":"Реестр!AN2461","v":0},{"$f":"Реестр!G2461","v":0},null,{"$f":"Реестр!J2461","v":0},0]
[{"$f":"(Реестр!B2462)+0","v":"00:00:00"},null,{"$f":"Реестр!AZ2462","v":0},{"$f":"Реестр!AN2462","v":0},{"$f":"Реестр!G2462","v":0},null,{"$f":"Реестр!J2462","v":0},0]
[{"$f":"(Реестр!B2463)+0","v":"00:00:00"},null,{"$f":"Реестр!AZ2463","v":0},{"$f":"Реестр!AN2463","v":0},{"$f":"Реестр!G2463","v":0},null,{"$f":"Реестр!J2463","v":0},0]
[{"$f":"(Реестр!B2464)+0","v":"00:00:00"},null,{"$f":"Реестр!AZ2464","v":0},{"$f":"Реестр!AN2464","v":0},{"$f":"Реестр!G2464","v":0},null,{"$f":"Реестр!J2464","v":0},0]
[{"$f":"(Реестр!B2465)+0","v":"00:00:00"},null,{"$f":"Реестр!AZ2465","v":0},{"$f":"Реестр!AN2465","v":0},{"$f":"Реестр!G2465","v":0},null,{"$f":"Реестр!J2465","v":0},0]
[{"$f":"(Реестр!B2466)+0","v":"00:00:00"},null,{"$f":"Реестр!AZ2466","v":0},{"$f":"Реестр!AN2466","v":0},{"$f":"Реестр!G2466","v":0},null,{"$f":"Реестр!J2466","v":0},0]
[{"$f":"(Реестр!B2467)+0","v":"00:00:00"},null,{"$f":"Реестр!AZ2467","v":0},{"$f":"Реестр!AN2467","v":0},{"$f":"Реестр!G2467","v":0},null,{"$f":"Реестр!J2467","v":0},0]
[{"$f":"(Реестр!B2468)+0","v":"00:00:00"},null,{"$f":"Реестр!AZ2468","v":0},{"$f":"Реестр!AN2468","v":0},{"$f":"Реестр!G2468","v":0},null,{"$f":"Реестр!J2468","v":0},0]
[{"$f":"(Реестр!B2469)+0","v":"00:00:00"},null,{"$f":"Реестр!AZ2469","v":0},{"$f":"Реестр!AN2469","v":0},{"$f":"Реестр!G2469","v":0},null,{"$f":"Реестр!J2469","v":0},0]
[{"$f":"(Реестр!B2470)+0","v":"00:00:00"},null,{"$f":"Реестр!AZ2470","v":0},{"$f":"Реестр!AN2470","v":0},{"$f":"Реестр!G2470","v":0},null,{"$f":"Реестр!J2470","v":0},0]
[{"$f":"(Реестр!B2471)+0","v":"00:00:00"},null,{"$f":"Реестр!AZ2471","v":0},{"$f":"Реестр!AN2471","v":0},{"$f":"Реестр!G2471","v":0},null,{"$f":"Реестр!J2471","v":0},0]
[{"$f":"(Реестр!B2472)+0","v":"00:00:00"},null,{"$f":"Реестр!AZ2472","v":0},{"$f":"Реестр!AN2472","v":0},{"$f":"Реестр!G2472","v":0},null,{"$f":"Реестр!J2472","v":0},0]
[{"$f":"(Реестр!B2473)+0","v":"00:00:00"},null,{"$f":"Реестр!AZ2473","v":0},{"$f":"Реестр!AN2473","v":0},{"$f":"Реестр!G2473","v":0},null,{"$f":"Реестр!J2473","v":0},0]
[{"$f":"(Реестр!B2474)+0","v":"00:00:00"},null,{"$f":"Реестр!AZ2474","v":0},{"$f":"Реестр!AN2474","v":0},{"$f":"Реестр!G2474","v":0},null,{"$f":"Реестр!J2474","v":0},0]
[{"$f":"(Реестр!B2475)+0","v":"00:00:00"},null,{"$f":"Реестр!AZ2475","v":0},{"$f":"Реестр!AN2475","v":0},{"$f":"Реестр!G2475","v":0},null,{"$f":"Реестр!J2475","v":0},0]
[{"$f":"(Реестр!B2476)+0","v":"00:00:00"},null,{"$f":"Реестр!AZ2476","v":0},{"$f":"Реестр!AN2476","v":0},{"$f":"Реестр!G2476","v":0},null,{"$f":"Реестр!J2476","v":0},0]
[{"$f":"(Реестр!B2477)+0","v":"00:00:00"},null,{"$f":"Реестр!AZ2477","v":0},{"$f":"Реестр!AN2477","v":0},{"$f":"Реестр!G2477","v":0},null,{"$f":"Реестр!J2477","v":0},0]
[{"$f":"(Реестр!B2478)+0","v":"00:00:00"},null,{"$f":"Реестр!AZ2478","v":0},{"$f":"Реестр!AN2478","v":0},{"$f":"Реестр!G2478","v":0},null,{"$f":"Реестр!J2478","v":0},0]
[{"$f":"(Реестр!B2479)+0","v":"00:00:00"},null,{"$f":"Реестр!AZ2479","v":0},{"$f":"Реестр!AN2479","v":0},{"$f":"Реестр!G2479","v":0},null,{"$f":"Реестр!J2479","v":0},0]
[{"$f":"(Реестр!B2480)+0","v":"00:00:00"},null,{"$f":"Реестр!AZ2480","v":0},{"$f":"Реестр!AN2480","v":0},{"$f":"Реестр!G2480","v":0},null,{"$f":"Реестр!J2480","v":0},0]
[{"$f":"(Реестр!B2481)+0","v":"00:00:00"},null,{"$f":"Реестр!AZ2481","v":0},{"$f":"Реестр!AN2481","v":0},{"$f":"Реестр!G2481","v":0},null,{"$f":"Реестр!J2481","v":0},0]
[{"$f":"(Реестр!B2482)+0","v":"00:00:00"},null,{"$f":"Реестр!AZ2482","v":0},{"$f":"Реестр!AN2482","v":0},{"$f":"Реестр!G2482","v":0},null,{"$f":"Реестр!J2482","v":0},0]
[{"$f":"(Реестр!B2483)+0","v":"00:00:00"},null,{"$f":"Реестр!AZ2483","v":0},{"$f":"Реестр!AN2483","v":0},{"$f":"Реестр!G2483","v":0},null,{"$f":"Реестр!J2483","v":0},0]
[{"$f":"(Реестр!B2484)+0","v":"00:00:00"},null,{"$f":"Реестр!AZ2484","v":0},{"$f":"Реестр!AN2484","v":0},{"$f":"Реестр!G2484","v":0},null,{"$f":"Реестр!J2484","v":0},0]
[{"$f":"(Реестр!B2485)+0","v":"00:00:00"},null,{"$f":"Реестр!AZ2485","v":0},{"$f":"Реестр!AN2485","v":0},{"$f":"Реестр!G2485","v":0},null,{"$f":"Реестр!J2485","v":0},0]
[{"$f":"(Реестр!B2486)+0","v":"00:00:00"},null,{"$f":"Реестр!AZ2486","v":0},{"$f":"Реестр!AN2486","v":0},{"$f":"Реестр!G2486","v":0},null,{"$f":"Реестр!J2486","v":0},0]
[{"$f":"(Реестр!B2487)+0","v":"00:00:00"},null,{"$f":"Реестр!AZ2487","v":0},{"$f":"Реестр!AN2487","v":0},{"$f":"Реестр!G2487","v":0},null,{"$f":"Реестр!J2487","v":0},0]
[{"$f":"(Реестр!B2488)+0","v":"00:00:00"},null,{"$f":"Реестр!AZ2488","v":0},{"$f":"Реестр!AN2488","v":0},{"$f":"Реестр!G2488","v":0},null,{"$f":"Реестр!J2488","v":0},0]
[{"$f":"(Реестр!B2489)+0","v":"00:00:00"},null,{"$f":"Реестр!AZ2489","v":0},{"$f":"Реестр!AN2489","v":0},{"$f":"Реестр!G2489","v":0},null,{"$f":"Реестр!J2489","v":0},0]
[{"$f":"(Реестр!B2490)+0","v":"00:00:00"},null,{"$f":"Реестр!AZ2490","v":0},{"$f":"Реестр!AN2490","v":0},{"$f":"Реестр!G2490","v":0},null,{"$f":"Реестр!J2490","v":0},0]
[{"$f":"(Реестр!B2491)+0","v":"00:00:00"},null,{"$f":"Реестр!AZ2491","v":0},{"$f":"Реестр!AN2491","v":0},{"$f":"Реестр!G2491","v":0},null,{"$f":"Реестр!J2491","v":0},0]
[{"$f":"(Реестр!B2492)+0","v":"00:00:00"},null,{"$f":"Реестр!AZ2492","v":0},{"$f":"Реестр!AN2492","v":0},{"$f":"Реестр!G2492","v":0},null,{"$f":"Реестр!J2492","v":0},0]
[{"$f":"(Реестр!B2493)+0","v":"00:00:00"},null,{"$f":"Реестр!AZ2493","v":0},{"$f":"Реестр!AN2493","v":0},{"$f":"Реестр!G2493","v":0},null,{"$f":"Реестр!J2493","v":0},0]
[{"$f":"(Реестр!B2494)+0","v":"00:00:00"},null,{"$f":"Реестр!AZ2494","v":0},{"$f":"Реестр!AN2494","v":0},{"$f":"Реестр!G2494","v":0},null,{"$f":"Реестр!J2494","v":0},0]
[{"$f":"(Реестр!B2495)+0","v":"00:00:00"},null,{"$f":"Реестр!AZ2495","v":0},{"$f":"Реестр!AN2495","v":0},{"$f":"Реестр!G2495","v":0},null,{"$f":"Реестр!J2495","v":0},{"$f":"E1929*G1929","v":0}]
[{"$f":"(Реестр!B2496)+0","v":"00:00:00"},null,{"$f":"Реестр!AZ2496","v":0},{"$f":"Реестр!AN2496","v":0},{"$f":"Реестр!G2496","v":0},null,{"$f":"Реестр!J2496","v":0},0]
[{"$f":"(Реестр!B2497)+0","v":"00:00:00"},null,{"$f":"Реестр!AZ2497","v":0},{"$f":"Реестр!AN2497","v":0},{"$f":"Реестр!G2497","v":0},null,{"$f":"Реестр!J2497","v":0},0]
[{"$f":"(Реестр!B2498)+0","v":"00:00:00"},null,{"$f":"Реестр!AZ2498","v":0},{"$f":"Реестр!AN2498","v":0},{"$f":"Реестр!G2498","v":0},null,{"$f":"Реестр!J2498","v":0},0]
[{"$f":"(Реестр!B2499)+0","v":"00:00:00"},null,{"$f":"Реестр!AZ2499","v":0},{"$f":"Реестр!AN2499","v":0},{"$f":"Реестр!G2499","v":0},null,{"$f":"Реестр!J2499","v":0},0]
[{"$f":"(Реестр!B2500)+0","v":"00:00:00"},null,{"$f":"Реестр!AZ2500","v":0},{"$f":"Реестр!AN2500","v":0},{"$f":"Реестр!G2500","v":0},null,{"$f":"Реестр!J2500","v":0},0]
[{"$f":"(Реестр!B2501)+0","v":"00:00:00"},null,{"$f":"Реестр!AZ2501","v":0},{"$f":"Реестр!AN2501","v":0},{"$f":"Реестр!G2501","v":0},null,{"$f":"Реестр!J2501","v":0},0]
[{"$f":"(Реестр!B2502)+0","v":"00:00:00"},null,{"$f":"Реестр!AZ2502","v":0},{"$f":"Реестр!AN2502","v":0},{"$f":"Реестр!G2502","v":0},null,{"$f":"Реестр!J2502","v":0},0]
[{"$f":"(Реестр!B2503)+0","v":"00:00:00"},null,{"$f":"Реестр!AZ2503","v":0},{"$f":"Реестр!AN2503","v":0},{"$f":"Реестр!G2503","v":0},null,{"$f":"Реестр!J2503","v":0},0]
[{"$f":"(Реестр!B2504)+0","v":"00:00:00"},null,{"$f":"Реестр!AZ2504","v":0},{"$f":"Реестр!AN2504","v":0},{"$f":"Реестр!G2504","v":0},null,{"$f":"Реестр!J2504","v":0},0]
[{"$f":"(Реестр!B2505)+0","v":"00:00:00"},null,{"$f":"Реестр!AZ2505","v":0},{"$f":"Реестр!AN2505","v":0},{"$f":"Реестр!G2505","v":0},null,{"$f":"Реестр!J2505","v":0},0]
[{"$f":"(Реестр!B2506)+0","v":"00:00:00"},null,{"$f":"Реестр!AZ2506","v":0},{"$f":"Реестр!AN2506","v":0},{"$f":"Реестр!G2506","v":0},null,{"$f":"Реестр!J2506","v":0},0]
[{"$f":"(Реестр!B2507)+0","v":"00:00:00"},null,{"$f":"Реестр!AZ2507","v":0},{"$f":"Реестр!AN2507","v":0},{"$f":"Реестр!G2507","v":0},null,{"$f":"Реестр!J2507","v":0},0]
[{"$f":"(Реестр!B2508)+0","v":"00:00:00"},null,{"$f":"Реестр!AZ2508","v":0},{"$f":"Реестр!AN2508","v":0},{"$f":"Реестр!G2508","v":0},null,{"$f":"Реестр!J2508","v":0},0]
[{"$f":"(Реестр!B2509)+0","v":"00:00:00"},null,{"$f":"Реестр!AZ2509","v":0},{"$f":"Реестр!AN2509","v":0},{"$f":"Реестр!G2509","v":0},null,{"$f":"Реестр!J2509","v":0},0]
[{"$f":"(Реестр!B2510)+0","v":"00:00:00"},null,{"$f":"Реестр!AZ2510","v":0},{"$f":"Реестр!AN2510","v":0},{"$f":"Реестр!G2510","v":0},null,{"$f":"Реестр!J2510","v":0},0]
[{"$f":"(Реестр!B2511)+0","v":"00:00:00"},null,{"$f":"Реестр!AZ2511","v":0},{"$f":"Реестр!AN2511","v":0},{"$f":"Реестр!G2511","v":0},null,{"$f":"Реестр!J2511","v":0},0]
[{"$f":"(Реестр!B2512)+0","v":"00:00:00"},null,{"$f":"Реестр!AZ2512","v":0},{"$f":"Реестр!AN2512","v":0},{"$f":"Реестр!G2512","v":0},null,{"$f":"Реестр!J2512","v":0},0]
[{"$f":"(Реестр!B2513)+0","v":"00:00:00"},null,{"$f":"Реестр!AZ2513","v":0},{"$f":"Реестр!AN2513","v":0},{"$f":"Реестр!G2513","v":0},null,{"$f":"Реестр!J2513","v":0},0]
[{"$f":"(Реестр!B2514)+0","v":"00:00:00"},null,{"$f":"Реестр!AZ2514","v":0},{"$f":"Реестр!AN2514","v":0},{"$f":"Реестр!G2514","v":0},null,{"$f":"Реестр!J2514","v":0},0]
[{"$f":"(Реестр!B2515)+0","v":"00:00:00"},null,{"$f":"Реестр!AZ2515","v":0},{"$f":"Реестр!AN2515","v":0},{"$f":"Реестр!G2515","v":0},null,{"$f":"Реестр!J2515","v":0},0]
[{"$f":"(Реестр!B2516)+0","v":"00:00:00"},null,{"$f":"Реестр!AZ2516","v":0},{"$f":"Реестр!AN2516","v":0},{"$f":"Реестр!G2516","v":0},null,{"$f":"Реестр!J2516","v":0},0]
[{"$f":"(Реестр!B2517)+0","v":"00:00:00"},null,{"$f":"Реестр!AZ2517","v":0},{"$f":"Реестр!AN2517","v":0},{"$f":"Реестр!G2517","v":0},null,{"$f":"Реестр!J2517","v":0},0]
[{"$f":"(Реестр!B2518)+0","v":"00:00:00"},null,{"$f":"Реестр!AZ2518","v":0},{"$f":"Реестр!AN2518","v":0},{"$f":"Реестр!G2518","v":0},null,{"$f":"Реестр!J2518","v":0},0]
[{"$f":"(Реестр!B2519)+0","v":"00:00:00"},null,{"$f":"Реестр!AZ2519","v":0},{"$f":"Реестр!AN2519","v":0},{"$f":"Реестр!G2519","v":0},null,{"$f":"Реестр!J2519","v":0},0]
[{"$f":"(Реестр!B2520)+0","v":"00:00:00"},null,{"$f":"Реестр!AZ2520","v":0},{"$f":"Реестр!AN2520","v":0},{"$f":"Реестр!G2520","v":0},null,{"$f":"Реестр!J2520","v":0},0]
[{"$f":"(Реестр!B2521)+0","v":"00:00:00"},null,{"$f":"Реестр!AZ2521","v":0},{"$f":"Реестр!AN2521","v":0},{"$f":"Реестр!G2521","v":0},null,{"$f":"Реестр!J2521","v":0},0]
[{"$f":"(Реестр!B2522)+0","v":"00:00:00"},null,{"$f":"Реестр!AZ2522","v":0},{"$f":"Реестр!AN2522","v":0},{"$f":"Реестр!G2522","v":0},null,{"$f":"Реестр!J2522","v":0},0]
[{"$f":"(Реестр!B2523)+0","v":"00:00:00"},null,{"$f":"Реестр!AZ2523","v":0},{"$f":"Реестр!AN2523","v":0},{"$f":"Реестр!G2523","v":0},null,{"$f":"Реестр!J2523","v":0},0]
[{"$f":"(Реестр!B2524)+0","v":"00:00:00"},null,{"$f":"Реестр!AZ2524","v":0},{"$f":"Реестр!AN2524","v":0},{"$f":"Реестр!G2524","v":0},null,{"$f":"Реестр!J2524","v":0},0]
[{"$f":"(Реестр!B2525)+0","v":"00:00:00"},null,{"$f":"Реестр!AZ2525","v":0},{"$f":"Реестр!AN2525","v":0},{"$f":"Реестр!G2525","v":0},null,{"$f":"Реестр!J2525","v":0},0]
[{"$f":"(Реестр!B2526)+0","v":"00:00:00"},null,{"$f":"Реестр!AZ2526","v":0},{"$f":"Реестр!AN2526","v":0},{"$f":"Реестр!G2526","v":0},null,{"$f":"Реестр!J2526","v":0},0]
[{"$f":"(Реестр!B2527)+0","v":"00:00:00"},null,{"$f":"Реестр!AZ2527","v":0},{"$f":"Реестр!AN2527","v":0},{"$f":"Реестр!G2527","v":0},null,{"$f":"Реестр!J2527","v":0},0]
[{"$f":"(Реестр!B2528)+0","v":"00:00:00"},null,{"$f":"Реестр!AZ2528","v":0},{"$f":"Реестр!AN2528","v":0},{"$f":"Реестр!G2528","v":0},null,{"$f":"Реестр!J2528","v":0},0]
[{"$f":"(Реестр!B2529)+0","v":"00:00:00"},null,{"$f":"Реестр!AZ2529","v":0},{"$f":"Реестр!AN2529","v":0},{"$f":"Реестр!G2529","v":0},null,{"$f":"Реестр!J2529","v":0},0]
[{"$f":"(Реестр!B2530)+0","v":"00:00:00"},null,{"$f":"Реестр!AZ2530","v":0},{"$f":"Реестр!AN2530","v":0},{"$f":"Реестр!G2530","v":0},null,{"$f":"Реестр!J2530","v":0},0]
[{"$f":"(Реестр!B2531)+0","v":"00:00:00"},null,{"$f":"Реестр!AZ2531","v":0},{"$f":"Реестр!AN2531","v":0},{"$f":"Реестр!G2531","v":0},null,{"$f":"Реестр!J2531","v":0},0]
[{"$f":"(Реестр!B2532)+0","v":"00:00:00"},null,{"$f":"Реестр!AZ2532","v":0},{"$f":"Реестр!AN2532","v":0},{"$f":"Реестр!G2532","v":0},null,{"$f":"Реестр!J2532","v":0},0]
[{"$f":"(Реестр!B2533)+0","v":"00:00:00"},null,{"$f":"Реестр!AZ2533","v":0},{"$f":"Реестр!AN2533","v":0},{"$f":"Реестр!G2533","v":0},null,{"$f":"Реестр!J2533","v":0},0]
[{"$f":"(Реестр!B2534)+0","v":"00:00:00"},null,{"$f":"Реестр!AZ2534","v":0},{"$f":"Реестр!AN2534","v":0},{"$f":"Реестр!G2534","v":0},null,{"$f":"Реестр!J2534","v":0},0]
[{"$f":"(Реестр!B2535)+0","v":"00:00:00"},null,{"$f":"Реестр!AZ2535","v":0},{"$f":"Реестр!AN2535","v":0},{"$f":"Реестр!G2535","v":0},null,{"$f":"Реестр!J2535","v":0},0]
[{"$f":"(Реестр!B2536)+0","v":"00:00:00"},null,{"$f":"Реестр!AZ2536","v":0},{"$f":"Реестр!AN2536","v":0},{"$f":"Реестр!G2536","v":0},null,{"$f":"Реестр!J2536","v":0},0]
[{"$f":"(Реестр!B2537)+0","v":"00:00:00"},null,{"$f":"Реестр!AZ2537","v":0},{"$f":"Реестр!AN2537","v":0},{"$f":"Реестр!G2537","v":0},null,{"$f":"Реестр!J2537","v":0},0]
[{"$f":"(Реестр!B2538)+0","v":"00:00:00"},null,{"$f":"Реестр!AZ2538","v":0},{"$f":"Реестр!AN2538","v":0},{"$f":"Реестр!G2538","v":0},null,{"$f":"Реестр!J2538","v":0},0]
[{"$f":"(Реестр!B2539)+0","v":"00:00:00"},null,{"$f":"Реестр!AZ2539","v":0},{"$f":"Реестр!AN2539","v":0},{"$f":"Реестр!G2539","v":0},null,{"$f":"Реестр!J2539","v":0},0]
[{"$f":"(Реестр!B2540)+0","v":"00:00:00"},null,{"$f":"Реестр!AZ2540","v":0},{"$f":"Реестр!AN2540","v":0},{"$f":"Реестр!G2540","v":0},null,{"$f":"Реестр!J2540","v":0},0]
[{"$f":"(Реестр!B2541)+0","v":"00:00:00"},null,{"$f":"Реестр!AZ2541","v":0},{"$f":"Реестр!AN2541","v":0},{"$f":"Реестр!G2541","v":0},null,{"$f":"Реестр!J2541","v":0},0]
[{"$f":"(Реестр!B2542)+0","v":"00:00:00"},null,{"$f":"Реестр!AZ2542","v":0},{"$f":"Реестр!AN2542","v":0},{"$f":"Реестр!G2542","v":0},null,{"$f":"Реестр!J2542","v":0},0]
[{"$f":"(Реестр!B2543)+0","v":"00:00:00"},null,{"$f":"Реестр!AZ2543","v":0},{"$f":"Реестр!AN2543","v":0},{"$f":"Реестр!G2543","v":0},null,{"$f":"Реестр!J2543","v":0},0]
[{"$f":"(Реестр!B2544)+0","v":"00:00:00"},null,{"$f":"Реестр!AZ2544","v":0},{"$f":"Реестр!AN2544","v":0},{"$f":"Реестр!G2544","v":0},null,{"$f":"Реестр!J2544","v":0},0]
[{"$f":"(Реестр!B2545)+0","v":"00:00:00"},null,{"$f":"Реестр!AZ2545","v":0},{"$f":"Реестр!AN2545","v":0},{"$f":"Реестр!G2545","v":0},null,{"$f":"Реестр!J2545","v":0},0]
[{"$f":"(Реестр!B2546)+0","v":"00:00:00"},null,{"$f":"Реестр!AZ2546","v":0},{"$f":"Реестр!AN2546","v":0},{"$f":"Реестр!G2546","v":0},null,{"$f":"Реестр!J2546","v":0},0]
[{"$f":"(Реестр!B2547)+0","v":"00:00:00"},null,{"$f":"Реестр!AZ2547","v":0},{"$f":"Реестр!AN2547","v":0},{"$f":"Реестр!G2547","v":0},null,{"$f":"Реестр!J2547","v":0},0]
[{"$f":"(Реестр!B2548)+0","v":"00:00:00"},null,{"$f":"Реестр!AZ2548","v":0},{"$f":"Реестр!AN2548","v":0},{"$f":"Реестр!G2548","v":0},null,{"$f":"Реестр!J2548","v":0},0]
[{"$f":"(Реестр!B2549)+0","v":"00:00:00"},null,{"$f":"Реестр!AZ2549","v":0},{"$f":"Реестр!AN2549","v":0},{"$f":"Реестр!G2549","v":0},null,{"$f":"Реестр!J2549","v":0},0]
[{"$f":"(Реестр!B2550)+0","v":"00:00:00"},null,{"$f":"Реестр!AZ2550","v":0},{"$f":"Реестр!AN2550","v":0},{"$f":"Реестр!G2550","v":0},null,{"$f":"Реестр!J2550","v":0},0]
[{"$f":"(Реестр!B2551)+0","v":"00:00:00"},null,{"$f":"Реестр!AZ2551","v":0},{"$f":"Реестр!AN2551","v":0},{"$f":"Реестр!G2551","v":0},null,{"$f":"Реестр!J2551","v":0},0]
[{"$f":"(Реестр!B2552)+0","v":"00:00:00"},null,{"$f":"Реестр!AZ2552","v":0},{"$f":"Реестр!AN2552","v":0},{"$f":"Реестр!G2552","v":0},null,{"$f":"Реестр!J2552","v":0},0]
[{"$f":"(Реестр!B2553)+0","v":"00:00:00"},null,{"$f":"Реестр!AZ2553","v":0},{"$f":"Реестр!AN2553","v":0},{"$f":"Реестр!G2553","v":0},null,{"$f":"Реестр!J2553","v":0},0]
[{"$f":"(Реестр!B2554)+0","v":"00:00:00"},null,{"$f":"Реестр!AZ2554","v":0},{"$f":"Реестр!AN2554","v":0},{"$f":"Реестр!G2554","v":0},null,{"$f":"Реестр!J2554","v":0},0]
[{"$f":"(Реестр!B2555)+0","v":"00:00:00"},null,{"$f":"Реестр!AZ2555","v":0},{"$f":"Реестр!AN2555","v":0},{"$f":"Реестр!G2555","v":0},null,{"$f":"Реестр!J2555","v":0},0]
[{"$f":"(Реестр!B2556)+0","v":"00:00:00"},null,{"$f":"Реестр!AZ2556","v":0},{"$f":"Реестр!AN2556","v":0},{"$f":"Реестр!G2556","v":0},null,{"$f":"Реестр!J2556","v":0},0]
[{"$f":"(Реестр!B2557)+0","v":"00:00:00"},null,{"$f":"Реестр!AZ2557","v":0},{"$f":"Реестр!AN2557","v":0},{"$f":"Реестр!G2557","v":0},null,{"$f":"Реестр!J2557","v":0},0]
[{"$f":"(Реестр!B2558)+0","v":"00:00:00"},null,{"$f":"Реестр!AZ2558","v":0},{"$f":"Реестр!AN2558","v":0},{"$f":"Реестр!G2558","v":0},null,{"$f":"Реестр!J2558","v":0},0]
[{"$f":"(Реестр!B2559)+0","v":"00:00:00"},null,{"$f":"Реестр!AZ2559","v":0},{"$f":"Реестр!AN2559","v":0},{"$f":"Реестр!G2559","v":0},null,{"$f":"Реестр!J2559","v":0},{"$f":"E1993*G1993","v":0}]
[{"$f":"(Реестр!B2560)+0","v":"00:00:00"},null,{"$f":"Реестр!AZ2560","v":0},{"$f":"Реестр!AN2560","v":0},{"$f":"Реестр!G2560","v":0},null,{"$f":"Реестр!J2560","v":0},0]
[{"$f":"(Реестр!B2561)+0","v":"00:00:00"},null,{"$f":"Реестр!AZ2561","v":0},{"$f":"Реестр!AN2561","v":0},{"$f":"Реестр!G2561","v":0},null,{"$f":"Реестр!J2561","v":0},0]
[{"$f":"(Реестр!B2562)+0","v":"00:00:00"},null,{"$f":"Реестр!AZ2562","v":0},{"$f":"Реестр!AN2562","v":0},{"$f":"Реестр!G2562","v":0},null,{"$f":"Реестр!J2562","v":0},0]
[{"$f":"(Реестр!B2563)+0","v":"00:00:00"},null,{"$f":"Реестр!AZ2563","v":0},{"$f":"Реестр!AN2563","v":0},{"$f":"Реестр!G2563","v":0},null,{"$f":"Реестр!J2563","v":0},0]
[{"$f":"(Реестр!B2564)+0","v":"00:00:00"},null,{"$f":"Реестр!AZ2564","v":0},{"$f":"Реестр!AN2564","v":0},{"$f":"Реестр!G2564","v":0},null,{"$f":"Реестр!J2564","v":0},0]
[{"$f":"(Реестр!B2565)+0","v":"00:00:00"},null,{"$f":"Реестр!AZ2565","v":0},{"$f":"Реестр!AN2565","v":0},{"$f":"Реестр!G2565","v":0},null,{"$f":"Реестр!J2565","v":0},0]
[{"$f":"(Реестр!B2566)+0","v":"00:00:00"},null,{"$f":"Реестр!AZ2566","v":0},{"$f":"Реестр!AN2566","v":0},{"$f":"Реестр!G2566","v":0},null,{"$f":"Реестр!J2566","v":0},0]
[{"$f":"(Реестр!B2567)+0","v":"00:00:00"},null,{"$f":"Реестр!AZ2567","v":0},{"$f":"Реестр!AN2567","v":0},{"$f":"Реестр!G2567","v":0},null,{"$f":"Реестр!J2567","v":0},0]
[{"$f":"(Реестр!B2568)+0","v":"00:00:00"},null,{"$f":"Реестр!AZ2568","v":0},{"$f":"Реестр!AN2568","v":0},{"$f":"Реестр!G2568","v":0},null,{"$f":"Реестр!J2568","v":0},0]
[{"$f":"(Реестр!B2569)+0","v":"00:00:00"},null,{"$f":"Реестр!AZ2569","v":0},{"$f":"Реестр!AN2569","v":0},{"$f":"Реестр!G2569","v":0},null,{"$f":"Реестр!J2569","v":0},0]
[{"$f":"(Реестр!B2570)+0","v":"00:00:00"},null,{"$f":"Реестр!AZ2570","v":0},{"$f":"Реестр!AN2570","v":0},{"$f":"Реестр!G2570","v":0},null,{"$f":"Реестр!J2570","v":0},0]
[{"$f":"(Реестр!B2571)+0","v":"00:00:00"},null,{"$f":"Реестр!AZ2571","v":0},{"$f":"Реестр!AN2571","v":0},{"$f":"Реестр!G2571","v":0},null,{"$f":"Реестр!J2571","v":0},0]
[{"$f":"(Реестр!B2572)+0","v":"00:00:00"},null,{"$f":"Реестр!AZ2572","v":0},{"$f":"Реестр!AN2572","v":0},{"$f":"Реестр!G2572","v":0},null,{"$f":"Реестр!J2572","v":0},0]
[{"$f":"(Реестр!B2573)+0","v":"00:00:00"},null,{"$f":"Реестр!AZ2573","v":0},{"$f":"Реестр!AN2573","v":0},{"$f":"Реестр!G2573","v":0},null,{"$f":"Реестр!J2573","v":0},0]
[{"$f":"(Реестр!B2574)+0","v":"00:00:00"},null,{"$f":"Реестр!AZ2574","v":0},{"$f":"Реестр!AN2574","v":0},{"$f":"Реестр!G2574","v":0},null,{"$f":"Реестр!J2574","v":0},0]
[{"$f":"(Реестр!B2575)+0","v":"00:00:00"},null,{"$f":"Реестр!AZ2575","v":0},{"$f":"Реестр!AN2575","v":0},{"$f":"Реестр!G2575","v":0},null,{"$f":"Реестр!J2575","v":0},0]
[{"$f":"(Реестр!B2576)+0","v":"00:00:00"},null,{"$f":"Реестр!AZ2576","v":0},{"$f":"Реестр!AN2576","v":0},{"$f":"Реестр!G2576","v":0},null,{"$f":"Реестр!J2576","v":0},0]
[{"$f":"(Реестр!B2577)+0","v":"00:00:00"},null,{"$f":"Реестр!AZ2577","v":0},{"$f":"Реестр!AN2577","v":0},{"$f":"Реестр!G2577","v":0},null,{"$f":"Реестр!J2577","v":0},0]
[{"$f":"(Реестр!B2578)+0","v":"00:00:00"},null,{"$f":"Реестр!AZ2578","v":0},{"$f":"Реестр!AN2578","v":0},{"$f":"Реестр!G2578","v":0},null,{"$f":"Реестр!J2578","v":0},0]
[{"$f":"(Реестр!B2579)+0","v":"00:00:00"},null,{"$f":"Реестр!AZ2579","v":0},{"$f":"Реестр!AN2579","v":0},{"$f":"Реестр!G2579","v":0},null,{"$f":"Реестр!J2579","v":0},0]
[{"$f":"(Реестр!B2580)+0","v":"00:00:00"},null,{"$f":"Реестр!AZ2580","v":0},{"$f":"Реестр!AN2580","v":0},{"$f":"Реестр!G2580","v":0},null,{"$f":"Реестр!J2580","v":0},0]
[{"$f":"(Реестр!B2581)+0","v":"00:00:00"},null,{"$f":"Реестр!AZ2581","v":0},{"$f":"Реестр!AN2581","v":0},{"$f":"Реестр!G2581","v":0},null,{"$f":"Реестр!J2581","v":0},0]
[{"$f":"(Реестр!B2582)+0","v":"00:00:00"},null,{"$f":"Реестр!AZ2582","v":0},{"$f":"Реестр!AN2582","v":0},{"$f":"Реестр!G2582","v":0},null,{"$f":"Реестр!J2582","v":0},0]
[{"$f":"(Реестр!B2583)+0","v":"00:00:00"},null,{"$f":"Реестр!AZ2583","v":0},{"$f":"Реестр!AN2583","v":0},{"$f":"Реестр!G2583","v":0},null,{"$f":"Реестр!J2583","v":0},0]
[{"$f":"(Реестр!B2584)+0","v":"00:00:00"},null,{"$f":"Реестр!AZ2584","v":0},{"$f":"Реестр!AN2584","v":0},{"$f":"Реестр!G2584","v":0},null,{"$f":"Реестр!J2584","v":0},0]
[{"$f":"(Реестр!B2585)+0","v":"00:00:00"},null,{"$f":"Реестр!AZ2585","v":0},{"$f":"Реестр!AN2585","v":0},{"$f":"Реестр!G2585","v":0},null,{"$f":"Реестр!J2585","v":0},0]
[{"$f":"(Реестр!B2586)+0","v":"00:00:00"},null,{"$f":"Реестр!AZ2586","v":0},{"$f":"Реестр!AN2586","v":0},{"$f":"Реестр!G2586","v":0},null,{"$f":"Реестр!J2586","v":0},0]
[{"$f":"(Реестр!B2587)+0","v":"00:00:00"},null,{"$f":"Реестр!AZ2587","v":0},{"$f":"Реестр!AN2587","v":0},{"$f":"Реестр!G2587","v":0},null,{"$f":"Реестр!J2587","v":0},0]
[{"$f":"(Реестр!B2588)+0","v":"00:00:00"},null,{"$f":"Реестр!AZ2588","v":0},{"$f":"Реестр!AN2588","v":0},{"$f":"Реестр!G2588","v":0},null,{"$f":"Реестр!J2588","v":0},0]
[{"$f":"(Реестр!B2589)+0","v":"00:00:00"},null,{"$f":"Реестр!AZ2589","v":0},{"$f":"Реестр!AN2589","v":0},{"$f":"Реестр!G2589","v":0},null,{"$f":"Реестр!J2589","v":0},0]
[{"$f":"(Реестр!B2590)+0","v":"00:00:00"},null,{"$f":"Реестр!AZ2590","v":0},{"$f":"Реестр!AN2590","v":0},{"$f":"Реестр!G2590","v":0},null,{"$f":"Реестр!J2590","v":0},0]
[{"$f":"(Реестр!B2591)+0","v":"00:00:00"},null,{"$f":"Реестр!AZ2591","v":0},{"$f":"Реестр!AN2591","v":0},{"$f":"Реестр!G2591","v":0},null,{"$f":"Реестр!J2591","v":0},0]
[{"$f":"(Реестр!B2592)+0","v":"00:00:00"},null,{"$f":"Реестр!AZ2592","v":0},{"$f":"Реестр!AN2592","v":0},{"$f":"Реестр!G2592","v":0},null,{"$f":"Реестр!J2592","v":0},0]
[{"$f":"(Реестр!B2593)+0","v":"00:00:00"},null,{"$f":"Реестр!AZ2593","v":0},{"$f":"Реестр!AN2593","v":0},{"$f":"Реестр!G2593","v":0},null,{"$f":"Реестр!J2593","v":0},0]
[{"$f":"(Реестр!B2594)+0","v":"00:00:00"},null,{"$f":"Реестр!AZ2594","v":0},{"$f":"Реестр!AN2594","v":0},{"$f":"Реестр!G2594","v":0},null,{"$f":"Реестр!J2594","v":0},0]
[{"$f":"(Реестр!B2595)+0","v":"00:00:00"},null,{"$f":"Реестр!AZ2595","v":0},{"$f":"Реестр!AN2595","v":0},{"$f":"Реестр!G2595","v":0},null,{"$f":"Реестр!J2595","v":0},0]
[{"$f":"(Реестр!B2596)+0","v":"00:00:00"},null,{"$f":"Реестр!AZ2596","v":0},{"$f":"Реестр!AN2596","v":0},{"$f":"Реестр!G2596","v":0},null,{"$f":"Реестр!J2596","v":0},0]
[{"$f":"(Реестр!B2597)+0","v":"00:00:00"},null,{"$f":"Реестр!AZ2597","v":0},{"$f":"Реестр!AN2597","v":0},{"$f":"Реестр!G2597","v":0},null,{"$f":"Реестр!J2597","v":0},0]
[{"$f":"(Реестр!B2598)+0","v":"00:00:00"},null,{"$f":"Реестр!AZ2598","v":0},{"$f":"Реестр!AN2598","v":0},{"$f":"Реестр!G2598","v":0},null,{"$f":"Реестр!J2598","v":0},0]
[{"$f":"(Реестр!B2599)+0","v":"00:00:00"},null,{"$f":"Реестр!AZ2599","v":0},{"$f":"Реестр!AN2599","v":0},{"$f":"Реестр!G2599","v":0},null,{"$f":"Реестр!J2599","v":0},0]
[{"$f":"(Реестр!B2600)+0","v":"00:00:00"},null,{"$f":"Реестр!AZ2600","v":0},{"$f":"Реестр!AN2600","v":0},{"$f":"Реестр!G2600","v":0},null,{"$f":"Реестр!J2600","v":0},0]
[{"$f":"(Реестр!B2601)+0","v":"00:00:00"},null,{"$f":"Реестр!AZ2601","v":0},{"$f":"Реестр!AN2601","v":0},{"$f":"Реестр!G2601","v":0},null,{"$f":"Реестр!J2601","v":0},0]
[{"$f":"(Реестр!B2602)+0","v":"00:00:00"},null,{"$f":"Реестр!AZ2602","v":0},{"$f":"Реестр!AN2602","v":0},{"$f":"Реестр!G2602","v":0},null,{"$f":"Реестр!J2602","v":0},0]
[{"$f":"(Реестр!B2603)+0","v":"00:00:00"},null,{"$f":"Реестр!AZ2603","v":0},{"$f":"Реестр!AN2603","v":0},{"$f":"Реестр!G2603","v":0},null,{"$f":"Реестр!J2603","v":0},0]
[{"$f":"(Реестр!B2604)+0","v":"00:00:00"},null,{"$f":"Реестр!AZ2604","v":0},{"$f":"Реестр!AN2604","v":0},{"$f":"Реестр!G2604","v":0},null,{"$f":"Реестр!J2604","v":0},0]
[{"$f":"(Реестр!B2605)+0","v":"00:00:00"},null,{"$f":"Реестр!AZ2605","v":0},{"$f":"Реестр!AN2605","v":0},{"$f":"Реестр!G2605","v":0},null,{"$f":"Реестр!J2605","v":0},0]
[{"$f":"(Реестр!B2606)+0","v":"00:00:00"},null,{"$f":"Реестр!AZ2606","v":0},{"$f":"Реестр!AN2606","v":0},{"$f":"Реестр!G2606","v":0},null,{"$f":"Реестр!J2606","v":0},0]
[{"$f":"(Реестр!B2607)+0","v":"00:00:00"},null,{"$f":"Реестр!AZ2607","v":0},{"$f":"Реестр!AN2607","v":0},{"$f":"Реестр!G2607","v":0},null,{"$f":"Реестр!J2607","v":0},0]
[{"$f":"(Реестр!B2608)+0","v":"00:00:00"},null,{"$f":"Реестр!AZ2608","v":0},{"$f":"Реестр!AN2608","v":0},{"$f":"Реестр!G2608","v":0},null,{"$f":"Реестр!J2608","v":0},0]
[{"$f":"(Реестр!B2609)+0","v":"00:00:00"},null,{"$f":"Реестр!AZ2609","v":0},{"$f":"Реестр!AN2609","v":0},{"$f":"Реестр!G2609","v":0},null,{"$f":"Реестр!J2609","v":0},0]
[{"$f":"(Реестр!B2610)+0","v":"00:00:00"},null,{"$f":"Реестр!AZ2610","v":0},{"$f":"Реестр!AN2610","v":0},{"$f":"Реестр!G2610","v":0},null,{"$f":"Реестр!J2610","v":0},0]
[{"$f":"(Реестр!B2611)+0","v":"00:00:00"},null,{"$f":"Реестр!AZ2611","v":0},{"$f":"Реестр!AN2611","v":0},{"$f":"Реестр!G2611","v":0},null,{"$f":"Реестр!J2611","v":0},0]
[{"$f":"(Реестр!B2612)+0","v":"00:00:00"},null,{"$f":"Реестр!AZ2612","v":0},{"$f":"Реестр!AN2612","v":0},{"$f":"Реестр!G2612","v":0},null,{"$f":"Реестр!J2612","v":0},0]
[{"$f":"(Реестр!B2613)+0","v":"00:00:00"},null,{"$f":"Реестр!AZ2613","v":0},{"$f":"Реестр!AN2613","v":0},{"$f":"Реестр!G2613","v":0},null,{"$f":"Реестр!J2613","v":0},0]
[{"$f":"(Реестр!B2614)+0","v":"00:00:00"},null,{"$f":"Реестр!AZ2614","v":0},{"$f":"Реестр!AN2614","v":0},{"$f":"Реестр!G2614","v":0},null,{"$f":"Реестр!J2614","v":0},0]
[{"$f":"(Реестр!B2615)+0","v":"00:00:00"},null,{"$f":"Реестр!AZ2615","v":0},{"$f":"Реестр!AN2615","v":0},{"$f":"Реестр!G2615","v":0},null,{"$f":"Реестр!J2615","v":0},0]
[{"$f":"(Реестр!B2616)+0","v":"00:00:00"},null,{"$f":"Реестр!AZ2616","v":0},{"$f":"Реестр!AN2616","v":0},{"$f":"Реестр!G2616","v":0},null,{"$f":"Реестр!J2616","v":0},0]
[{"$f":"(Реестр!B2617)+0","v":"00:00:00"},null,{"$f":"Реестр!AZ2617","v":0},{"$f":"Реестр!AN2617","v":0},{"$f":"Реестр!G2617","v":0},null,{"$f":"Реестр!J2617","v":0},0]
[{"$f":"(Реестр!B2618)+0","v":"00:00:00"},null,{"$f":"Реестр!AZ2618","v":0},{"$f":"Реестр!AN2618","v":0},{"$f":"Реестр!G2618","v":0},null,{"$f":"Реестр!J2618","v":0},0]
[{"$f":"(Реестр!B2619)+0","v":"00:00:00"},null,{"$f":"Реестр!AZ2619","v":0},{"$f":"Реестр!AN2619","v":0},{"$f":"Реестр!G2619","v":0},null,{"$f":"Реестр!J2619","v":0},0]
[{"$f":"(Реестр!B2620)+0","v":"00:00:00"},null,{"$f":"Реестр!AZ2620","v":0},{"$f":"Реестр!AN2620","v":0},{"$f":"Реестр!G2620","v":0},null,{"$f":"Реестр!J2620","v":0},0]
[{"$f":"(Реестр!B2621)+0","v":"00:00:00"},null,{"$f":"Реестр!AZ2621","v":0},{"$f":"Реестр!AN2621","v":0},{"$f":"Реестр!G2621","v":0},null,{"$f":"Реестр!J2621","v":0},0]
[{"$f":"(Реестр!B2622)+0","v":"00:00:00"},null,{"$f":"Реестр!AZ2622","v":0},{"$f":"Реестр!AN2622","v":0},{"$f":"Реестр!G2622","v":0},null,{"$f":"Реестр!J2622","v":0},0]
[{"$f":"(Реестр!B2623)+0","v":"00:00:00"},null,{"$f":"Реестр!AZ2623","v":0},{"$f":"Реестр!AN2623","v":0},{"$f":"Реестр!G2623","v":0},null,{"$f":"Реестр!J2623","v":0},{"$f":"E2057*G2057","v":0}]
[{"$f":"(Реестр!B2624)+0","v":"00:00:00"},null,{"$f":"Реестр!AZ2624","v":0},{"$f":"Реестр!AN2624","v":0},{"$f":"Реестр!G2624","v":0},null,{"$f":"Реестр!J2624","v":0},0]
[{"$f":"(Реестр!B2625)+0","v":"00:00:00"},null,{"$f":"Реестр!AZ2625","v":0},{"$f":"Реестр!AN2625","v":0},{"$f":"Реестр!G2625","v":0},null,{"$f":"Реестр!J2625","v":0},0]
[{"$f":"(Реестр!B2626)+0","v":"00:00:00"},null,{"$f":"Реестр!AZ2626","v":0},{"$f":"Реестр!AN2626","v":0},{"$f":"Реестр!G2626","v":0},null,{"$f":"Реестр!J2626","v":0},0]
[{"$f":"(Реестр!B2627)+0","v":"00:00:00"},null,{"$f":"Реестр!AZ2627","v":0},{"$f":"Реестр!AN2627","v":0},{"$f":"Реестр!G2627","v":0},null,{"$f":"Реестр!J2627","v":0},0]
[{"$f":"(Реестр!B2628)+0","v":"00:00:00"},null,{"$f":"Реестр!AZ2628","v":0},{"$f":"Реестр!AN2628","v":0},{"$f":"Реестр!G2628","v":0},null,{"$f":"Реестр!J2628","v":0},0]
[{"$f":"(Реестр!B2629)+0","v":"00:00:00"},null,{"$f":"Реестр!AZ2629","v":0},{"$f":"Реестр!AN2629","v":0},{"$f":"Реестр!G2629","v":0},null,{"$f":"Реестр!J2629","v":0},0]
[{"$f":"(Реестр!B2630)+0","v":"00:00:00"},null,{"$f":"Реестр!AZ2630","v":0},{"$f":"Реестр!AN2630","v":0},{"$f":"Реестр!G2630","v":0},null,{"$f":"Реестр!J2630","v":0},0]
[{"$f":"(Реестр!B2631)+0","v":"00:00:00"},null,{"$f":"Реестр!AZ2631","v":0},{"$f":"Реестр!AN2631","v":0},{"$f":"Реестр!G2631","v":0},null,{"$f":"Реестр!J2631","v":0},0]
[{"$f":"(Реестр!B2632)+0","v":"00:00:00"},null,{"$f":"Реестр!AZ2632","v":0},{"$f":"Реестр!AN2632","v":0},{"$f":"Реестр!G2632","v":0},null,{"$f":"Реестр!J2632","v":0},0]
[{"$f":"(Реестр!B2633)+0","v":"00:00:00"},null,{"$f":"Реестр!AZ2633","v":0},{"$f":"Реестр!AN2633","v":0},{"$f":"Реестр!G2633","v":0},null,{"$f":"Реестр!J2633","v":0},0]
[{"$f":"(Реестр!B2634)+0","v":"00:00:00"},null,{"$f":"Реестр!AZ2634","v":0},{"$f":"Реестр!AN2634","v":0},{"$f":"Реестр!G2634","v":0},null,{"$f":"Реестр!J2634","v":0},0]
[{"$f":"(Реестр!B2635)+0","v":"00:00:00"},null,{"$f":"Реестр!AZ2635","v":0},{"$f":"Реестр!AN2635","v":0},{"$f":"Реестр!G2635","v":0},null,{"$f":"Реестр!J2635","v":0},0]
[{"$f":"(Реестр!B2636)+0","v":"00:00:00"},null,{"$f":"Реестр!AZ2636","v":0},{"$f":"Реестр!AN2636","v":0},{"$f":"Реестр!G2636","v":0},null,{"$f":"Реестр!J2636","v":0},0]
[{"$f":"(Реестр!B2637)+0","v":"00:00:00"},null,{"$f":"Реестр!AZ2637","v":0},{"$f":"Реестр!AN2637","v":0},{"$f":"Реестр!G2637","v":0},null,{"$f":"Реестр!J2637","v":0},0]
[{"$f":"(Реестр!B2638)+0","v":"00:00:00"},null,{"$f":"Реестр!AZ2638","v":0},{"$f":"Реестр!AN2638","v":0},{"$f":"Реестр!G2638","v":0},null,{"$f":"Реестр!J2638","v":0},0]
[{"$f":"(Реестр!B2639)+0","v":"00:00:00"},null,{"$f":"Реестр!AZ2639","v":0},{"$f":"Реестр!AN2639","v":0},{"$f":"Реестр!G2639","v":0},null,{"$f":"Реестр!J2639","v":0},0]
[{"$f":"(Реестр!B2640)+0","v":"00:00:00"},null,{"$f":"Реестр!AZ2640","v":0},{"$f":"Реестр!AN2640","v":0},{"$f":"Реестр!G2640","v":0},null,{"$f":"Реестр!J2640","v":0},0]
[{"$f":"(Реестр!B2641)+0","v":"00:00:00"},null,{"$f":"Реестр!AZ2641","v":0},{"$f":"Реестр!AN2641","v":0},{"$f":"Реестр!G2641","v":0},null,{"$f":"Реестр!J2641","v":0},0]
[{"$f":"(Реестр!B2642)+0","v":"00:00:00"},null,{"$f":"Реестр!AZ2642","v":0},{"$f":"Реестр!AN2642","v":0},{"$f":"Реестр!G2642","v":0},null,{"$f":"Реестр!J2642","v":0},0]
[{"$f":"(Реестр!B2643)+0","v":"00:00:00"},null,{"$f":"Реестр!AZ2643","v":0},{"$f":"Реестр!AN2643","v":0},{"$f":"Реестр!G2643","v":0},null,{"$f":"Реестр!J2643","v":0},0]
[{"$f":"(Реестр!B2644)+0","v":"00:00:00"},null,{"$f":"Реестр!AZ2644","v":0},{"$f":"Реестр!AN2644","v":0},{"$f":"Реестр!G2644","v":0},null,{"$f":"Реестр!J2644","v":0},0]
[{"$f":"(Реестр!B2645)+0","v":"00:00:00"},null,{"$f":"Реестр!AZ2645","v":0},{"$f":"Реестр!AN2645","v":0},{"$f":"Реестр!G2645","v":0},null,{"$f":"Реестр!J2645","v":0},0]
[{"$f":"(Реестр!B2646)+0","v":"00:00:00"},null,{"$f":"Реестр!AZ2646","v":0},{"$f":"Реестр!AN2646","v":0},{"$f":"Реестр!G2646","v":0},null,{"$f":"Реестр!J2646","v":0},0]
[{"$f":"(Реестр!B2647)+0","v":"00:00:00"},null,{"$f":"Реестр!AZ2647","v":0},{"$f":"Реестр!AN2647","v":0},{"$f":"Реестр!G2647","v":0},null,{"$f":"Реестр!J2647","v":0},0]
[{"$f":"(Реестр!B2648)+0","v":"00:00:00"},null,{"$f":"Реестр!AZ2648","v":0},{"$f":"Реестр!AN2648","v":0},{"$f":"Реестр!G2648","v":0},null,{"$f":"Реестр!J2648","v":0},0]
[{"$f":"(Реестр!B2649)+0","v":"00:00:00"},null,{"$f":"Реестр!AZ2649","v":0},{"$f":"Реестр!AN2649","v":0},{"$f":"Реестр!G2649","v":0},null,{"$f":"Реестр!J2649","v":0},0]
[{"$f":"(Реестр!B2650)+0","v":"00:00:00"},null,{"$f":"Реестр!AZ2650","v":0},{"$f":"Реестр!AN2650","v":0},{"$f":"Реестр!G2650","v":0},null,{"$f":"Реестр!J2650","v":0},0]
[{"$f":"(Реестр!B2651)+0","v":"00:00:00"},null,{"$f":"Реестр!AZ2651","v":0},{"$f":"Реестр!AN2651","v":0},{"$f":"Реестр!G2651","v":0},null,{"$f":"Реестр!J2651","v":0},0]
[{"$f":"(Реестр!B2652)+0","v":"00:00:00"},null,{"$f":"Реестр!AZ2652","v":0},{"$f":"Реестр!AN2652","v":0},{"$f":"Реестр!G2652","v":0},null,{"$f":"Реестр!J2652","v":0},0]
[{"$f":"(Реестр!B2653)+0","v":"00:00:00"},null,{"$f":"Реестр!AZ2653","v":0},{"$f":"Реестр!AN2653","v":0},{"$f":"Реестр!G2653","v":0},null,{"$f":"Реестр!J2653","v":0},0]
[{"$f":"(Реестр!B2654)+0","v":"00:00:00"},null,{"$f":"Реестр!AZ2654","v":0},{"$f":"Реестр!AN2654","v":0},{"$f":"Реестр!G2654","v":0},null,{"$f":"Реестр!J2654","v":0},0]
[{"$f":"(Реестр!B2655)+0","v":"00:00:00"},null,{"$f":"Реестр!AZ2655","v":0},{"$f":"Реестр!AN2655","v":0},{"$f":"Реестр!G2655","v":0},null,{"$f":"Реестр!J2655","v":0},0]
[{"$f":"(Реестр!B2656)+0","v":"00:00:00"},null,{"$f":"Реестр!AZ2656","v":0},{"$f":"Реестр!AN2656","v":0},{"$f":"Реестр!G2656","v":0},null,{"$f":"Реестр!J2656","v":0},0]
[{"$f":"(Реестр!B2657)+0","v":"00:00:00"},null,{"$f":"Реестр!AZ2657","v":0},{"$f":"Реестр!AN2657","v":0},{"$f":"Реестр!G2657","v":0},null,{"$f":"Реестр!J2657","v":0},0]
[{"$f":"(Реестр!B2658)+0","v":"00:00:00"},null,{"$f":"Реестр!AZ2658","v":0},{"$f":"Реестр!AN2658","v":0},{"$f":"Реестр!G2658","v":0},null,{"$f":"Реестр!J2658","v":0},0]
[{"$f":"(Реестр!B2659)+0","v":"00:00:00"},null,{"$f":"Реестр!AZ2659","v":0},{"$f":"Реестр!AN2659","v":0},{"$f":"Реестр!G2659","v":0},null,{"$f":"Реестр!J2659","v":0},0]
[{"$f":"(Реестр!B2660)+0","v":"00:00:00"},null,{"$f":"Реестр!AZ2660","v":0},{"$f":"Реестр!AN2660","v":0},{"$f":"Реестр!G2660","v":0},null,{"$f":"Реестр!J2660","v":0},0]
[{"$f":"(Реестр!B2661)+0","v":"00:00:00"},null,{"$f":"Реестр!AZ2661","v":0},{"$f":"Реестр!AN2661","v":0},{"$f":"Реестр!G2661","v":0},null,{"$f":"Реестр!J2661","v":0},0]
[{"$f":"(Реестр!B2662)+0","v":"00:00:00"},null,{"$f":"Реестр!AZ2662","v":0},{"$f":"Реестр!AN2662","v":0},{"$f":"Реестр!G2662","v":0},null,{"$f":"Реестр!J2662","v":0},0]
[{"$f":"(Реестр!B2663)+0","v":"00:00:00"},null,{"$f":"Реестр!AZ2663","v":0},{"$f":"Реестр!AN2663","v":0},{"$f":"Реестр!G2663","v":0},null,{"$f":"Реестр!J2663","v":0},0]
[{"$f":"(Реестр!B2664)+0","v":"00:00:00"},null,{"$f":"Реестр!AZ2664","v":0},{"$f":"Реестр!AN2664","v":0},{"$f":"Реестр!G2664","v":0},null,{"$f":"Реестр!J2664","v":0},0]
[{"$f":"(Реестр!B2665)+0","v":"00:00:00"},null,{"$f":"Реестр!AZ2665","v":0},{"$f":"Реестр!AN2665","v":0},{"$f":"Реестр!G2665","v":0},null,{"$f":"Реестр!J2665","v":0},0]
[{"$f":"(Реестр!B2666)+0","v":"00:00:00"},null,{"$f":"Реестр!AZ2666","v":0},{"$f":"Реестр!AN2666","v":0},{"$f":"Реестр!G2666","v":0},null,{"$f":"Реестр!J2666","v":0},0]
[{"$f":"(Реестр!B2667)+0","v":"00:00:00"},null,{"$f":"Реестр!AZ2667","v":0},{"$f":"Реестр!AN2667","v":0},{"$f":"Реестр!G2667","v":0},null,{"$f":"Реестр!J2667","v":0},0]
[{"$f":"(Реестр!B2668)+0","v":"00:00:00"},null,{"$f":"Реестр!AZ2668","v":0},{"$f":"Реестр!AN2668","v":0},{"$f":"Реестр!G2668","v":0},null,{"$f":"Реестр!J2668","v":0},0]
[{"$f":"(Реестр!B2669)+0","v":"00:00:00"},null,{"$f":"Реестр!AZ2669","v":0},{"$f":"Реестр!AN2669","v":0},{"$f":"Реестр!G2669","v":0},null,{"$f":"Реестр!J2669","v":0},0]
[{"$f":"(Реестр!B2670)+0","v":"00:00:00"},null,{"$f":"Реестр!AZ2670","v":0},{"$f":"Реестр!AN2670","v":0},{"$f":"Реестр!G2670","v":0},null,{"$f":"Реестр!J2670","v":0},0]
[{"$f":"(Реестр!B2671)+0","v":"00:00:00"},null,{"$f":"Реестр!AZ2671","v":0},{"$f":"Реестр!AN2671","v":0},{"$f":"Реестр!G2671","v":0},null,{"$f":"Реестр!J2671","v":0},0]
[{"$f":"(Реестр!B2672)+0","v":"00:00:00"},null,{"$f":"Реестр!AZ2672","v":0},{"$f":"Реестр!AN2672","v":0},{"$f":"Реестр!G2672","v":0},null,{"$f":"Реестр!J2672","v":0},0]
[{"$f":"(Реестр!B2673)+0","v":"00:00:00"},null,{"$f":"Реестр!AZ2673","v":0},{"$f":"Реестр!AN2673","v":0},{"$f":"Реестр!G2673","v":0},null,{"$f":"Реестр!J2673","v":0},0]
[{"$f":"(Реестр!B2674)+0","v":"00:00:00"},null,{"$f":"Реестр!AZ2674","v":0},{"$f":"Реестр!AN2674","v":0},{"$f":"Реестр!G2674","v":0},null,{"$f":"Реестр!J2674","v":0},0]
[{"$f":"(Реестр!B2675)+0","v":"00:00:00"},null,{"$f":"Реестр!AZ2675","v":0},{"$f":"Реестр!AN2675","v":0},{"$f":"Реестр!G2675","v":0},null,{"$f":"Реестр!J2675","v":0},0]
[{"$f":"(Реестр!B2676)+0","v":"00:00:00"},null,{"$f":"Реестр!AZ2676","v":0},{"$f":"Реестр!AN2676","v":0},{"$f":"Реестр!G2676","v":0},null,{"$f":"Реестр!J2676","v":0},0]
[{"$f":"(Реестр!B2677)+0","v":"00:00:00"},null,{"$f":"Реестр!AZ2677","v":0},{"$f":"Реестр!AN2677","v":0},{"$f":"Реестр!G2677","v":0},null,{"$f":"Реестр!J2677","v":0},0]
[{"$f":"(Реестр!B2678)+0","v":"00:00:00"},null,{"$f":"Реестр!AZ2678","v":0},{"$f":"Реестр!AN2678","v":0},{"$f":"Реестр!G2678","v":0},null,{"$f":"Реестр!J2678","v":0},0]
[{"$f":"(Реестр!B2679)+0","v":"00:00:00"},null,{"$f":"Реестр!AZ2679","v":0},{"$f":"Реестр!AN2679","v":0},{"$f":"Реестр!G2679","v":0},null,{"$f":"Реестр!J2679","v":0},0]
[{"$f":"(Реестр!B2680)+0","v":"00:00:00"},null,{"$f":"Реестр!AZ2680","v":0},{"$f":"Реестр!AN2680","v":0},{"$f":"Реестр!G2680","v":0},null,{"$f":"Реестр!J2680","v":0},0]
[{"$f":"(Реестр!B2681)+0","v":"00:00:00"},null,{"$f":"Реестр!AZ2681","v":0},{"$f":"Реестр!AN2681","v":0},{"$f":"Реестр!G2681","v":0},null,{"$f":"Реестр!J2681","v":0},0]
[{"$f":"(Реестр!B2682)+0","v":"00:00:00"},null,{"$f":"Реестр!AZ2682","v":0},{"$f":"Реестр!AN2682","v":0},{"$f":"Реестр!G2682","v":0},null,{"$f":"Реестр!J2682","v":0},0]
[{"$f":"(Реестр!B2683)+0","v":"00:00:00"},null,{"$f":"Реестр!AZ2683","v":0},{"$f":"Реестр!AN2683","v":0},{"$f":"Реестр!G2683","v":0},null,{"$f":"Реестр!J2683","v":0},0]
[{"$f":"(Реестр!B2684)+0","v":"00:00:00"},null,{"$f":"Реестр!AZ2684","v":0},{"$f":"Реестр!AN2684","v":0},{"$f":"Реестр!G2684","v":0},null,{"$f":"Реестр!J2684","v":0},0]
[{"$f":"(Реестр!B2685)+0","v":"00:00:00"},null,{"$f":"Реестр!AZ2685","v":0},{"$f":"Реестр!AN2685","v":0},{"$f":"Реестр!G2685","v":0},null,{"$f":"Реестр!J2685","v":0},0]
[{"$f":"(Реестр!B2686)+0","v":"00:00:00"},null,{"$f":"Реестр!AZ2686","v":0},{"$f":"Реестр!AN2686","v":0},{"$f":"Реестр!G2686","v":0},null,{"$f":"Реестр!J2686","v":0},0]
[{"$f":"(Реестр!B2687)+0","v":"00:00:00"},null,{"$f":"Реестр!AZ2687","v":0},{"$f":"Реестр!AN2687","v":0},{"$f":"Реестр!G2687","v":0},null,{"$f":"Реестр!J2687","v":0},{"$f":"E2121*G2121","v":0}]
[{"$f":"(Реестр!B2688)+0","v":"00:00:00"},null,{"$f":"Реестр!AZ2688","v":0},{"$f":"Реестр!AN2688","v":0},{"$f":"Реестр!G2688","v":0},null,{"$f":"Реестр!J2688","v":0},0]
[{"$f":"(Реестр!B2689)+0","v":"00:00:00"},null,{"$f":"Реестр!AZ2689","v":0},{"$f":"Реестр!AN2689","v":0},{"$f":"Реестр!G2689","v":0},null,{"$f":"Реестр!J2689","v":0},0]
[{"$f":"(Реестр!B2690)+0","v":"00:00:00"},null,{"$f":"Реестр!AZ2690","v":0},{"$f":"Реестр!AN2690","v":0},{"$f":"Реестр!G2690","v":0},null,{"$f":"Реестр!J2690","v":0},0]
[{"$f":"(Реестр!B2691)+0","v":"00:00:00"},null,{"$f":"Реестр!AZ2691","v":0},{"$f":"Реестр!AN2691","v":0},{"$f":"Реестр!G2691","v":0},null,{"$f":"Реестр!J2691","v":0},0]
[{"$f":"(Реестр!B2692)+0","v":"00:00:00"},null,{"$f":"Реестр!AZ2692","v":0},{"$f":"Реестр!AN2692","v":0},{"$f":"Реестр!G2692","v":0},null,{"$f":"Реестр!J2692","v":0},0]
[{"$f":"(Реестр!B2693)+0","v":"00:00:00"},null,{"$f":"Реестр!AZ2693","v":0},{"$f":"Реестр!AN2693","v":0},{"$f":"Реестр!G2693","v":0},null,{"$f":"Реестр!J2693","v":0},0]
[{"$f":"(Реестр!B2694)+0","v":"00:00:00"},null,{"$f":"Реестр!AZ2694","v":0},{"$f":"Реестр!AN2694","v":0},{"$f":"Реестр!G2694","v":0},null,{"$f":"Реестр!J2694","v":0},0]
[{"$f":"(Реестр!B2695)+0","v":"00:00:00"},null,{"$f":"Реестр!AZ2695","v":0},{"$f":"Реестр!AN2695","v":0},{"$f":"Реестр!G2695","v":0},null,{"$f":"Реестр!J2695","v":0},0]
[{"$f":"(Реестр!B2696)+0","v":"00:00:00"},null,{"$f":"Реестр!AZ2696","v":0},{"$f":"Реестр!AN2696","v":0},{"$f":"Реестр!G2696","v":0},null,{"$f":"Реестр!J2696","v":0},0]
[{"$f":"(Реестр!B2697)+0","v":"00:00:00"},null,{"$f":"Реестр!AZ2697","v":0},{"$f":"Реестр!AN2697","v":0},{"$f":"Реестр!G2697","v":0},null,{"$f":"Реестр!J2697","v":0},0]
[{"$f":"(Реестр!B2698)+0","v":"00:00:00"},null,{"$f":"Реестр!AZ2698","v":0},{"$f":"Реестр!AN2698","v":0},{"$f":"Реестр!G2698","v":0},null,{"$f":"Реестр!J2698","v":0},0]
[{"$f":"(Реестр!B2699)+0","v":"00:00:00"},null,{"$f":"Реестр!AZ2699","v":0},{"$f":"Реестр!AN2699","v":0},{"$f":"Реестр!G2699","v":0},null,{"$f":"Реестр!J2699","v":0},0]
[{"$f":"(Реестр!B2700)+0","v":"00:00:00"},null,{"$f":"Реестр!AZ2700","v":0},{"$f":"Реестр!AN2700","v":0},{"$f":"Реестр!G2700","v":0},null,{"$f":"Реестр!J2700","v":0},0]
[{"$f":"(Реестр!B2701)+0","v":"00:00:00"},null,{"$f":"Реестр!AZ2701","v":0},{"$f":"Реестр!AN2701","v":0},{"$f":"Реестр!G2701","v":0},null,{"$f":"Реестр!J2701","v":0},0]
[{"$f":"(Реестр!B2702)+0","v":"00:00:00"},null,{"$f":"Реестр!AZ2702","v":0},{"$f":"Реестр!AN2702","v":0},{"$f":"Реестр!G2702","v":0},null,{"$f":"Реестр!J2702","v":0},0]
[{"$f":"(Реестр!B2703)+0","v":"00:00:00"},null,{"$f":"Реестр!AZ2703","v":0},{"$f":"Реестр!AN2703","v":0},{"$f":"Реестр!G2703","v":0},null,{"$f":"Реестр!J2703","v":0},0]
[{"$f":"(Реестр!B2704)+0","v":"00:00:00"},null,{"$f":"Реестр!AZ2704","v":0},{"$f":"Реестр!AN2704","v":0},{"$f":"Реестр!G2704","v":0},null,{"$f":"Реестр!J2704","v":0},0]
[{"$f":"(Реестр!B2705)+0","v":"00:00:00"},null,{"$f":"Реестр!AZ2705","v":0},{"$f":"Реестр!AN2705","v":0},{"$f":"Реестр!G2705","v":0},null,{"$f":"Реестр!J2705","v":0},0]
[{"$f":"(Реестр!B2706)+0","v":"00:00:00"},null,{"$f":"Реестр!AZ2706","v":0},{"$f":"Реестр!AN2706","v":0},{"$f":"Реестр!G2706","v":0},null,{"$f":"Реестр!J2706","v":0},0]
[{"$f":"(Реестр!B2707)+0","v":"00:00:00"},null,{"$f":"Реестр!AZ2707","v":0},{"$f":"Реестр!AN2707","v":0},{"$f":"Реестр!G2707","v":0},null,{"$f":"Реестр!J2707","v":0},0]
[{"$f":"(Реестр!B2708)+0","v":"00:00:00"},null,{"$f":"Реестр!AZ2708","v":0},{"$f":"Реестр!AN2708","v":0},{"$f":"Реестр!G2708","v":0},null,{"$f":"Реестр!J2708","v":0},0]
[{"$f":"(Реестр!B2709)+0","v":"00:00:00"},null,{"$f":"Реестр!AZ2709","v":0},{"$f":"Реестр!AN2709","v":0},{"$f":"Реестр!G2709","v":0},null,{"$f":"Реестр!J2709","v":0},0]
[{"$f":"(Реестр!B2710)+0","v":"00:00:00"},null,{"$f":"Реестр!AZ2710","v":0},{"$f":"Реестр!AN2710","v":0},{"$f":"Реестр!G2710","v":0},null,{"$f":"Реестр!J2710","v":0},0]
[{"$f":"(Реестр!B2711)+0","v":"00:00:00"},null,{"$f":"Реестр!AZ2711","v":0},{"$f":"Реестр!AN2711","v":0},{"$f":"Реестр!G2711","v":0},null,{"$f":"Реестр!J2711","v":0},0]
[{"$f":"(Реестр!B2712)+0","v":"00:00:00"},null,{"$f":"Реестр!AZ2712","v":0},{"$f":"Реестр!AN2712","v":0},{"$f":"Реестр!G2712","v":0},null,{"$f":"Реестр!J2712","v":0},0]
[{"$f":"(Реестр!B2713)+0","v":"00:00:00"},null,{"$f":"Реестр!AZ2713","v":0},{"$f":"Реестр!AN2713","v":0},{"$f":"Реестр!G2713","v":0},null,{"$f":"Реестр!J2713","v":0},0]
[{"$f":"(Реестр!B2714)+0","v":"00:00:00"},null,{"$f":"Реестр!AZ2714","v":0},{"$f":"Реестр!AN2714","v":0},{"$f":"Реестр!G2714","v":0},null,{"$f":"Реестр!J2714","v":0},0]
[{"$f":"(Реестр!B2715)+0","v":"00:00:00"},null,{"$f":"Реестр!AZ2715","v":0},{"$f":"Реестр!AN2715","v":0},{"$f":"Реестр!G2715","v":0},null,{"$f":"Реестр!J2715","v":0},0]
[{"$f":"(Реестр!B2716)+0","v":"00:00:00"},null,{"$f":"Реестр!AZ2716","v":0},{"$f":"Реестр!AN2716","v":0},{"$f":"Реестр!G2716","v":0},null,{"$f":"Реестр!J2716","v":0},0]
[{"$f":"(Реестр!B2717)+0","v":"00:00:00"},null,{"$f":"Реестр!AZ2717","v":0},{"$f":"Реестр!AN2717","v":0},{"$f":"Реестр!G2717","v":0},null,{"$f":"Реестр!J2717","v":0},0]
[{"$f":"(Реестр!B2718)+0","v":"00:00:00"},null,{"$f":"Реестр!AZ2718","v":0},{"$f":"Реестр!AN2718","v":0},{"$f":"Реестр!G2718","v":0},null,{"$f":"Реестр!J2718","v":0},0]
[{"$f":"(Реестр!B2719)+0","v":"00:00:00"},null,{"$f":"Реестр!AZ2719","v":0},{"$f":"Реестр!AN2719","v":0},{"$f":"Реестр!G2719","v":0},null,{"$f":"Реестр!J2719","v":0},0]
[{"$f":"(Реестр!B2720)+0","v":"00:00:00"},null,{"$f":"Реестр!AZ2720","v":0},{"$f":"Реестр!AN2720","v":0},{"$f":"Реестр!G2720","v":0},null,{"$f":"Реестр!J2720","v":0},0]
[{"$f":"(Реестр!B2721)+0","v":"00:00:00"},null,{"$f":"Реестр!AZ2721","v":0},{"$f":"Реестр!AN2721","v":0},{"$f":"Реестр!G2721","v":0},null,{"$f":"Реестр!J2721","v":0},0]
[{"$f":"(Реестр!B2722)+0","v":"00:00:00"},null,{"$f":"Реестр!AZ2722","v":0},{"$f":"Реестр!AN2722","v":0},{"$f":"Реестр!G2722","v":0},null,{"$f":"Реестр!J2722","v":0},0]
[{"$f":"(Реестр!B2723)+0","v":"00:00:00"},null,{"$f":"Реестр!AZ2723","v":0},{"$f":"Реестр!AN2723","v":0},{"$f":"Реестр!G2723","v":0},null,{"$f":"Реестр!J2723","v":0},0]
[{"$f":"(Реестр!B2724)+0","v":"00:00:00"},null,{"$f":"Реестр!AZ2724","v":0},{"$f":"Реестр!AN2724","v":0},{"$f":"Реестр!G2724","v":0},null,{"$f":"Реестр!J2724","v":0},0]
[{"$f":"(Реестр!B2725)+0","v":"00:00:00"},null,{"$f":"Реестр!AZ2725","v":0},{"$f":"Реестр!AN2725","v":0},{"$f":"Реестр!G2725","v":0},null,{"$f":"Реестр!J2725","v":0},0]
[{"$f":"(Реестр!B2726)+0","v":"00:00:00"},null,{"$f":"Реестр!AZ2726","v":0},{"$f":"Реестр!AN2726","v":0},{"$f":"Реестр!G2726","v":0},null,{"$f":"Реестр!J2726","v":0},0]
[{"$f":"(Реестр!B2727)+0","v":"00:00:00"},null,{"$f":"Реестр!AZ2727","v":0},{"$f":"Реестр!AN2727","v":0},{"$f":"Реестр!G2727","v":0},null,{"$f":"Реестр!J2727","v":0},0]
[{"$f":"(Реестр!B2728)+0","v":"00:00:00"},null,{"$f":"Реестр!AZ2728","v":0},{"$f":"Реестр!AN2728","v":0},{"$f":"Реестр!G2728","v":0},null,{"$f":"Реестр!J2728","v":0},0]
[{"$f":"(Реестр!B2729)+0","v":"00:00:00"},null,{"$f":"Реестр!AZ2729","v":0},{"$f":"Реестр!AN2729","v":0},{"$f":"Реестр!G2729","v":0},null,{"$f":"Реестр!J2729","v":0},0]
[{"$f":"(Реестр!B2730)+0","v":"00:00:00"},null,{"$f":"Реестр!AZ2730","v":0},{"$f":"Реестр!AN2730","v":0},{"$f":"Реестр!G2730","v":0},null,{"$f":"Реестр!J2730","v":0},0]
[{"$f":"(Реестр!B2731)+0","v":"00:00:00"},null,{"$f":"Реестр!AZ2731","v":0},{"$f":"Реестр!AN2731","v":0},{"$f":"Реестр!G2731","v":0},null,{"$f":"Реестр!J2731","v":0},0]
[{"$f":"(Реестр!B2732)+0","v":"00:00:00"},null,{"$f":"Реестр!AZ2732","v":0},{"$f":"Реестр!AN2732","v":0},{"$f":"Реестр!G2732","v":0},null,{"$f":"Реестр!J2732","v":0},0]
[{"$f":"(Реестр!B2733)+0","v":"00:00:00"},null,{"$f":"Реестр!AZ2733","v":0},{"$f":"Реестр!AN2733","v":0},{"$f":"Реестр!G2733","v":0},null,{"$f":"Реестр!J2733","v":0},0]
[{"$f":"(Реестр!B2734)+0","v":"00:00:00"},null,{"$f":"Реестр!AZ2734","v":0},{"$f":"Реестр!AN2734","v":0},{"$f":"Реестр!G2734","v":0},null,{"$f":"Реестр!J2734","v":0},0]
[{"$f":"(Реестр!B2735)+0","v":"00:00:00"},null,{"$f":"Реестр!AZ2735","v":0},{"$f":"Реестр!AN2735","v":0},{"$f":"Реестр!G2735","v":0},null,{"$f":"Реестр!J2735","v":0},0]
[{"$f":"(Реестр!B2736)+0","v":"00:00:00"},null,{"$f":"Реестр!AZ2736","v":0},{"$f":"Реестр!AN2736","v":0},{"$f":"Реестр!G2736","v":0},null,{"$f":"Реестр!J2736","v":0},0]
[{"$f":"(Реестр!B2737)+0","v":"00:00:00"},null,{"$f":"Реестр!AZ2737","v":0},{"$f":"Реестр!AN2737","v":0},{"$f":"Реестр!G2737","v":0},null,{"$f":"Реестр!J2737","v":0},0]
[{"$f":"(Реестр!B2738)+0","v":"00:00:00"},null,{"$f":"Реестр!AZ2738","v":0},{"$f":"Реестр!AN2738","v":0},{"$f":"Реестр!G2738","v":0},null,{"$f":"Реестр!J2738","v":0},0]
[{"$f":"(Реестр!B2739)+0","v":"00:00:00"},null,{"$f":"Реестр!AZ2739","v":0},{"$f":"Реестр!AN2739","v":0},{"$f":"Реестр!G2739","v":0},null,{"$f":"Реестр!J2739","v":0},0]
[{"$f":"(Реестр!B2740)+0","v":"00:00:00"},null,{"$f":"Реестр!AZ2740","v":0},{"$f":"Реестр!AN2740","v":0},{"$f":"Реестр!G2740","v":0},null,{"$f":"Реестр!J2740","v":0},0]
[{"$f":"(Реестр!B2741)+0","v":"00:00:00"},null,{"$f":"Реестр!AZ2741","v":0},{"$f":"Реестр!AN2741","v":0},{"$f":"Реестр!G2741","v":0},null,{"$f":"Реестр!J2741","v":0},0]
[{"$f":"(Реестр!B2742)+0","v":"00:00:00"},null,{"$f":"Реестр!AZ2742","v":0},{"$f":"Реестр!AN2742","v":0},{"$f":"Реестр!G2742","v":0},null,{"$f":"Реестр!J2742","v":0},0]
[{"$f":"(Реестр!B2743)+0","v":"00:00:00"},null,{"$f":"Реестр!AZ2743","v":0},{"$f":"Реестр!AN2743","v":0},{"$f":"Реестр!G2743","v":0},null,{"$f":"Реестр!J2743","v":0},0]
[{"$f":"(Реестр!B2744)+0","v":"00:00:00"},null,{"$f":"Реестр!AZ2744","v":0},{"$f":"Реестр!AN2744","v":0},{"$f":"Реестр!G2744","v":0},null,{"$f":"Реестр!J2744","v":0},0]
[{"$f":"(Реестр!B2745)+0","v":"00:00:00"},null,{"$f":"Реестр!AZ2745","v":0},{"$f":"Реестр!AN2745","v":0},{"$f":"Реестр!G2745","v":0},null,{"$f":"Реестр!J2745","v":0},0]
[{"$f":"(Реестр!B2746)+0","v":"00:00:00"},null,{"$f":"Реестр!AZ2746","v":0},{"$f":"Реестр!AN2746","v":0},{"$f":"Реестр!G2746","v":0},null,{"$f":"Реестр!J2746","v":0},0]
[{"$f":"(Реестр!B2747)+0","v":"00:00:00"},null,{"$f":"Реестр!AZ2747","v":0},{"$f":"Реестр!AN2747","v":0},{"$f":"Реестр!G2747","v":0},null,{"$f":"Реестр!J2747","v":0},0]
[{"$f":"(Реестр!B2748)+0","v":"00:00:00"},null,{"$f":"Реестр!AZ2748","v":0},{"$f":"Реестр!AN2748","v":0},{"$f":"Реестр!G2748","v":0},null,{"$f":"Реестр!J2748","v":0},0]
[{"$f":"(Реестр!B2749)+0","v":"00:00:00"},null,{"$f":"Реестр!AZ2749","v":0},{"$f":"Реестр!AN2749","v":0},{"$f":"Реестр!G2749","v":0},null,{"$f":"Реестр!J2749","v":0},0]
[{"$f":"(Реестр!B2750)+0","v":"00:00:00"},null,{"$f":"Реестр!AZ2750","v":0},{"$f":"Реестр!AN2750","v":0},{"$f":"Реестр!G2750","v":0},null,{"$f":"Реестр!J2750","v":0},0]
[{"$f":"(Реестр!B2751)+0","v":"00:00:00"},null,{"$f":"Реестр!AZ2751","v":0},{"$f":"Реестр!AN2751","v":0},{"$f":"Реестр!G2751","v":0},null,{"$f":"Реестр!J2751","v":0},{"$f":"E2185*G2185","v":0}]
[{"$f":"(Реестр!B2752)+0","v":"00:00:00"},null,{"$f":"Реестр!AZ2752","v":0},{"$f":"Реестр!AN2752","v":0},{"$f":"Реестр!G2752","v":0},null,{"$f":"Реестр!J2752","v":0},0]
[{"$f":"(Реестр!B2753)+0","v":"00:00:00"},null,{"$f":"Реестр!AZ2753","v":0},{"$f":"Реестр!AN2753","v":0},{"$f":"Реестр!G2753","v":0},null,{"$f":"Реестр!J2753","v":0},0]
[{"$f":"(Реестр!B2754)+0","v":"00:00:00"},null,{"$f":"Реестр!AZ2754","v":0},{"$f":"Реестр!AN2754","v":0},{"$f":"Реестр!G2754","v":0},null,{"$f":"Реестр!J2754","v":0},0]
[{"$f":"(Реестр!B2755)+0","v":"00:00:00"},null,{"$f":"Реестр!AZ2755","v":0},{"$f":"Реестр!AN2755","v":0},{"$f":"Реестр!G2755","v":0},null,{"$f":"Реестр!J2755","v":0},0]
[{"$f":"(Реестр!B2756)+0","v":"00:00:00"},null,{"$f":"Реестр!AZ2756","v":0},{"$f":"Реестр!AN2756","v":0},{"$f":"Реестр!G2756","v":0},null,{"$f":"Реестр!J2756","v":0},0]
[{"$f":"(Реестр!B2757)+0","v":"00:00:00"},null,{"$f":"Реестр!AZ2757","v":0},{"$f":"Реестр!AN2757","v":0},{"$f":"Реестр!G2757","v":0},null,{"$f":"Реестр!J2757","v":0},0]
[{"$f":"(Реестр!B2758)+0","v":"00:00:00"},null,{"$f":"Реестр!AZ2758","v":0},{"$f":"Реестр!AN2758","v":0},{"$f":"Реестр!G2758","v":0},null,{"$f":"Реестр!J2758","v":0},0]
[{"$f":"(Реестр!B2759)+0","v":"00:00:00"},null,{"$f":"Реестр!AZ2759","v":0},{"$f":"Реестр!AN2759","v":0},{"$f":"Реестр!G2759","v":0},null,{"$f":"Реестр!J2759","v":0},0]
[{"$f":"(Реестр!B2760)+0","v":"00:00:00"},null,{"$f":"Реестр!AZ2760","v":0},{"$f":"Реестр!AN2760","v":0},{"$f":"Реестр!G2760","v":0},null,{"$f":"Реестр!J2760","v":0},0]
[{"$f":"(Реестр!B2761)+0","v":"00:00:00"},null,{"$f":"Реестр!AZ2761","v":0},{"$f":"Реестр!AN2761","v":0},{"$f":"Реестр!G2761","v":0},null,{"$f":"Реестр!J2761","v":0},0]
[{"$f":"(Реестр!B2762)+0","v":"00:00:00"},null,{"$f":"Реестр!AZ2762","v":0},{"$f":"Реестр!AN2762","v":0},{"$f":"Реестр!G2762","v":0},null,{"$f":"Реестр!J2762","v":0},0]
[{"$f":"(Реестр!B2763)+0","v":"00:00:00"},null,{"$f":"Реестр!AZ2763","v":0},{"$f":"Реестр!AN2763","v":0},{"$f":"Реестр!G2763","v":0},null,{"$f":"Реестр!J2763","v":0},0]
[{"$f":"(Реестр!B2764)+0","v":"00:00:00"},null,{"$f":"Реестр!AZ2764","v":0},{"$f":"Реестр!AN2764","v":0},{"$f":"Реестр!G2764","v":0},null,{"$f":"Реестр!J2764","v":0},0]
[{"$f":"(Реестр!B2765)+0","v":"00:00:00"},null,{"$f":"Реестр!AZ2765","v":0},{"$f":"Реестр!AN2765","v":0},{"$f":"Реестр!G2765","v":0},null,{"$f":"Реестр!J2765","v":0},0]
[{"$f":"(Реестр!B2766)+0","v":"00:00:00"},null,{"$f":"Реестр!AZ2766","v":0},{"$f":"Реестр!AN2766","v":0},{"$f":"Реестр!G2766","v":0},null,{"$f":"Реестр!J2766","v":0},0]
[{"$f":"(Реестр!B2767)+0","v":"00:00:00"},null,{"$f":"Реестр!AZ2767","v":0},{"$f":"Реестр!AN2767","v":0},{"$f":"Реестр!G2767","v":0},null,{"$f":"Реестр!J2767","v":0},0]
[{"$f":"(Реестр!B2768)+0","v":"00:00:00"},null,{"$f":"Реестр!AZ2768","v":0},{"$f":"Реестр!AN2768","v":0},{"$f":"Реестр!G2768","v":0},null,{"$f":"Реестр!J2768","v":0},0]
[{"$f":"(Реестр!B2769)+0","v":"00:00:00"},null,{"$f":"Реестр!AZ2769","v":0},{"$f":"Реестр!AN2769","v":0},{"$f":"Реестр!G2769","v":0},null,{"$f":"Реестр!J2769","v":0},0]
[{"$f":"(Реестр!B2770)+0","v":"00:00:00"},null,{"$f":"Реестр!AZ2770","v":0},{"$f":"Реестр!AN2770","v":0},{"$f":"Реестр!G2770","v":0},null,{"$f":"Реестр!J2770","v":0},0]
[{"$f":"(Реестр!B2771)+0","v":"00:00:00"},null,{"$f":"Реестр!AZ2771","v":0},{"$f":"Реестр!AN2771","v":0},{"$f":"Реестр!G2771","v":0},null,{"$f":"Реестр!J2771","v":0},0]
[{"$f":"(Реестр!B2772)+0","v":"00:00:00"},null,{"$f":"Реестр!AZ2772","v":0},{"$f":"Реестр!AN2772","v":0},{"$f":"Реестр!G2772","v":0},null,{"$f":"Реестр!J2772","v":0},0]
[{"$f":"(Реестр!B2773)+0","v":"00:00:00"},null,{"$f":"Реестр!AZ2773","v":0},{"$f":"Реестр!AN2773","v":0},{"$f":"Реестр!G2773","v":0},null,{"$f":"Реестр!J2773","v":0},0]
[{"$f":"(Реестр!B2774)+0","v":"00:00:00"},null,{"$f":"Реестр!AZ2774","v":0},{"$f":"Реестр!AN2774","v":0},{"$f":"Реестр!G2774","v":0},null,{"$f":"Реестр!J2774","v":0},0]
[{"$f":"(Реестр!B2775)+0","v":"00:00:00"},null,{"$f":"Реестр!AZ2775","v":0},{"$f":"Реестр!AN2775","v":0},{"$f":"Реестр!G2775","v":0},null,{"$f":"Реестр!J2775","v":0},0]
[{"$f":"(Реестр!B2776)+0","v":"00:00:00"},null,{"$f":"Реестр!AZ2776","v":0},{"$f":"Реестр!AN2776","v":0},{"$f":"Реестр!G2776","v":0},null,{"$f":"Реестр!J2776","v":0},0]
[{"$f":"(Реестр!B2777)+0","v":"00:00:00"},null,{"$f":"Реестр!AZ2777","v":0},{"$f":"Реестр!AN2777","v":0},{"$f":"Реестр!G2777","v":0},null,{"$f":"Реестр!J2777","v":0},0]
[{"$f":"(Реестр!B2778)+0","v":"00:00:00"},null,{"$f":"Реестр!AZ2778","v":0},{"$f":"Реестр!AN2778","v":0},{"$f":"Реестр!G2778","v":0},null,{"$f":"Реестр!J2778","v":0},0]
[{"$f":"(Реестр!B2779)+0","v":"00:00:00"},null,{"$f":"Реестр!AZ2779","v":0},{"$f":"Реестр!AN2779","v":0},{"$f":"Реестр!G2779","v":0},null,{"$f":"Реестр!J2779","v":0},0]
[{"$f":"(Реестр!B2780)+0","v":"00:00:00"},null,{"$f":"Реестр!AZ2780","v":0},{"$f":"Реестр!AN2780","v":0},{"$f":"Реестр!G2780","v":0},null,{"$f":"Реестр!J2780","v":0},0]
[{"$f":"(Реестр!B2781)+0","v":"00:00:00"},null,{"$f":"Реестр!AZ2781","v":0},{"$f":"Реестр!AN2781","v":0},{"$f":"Реестр!G2781","v":0},null,{"$f":"Реестр!J2781","v":0},0]
[{"$f":"(Реестр!B2782)+0","v":"00:00:00"},null,{"$f":"Реестр!AZ2782","v":0},{"$f":"Реестр!AN2782","v":0},{"$f":"Реестр!G2782","v":0},null,{"$f":"Реестр!J2782","v":0},0]
[{"$f":"(Реестр!B2783)+0","v":"00:00:00"},null,{"$f":"Реестр!AZ2783","v":0},{"$f":"Реестр!AN2783","v":0},{"$f":"Реестр!G2783","v":0},null,{"$f":"Реестр!J2783","v":0},0]
[{"$f":"(Реестр!B2784)+0","v":"00:00:00"},null,{"$f":"Реестр!AZ2784","v":0},{"$f":"Реестр!AN2784","v":0},{"$f":"Реестр!G2784","v":0},null,{"$f":"Реестр!J2784","v":0},0]
[{"$f":"(Реестр!B2785)+0","v":"00:00:00"},null,{"$f":"Реестр!AZ2785","v":0},{"$f":"Реестр!AN2785","v":0},{"$f":"Реестр!G2785","v":0},null,{"$f":"Реестр!J2785","v":0},0]
[{"$f":"(Реестр!B2786)+0","v":"00:00:00"},null,{"$f":"Реестр!AZ2786","v":0},{"$f":"Реестр!AN2786","v":0},{"$f":"Реестр!G2786","v":0},null,{"$f":"Реестр!J2786","v":0},0]
[{"$f":"(Реестр!B2787)+0","v":"00:00:00"},null,{"$f":"Реестр!AZ2787","v":0},{"$f":"Реестр!AN2787","v":0},{"$f":"Реестр!G2787","v":0},null,{"$f":"Реестр!J2787","v":0},0]
[{"$f":"(Реестр!B2788)+0","v":"00:00:00"},null,{"$f":"Реестр!AZ2788","v":0},{"$f":"Реестр!AN2788","v":0},{"$f":"Реестр!G2788","v":0},null,{"$f":"Реестр!J2788","v":0},0]
[{"$f":"(Реестр!B2789)+0","v":"00:00:00"},null,{"$f":"Реестр!AZ2789","v":0},{"$f":"Реестр!AN2789","v":0},{"$f":"Реестр!G2789","v":0},null,{"$f":"Реестр!J2789","v":0},0]
[{"$f":"(Реестр!B2790)+0","v":"00:00:00"},null,{"$f":"Реестр!AZ2790","v":0},{"$f":"Реестр!AN2790","v":0},{"$f":"Реестр!G2790","v":0},null,{"$f":"Реестр!J2790","v":0},0]
[{"$f":"(Реестр!B2791)+0","v":"00:00:00"},null,{"$f":"Реестр!AZ2791","v":0},{"$f":"Реестр!AN2791","v":0},{"$f":"Реестр!G2791","v":0},null,{"$f":"Реестр!J2791","v":0},0]
[{"$f":"(Реестр!B2792)+0","v":"00:00:00"},null,{"$f":"Реестр!AZ2792","v":0},{"$f":"Реестр!AN2792","v":0},{"$f":"Реестр!G2792","v":0},null,{"$f":"Реестр!J2792","v":0},0]
[{"$f":"(Реестр!B2793)+0","v":"00:00:00"},null,{"$f":"Реестр!AZ2793","v":0},{"$f":"Реестр!AN2793","v":0},{"$f":"Реестр!G2793","v":0},null,{"$f":"Реестр!J2793","v":0},0]
[{"$f":"(Реестр!B2794)+0","v":"00:00:00"},null,{"$f":"Реестр!AZ2794","v":0},{"$f":"Реестр!AN2794","v":0},{"$f":"Реестр!G2794","v":0},null,{"$f":"Реестр!J2794","v":0},0]
[{"$f":"(Реестр!B2795)+0","v":"00:00:00"},null,{"$f":"Реестр!AZ2795","v":0},{"$f":"Реестр!AN2795","v":0},{"$f":"Реестр!G2795","v":0},null,{"$f":"Реестр!J2795","v":0},0]
[{"$f":"(Реестр!B2796)+0","v":"00:00:00"},null,{"$f":"Реестр!AZ2796","v":0},{"$f":"Реестр!AN2796","v":0},{"$f":"Реестр!G2796","v":0},null,{"$f":"Реестр!J2796","v":0},0]
[{"$f":"(Реестр!B2797)+0","v":"00:00:00"},null,{"$f":"Реестр!AZ2797","v":0},{"$f":"Реестр!AN2797","v":0},{"$f":"Реестр!G2797","v":0},null,{"$f":"Реестр!J2797","v":0},0]
[{"$f":"(Реестр!B2798)+0","v":"00:00:00"},null,{"$f":"Реестр!AZ2798","v":0},{"$f":"Реестр!AN2798","v":0},{"$f":"Реестр!G2798","v":0},null,{"$f":"Реестр!J2798","v":0},0]
[{"$f":"(Реестр!B2799)+0","v":"00:00:00"},null,{"$f":"Реестр!AZ2799","v":0},{"$f":"Реестр!AN2799","v":0},{"$f":"Реестр!G2799","v":0},null,{"$f":"Реестр!J2799","v":0},0]
[{"$f":"(Реестр!B2800)+0","v":"00:00:00"},null,{"$f":"Реестр!AZ2800","v":0},{"$f":"Реестр!AN2800","v":0},{"$f":"Реестр!G2800","v":0},null,{"$f":"Реестр!J2800","v":0},0]
[{"$f":"(Реестр!B2801)+0","v":"00:00:00"},null,{"$f":"Реестр!AZ2801","v":0},{"$f":"Реестр!AN2801","v":0},{"$f":"Реестр!G2801","v":0},null,{"$f":"Реестр!J2801","v":0},0]
[{"$f":"(Реестр!B2802)+0","v":"00:00:00"},null,{"$f":"Реестр!AZ2802","v":0},{"$f":"Реестр!AN2802","v":0},{"$f":"Реестр!G2802","v":0},null,{"$f":"Реестр!J2802","v":0},0]
[{"$f":"(Реестр!B2803)+0","v":"00:00:00"},null,{"$f":"Реестр!AZ2803","v":0},{"$f":"Реестр!AN2803","v":0},{"$f":"Реестр!G2803","v":0},null,{"$f":"Реестр!J2803","v":0},0]
[{"$f":"(Реестр!B2804)+0","v":"00:00:00"},null,{"$f":"Реестр!AZ2804","v":0},{"$f":"Реестр!AN2804","v":0},{"$f":"Реестр!G2804","v":0},null,{"$f":"Реестр!J2804","v":0},0]
[{"$f":"(Реестр!B2805)+0","v":"00:00:00"},null,{"$f":"Реестр!AZ2805","v":0},{"$f":"Реестр!AN2805","v":0},{"$f":"Реестр!G2805","v":0},null,{"$f":"Реестр!J2805","v":0},0]
[{"$f":"(Реестр!B2806)+0","v":"00:00:00"},null,{"$f":"Реестр!AZ2806","v":0},{"$f":"Реестр!AN2806","v":0},{"$f":"Реестр!G2806","v":0},null,{"$f":"Реестр!J2806","v":0},0]
[{"$f":"(Реестр!B2807)+0","v":"00:00:00"},null,{"$f":"Реестр!AZ2807","v":0},{"$f":"Реестр!AN2807","v":0},{"$f":"Реестр!G2807","v":0},null,{"$f":"Реестр!J2807","v":0},0]
[{"$f":"(Реестр!B2808)+0","v":"00:00:00"},null,{"$f":"Реестр!AZ2808","v":0},{"$f":"Реестр!AN2808","v":0},{"$f":"Реестр!G2808","v":0},null,{"$f":"Реестр!J2808","v":0},0]
[{"$f":"(Реестр!B2809)+0","v":"00:00:00"},null,{"$f":"Реестр!AZ2809","v":0},{"$f":"Реестр!AN2809","v":0},{"$f":"Реестр!G2809","v":0},null,{"$f":"Реестр!J2809","v":0},0]
[{"$f":"(Реестр!B2810)+0","v":"00:00:00"},null,{"$f":"Реестр!AZ2810","v":0},{"$f":"Реестр!AN2810","v":0},{"$f":"Реестр!G2810","v":0},null,{"$f":"Реестр!J2810","v":0},0]
[{"$f":"(Реестр!B2811)+0","v":"00:00:00"},null,{"$f":"Реестр!AZ2811","v":0},{"$f":"Реестр!AN2811","v":0},{"$f":"Реестр!G2811","v":0},null,{"$f":"Реестр!J2811","v":0},0]
[{"$f":"(Реестр!B2812)+0","v":"00:00:00"},null,{"$f":"Реестр!AZ2812","v":0},{"$f":"Реестр!AN2812","v":0},{"$f":"Реестр!G2812","v":0},null,{"$f":"Реестр!J2812","v":0},0]
[{"$f":"(Реестр!B2813)+0","v":"00:00:00"},null,{"$f":"Реестр!AZ2813","v":0},{"$f":"Реестр!AN2813","v":0},{"$f":"Реестр!G2813","v":0},null,{"$f":"Реестр!J2813","v":0},0]
[{"$f":"(Реестр!B2814)+0","v":"00:00:00"},null,{"$f":"Реестр!AZ2814","v":0},{"$f":"Реестр!AN2814","v":0},{"$f":"Реестр!G2814","v":0},null,{"$f":"Реестр!J2814","v":0},0]
[{"$f":"(Реестр!B2815)+0","v":"00:00:00"},null,{"$f":"Реестр!AZ2815","v":0},{"$f":"Реестр!AN2815","v":0},{"$f":"Реестр!G2815","v":0},null,{"$f":"Реестр!J2815","v":0},{"$f":"E2249*G2249","v":0}]
[{"$f":"(Реестр!B2816)+0","v":"00:00:00"},null,{"$f":"Реестр!AZ2816","v":0},{"$f":"Реестр!AN2816","v":0},{"$f":"Реестр!G2816","v":0},null,{"$f":"Реестр!J2816","v":0},0]
[{"$f":"(Реестр!B2817)+0","v":"00:00:00"},null,{"$f":"Реестр!AZ2817","v":0},{"$f":"Реестр!AN2817","v":0},{"$f":"Реестр!G2817","v":0},null,{"$f":"Реестр!J2817","v":0},0]
[{"$f":"(Реестр!B2818)+0","v":"00:00:00"},null,{"$f":"Реестр!AZ2818","v":0},{"$f":"Реестр!AN2818","v":0},{"$f":"Реестр!G2818","v":0},null,{"$f":"Реестр!J2818","v":0},0]
[{"$f":"(Реестр!B2819)+0","v":"00:00:00"},null,{"$f":"Реестр!AZ2819","v":0},{"$f":"Реестр!AN2819","v":0},{"$f":"Реестр!G2819","v":0},null,{"$f":"Реестр!J2819","v":0},0]
[{"$f":"(Реестр!B2820)+0","v":"00:00:00"},null,{"$f":"Реестр!AZ2820","v":0},{"$f":"Реестр!AN2820","v":0},{"$f":"Реестр!G2820","v":0},null,{"$f":"Реестр!J2820","v":0},0]
[{"$f":"(Реестр!B2821)+0","v":"00:00:00"},null,{"$f":"Реестр!AZ2821","v":0},{"$f":"Реестр!AN2821","v":0},{"$f":"Реестр!G2821","v":0},null,{"$f":"Реестр!J2821","v":0},0]
[{"$f":"(Реестр!B2822)+0","v":"00:00:00"},null,{"$f":"Реестр!AZ2822","v":0},{"$f":"Реестр!AN2822","v":0},{"$f":"Реестр!G2822","v":0},null,{"$f":"Реестр!J2822","v":0},0]
[{"$f":"(Реестр!B2823)+0","v":"00:00:00"},null,{"$f":"Реестр!AZ2823","v":0},{"$f":"Реестр!AN2823","v":0},{"$f":"Реестр!G2823","v":0},null,{"$f":"Реестр!J2823","v":0},0]
[{"$f":"(Реестр!B2824)+0","v":"00:00:00"},null,{"$f":"Реестр!AZ2824","v":0},{"$f":"Реестр!AN2824","v":0},{"$f":"Реестр!G2824","v":0},null,{"$f":"Реестр!J2824","v":0},0]
[{"$f":"(Реестр!B2825)+0","v":"00:00:00"},null,{"$f":"Реестр!AZ2825","v":0},{"$f":"Реестр!AN2825","v":0},{"$f":"Реестр!G2825","v":0},null,{"$f":"Реестр!J2825","v":0},0]
[{"$f":"(Реестр!B2826)+0","v":"00:00:00"},null,{"$f":"Реестр!AZ2826","v":0},{"$f":"Реестр!AN2826","v":0},{"$f":"Реестр!G2826","v":0},null,{"$f":"Реестр!J2826","v":0},0]
[{"$f":"(Реестр!B2827)+0","v":"00:00:00"},null,{"$f":"Реестр!AZ2827","v":0},{"$f":"Реестр!AN2827","v":0},{"$f":"Реестр!G2827","v":0},null,{"$f":"Реестр!J2827","v":0},0]
[{"$f":"(Реестр!B2828)+0","v":"00:00:00"},null,{"$f":"Реестр!AZ2828","v":0},{"$f":"Реестр!AN2828","v":0},{"$f":"Реестр!G2828","v":0},null,{"$f":"Реестр!J2828","v":0},0]
[{"$f":"(Реестр!B2829)+0","v":"00:00:00"},null,{"$f":"Реестр!AZ2829","v":0},{"$f":"Реестр!AN2829","v":0},{"$f":"Реестр!G2829","v":0},null,{"$f":"Реестр!J2829","v":0},0]
[{"$f":"(Реестр!B2830)+0","v":"00:00:00"},null,{"$f":"Реестр!AZ2830","v":0},{"$f":"Реестр!AN2830","v":0},{"$f":"Реестр!G2830","v":0},null,{"$f":"Реестр!J2830","v":0},0]
[{"$f":"(Реестр!B2831)+0","v":"00:00:00"},null,{"$f":"Реестр!AZ2831","v":0},{"$f":"Реестр!AN2831","v":0},{"$f":"Реестр!G2831","v":0},null,{"$f":"Реестр!J2831","v":0},0]
[{"$f":"(Реестр!B2832)+0","v":"00:00:00"},null,{"$f":"Реестр!AZ2832","v":0},{"$f":"Реестр!AN2832","v":0},{"$f":"Реестр!G2832","v":0},null,{"$f":"Реестр!J2832","v":0},0]
[{"$f":"(Реестр!B2833)+0","v":"00:00:00"},null,{"$f":"Реестр!AZ2833","v":0},{"$f":"Реестр!AN2833","v":0},{"$f":"Реестр!G2833","v":0},null,{"$f":"Реестр!J2833","v":0},0]
[{"$f":"(Реестр!B2834)+0","v":"00:00:00"},null,{"$f":"Реестр!AZ2834","v":0},{"$f":"Реестр!AN2834","v":0},{"$f":"Реестр!G2834","v":0},null,{"$f":"Реестр!J2834","v":0},0]
[{"$f":"(Реестр!B2835)+0","v":"00:00:00"},null,{"$f":"Реестр!AZ2835","v":0},{"$f":"Реестр!AN2835","v":0},{"$f":"Реестр!G2835","v":0},null,{"$f":"Реестр!J2835","v":0},0]
[{"$f":"(Реестр!B2836)+0","v":"00:00:00"},null,{"$f":"Реестр!AZ2836","v":0},{"$f":"Реестр!AN2836","v":0},{"$f":"Реестр!G2836","v":0},null,{"$f":"Реестр!J2836","v":0},0]
[{"$f":"(Реестр!B2837)+0","v":"00:00:00"},null,{"$f":"Реестр!AZ2837","v":0},{"$f":"Реестр!AN2837","v":0},{"$f":"Реестр!G2837","v":0},null,{"$f":"Реестр!J2837","v":0},0]
[{"$f":"(Реестр!B2838)+0","v":"00:00:00"},null,{"$f":"Реестр!AZ2838","v":0},{"$f":"Реестр!AN2838","v":0},{"$f":"Реестр!G2838","v":0},null,{"$f":"Реестр!J2838","v":0},0]
[{"$f":"(Реестр!B2839)+0","v":"00:00:00"},null,{"$f":"Реестр!AZ2839","v":0},{"$f":"Реестр!AN2839","v":0},{"$f":"Реестр!G2839","v":0},null,{"$f":"Реестр!J2839","v":0},0]
[{"$f":"(Реестр!B2840)+0","v":"00:00:00"},null,{"$f":"Реестр!AZ2840","v":0},{"$f":"Реестр!AN2840","v":0},{"$f":"Реестр!G2840","v":0},null,{"$f":"Реестр!J2840","v":0},0]
[{"$f":"(Реестр!B2841)+0","v":"00:00:00"},null,{"$f":"Реестр!AZ2841","v":0},{"$f":"Реестр!AN2841","v":0},{"$f":"Реестр!G2841","v":0},null,{"$f":"Реестр!J2841","v":0},0]
[{"$f":"(Реестр!B2842)+0","v":"00:00:00"},null,{"$f":"Реестр!AZ2842","v":0},{"$f":"Реестр!AN2842","v":0},{"$f":"Реестр!G2842","v":0},null,{"$f":"Реестр!J2842","v":0},0]
[{"$f":"(Реестр!B2843)+0","v":"00:00:00"},null,{"$f":"Реестр!AZ2843","v":0},{"$f":"Реестр!AN2843","v":0},{"$f":"Реестр!G2843","v":0},null,{"$f":"Реестр!J2843","v":0},0]
[{"$f":"(Реестр!B2844)+0","v":"00:00:00"},null,{"$f":"Реестр!AZ2844","v":0},{"$f":"Реестр!AN2844","v":0},{"$f":"Реестр!G2844","v":0},null,{"$f":"Реестр!J2844","v":0},0]
[{"$f":"(Реестр!B2845)+0","v":"00:00:00"},null,{"$f":"Реестр!AZ2845","v":0},{"$f":"Реестр!AN2845","v":0},{"$f":"Реестр!G2845","v":0},null,{"$f":"Реестр!J2845","v":0},0]
[{"$f":"(Реестр!B2846)+0","v":"00:00:00"},null,{"$f":"Реестр!AZ2846","v":0},{"$f":"Реестр!AN2846","v":0},{"$f":"Реестр!G2846","v":0},null,{"$f":"Реестр!J2846","v":0},0]
[{"$f":"(Реестр!B2847)+0","v":"00:00:00"},null,{"$f":"Реестр!AZ2847","v":0},{"$f":"Реестр!AN2847","v":0},{"$f":"Реестр!G2847","v":0},null,{"$f":"Реестр!J2847","v":0},0]
[{"$f":"(Реестр!B2848)+0","v":"00:00:00"},null,{"$f":"Реестр!AZ2848","v":0},{"$f":"Реестр!AN2848","v":0},{"$f":"Реестр!G2848","v":0},null,{"$f":"Реестр!J2848","v":0},0]
[{"$f":"(Реестр!B2849)+0","v":"00:00:00"},null,{"$f":"Реестр!AZ2849","v":0},{"$f":"Реестр!AN2849","v":0},{"$f":"Реестр!G2849","v":0},null,{"$f":"Реестр!J2849","v":0},0]
[{"$f":"(Реестр!B2850)+0","v":"00:00:00"},null,{"$f":"Реестр!AZ2850","v":0},{"$f":"Реестр!AN2850","v":0},{"$f":"Реестр!G2850","v":0},null,{"$f":"Реестр!J2850","v":0},0]
[{"$f":"(Реестр!B2851)+0","v":"00:00:00"},null,{"$f":"Реестр!AZ2851","v":0},{"$f":"Реестр!AN2851","v":0},{"$f":"Реестр!G2851","v":0},null,{"$f":"Реестр!J2851","v":0},0]
[{"$f":"(Реестр!B2852)+0","v":"00:00:00"},null,{"$f":"Реестр!AZ2852","v":0},{"$f":"Реестр!AN2852","v":0},{"$f":"Реестр!G2852","v":0},null,{"$f":"Реестр!J2852","v":0},0]
[{"$f":"(Реестр!B2853)+0","v":"00:00:00"},null,{"$f":"Реестр!AZ2853","v":0},{"$f":"Реестр!AN2853","v":0},{"$f":"Реестр!G2853","v":0},null,{"$f":"Реестр!J2853","v":0},0]
[{"$f":"(Реестр!B2854)+0","v":"00:00:00"},null,{"$f":"Реестр!AZ2854","v":0},{"$f":"Реестр!AN2854","v":0},{"$f":"Реестр!G2854","v":0},null,{"$f":"Реестр!J2854","v":0},0]
[{"$f":"(Реестр!B2855)+0","v":"00:00:00"},null,{"$f":"Реестр!AZ2855","v":0},{"$f":"Реестр!AN2855","v":0},{"$f":"Реестр!G2855","v":0},null,{"$f":"Реестр!J2855","v":0},0]
[{"$f":"(Реестр!B2856)+0","v":"00:00:00"},null,{"$f":"Реестр!AZ2856","v":0},{"$f":"Реестр!AN2856","v":0},{"$f":"Реестр!G2856","v":0},null,{"$f":"Реестр!J2856","v":0},0]
[{"$f":"(Реестр!B2857)+0","v":"00:00:00"},null,{"$f":"Реестр!AZ2857","v":0},{"$f":"Реестр!AN2857","v":0},{"$f":"Реестр!G2857","v":0},null,{"$f":"Реестр!J2857","v":0},0]
[{"$f":"(Реестр!B2858)+0","v":"00:00:00"},null,{"$f":"Реестр!AZ2858","v":0},{"$f":"Реестр!AN2858","v":0},{"$f":"Реестр!G2858","v":0},null,{"$f":"Реестр!J2858","v":0},0]
[{"$f":"(Реестр!B2859)+0","v":"00:00:00"},null,{"$f":"Реестр!AZ2859","v":0},{"$f":"Реестр!AN2859","v":0},{"$f":"Реестр!G2859","v":0},null,{"$f":"Реестр!J2859","v":0},0]
[{"$f":"(Реестр!B2860)+0","v":"00:00:00"},null,{"$f":"Реестр!AZ2860","v":0},{"$f":"Реестр!AN2860","v":0},{"$f":"Реестр!G2860","v":0},null,{"$f":"Реестр!J2860","v":0},0]
[{"$f":"(Реестр!B2861)+0","v":"00:00:00"},null,{"$f":"Реестр!AZ2861","v":0},{"$f":"Реестр!AN2861","v":0},{"$f":"Реестр!G2861","v":0},null,{"$f":"Реестр!J2861","v":0},0]
[{"$f":"(Реестр!B2862)+0","v":"00:00:00"},null,{"$f":"Реестр!AZ2862","v":0},{"$f":"Реестр!AN2862","v":0},{"$f":"Реестр!G2862","v":0},null,{"$f":"Реестр!J2862","v":0},0]
[{"$f":"(Реестр!B2863)+0","v":"00:00:00"},null,{"$f":"Реестр!AZ2863","v":0},{"$f":"Реестр!AN2863","v":0},{"$f":"Реестр!G2863","v":0},null,{"$f":"Реестр!J2863","v":0},0]
[{"$f":"(Реестр!B2864)+0","v":"00:00:00"},null,{"$f":"Реестр!AZ2864","v":0},{"$f":"Реестр!AN2864","v":0},{"$f":"Реестр!G2864","v":0},null,{"$f":"Реестр!J2864","v":0},0]
[{"$f":"(Реестр!B2865)+0","v":"00:00:00"},null,{"$f":"Реестр!AZ2865","v":0},{"$f":"Реестр!AN2865","v":0},{"$f":"Реестр!G2865","v":0},null,{"$f":"Реестр!J2865","v":0},0]
[{"$f":"(Реестр!B2866)+0","v":"00:00:00"},null,{"$f":"Реестр!AZ2866","v":0},{"$f":"Реестр!AN2866","v":0},{"$f":"Реестр!G2866","v":0},null,{"$f":"Реестр!J2866","v":0},0]
[{"$f":"(Реестр!B2867)+0","v":"00:00:00"},null,{"$f":"Реестр!AZ2867","v":0},{"$f":"Реестр!AN2867","v":0},{"$f":"Реестр!G2867","v":0},null,{"$f":"Реестр!J2867","v":0},0]
[{"$f":"(Реестр!B2868)+0","v":"00:00:00"},null,{"$f":"Реестр!AZ2868","v":0},{"$f":"Реестр!AN2868","v":0},{"$f":"Реестр!G2868","v":0},null,{"$f":"Реестр!J2868","v":0},0]
[{"$f":"(Реестр!B2869)+0","v":"00:00:00"},null,{"$f":"Реестр!AZ2869","v":0},{"$f":"Реестр!AN2869","v":0},{"$f":"Реестр!G2869","v":0},null,{"$f":"Реестр!J2869","v":0},0]
[{"$f":"(Реестр!B2870)+0","v":"00:00:00"},null,{"$f":"Реестр!AZ2870","v":0},{"$f":"Реестр!AN2870","v":0},{"$f":"Реестр!G2870","v":0},null,{"$f":"Реестр!J2870","v":0},0]
[{"$f":"(Реестр!B2871)+0","v":"00:00:00"},null,{"$f":"Реестр!AZ2871","v":0},{"$f":"Реестр!AN2871","v":0},{"$f":"Реестр!G2871","v":0},null,{"$f":"Реестр!J2871","v":0},0]
[{"$f":"(Реестр!B2872)+0","v":"00:00:00"},null,{"$f":"Реестр!AZ2872","v":0},{"$f":"Реестр!AN2872","v":0},{"$f":"Реестр!G2872","v":0},null,{"$f":"Реестр!J2872","v":0},0]
[{"$f":"(Реестр!B2873)+0","v":"00:00:00"},null,{"$f":"Реестр!AZ2873","v":0},{"$f":"Реестр!AN2873","v":0},{"$f":"Реестр!G2873","v":0},null,{"$f":"Реестр!J2873","v":0},0]
[{"$f":"(Реестр!B2874)+0","v":"00:00:00"},null,{"$f":"Реестр!AZ2874","v":0},{"$f":"Реестр!AN2874","v":0},{"$f":"Реестр!G2874","v":0},null,{"$f":"Реестр!J2874","v":0},0]
[{"$f":"(Реестр!B2875)+0","v":"00:00:00"},null,{"$f":"Реестр!AZ2875","v":0},{"$f":"Реестр!AN2875","v":0},{"$f":"Реестр!G2875","v":0},null,{"$f":"Реестр!J2875","v":0},0]
[{"$f":"(Реестр!B2876)+0","v":"00:00:00"},null,{"$f":"Реестр!AZ2876","v":0},{"$f":"Реестр!AN2876","v":0},{"$f":"Реестр!G2876","v":0},null,{"$f":"Реестр!J2876","v":0},0]
[{"$f":"(Реестр!B2877)+0","v":"00:00:00"},null,{"$f":"Реестр!AZ2877","v":0},{"$f":"Реестр!AN2877","v":0},{"$f":"Реестр!G2877","v":0},null,{"$f":"Реестр!J2877","v":0},0]
[{"$f":"(Реестр!B2878)+0","v":"00:00:00"},null,{"$f":"Реестр!AZ2878","v":0},{"$f":"Реестр!AN2878","v":0},{"$f":"Реестр!G2878","v":0},null,{"$f":"Реестр!J2878","v":0},0]
[{"$f":"(Реестр!B2879)+0","v":"00:00:00"},null,{"$f":"Реестр!AZ2879","v":0},{"$f":"Реестр!AN2879","v":0},{"$f":"Реестр!G2879","v":0},null,{"$f":"Реестр!J2879","v":0},{"$f":"E2313*G2313","v":0}]
[{"$f":"(Реестр!B2880)+0","v":"00:00:00"},null,{"$f":"Реестр!AZ2880","v":0},{"$f":"Реестр!AN2880","v":0},{"$f":"Реестр!G2880","v":0},null,{"$f":"Реестр!J2880","v":0},0]
[{"$f":"(Реестр!B2881)+0","v":"00:00:00"},null,{"$f":"Реестр!AZ2881","v":0},{"$f":"Реестр!AN2881","v":0},{"$f":"Реестр!G2881","v":0},null,{"$f":"Реестр!J2881","v":0},0]
[{"$f":"(Реестр!B2882)+0","v":"00:00:00"},null,{"$f":"Реестр!AZ2882","v":0},{"$f":"Реестр!AN2882","v":0},{"$f":"Реестр!G2882","v":0},null,{"$f":"Реестр!J2882","v":0},0]
[{"$f":"(Реестр!B2883)+0","v":"00:00:00"},null,{"$f":"Реестр!AZ2883","v":0},{"$f":"Реестр!AN2883","v":0},{"$f":"Реестр!G2883","v":0},null,{"$f":"Реестр!J2883","v":0},0]
[{"$f":"(Реестр!B2884)+0","v":"00:00:00"},null,{"$f":"Реестр!AZ2884","v":0},{"$f":"Реестр!AN2884","v":0},{"$f":"Реестр!G2884","v":0},null,{"$f":"Реестр!J2884","v":0},0]
[{"$f":"(Реестр!B2885)+0","v":"00:00:00"},null,{"$f":"Реестр!AZ2885","v":0},{"$f":"Реестр!AN2885","v":0},{"$f":"Реестр!G2885","v":0},null,{"$f":"Реестр!J2885","v":0},0]
[{"$f":"(Реестр!B2886)+0","v":"00:00:00"},null,{"$f":"Реестр!AZ2886","v":0},{"$f":"Реестр!AN2886","v":0},{"$f":"Реестр!G2886","v":0},null,{"$f":"Реестр!J2886","v":0},0]
[{"$f":"(Реестр!B2887)+0","v":"00:00:00"},null,{"$f":"Реестр!AZ2887","v":0},{"$f":"Реестр!AN2887","v":0},{"$f":"Реестр!G2887","v":0},null,{"$f":"Реестр!J2887","v":0},0]
[{"$f":"(Реестр!B2888)+0","v":"00:00:00"},null,{"$f":"Реестр!AZ2888","v":0},{"$f":"Реестр!AN2888","v":0},{"$f":"Реестр!G2888","v":0},null,{"$f":"Реестр!J2888","v":0},0]
[{"$f":"(Реестр!B2889)+0","v":"00:00:00"},null,{"$f":"Реестр!AZ2889","v":0},{"$f":"Реестр!AN2889","v":0},{"$f":"Реестр!G2889","v":0},null,{"$f":"Реестр!J2889","v":0},0]
[{"$f":"(Реестр!B2890)+0","v":"00:00:00"},null,{"$f":"Реестр!AZ2890","v":0},{"$f":"Реестр!AN2890","v":0},{"$f":"Реестр!G2890","v":0},null,{"$f":"Реестр!J2890","v":0},0]
[{"$f":"(Реестр!B2891)+0","v":"00:00:00"},null,{"$f":"Реестр!AZ2891","v":0},{"$f":"Реестр!AN2891","v":0},{"$f":"Реестр!G2891","v":0},null,{"$f":"Реестр!J2891","v":0},0]
[{"$f":"(Реестр!B2892)+0","v":"00:00:00"},null,{"$f":"Реестр!AZ2892","v":0},{"$f":"Реестр!AN2892","v":0},{"$f":"Реестр!G2892","v":0},null,{"$f":"Реестр!J2892","v":0},0]
[{"$f":"(Реестр!B2893)+0","v":"00:00:00"},null,{"$f":"Реестр!AZ2893","v":0},{"$f":"Реестр!AN2893","v":0},{"$f":"Реестр!G2893","v":0},null,{"$f":"Реестр!J2893","v":0},0]
[{"$f":"(Реестр!B2894)+0","v":"00:00:00"},null,{"$f":"Реестр!AZ2894","v":0},{"$f":"Реестр!AN2894","v":0},{"$f":"Реестр!G2894","v":0},null,{"$f":"Реестр!J2894","v":0},0]
[{"$f":"(Реестр!B2895)+0","v":"00:00:00"},null,{"$f":"Реестр!AZ2895","v":0},{"$f":"Реестр!AN2895","v":0},{"$f":"Реестр!G2895","v":0},null,{"$f":"Реестр!J2895","v":0},0]
[{"$f":"(Реестр!B2896)+0","v":"00:00:00"},null,{"$f":"Реестр!AZ2896","v":0},{"$f":"Реестр!AN2896","v":0},{"$f":"Реестр!G2896","v":0},null,{"$f":"Реестр!J2896","v":0},0]
[{"$f":"(Реестр!B2897)+0","v":"00:00:00"},null,{"$f":"Реестр!AZ2897","v":0},{"$f":"Реестр!AN2897","v":0},{"$f":"Реестр!G2897","v":0},null,{"$f":"Реестр!J2897","v":0},0]
[{"$f":"(Реестр!B2898)+0","v":"00:00:00"},null,{"$f":"Реестр!AZ2898","v":0},{"$f":"Реестр!AN2898","v":0},{"$f":"Реестр!G2898","v":0},null,{"$f":"Реестр!J2898","v":0},0]
[{"$f":"(Реестр!B2899)+0","v":"00:00:00"},null,{"$f":"Реестр!AZ2899","v":0},{"$f":"Реестр!AN2899","v":0},{"$f":"Реестр!G2899","v":0},null,{"$f":"Реестр!J2899","v":0},0]
[{"$f":"(Реестр!B2900)+0","v":"00:00:00"},null,{"$f":"Реестр!AZ2900","v":0},{"$f":"Реестр!AN2900","v":0},{"$f":"Реестр!G2900","v":0},null,{"$f":"Реестр!J2900","v":0},0]
[{"$f":"(Реестр!B2901)+0","v":"00:00:00"},null,{"$f":"Реестр!AZ2901","v":0},{"$f":"Реестр!AN2901","v":0},{"$f":"Реестр!G2901","v":0},null,{"$f":"Реестр!J2901","v":0},0]
[{"$f":"(Реестр!B2902)+0","v":"00:00:00"},null,{"$f":"Реестр!AZ2902","v":0},{"$f":"Реестр!AN2902","v":0},{"$f":"Реестр!G2902","v":0},null,{"$f":"Реестр!J2902","v":0},0]
[{"$f":"(Реестр!B2903)+0","v":"00:00:00"},null,{"$f":"Реестр!AZ2903","v":0},{"$f":"Реестр!AN2903","v":0},{"$f":"Реестр!G2903","v":0},null,{"$f":"Реестр!J2903","v":0},0]
[{"$f":"(Реестр!B2904)+0","v":"00:00:00"},null,{"$f":"Реестр!AZ2904","v":0},{"$f":"Реестр!AN2904","v":0},{"$f":"Реестр!G2904","v":0},null,{"$f":"Реестр!J2904","v":0},0]
[{"$f":"(Реестр!B2905)+0","v":"00:00:00"},null,{"$f":"Реестр!AZ2905","v":0},{"$f":"Реестр!AN2905","v":0},{"$f":"Реестр!G2905","v":0},null,{"$f":"Реестр!J2905","v":0},0]
[{"$f":"(Реестр!B2906)+0","v":"00:00:00"},null,{"$f":"Реестр!AZ2906","v":0},{"$f":"Реестр!AN2906","v":0},{"$f":"Реестр!G2906","v":0},null,{"$f":"Реестр!J2906","v":0},0]
[{"$f":"(Реестр!B2907)+0","v":"00:00:00"},null,{"$f":"Реестр!AZ2907","v":0},{"$f":"Реестр!AN2907","v":0},{"$f":"Реестр!G2907","v":0},null,{"$f":"Реестр!J2907","v":0},0]
[{"$f":"(Реестр!B2908)+0","v":"00:00:00"},null,{"$f":"Реестр!AZ2908","v":0},{"$f":"Реестр!AN2908","v":0},{"$f":"Реестр!G2908","v":0},null,{"$f":"Реестр!J2908","v":0},0]
[{"$f":"(Реестр!B2909)+0","v":"00:00:00"},null,{"$f":"Реестр!AZ2909","v":0},{"$f":"Реестр!AN2909","v":0},{"$f":"Реестр!G2909","v":0},null,{"$f":"Реестр!J2909","v":0},0]
[{"$f":"(Реестр!B2910)+0","v":"00:00:00"},null,{"$f":"Реестр!AZ2910","v":0},{"$f":"Реестр!AN2910","v":0},{"$f":"Реестр!G2910","v":0},null,{"$f":"Реестр!J2910","v":0},0]
[{"$f":"(Реестр!B2911)+0","v":"00:00:00"},null,{"$f":"Реестр!AZ2911","v":0},{"$f":"Реестр!AN2911","v":0},{"$f":"Реестр!G2911","v":0},null,{"$f":"Реестр!J2911","v":0},0]
[{"$f":"(Реестр!B2912)+0","v":"00:00:00"},null,{"$f":"Реестр!AZ2912","v":0},{"$f":"Реестр!AN2912","v":0},{"$f":"Реестр!G2912","v":0},null,{"$f":"Реестр!J2912","v":0},0]
[{"$f":"(Реестр!B2913)+0","v":"00:00:00"},null,{"$f":"Реестр!AZ2913","v":0},{"$f":"Реестр!AN2913","v":0},{"$f":"Реестр!G2913","v":0},null,{"$f":"Реестр!J2913","v":0},0]
[{"$f":"(Реестр!B2914)+0","v":"00:00:00"},null,{"$f":"Реестр!AZ2914","v":0},{"$f":"Реестр!AN2914","v":0},{"$f":"Реестр!G2914","v":0},null,{"$f":"Реестр!J2914","v":0},0]
[{"$f":"(Реестр!B2915)+0","v":"00:00:00"},null,{"$f":"Реестр!AZ2915","v":0},{"$f":"Реестр!AN2915","v":0},{"$f":"Реестр!G2915","v":0},null,{"$f":"Реестр!J2915","v":0},0]
[{"$f":"(Реестр!B2916)+0","v":"00:00:00"},null,{"$f":"Реестр!AZ2916","v":0},{"$f":"Реестр!AN2916","v":0},{"$f":"Реестр!G2916","v":0},null,{"$f":"Реестр!J2916","v":0},0]
[{"$f":"(Реестр!B2917)+0","v":"00:00:00"},null,{"$f":"Реестр!AZ2917","v":0},{"$f":"Реестр!AN2917","v":0},{"$f":"Реестр!G2917","v":0},null,{"$f":"Реестр!J2917","v":0},0]
[{"$f":"(Реестр!B2918)+0","v":"00:00:00"},null,{"$f":"Реестр!AZ2918","v":0},{"$f":"Реестр!AN2918","v":0},{"$f":"Реестр!G2918","v":0},null,{"$f":"Реестр!J2918","v":0},0]
[{"$f":"(Реестр!B2919)+0","v":"00:00:00"},null,{"$f":"Реестр!AZ2919","v":0},{"$f":"Реестр!AN2919","v":0},{"$f":"Реестр!G2919","v":0},null,{"$f":"Реестр!J2919","v":0},0]
[{"$f":"(Реестр!B2920)+0","v":"00:00:00"},null,{"$f":"Реестр!AZ2920","v":0},{"$f":"Реестр!AN2920","v":0},{"$f":"Реестр!G2920","v":0},null,{"$f":"Реестр!J2920","v":0},0]
[{"$f":"(Реестр!B2921)+0","v":"00:00:00"},null,{"$f":"Реестр!AZ2921","v":0},{"$f":"Реестр!AN2921","v":0},{"$f":"Реестр!G2921","v":0},null,{"$f":"Реестр!J2921","v":0},0]
[{"$f":"(Реестр!B2922)+0","v":"00:00:00"},null,{"$f":"Реестр!AZ2922","v":0},{"$f":"Реестр!AN2922","v":0},{"$f":"Реестр!G2922","v":0},null,{"$f":"Реестр!J2922","v":0},0]
[{"$f":"(Реестр!B2923)+0","v":"00:00:00"},null,{"$f":"Реестр!AZ2923","v":0},{"$f":"Реестр!AN2923","v":0},{"$f":"Реестр!G2923","v":0},null,{"$f":"Реестр!J2923","v":0},0]
[{"$f":"(Реестр!B2924)+0","v":"00:00:00"},null,{"$f":"Реестр!AZ2924","v":0},{"$f":"Реестр!AN2924","v":0},{"$f":"Реестр!G2924","v":0},null,{"$f":"Реестр!J2924","v":0},0]
[{"$f":"(Реестр!B2925)+0","v":"00:00:00"},null,{"$f":"Реестр!AZ2925","v":0},{"$f":"Реестр!AN2925","v":0},{"$f":"Реестр!G2925","v":0},null,{"$f":"Реестр!J2925","v":0},0]
[{"$f":"(Реестр!B2926)+0","v":"00:00:00"},null,{"$f":"Реестр!AZ2926","v":0},{"$f":"Реестр!AN2926","v":0},{"$f":"Реестр!G2926","v":0},null,{"$f":"Реестр!J2926","v":0},0]
[{"$f":"(Реестр!B2927)+0","v":"00:00:00"},null,{"$f":"Реестр!AZ2927","v":0},{"$f":"Реестр!AN2927","v":0},{"$f":"Реестр!G2927","v":0},null,{"$f":"Реестр!J2927","v":0},0]
[{"$f":"(Реестр!B2928)+0","v":"00:00:00"},null,{"$f":"Реестр!AZ2928","v":0},{"$f":"Реестр!AN2928","v":0},{"$f":"Реестр!G2928","v":0},null,{"$f":"Реестр!J2928","v":0},0]
[{"$f":"(Реестр!B2929)+0","v":"00:00:00"},null,{"$f":"Реестр!AZ2929","v":0},{"$f":"Реестр!AN2929","v":0},{"$f":"Реестр!G2929","v":0},null,{"$f":"Реестр!J2929","v":0},0]
[{"$f":"(Реестр!B2930)+0","v":"00:00:00"},null,{"$f":"Реестр!AZ2930","v":0},{"$f":"Реестр!AN2930","v":0},{"$f":"Реестр!G2930","v":0},null,{"$f":"Реестр!J2930","v":0},0]
[{"$f":"(Реестр!B2931)+0","v":"00:00:00"},null,{"$f":"Реестр!AZ2931","v":0},{"$f":"Реестр!AN2931","v":0},{"$f":"Реестр!G2931","v":0},null,{"$f":"Реестр!J2931","v":0},0]
[{"$f":"(Реестр!B2932)+0","v":"00:00:00"},null,{"$f":"Реестр!AZ2932","v":0},{"$f":"Реестр!AN2932","v":0},{"$f":"Реестр!G2932","v":0},null,{"$f":"Реестр!J2932","v":0},0]
[{"$f":"(Реестр!B2933)+0","v":"00:00:00"},null,{"$f":"Реестр!AZ2933","v":0},{"$f":"Реестр!AN2933","v":0},{"$f":"Реестр!G2933","v":0},null,{"$f":"Реестр!J2933","v":0},0]
[{"$f":"(Реестр!B2934)+0","v":"00:00:00"},null,{"$f":"Реестр!AZ2934","v":0},{"$f":"Реестр!AN2934","v":0},{"$f":"Реестр!G2934","v":0},null,{"$f":"Реестр!J2934","v":0},0]
[{"$f":"(Реестр!B2935)+0","v":"00:00:00"},null,{"$f":"Реестр!AZ2935","v":0},{"$f":"Реестр!AN2935","v":0},{"$f":"Реестр!G2935","v":0},null,{"$f":"Реестр!J2935","v":0},0]
[{"$f":"(Реестр!B2936)+0","v":"00:00:00"},null,{"$f":"Реестр!AZ2936","v":0},{"$f":"Реестр!AN2936","v":0},{"$f":"Реестр!G2936","v":0},null,{"$f":"Реестр!J2936","v":0},0]
[{"$f":"(Реестр!B2937)+0","v":"00:00:00"},null,{"$f":"Реестр!AZ2937","v":0},{"$f":"Реестр!AN2937","v":0},{"$f":"Реестр!G2937","v":0},null,{"$f":"Реестр!J2937","v":0},0]
[{"$f":"(Реестр!B2938)+0","v":"00:00:00"},null,{"$f":"Реестр!AZ2938","v":0},{"$f":"Реестр!AN2938","v":0},{"$f":"Реестр!G2938","v":0},null,{"$f":"Реестр!J2938","v":0},0]
[{"$f":"(Реестр!B2939)+0","v":"00:00:00"},null,{"$f":"Реестр!AZ2939","v":0},{"$f":"Реестр!AN2939","v":0},{"$f":"Реестр!G2939","v":0},null,{"$f":"Реестр!J2939","v":0},0]
[{"$f":"(Реестр!B2940)+0","v":"00:00:00"},null,{"$f":"Реестр!AZ2940","v":0},{"$f":"Реестр!AN2940","v":0},{"$f":"Реестр!G2940","v":0},null,{"$f":"Реестр!J2940","v":0},0]
[{"$f":"(Реестр!B2941)+0","v":"00:00:00"},null,{"$f":"Реестр!AZ2941","v":0},{"$f":"Реестр!AN2941","v":0},{"$f":"Реестр!G2941","v":0},null,{"$f":"Реестр!J2941","v":0},0]
[{"$f":"(Реестр!B2942)+0","v":"00:00:00"},null,{"$f":"Реестр!AZ2942","v":0},{"$f":"Реестр!AN2942","v":0},{"$f":"Реестр!G2942","v":0},null,{"$f":"Реестр!J2942","v":0},0]
[{"$f":"(Реестр!B2943)+0","v":"00:00:00"},null,{"$f":"Реестр!AZ2943","v":0},{"$f":"Реестр!AN2943","v":0},{"$f":"Реестр!G2943","v":0},null,{"$f":"Реестр!J2943","v":0},{"$f":"E2377*G2377","v":0}]
[{"$f":"(Реестр!B2944)+0","v":"00:00:00"},null,{"$f":"Реестр!AZ2944","v":0},{"$f":"Реестр!AN2944","v":0},{"$f":"Реестр!G2944","v":0},null,{"$f":"Реестр!J2944","v":0},0]
[{"$f":"(Реестр!B2945)+0","v":"00:00:00"},null,{"$f":"Реестр!AZ2945","v":0},{"$f":"Реестр!AN2945","v":0},{"$f":"Реестр!G2945","v":0},null,{"$f":"Реестр!J2945","v":0},0]
[{"$f":"(Реестр!B2946)+0","v":"00:00:00"},null,{"$f":"Реестр!AZ2946","v":0},{"$f":"Реестр!AN2946","v":0},{"$f":"Реестр!G2946","v":0},null,{"$f":"Реестр!J2946","v":0},0]
[{"$f":"(Реестр!B2947)+0","v":"00:00:00"},null,{"$f":"Реестр!AZ2947","v":0},{"$f":"Реестр!AN2947","v":0},{"$f":"Реестр!G2947","v":0},null,{"$f":"Реестр!J2947","v":0},0]
[{"$f":"(Реестр!B2948)+0","v":"00:00:00"},null,{"$f":"Реестр!AZ2948","v":0},{"$f":"Реестр!AN2948","v":0},{"$f":"Реестр!G2948","v":0},null,{"$f":"Реестр!J2948","v":0},0]
[{"$f":"(Реестр!B2949)+0","v":"00:00:00"},null,{"$f":"Реестр!AZ2949","v":0},{"$f":"Реестр!AN2949","v":0},{"$f":"Реестр!G2949","v":0},null,{"$f":"Реестр!J2949","v":0},0]
[{"$f":"(Реестр!B2950)+0","v":"00:00:00"},null,{"$f":"Реестр!AZ2950","v":0},{"$f":"Реестр!AN2950","v":0},{"$f":"Реестр!G2950","v":0},null,{"$f":"Реестр!J2950","v":0},0]
[{"$f":"(Реестр!B2951)+0","v":"00:00:00"},null,{"$f":"Реестр!AZ2951","v":0},{"$f":"Реестр!AN2951","v":0},{"$f":"Реестр!G2951","v":0},null,{"$f":"Реестр!J2951","v":0},0]
[{"$f":"(Реестр!B2952)+0","v":"00:00:00"},null,{"$f":"Реестр!AZ2952","v":0},{"$f":"Реестр!AN2952","v":0},{"$f":"Реестр!G2952","v":0},null,{"$f":"Реестр!J2952","v":0},0]
[{"$f":"(Реестр!B2953)+0","v":"00:00:00"},null,{"$f":"Реестр!AZ2953","v":0},{"$f":"Реестр!AN2953","v":0},{"$f":"Реестр!G2953","v":0},null,{"$f":"Реестр!J2953","v":0},0]
[{"$f":"(Реестр!B2954)+0","v":"00:00:00"},null,{"$f":"Реестр!AZ2954","v":0},{"$f":"Реестр!AN2954","v":0},{"$f":"Реестр!G2954","v":0},null,{"$f":"Реестр!J2954","v":0},0]
[{"$f":"(Реестр!B2955)+0","v":"00:00:00"},null,{"$f":"Реестр!AZ2955","v":0},{"$f":"Реестр!AN2955","v":0},{"$f":"Реестр!G2955","v":0},null,{"$f":"Реестр!J2955","v":0},0]
[{"$f":"(Реестр!B2956)+0","v":"00:00:00"},null,{"$f":"Реестр!AZ2956","v":0},{"$f":"Реестр!AN2956","v":0},{"$f":"Реестр!G2956","v":0},null,{"$f":"Реестр!J2956","v":0},0]
[{"$f":"(Реестр!B2957)+0","v":"00:00:00"},null,{"$f":"Реестр!AZ2957","v":0},{"$f":"Реестр!AN2957","v":0},{"$f":"Реестр!G2957","v":0},null,{"$f":"Реестр!J2957","v":0},0]
[{"$f":"(Реестр!B2958)+0","v":"00:00:00"},null,{"$f":"Реестр!AZ2958","v":0},{"$f":"Реестр!AN2958","v":0},{"$f":"Реестр!G2958","v":0},null,{"$f":"Реестр!J2958","v":0},0]
[{"$f":"(Реестр!B2959)+0","v":"00:00:00"},null,{"$f":"Реестр!AZ2959","v":0},{"$f":"Реестр!AN2959","v":0},{"$f":"Реестр!G2959","v":0},null,{"$f":"Реестр!J2959","v":0},0]
[{"$f":"(Реестр!B2960)+0","v":"00:00:00"},null,{"$f":"Реестр!AZ2960","v":0},{"$f":"Реестр!AN2960","v":0},{"$f":"Реестр!G2960","v":0},null,{"$f":"Реестр!J2960","v":0},0]
[{"$f":"(Реестр!B2961)+0","v":"00:00:00"},null,{"$f":"Реестр!AZ2961","v":0},{"$f":"Реестр!AN2961","v":0},{"$f":"Реестр!G2961","v":0},null,{"$f":"Реестр!J2961","v":0},0]
[{"$f":"(Реестр!B2962)+0","v":"00:00:00"},null,{"$f":"Реестр!AZ2962","v":0},{"$f":"Реестр!AN2962","v":0},{"$f":"Реестр!G2962","v":0},null,{"$f":"Реестр!J2962","v":0},0]
[{"$f":"(Реестр!B2963)+0","v":"00:00:00"},null,{"$f":"Реестр!AZ2963","v":0},{"$f":"Реестр!AN2963","v":0},{"$f":"Реестр!G2963","v":0},null,{"$f":"Реестр!J2963","v":0},0]
[{"$f":"(Реестр!B2964)+0","v":"00:00:00"},null,{"$f":"Реестр!AZ2964","v":0},{"$f":"Реестр!AN2964","v":0},{"$f":"Реестр!G2964","v":0},null,{"$f":"Реестр!J2964","v":0},0]
[{"$f":"(Реестр!B2965)+0","v":"00:00:00"},null,{"$f":"Реестр!AZ2965","v":0},{"$f":"Реестр!AN2965","v":0},{"$f":"Реестр!G2965","v":0},null,{"$f":"Реестр!J2965","v":0},0]
[{"$f":"(Реестр!B2966)+0","v":"00:00:00"},null,{"$f":"Реестр!AZ2966","v":0},{"$f":"Реестр!AN2966","v":0},{"$f":"Реестр!G2966","v":0},null,{"$f":"Реестр!J2966","v":0},0]
[{"$f":"(Реестр!B2967)+0","v":"00:00:00"},null,{"$f":"Реестр!AZ2967","v":0},{"$f":"Реестр!AN2967","v":0},{"$f":"Реестр!G2967","v":0},null,{"$f":"Реестр!J2967","v":0},0]
[{"$f":"(Реестр!B2968)+0","v":"00:00:00"},null,{"$f":"Реестр!AZ2968","v":0},{"$f":"Реестр!AN2968","v":0},{"$f":"Реестр!G2968","v":0},null,{"$f":"Реестр!J2968","v":0},0]
[{"$f":"(Реестр!B2969)+0","v":"00:00:00"},null,{"$f":"Реестр!AZ2969","v":0},{"$f":"Реестр!AN2969","v":0},{"$f":"Реестр!G2969","v":0},null,{"$f":"Реестр!J2969","v":0},0]
[{"$f":"(Реестр!B2970)+0","v":"00:00:00"},null,{"$f":"Реестр!AZ2970","v":0},{"$f":"Реестр!AN2970","v":0},{"$f":"Реестр!G2970","v":0},null,{"$f":"Реестр!J2970","v":0},0]
[{"$f":"(Реестр!B2971)+0","v":"00:00:00"},null,{"$f":"Реестр!AZ2971","v":0},{"$f":"Реестр!AN2971","v":0},{"$f":"Реестр!G2971","v":0},null,{"$f":"Реестр!J2971","v":0},0]
[{"$f":"(Реестр!B2972)+0","v":"00:00:00"},null,{"$f":"Реестр!AZ2972","v":0},{"$f":"Реестр!AN2972","v":0},{"$f":"Реестр!G2972","v":0},null,{"$f":"Реестр!J2972","v":0},0]
[{"$f":"(Реестр!B2973)+0","v":"00:00:00"},null,{"$f":"Реестр!AZ2973","v":0},{"$f":"Реестр!AN2973","v":0},{"$f":"Реестр!G2973","v":0},null,{"$f":"Реестр!J2973","v":0},0]
[{"$f":"(Реестр!B2974)+0","v":"00:00:00"},null,{"$f":"Реестр!AZ2974","v":0},{"$f":"Реестр!AN2974","v":0},{"$f":"Реестр!G2974","v":0},null,{"$f":"Реестр!J2974","v":0},0]
[{"$f":"(Реестр!B2975)+0","v":"00:00:00"},null,{"$f":"Реестр!AZ2975","v":0},{"$f":"Реестр!AN2975","v":0},{"$f":"Реестр!G2975","v":0},null,{"$f":"Реестр!J2975","v":0},0]
[{"$f":"(Реестр!B2976)+0","v":"00:00:00"},null,{"$f":"Реестр!AZ2976","v":0},{"$f":"Реестр!AN2976","v":0},{"$f":"Реестр!G2976","v":0},null,{"$f":"Реестр!J2976","v":0},0]
[{"$f":"(Реестр!B2977)+0","v":"00:00:00"},null,{"$f":"Реестр!AZ2977","v":0},{"$f":"Реестр!AN2977","v":0},{"$f":"Реестр!G2977","v":0},null,{"$f":"Реестр!J2977","v":0},0]
[{"$f":"(Реестр!B2978)+0","v":"00:00:00"},null,{"$f":"Реестр!AZ2978","v":0},{"$f":"Реестр!AN2978","v":0},{"$f":"Реестр!G2978","v":0},null,{"$f":"Реестр!J2978","v":0},0]
[{"$f":"(Реестр!B2979)+0","v":"00:00:00"},null,{"$f":"Реестр!AZ2979","v":0},{"$f":"Реестр!AN2979","v":0},{"$f":"Реестр!G2979","v":0},null,{"$f":"Реестр!J2979","v":0},0]
[{"$f":"(Реестр!B2980)+0","v":"00:00:00"},null,{"$f":"Реестр!AZ2980","v":0},{"$f":"Реестр!AN2980","v":0},{"$f":"Реестр!G2980","v":0},null,{"$f":"Реестр!J2980","v":0},0]
[{"$f":"(Реестр!B2981)+0","v":"00:00:00"},null,{"$f":"Реестр!AZ2981","v":0},{"$f":"Реестр!AN2981","v":0},{"$f":"Реестр!G2981","v":0},null,{"$f":"Реестр!J2981","v":0},0]
[{"$f":"(Реестр!B2982)+0","v":"00:00:00"},null,{"$f":"Реестр!AZ2982","v":0},{"$f":"Реестр!AN2982","v":0},{"$f":"Реестр!G2982","v":0},null,{"$f":"Реестр!J2982","v":0},0]
[{"$f":"(Реестр!B2983)+0","v":"00:00:00"},null,{"$f":"Реестр!AZ2983","v":0},{"$f":"Реестр!AN2983","v":0},{"$f":"Реестр!G2983","v":0},null,{"$f":"Реестр!J2983","v":0},0]
[{"$f":"(Реестр!B2984)+0","v":"00:00:00"},null,{"$f":"Реестр!AZ2984","v":0},{"$f":"Реестр!AN2984","v":0},{"$f":"Реестр!G2984","v":0},null,{"$f":"Реестр!J2984","v":0},0]
[{"$f":"(Реестр!B2985)+0","v":"00:00:00"},null,{"$f":"Реестр!AZ2985","v":0},{"$f":"Реестр!AN2985","v":0},{"$f":"Реестр!G2985","v":0},null,{"$f":"Реестр!J2985","v":0},0]
[{"$f":"(Реестр!B2986)+0","v":"00:00:00"},null,{"$f":"Реестр!AZ2986","v":0},{"$f":"Реестр!AN2986","v":0},{"$f":"Реестр!G2986","v":0},null,{"$f":"Реестр!J2986","v":0},0]
[{"$f":"(Реестр!B2987)+0","v":"00:00:00"},null,{"$f":"Реестр!AZ2987","v":0},{"$f":"Реестр!AN2987","v":0},{"$f":"Реестр!G2987","v":0},null,{"$f":"Реестр!J2987","v":0},0]
[{"$f":"(Реестр!B2988)+0","v":"00:00:00"},null,{"$f":"Реестр!AZ2988","v":0},{"$f":"Реестр!AN2988","v":0},{"$f":"Реестр!G2988","v":0},null,{"$f":"Реестр!J2988","v":0},0]
[{"$f":"(Реестр!B2989)+0","v":"00:00:00"},null,{"$f":"Реестр!AZ2989","v":0},{"$f":"Реестр!AN2989","v":0},{"$f":"Реестр!G2989","v":0},null,{"$f":"Реестр!J2989","v":0},0]
[{"$f":"(Реестр!B2990)+0","v":"00:00:00"},null,{"$f":"Реестр!AZ2990","v":0},{"$f":"Реестр!AN2990","v":0},{"$f":"Реестр!G2990","v":0},null,{"$f":"Реестр!J2990","v":0},0]
[{"$f":"(Реестр!B2991)+0","v":"00:00:00"},null,{"$f":"Реестр!AZ2991","v":0},{"$f":"Реестр!AN2991","v":0},{"$f":"Реестр!G2991","v":0},null,{"$f":"Реестр!J2991","v":0},0]
[{"$f":"(Реестр!B2992)+0","v":"00:00:00"},null,{"$f":"Реестр!AZ2992","v":0},{"$f":"Реестр!AN2992","v":0},{"$f":"Реестр!G2992","v":0},null,{"$f":"Реестр!J2992","v":0},0]
[{"$f":"(Реестр!B2993)+0","v":"00:00:00"},null,{"$f":"Реестр!AZ2993","v":0},{"$f":"Реестр!AN2993","v":0},{"$f":"Реестр!G2993","v":0},null,{"$f":"Реестр!J2993","v":0},0]
[{"$f":"(Реестр!B2994)+0","v":"00:00:00"},null,{"$f":"Реестр!AZ2994","v":0},{"$f":"Реестр!AN2994","v":0},{"$f":"Реестр!G2994","v":0},null,{"$f":"Реестр!J2994","v":0},0]
[{"$f":"(Реестр!B2995)+0","v":"00:00:00"},null,{"$f":"Реестр!AZ2995","v":0},{"$f":"Реестр!AN2995","v":0},{"$f":"Реестр!G2995","v":0},null,{"$f":"Реестр!J2995","v":0},0]
[{"$f":"(Реестр!B2996)+0","v":"00:00:00"},null,{"$f":"Реестр!AZ2996","v":0},{"$f":"Реестр!AN2996","v":0},{"$f":"Реестр!G2996","v":0},null,{"$f":"Реестр!J2996","v":0},0]
[{"$f":"(Реестр!B2997)+0","v":"00:00:00"},null,{"$f":"Реестр!AZ2997","v":0},{"$f":"Реестр!AN2997","v":0},{"$f":"Реестр!G2997","v":0},null,{"$f":"Реестр!J2997","v":0},0]
[{"$f":"(Реестр!B2998)+0","v":"00:00:00"},null,{"$f":"Реестр!AZ2998","v":0},{"$f":"Реестр!AN2998","v":0},{"$f":"Реестр!G2998","v":0},null,{"$f":"Реестр!J2998","v":0},0]
[{"$f":"(Реестр!B2999)+0","v":"00:00:00"},null,{"$f":"Реестр!AZ2999","v":0},{"$f":"Реестр!AN2999","v":0},{"$f":"Реестр!G2999","v":0},null,{"$f":"Реестр!J2999","v":0},0]
[{"$f":"(Реестр!B3000)+0","v":"00:00:00"},null,{"$f":"Реестр!AZ3000","v":0},{"$f":"Реестр!AN3000","v":0},{"$f":"Реестр!G3000","v":0},null,{"$f":"Реестр!J3000","v":0},0]
[{"$f":"(Реестр!B3001)+0","v":"00:00:00"},null,{"$f":"Реестр!AZ3001","v":0},{"$f":"Реестр!AN3001","v":0},{"$f":"Реестр!G3001","v":0},null,{"$f":"Реестр!J3001","v":0},0]
[{"$f":"(Реестр!B3002)+0","v":"00:00:00"},null,{"$f":"Реестр!AZ3002","v":0},{"$f":"Реестр!AN3002","v":0},{"$f":"Реестр!G3002","v":0},null,{"$f":"Реестр!J3002","v":0},0]
[{"$f":"(Реестр!B3003)+0","v":"00:00:00"},null,{"$f":"Реестр!AZ3003","v":0},{"$f":"Реестр!AN3003","v":0},{"$f":"Реестр!G3003","v":0},null,{"$f":"Реестр!J3003","v":0},0]
[{"$f":"(Реестр!B3004)+0","v":"00:00:00"},null,{"$f":"Реестр!AZ3004","v":0},{"$f":"Реестр!AN3004","v":0},{"$f":"Реестр!G3004","v":0},null,{"$f":"Реестр!J3004","v":0},0]
[{"$f":"(Реестр!B3005)+0","v":"00:00:00"},null,{"$f":"Реестр!AZ3005","v":0},{"$f":"Реестр!AN3005","v":0},{"$f":"Реестр!G3005","v":0},null,{"$f":"Реестр!J3005","v":0},0]
[{"$f":"(Реестр!B3006)+0","v":"00:00:00"},null,{"$f":"Реестр!AZ3006","v":0},{"$f":"Реестр!AN3006","v":0},{"$f":"Реестр!G3006","v":0},null,{"$f":"Реестр!J3006","v":0},0]
[{"$f":"(Реестр!B3007)+0","v":"00:00:00"},null,{"$f":"Реестр!AZ3007","v":0},{"$f":"Реестр!AN3007","v":0},{"$f":"Реестр!G3007","v":0},null,{"$f":"Реестр!J3007","v":0},{"$f":"E2441*G2441","v":0}]
[{"$f":"(Реестр!B3008)+0","v":"00:00:00"},null,{"$f":"Реестр!AZ3008","v":0},{"$f":"Реестр!AN3008","v":0},{"$f":"Реестр!G3008","v":0},null,{"$f":"Реестр!J3008","v":0},0]
[{"$f":"(Реестр!B3009)+0","v":"00:00:00"},null,{"$f":"Реестр!AZ3009","v":0},{"$f":"Реестр!AN3009","v":0},{"$f":"Реестр!G3009","v":0},null,{"$f":"Реестр!J3009","v":0},0]
[{"$f":"(Реестр!B3010)+0","v":"00:00:00"},null,{"$f":"Реестр!AZ3010","v":0},{"$f":"Реестр!AN3010","v":0},{"$f":"Реестр!G3010","v":0},null,{"$f":"Реестр!J3010","v":0},0]
[{"$f":"(Реестр!B3011)+0","v":"00:00:00"},null,{"$f":"Реестр!AZ3011","v":0},{"$f":"Реестр!AN3011","v":0},{"$f":"Реестр!G3011","v":0},null,{"$f":"Реестр!J3011","v":0},0]
[{"$f":"(Реестр!B3012)+0","v":"00:00:00"},null,{"$f":"Реестр!AZ3012","v":0},{"$f":"Реестр!AN3012","v":0},{"$f":"Реестр!G3012","v":0},null,{"$f":"Реестр!J3012","v":0},0]
[{"$f":"(Реестр!B3013)+0","v":"00:00:00"},null,{"$f":"Реестр!AZ3013","v":0},{"$f":"Реестр!AN3013","v":0},{"$f":"Реестр!G3013","v":0},null,{"$f":"Реестр!J3013","v":0},0]
[{"$f":"(Реестр!B3014)+0","v":"00:00:00"},null,{"$f":"Реестр!AZ3014","v":0},{"$f":"Реестр!AN3014","v":0},{"$f":"Реестр!G3014","v":0},null,{"$f":"Реестр!J3014","v":0},0]
[{"$f":"(Реестр!B3015)+0","v":"00:00:00"},null,{"$f":"Реестр!AZ3015","v":0},{"$f":"Реестр!AN3015","v":0},{"$f":"Реестр!G3015","v":0},null,{"$f":"Реестр!J3015","v":0},0]
[{"$f":"(Реестр!B3016)+0","v":"00:00:00"},null,{"$f":"Реестр!AZ3016","v":0},{"$f":"Реестр!AN3016","v":0},{"$f":"Реестр!G3016","v":0},null,{"$f":"Реестр!J3016","v":0},0]
[{"$f":"(Реестр!B3017)+0","v":"00:00:00"},null,{"$f":"Реестр!AZ3017","v":0},{"$f":"Реестр!AN3017","v":0},{"$f":"Реестр!G3017","v":0},null,{"$f":"Реестр!J3017","v":0},0]
[{"$f":"(Реестр!B3018)+0","v":"00:00:00"},null,{"$f":"Реестр!AZ3018","v":0},{"$f":"Реестр!AN3018","v":0},{"$f":"Реестр!G3018","v":0},null,{"$f":"Реестр!J3018","v":0},0]
[{"$f":"(Реестр!B3019)+0","v":"00:00:00"},null,{"$f":"Реестр!AZ3019","v":0},{"$f":"Реестр!AN3019","v":0},{"$f":"Реестр!G3019","v":0},null,{"$f":"Реестр!J3019","v":0},0]
[{"$f":"(Реестр!B3020)+0","v":"00:00:00"},null,{"$f":"Реестр!AZ3020","v":0},{"$f":"Реестр!AN3020","v":0},{"$f":"Реестр!G3020","v":0},null,{"$f":"Реестр!J3020","v":0},0]
[{"$f":"(Реестр!B3021)+0","v":"00:00:00"},null,{"$f":"Реестр!AZ3021","v":0},{"$f":"Реестр!AN3021","v":0},{"$f":"Реестр!G3021","v":0},null,{"$f":"Реестр!J3021","v":0},0]
[{"$f":"(Реестр!B3022)+0","v":"00:00:00"},null,{"$f":"Реестр!AZ3022","v":0},{"$f":"Реестр!AN3022","v":0},{"$f":"Реестр!G3022","v":0},null,{"$f":"Реестр!J3022","v":0},0]
[{"$f":"(Реестр!B3023)+0","v":"00:00:00"},null,{"$f":"Реестр!AZ3023","v":0},{"$f":"Реестр!AN3023","v":0},{"$f":"Реестр!G3023","v":0},null,{"$f":"Реестр!J3023","v":0},0]
[{"$f":"(Реестр!B3024)+0","v":"00:00:00"},null,{"$f":"Реестр!AZ3024","v":0},{"$f":"Реестр!AN3024","v":0},{"$f":"Реестр!G3024","v":0},null,{"$f":"Реестр!J3024","v":0},0]
[{"$f":"(Реестр!B3025)+0","v":"00:00:00"},null,{"$f":"Реестр!AZ3025","v":0},{"$f":"Реестр!AN3025","v":0},{"$f":"Реестр!G3025","v":0},null,{"$f":"Реестр!J3025","v":0},0]
[{"$f":"(Реестр!B3026)+0","v":"00:00:00"},null,{"$f":"Реестр!AZ3026","v":0},{"$f":"Реестр!AN3026","v":0},{"$f":"Реестр!G3026","v":0},null,{"$f":"Реестр!J3026","v":0},0]
[{"$f":"(Реестр!B3027)+0","v":"00:00:00"},null,{"$f":"Реестр!AZ3027","v":0},{"$f":"Реестр!AN3027","v":0},{"$f":"Реестр!G3027","v":0},null,{"$f":"Реестр!J3027","v":0},0]
[{"$f":"(Реестр!B3028)+0","v":"00:00:00"},null,{"$f":"Реестр!AZ3028","v":0},{"$f":"Реестр!AN3028","v":0},{"$f":"Реестр!G3028","v":0},null,{"$f":"Реестр!J3028","v":0},0]
[{"$f":"(Реестр!B3029)+0","v":"00:00:00"},null,{"$f":"Реестр!AZ3029","v":0},{"$f":"Реестр!AN3029","v":0},{"$f":"Реестр!G3029","v":0},null,{"$f":"Реестр!J3029","v":0},0]
[{"$f":"(Реестр!B3030)+0","v":"00:00:00"},null,{"$f":"Реестр!AZ3030","v":0},{"$f":"Реестр!AN3030","v":0},{"$f":"Реестр!G3030","v":0},null,{"$f":"Реестр!J3030","v":0},0]
[{"$f":"(Реестр!B3031)+0","v":"00:00:00"},null,{"$f":"Реестр!AZ3031","v":0},{"$f":"Реестр!AN3031","v":0},{"$f":"Реестр!G3031","v":0},null,{"$f":"Реестр!J3031","v":0},0]
[{"$f":"(Реестр!B3032)+0","v":"00:00:00"},null,{"$f":"Реестр!AZ3032","v":0},{"$f":"Реестр!AN3032","v":0},{"$f":"Реестр!G3032","v":0},null,{"$f":"Реестр!J3032","v":0},0]
[{"$f":"(Реестр!B3033)+0","v":"00:00:00"},null,{"$f":"Реестр!AZ3033","v":0},{"$f":"Реестр!AN3033","v":0},{"$f":"Реестр!G3033","v":0},null,{"$f":"Реестр!J3033","v":0},0]
[{"$f":"(Реестр!B3034)+0","v":"00:00:00"},null,{"$f":"Реестр!AZ3034","v":0},{"$f":"Реестр!AN3034","v":0},{"$f":"Реестр!G3034","v":0},null,{"$f":"Реестр!J3034","v":0},0]
[{"$f":"(Реестр!B3035)+0","v":"00:00:00"},null,{"$f":"Реестр!AZ3035","v":0},{"$f":"Реестр!AN3035","v":0},{"$f":"Реестр!G3035","v":0},null,{"$f":"Реестр!J3035","v":0},0]
[{"$f":"(Реестр!B3036)+0","v":"00:00:00"},null,{"$f":"Реестр!AZ3036","v":0},{"$f":"Реестр!AN3036","v":0},{"$f":"Реестр!G3036","v":0},null,{"$f":"Реестр!J3036","v":0},0]
[{"$f":"(Реестр!B3037)+0","v":"00:00:00"},null,{"$f":"Реестр!AZ3037","v":0},{"$f":"Реестр!AN3037","v":0},{"$f":"Реестр!G3037","v":0},null,{"$f":"Реестр!J3037","v":0},0]
[{"$f":"(Реестр!B3038)+0","v":"00:00:00"},null,{"$f":"Реестр!AZ3038","v":0},{"$f":"Реестр!AN3038","v":0},{"$f":"Реестр!G3038","v":0},null,{"$f":"Реестр!J3038","v":0},0]
[{"$f":"(Реестр!B3039)+0","v":"00:00:00"},null,{"$f":"Реестр!AZ3039","v":0},{"$f":"Реестр!AN3039","v":0},{"$f":"Реестр!G3039","v":0},null,{"$f":"Реестр!J3039","v":0},0]
[{"$f":"(Реестр!B3040)+0","v":"00:00:00"},null,{"$f":"Реестр!AZ3040","v":0},{"$f":"Реестр!AN3040","v":0},{"$f":"Реестр!G3040","v":0},null,{"$f":"Реестр!J3040","v":0},0]
[{"$f":"(Реестр!B3041)+0","v":"00:00:00"},null,{"$f":"Реестр!AZ3041","v":0},{"$f":"Реестр!AN3041","v":0},{"$f":"Реестр!G3041","v":0},null,{"$f":"Реестр!J3041","v":0},0]
[{"$f":"(Реестр!B3042)+0","v":"00:00:00"},null,{"$f":"Реестр!AZ3042","v":0},{"$f":"Реестр!AN3042","v":0},{"$f":"Реестр!G3042","v":0},null,{"$f":"Реестр!J3042","v":0},0]
[{"$f":"(Реестр!B3043)+0","v":"00:00:00"},null,{"$f":"Реестр!AZ3043","v":0},{"$f":"Реестр!AN3043","v":0},{"$f":"Реестр!G3043","v":0},null,{"$f":"Реестр!J3043","v":0},0]
[{"$f":"(Реестр!B3044)+0","v":"00:00:00"},null,{"$f":"Реестр!AZ3044","v":0},{"$f":"Реестр!AN3044","v":0},{"$f":"Реестр!G3044","v":0},null,{"$f":"Реестр!J3044","v":0},0]
[{"$f":"(Реестр!B3045)+0","v":"00:00:00"},null,{"$f":"Реестр!AZ3045","v":0},{"$f":"Реестр!AN3045","v":0},{"$f":"Реестр!G3045","v":0},null,{"$f":"Реестр!J3045","v":0},0]
[{"$f":"(Реестр!B3046)+0","v":"00:00:00"},null,{"$f":"Реестр!AZ3046","v":0},{"$f":"Реестр!AN3046","v":0},{"$f":"Реестр!G3046","v":0},null,{"$f":"Реестр!J3046","v":0},0]
[{"$f":"(Реестр!B3047)+0","v":"00:00:00"},null,{"$f":"Реестр!AZ3047","v":0},{"$f":"Реестр!AN3047","v":0},{"$f":"Реестр!G3047","v":0},null,{"$f":"Реестр!J3047","v":0},0]
[{"$f":"(Реестр!B3048)+0","v":"00:00:00"},null,{"$f":"Реестр!AZ3048","v":0},{"$f":"Реестр!AN3048","v":0},{"$f":"Реестр!G3048","v":0},null,{"$f":"Реестр!J3048","v":0},0]
[{"$f":"(Реестр!B3049)+0","v":"00:00:00"},null,{"$f":"Реестр!AZ3049","v":0},{"$f":"Реестр!AN3049","v":0},{"$f":"Реестр!G3049","v":0},null,{"$f":"Реестр!J3049","v":0},0]
[{"$f":"(Реестр!B3050)+0","v":"00:00:00"},null,{"$f":"Реестр!AZ3050","v":0},{"$f":"Реестр!AN3050","v":0},{"$f":"Реестр!G3050","v":0},null,{"$f":"Реестр!J3050","v":0},0]
[{"$f":"(Реестр!B3051)+0","v":"00:00:00"},null,{"$f":"Реестр!AZ3051","v":0},{"$f":"Реестр!AN3051","v":0},{"$f":"Реестр!G3051","v":0},null,{"$f":"Реестр!J3051","v":0},0]
[{"$f":"(Реестр!B3052)+0","v":"00:00:00"},null,{"$f":"Реестр!AZ3052","v":0},{"$f":"Реестр!AN3052","v":0},{"$f":"Реестр!G3052","v":0},null,{"$f":"Реестр!J3052","v":0},0]
[{"$f":"(Реестр!B3053)+0","v":"00:00:00"},null,{"$f":"Реестр!AZ3053","v":0},{"$f":"Реестр!AN3053","v":0},{"$f":"Реестр!G3053","v":0},null,{"$f":"Реестр!J3053","v":0},0]
[{"$f":"(Реестр!B3054)+0","v":"00:00:00"},null,{"$f":"Реестр!AZ3054","v":0},{"$f":"Реестр!AN3054","v":0},{"$f":"Реестр!G3054","v":0},null,{"$f":"Реестр!J3054","v":0},0]
[{"$f":"(Реестр!B3055)+0","v":"00:00:00"},null,{"$f":"Реестр!AZ3055","v":0},{"$f":"Реестр!AN3055","v":0},{"$f":"Реестр!G3055","v":0},null,{"$f":"Реестр!J3055","v":0},0]
[{"$f":"(Реестр!B3056)+0","v":"00:00:00"},null,{"$f":"Реестр!AZ3056","v":0},{"$f":"Реестр!AN3056","v":0},{"$f":"Реестр!G3056","v":0},null,{"$f":"Реестр!J3056","v":0},0]
[{"$f":"(Реестр!B3057)+0","v":"00:00:00"},null,{"$f":"Реестр!AZ3057","v":0},{"$f":"Реестр!AN3057","v":0},{"$f":"Реестр!G3057","v":0},null,{"$f":"Реестр!J3057","v":0},0]
[{"$f":"(Реестр!B3058)+0","v":"00:00:00"},null,{"$f":"Реестр!AZ3058","v":0},{"$f":"Реестр!AN3058","v":0},{"$f":"Реестр!G3058","v":0},null,{"$f":"Реестр!J3058","v":0},0]
[{"$f":"(Реестр!B3059)+0","v":"00:00:00"},null,{"$f":"Реестр!AZ3059","v":0},{"$f":"Реестр!AN3059","v":0},{"$f":"Реестр!G3059","v":0},null,{"$f":"Реестр!J3059","v":0},0]
[{"$f":"(Реестр!B3060)+0","v":"00:00:00"},null,{"$f":"Реестр!AZ3060","v":0},{"$f":"Реестр!AN3060","v":0},{"$f":"Реестр!G3060","v":0},null,{"$f":"Реестр!J3060","v":0},0]
[{"$f":"(Реестр!B3061)+0","v":"00:00:00"},null,{"$f":"Реестр!AZ3061","v":0},{"$f":"Реестр!AN3061","v":0},{"$f":"Реестр!G3061","v":0},null,{"$f":"Реестр!J3061","v":0},0]
[{"$f":"(Реестр!B3062)+0","v":"00:00:00"},null,{"$f":"Реестр!AZ3062","v":0},{"$f":"Реестр!AN3062","v":0},{"$f":"Реестр!G3062","v":0},null,{"$f":"Реестр!J3062","v":0},0]
[{"$f":"(Реестр!B3063)+0","v":"00:00:00"},null,{"$f":"Реестр!AZ3063","v":0},{"$f":"Реестр!AN3063","v":0},{"$f":"Реестр!G3063","v":0},null,{"$f":"Реестр!J3063","v":0},0]
[{"$f":"(Реестр!B3064)+0","v":"00:00:00"},null,{"$f":"Реестр!AZ3064","v":0},{"$f":"Реестр!AN3064","v":0},{"$f":"Реестр!G3064","v":0},null,{"$f":"Реестр!J3064","v":0},0]
[{"$f":"(Реестр!B3065)+0","v":"00:00:00"},null,{"$f":"Реестр!AZ3065","v":0},{"$f":"Реестр!AN3065","v":0},{"$f":"Реестр!G3065","v":0},null,{"$f":"Реестр!J3065","v":0},0]
[{"$f":"(Реестр!B3066)+0","v":"00:00:00"},null,{"$f":"Реестр!AZ3066","v":0},{"$f":"Реестр!AN3066","v":0},{"$f":"Реестр!G3066","v":0},null,{"$f":"Реестр!J3066","v":0},0]
[{"$f":"(Реестр!B3067)+0","v":"00:00:00"},null,{"$f":"Реестр!AZ3067","v":0},{"$f":"Реестр!AN3067","v":0},{"$f":"Реестр!G3067","v":0},null,{"$f":"Реестр!J3067","v":0},0]
[{"$f":"(Реестр!B3068)+0","v":"00:00:00"},null,{"$f":"Реестр!AZ3068","v":0},{"$f":"Реестр!AN3068","v":0},{"$f":"Реестр!G3068","v":0},null,{"$f":"Реестр!J3068","v":0},0]
[{"$f":"(Реестр!B3069)+0","v":"00:00:00"},null,{"$f":"Реестр!AZ3069","v":0},{"$f":"Реестр!AN3069","v":0},{"$f":"Реестр!G3069","v":0},null,{"$f":"Реестр!J3069","v":0},0]
[{"$f":"(Реестр!B3070)+0","v":"00:00:00"},null,{"$f":"Реестр!AZ3070","v":0},{"$f":"Реестр!AN3070","v":0},{"$f":"Реестр!G3070","v":0},null,{"$f":"Реестр!J3070","v":0},0]
[{"$f":"(Реестр!B3071)+0","v":"00:00:00"},null,{"$f":"Реестр!AZ3071","v":0},{"$f":"Реестр!AN3071","v":0},{"$f":"Реестр!G3071","v":0},null,{"$f":"Реестр!J3071","v":0},{"$f":"E2505*G2505","v":0}]
[{"$f":"(Реестр!B3072)+0","v":"00:00:00"},null,{"$f":"Реестр!AZ3072","v":0},{"$f":"Реестр!AN3072","v":0},{"$f":"Реестр!G3072","v":0},null,{"$f":"Реестр!J3072","v":0},0]
[{"$f":"(Реестр!B3073)+0","v":"00:00:00"},null,{"$f":"Реестр!AZ3073","v":0},{"$f":"Реестр!AN3073","v":0},{"$f":"Реестр!G3073","v":0},null,{"$f":"Реестр!J3073","v":0},0]
[{"$f":"(Реестр!B3074)+0","v":"00:00:00"},null,{"$f":"Реестр!AZ3074","v":0},{"$f":"Реестр!AN3074","v":0},{"$f":"Реестр!G3074","v":0},null,{"$f":"Реестр!J3074","v":0},0]
[{"$f":"(Реестр!B3075)+0","v":"00:00:00"},null,{"$f":"Реестр!AZ3075","v":0},{"$f":"Реестр!AN3075","v":0},{"$f":"Реестр!G3075","v":0},null,{"$f":"Реестр!J3075","v":0},0]
[{"$f":"(Реестр!B3076)+0","v":"00:00:00"},null,{"$f":"Реестр!AZ3076","v":0},{"$f":"Реестр!AN3076","v":0},{"$f":"Реестр!G3076","v":0},null,{"$f":"Реестр!J3076","v":0},0]
[{"$f":"(Реестр!B3077)+0","v":"00:00:00"},null,{"$f":"Реестр!AZ3077","v":0},{"$f":"Реестр!AN3077","v":0},{"$f":"Реестр!G3077","v":0},null,{"$f":"Реестр!J3077","v":0},0]
[{"$f":"(Реестр!B3078)+0","v":"00:00:00"},null,{"$f":"Реестр!AZ3078","v":0},{"$f":"Реестр!AN3078","v":0},{"$f":"Реестр!G3078","v":0},null,{"$f":"Реестр!J3078","v":0},0]
[{"$f":"(Реестр!B3079)+0","v":"00:00:00"},null,{"$f":"Реестр!AZ3079","v":0},{"$f":"Реестр!AN3079","v":0},{"$f":"Реестр!G3079","v":0},null,{"$f":"Реестр!J3079","v":0},0]
[{"$f":"(Реестр!B3080)+0","v":"00:00:00"},null,{"$f":"Реестр!AZ3080","v":0},{"$f":"Реестр!AN3080","v":0},{"$f":"Реестр!G3080","v":0},null,{"$f":"Реестр!J3080","v":0},0]
[{"$f":"(Реестр!B3081)+0","v":"00:00:00"},null,{"$f":"Реестр!AZ3081","v":0},{"$f":"Реестр!AN3081","v":0},{"$f":"Реестр!G3081","v":0},null,{"$f":"Реестр!J3081","v":0},0]
[{"$f":"(Реестр!B3082)+0","v":"00:00:00"},null,{"$f":"Реестр!AZ3082","v":0},{"$f":"Реестр!AN3082","v":0},{"$f":"Реестр!G3082","v":0},null,{"$f":"Реестр!J3082","v":0},0]
[{"$f":"(Реестр!B3083)+0","v":"00:00:00"},null,{"$f":"Реестр!AZ3083","v":0},{"$f":"Реестр!AN3083","v":0},{"$f":"Реестр!G3083","v":0},null,{"$f":"Реестр!J3083","v":0},0]
[{"$f":"(Реестр!B3084)+0","v":"00:00:00"},null,{"$f":"Реестр!AZ3084","v":0},{"$f":"Реестр!AN3084","v":0},{"$f":"Реестр!G3084","v":0},null,{"$f":"Реестр!J3084","v":0},0]
[{"$f":"(Реестр!B3085)+0","v":"00:00:00"},null,{"$f":"Реестр!AZ3085","v":0},{"$f":"Реестр!AN3085","v":0},{"$f":"Реестр!G3085","v":0},null,{"$f":"Реестр!J3085","v":0},0]
[{"$f":"(Реестр!B3086)+0","v":"00:00:00"},null,{"$f":"Реестр!AZ3086","v":0},{"$f":"Реестр!AN3086","v":0},{"$f":"Реестр!G3086","v":0},null,{"$f":"Реестр!J3086","v":0},0]
[{"$f":"(Реестр!B3087)+0","v":"00:00:00"},null,{"$f":"Реестр!AZ3087","v":0},{"$f":"Реестр!AN3087","v":0},{"$f":"Реестр!G3087","v":0},null,{"$f":"Реестр!J3087","v":0},0]
[{"$f":"(Реестр!B3088)+0","v":"00:00:00"},null,{"$f":"Реестр!AZ3088","v":0},{"$f":"Реестр!AN3088","v":0},{"$f":"Реестр!G3088","v":0},null,{"$f":"Реестр!J3088","v":0},0]
[{"$f":"(Реестр!B3089)+0","v":"00:00:00"},null,{"$f":"Реестр!AZ3089","v":0},{"$f":"Реестр!AN3089","v":0},{"$f":"Реестр!G3089","v":0},null,{"$f":"Реестр!J3089","v":0},0]
[{"$f":"(Реестр!B3090)+0","v":"00:00:00"},null,{"$f":"Реестр!AZ3090","v":0},{"$f":"Реестр!AN3090","v":0},{"$f":"Реестр!G3090","v":0},null,{"$f":"Реестр!J3090","v":0},0]
[{"$f":"(Реестр!B3091)+0","v":"00:00:00"},null,{"$f":"Реестр!AZ3091","v":0},{"$f":"Реестр!AN3091","v":0},{"$f":"Реестр!G3091","v":0},null,{"$f":"Реестр!J3091","v":0},0]
[{"$f":"(Реестр!B3092)+0","v":"00:00:00"},null,{"$f":"Реестр!AZ3092","v":0},{"$f":"Реестр!AN3092","v":0},{"$f":"Реестр!G3092","v":0},null,{"$f":"Реестр!J3092","v":0},0]
[{"$f":"(Реестр!B3093)+0","v":"00:00:00"},null,{"$f":"Реестр!AZ3093","v":0},{"$f":"Реестр!AN3093","v":0},{"$f":"Реестр!G3093","v":0},null,{"$f":"Реестр!J3093","v":0},0]
[{"$f":"(Реестр!B3094)+0","v":"00:00:00"},null,{"$f":"Реестр!AZ3094","v":0},{"$f":"Реестр!AN3094","v":0},{"$f":"Реестр!G3094","v":0},null,{"$f":"Реестр!J3094","v":0},0]
[{"$f":"(Реестр!B3095)+0","v":"00:00:00"},null,{"$f":"Реестр!AZ3095","v":0},{"$f":"Реестр!AN3095","v":0},{"$f":"Реестр!G3095","v":0},null,{"$f":"Реестр!J3095","v":0},0]
[{"$f":"(Реестр!B3096)+0","v":"00:00:00"},null,{"$f":"Реестр!AZ3096","v":0},{"$f":"Реестр!AN3096","v":0},{"$f":"Реестр!G3096","v":0},null,{"$f":"Реестр!J3096","v":0},0]
[{"$f":"(Реестр!B3097)+0","v":"00:00:00"},null,{"$f":"Реестр!AZ3097","v":0},{"$f":"Реестр!AN3097","v":0},{"$f":"Реестр!G3097","v":0},null,{"$f":"Реестр!J3097","v":0},0]
[{"$f":"(Реестр!B3098)+0","v":"00:00:00"},null,{"$f":"Реестр!AZ3098","v":0},{"$f":"Реестр!AN3098","v":0},{"$f":"Реестр!G3098","v":0},null,{"$f":"Реестр!J3098","v":0},0]
[{"$f":"(Реестр!B3099)+0","v":"00:00:00"},null,{"$f":"Реестр!AZ3099","v":0},{"$f":"Реестр!AN3099","v":0},{"$f":"Реестр!G3099","v":0},null,{"$f":"Реестр!J3099","v":0},0]
[{"$f":"(Реестр!B3100)+0","v":"00:00:00"},null,{"$f":"Реестр!AZ3100","v":0},{"$f":"Реестр!AN3100","v":0},{"$f":"Реестр!G3100","v":0},null,{"$f":"Реестр!J3100","v":0},0]
[{"$f":"(Реестр!B3101)+0","v":"00:00:00"},null,{"$f":"Реестр!AZ3101","v":0},{"$f":"Реестр!AN3101","v":0},{"$f":"Реестр!G3101","v":0},null,{"$f":"Реестр!J3101","v":0},0]
[{"$f":"(Реестр!B3102)+0","v":"00:00:00"},null,{"$f":"Реестр!AZ3102","v":0},{"$f":"Реестр!AN3102","v":0},{"$f":"Реестр!G3102","v":0},null,{"$f":"Реестр!J3102","v":0},0]
[{"$f":"(Реестр!B3103)+0","v":"00:00:00"},null,{"$f":"Реестр!AZ3103","v":0},{"$f":"Реестр!AN3103","v":0},{"$f":"Реестр!G3103","v":0},null,{"$f":"Реестр!J3103","v":0},0]
[{"$f":"(Реестр!B3104)+0","v":"00:00:00"},null,{"$f":"Реестр!AZ3104","v":0},{"$f":"Реестр!AN3104","v":0},{"$f":"Реестр!G3104","v":0},null,{"$f":"Реестр!J3104","v":0},0]
[{"$f":"(Реестр!B3105)+0","v":"00:00:00"},null,{"$f":"Реестр!AZ3105","v":0},{"$f":"Реестр!AN3105","v":0},{"$f":"Реестр!G3105","v":0},null,{"$f":"Реестр!J3105","v":0},0]
[{"$f":"(Реестр!B3106)+0","v":"00:00:00"},null,{"$f":"Реестр!AZ3106","v":0},{"$f":"Реестр!AN3106","v":0},{"$f":"Реестр!G3106","v":0},null,{"$f":"Реестр!J3106","v":0},0]
[{"$f":"(Реестр!B3107)+0","v":"00:00:00"},null,{"$f":"Реестр!AZ3107","v":0},{"$f":"Реестр!AN3107","v":0},{"$f":"Реестр!G3107","v":0},null,{"$f":"Реестр!J3107","v":0},0]
[{"$f":"(Реестр!B3108)+0","v":"00:00:00"},null,{"$f":"Реестр!AZ3108","v":0},{"$f":"Реестр!AN3108","v":0},{"$f":"Реестр!G3108","v":0},null,{"$f":"Реестр!J3108","v":0},0]
[{"$f":"(Реестр!B3109)+0","v":"00:00:00"},null,{"$f":"Реестр!AZ3109","v":0},{"$f":"Реестр!AN3109","v":0},{"$f":"Реестр!G3109","v":0},null,{"$f":"Реестр!J3109","v":0},0]
[{"$f":"(Реестр!B3110)+0","v":"00:00:00"},null,{"$f":"Реестр!AZ3110","v":0},{"$f":"Реестр!AN3110","v":0},{"$f":"Реестр!G3110","v":0},null,{"$f":"Реестр!J3110","v":0},0]
[{"$f":"(Реестр!B3111)+0","v":"00:00:00"},null,{"$f":"Реестр!AZ3111","v":0},{"$f":"Реестр!AN3111","v":0},{"$f":"Реестр!G3111","v":0},null,{"$f":"Реестр!J3111","v":0},0]
[{"$f":"(Реестр!B3112)+0","v":"00:00:00"},null,{"$f":"Реестр!AZ3112","v":0},{"$f":"Реестр!AN3112","v":0},{"$f":"Реестр!G3112","v":0},null,{"$f":"Реестр!J3112","v":0},0]
[{"$f":"(Реестр!B3113)+0","v":"00:00:00"},null,{"$f":"Реестр!AZ3113","v":0},{"$f":"Реестр!AN3113","v":0},{"$f":"Реестр!G3113","v":0},null,{"$f":"Реестр!J3113","v":0},0]
[{"$f":"(Реестр!B3114)+0","v":"00:00:00"},null,{"$f":"Реестр!AZ3114","v":0},{"$f":"Реестр!AN3114","v":0},{"$f":"Реестр!G3114","v":0},null,{"$f":"Реестр!J3114","v":0},0]
[{"$f":"(Реестр!B3115)+0","v":"00:00:00"},null,{"$f":"Реестр!AZ3115","v":0},{"$f":"Реестр!AN3115","v":0},{"$f":"Реестр!G3115","v":0},null,{"$f":"Реестр!J3115","v":0},0]
[{"$f":"(Реестр!B3116)+0","v":"00:00:00"},null,{"$f":"Реестр!AZ3116","v":0},{"$f":"Реестр!AN3116","v":0},{"$f":"Реестр!G3116","v":0},null,{"$f":"Реестр!J3116","v":0},0]
[{"$f":"(Реестр!B3117)+0","v":"00:00:00"},null,{"$f":"Реестр!AZ3117","v":0},{"$f":"Реестр!AN3117","v":0},{"$f":"Реестр!G3117","v":0},null,{"$f":"Реестр!J3117","v":0},0]
[{"$f":"(Реестр!B3118)+0","v":"00:00:00"},null,{"$f":"Реестр!AZ3118","v":0},{"$f":"Реестр!AN3118","v":0},{"$f":"Реестр!G3118","v":0},null,{"$f":"Реестр!J3118","v":0},0]
[{"$f":"(Реестр!B3119)+0","v":"00:00:00"},null,{"$f":"Реестр!AZ3119","v":0},{"$f":"Реестр!AN3119","v":0},{"$f":"Реестр!G3119","v":0},null,{"$f":"Реестр!J3119","v":0},0]
[{"$f":"(Реестр!B3120)+0","v":"00:00:00"},null,{"$f":"Реестр!AZ3120","v":0},{"$f":"Реестр!AN3120","v":0},{"$f":"Реестр!G3120","v":0},null,{"$f":"Реестр!J3120","v":0},0]
[{"$f":"(Реестр!B3121)+0","v":"00:00:00"},null,{"$f":"Реестр!AZ3121","v":0},{"$f":"Реестр!AN3121","v":0},{"$f":"Реестр!G3121","v":0},null,{"$f":"Реестр!J3121","v":0},0]
[{"$f":"(Реестр!B3122)+0","v":"00:00:00"},null,{"$f":"Реестр!AZ3122","v":0},{"$f":"Реестр!AN3122","v":0},{"$f":"Реестр!G3122","v":0},null,{"$f":"Реестр!J3122","v":0},0]
[{"$f":"(Реестр!B3123)+0","v":"00:00:00"},null,{"$f":"Реестр!AZ3123","v":0},{"$f":"Реестр!AN3123","v":0},{"$f":"Реестр!G3123","v":0},null,{"$f":"Реестр!J3123","v":0},0]
[{"$f":"(Реестр!B3124)+0","v":"00:00:00"},null,{"$f":"Реестр!AZ3124","v":0},{"$f":"Реестр!AN3124","v":0},{"$f":"Реестр!G3124","v":0},null,{"$f":"Реестр!J3124","v":0},0]
[{"$f":"(Реестр!B3125)+0","v":"00:00:00"},null,{"$f":"Реестр!AZ3125","v":0},{"$f":"Реестр!AN3125","v":0},{"$f":"Реестр!G3125","v":0},null,{"$f":"Реестр!J3125","v":0},0]
[{"$f":"(Реестр!B3126)+0","v":"00:00:00"},null,{"$f":"Реестр!AZ3126","v":0},{"$f":"Реестр!AN3126","v":0},{"$f":"Реестр!G3126","v":0},null,{"$f":"Реестр!J3126","v":0},0]
[{"$f":"(Реестр!B3127)+0","v":"00:00:00"},null,{"$f":"Реестр!AZ3127","v":0},{"$f":"Реестр!AN3127","v":0},{"$f":"Реестр!G3127","v":0},null,{"$f":"Реестр!J3127","v":0},0]
[{"$f":"(Реестр!B3128)+0","v":"00:00:00"},null,{"$f":"Реестр!AZ3128","v":0},{"$f":"Реестр!AN3128","v":0},{"$f":"Реестр!G3128","v":0},null,{"$f":"Реестр!J3128","v":0},0]
[{"$f":"(Реестр!B3129)+0","v":"00:00:00"},null,{"$f":"Реестр!AZ3129","v":0},{"$f":"Реестр!AN3129","v":0},{"$f":"Реестр!G3129","v":0},null,{"$f":"Реестр!J3129","v":0},0]
[{"$f":"(Реестр!B3130)+0","v":"00:00:00"},null,{"$f":"Реестр!AZ3130","v":0},{"$f":"Реестр!AN3130","v":0},{"$f":"Реестр!G3130","v":0},null,{"$f":"Реестр!J3130","v":0},0]
[{"$f":"(Реестр!B3131)+0","v":"00:00:00"},null,{"$f":"Реестр!AZ3131","v":0},{"$f":"Реестр!AN3131","v":0},{"$f":"Реестр!G3131","v":0},null,{"$f":"Реестр!J3131","v":0},0]
[{"$f":"(Реестр!B3132)+0","v":"00:00:00"},null,{"$f":"Реестр!AZ3132","v":0},{"$f":"Реестр!AN3132","v":0},{"$f":"Реестр!G3132","v":0},null,{"$f":"Реестр!J3132","v":0},0]
[{"$f":"(Реестр!B3133)+0","v":"00:00:00"},null,{"$f":"Реестр!AZ3133","v":0},{"$f":"Реестр!AN3133","v":0},{"$f":"Реестр!G3133","v":0},null,{"$f":"Реестр!J3133","v":0},0]
[{"$f":"(Реестр!B3134)+0","v":"00:00:00"},null,{"$f":"Реестр!AZ3134","v":0},{"$f":"Реестр!AN3134","v":0},{"$f":"Реестр!G3134","v":0},null,{"$f":"Реестр!J3134","v":0},0]
[{"$f":"(Реестр!B3135)+0","v":"00:00:00"},null,{"$f":"Реестр!AZ3135","v":0},{"$f":"Реестр!AN3135","v":0},{"$f":"Реестр!G3135","v":0},null,{"$f":"Реестр!J3135","v":0},{"$f":"E2569*G2569","v":0}]
[{"$f":"(Реестр!B3136)+0","v":"00:00:00"},null,{"$f":"Реестр!AZ3136","v":0},{"$f":"Реестр!AN3136","v":0},{"$f":"Реестр!G3136","v":0},null,{"$f":"Реестр!J3136","v":0},0]
[{"$f":"(Реестр!B3137)+0","v":"00:00:00"},null,{"$f":"Реестр!AZ3137","v":0},{"$f":"Реестр!AN3137","v":0},{"$f":"Реестр!G3137","v":0},null,{"$f":"Реестр!J3137","v":0},0]
[{"$f":"(Реестр!B3138)+0","v":"00:00:00"},null,{"$f":"Реестр!AZ3138","v":0},{"$f":"Реестр!AN3138","v":0},{"$f":"Реестр!G3138","v":0},null,{"$f":"Реестр!J3138","v":0},0]
[{"$f":"(Реестр!B3139)+0","v":"00:00:00"},null,{"$f":"Реестр!AZ3139","v":0},{"$f":"Реестр!AN3139","v":0},{"$f":"Реестр!G3139","v":0},null,{"$f":"Реестр!J3139","v":0},0]
[{"$f":"(Реестр!B3140)+0","v":"00:00:00"},null,{"$f":"Реестр!AZ3140","v":0},{"$f":"Реестр!AN3140","v":0},{"$f":"Реестр!G3140","v":0},null,{"$f":"Реестр!J3140","v":0},0]
[{"$f":"(Реестр!B3141)+0","v":"00:00:00"},null,{"$f":"Реестр!AZ3141","v":0},{"$f":"Реестр!AN3141","v":0},{"$f":"Реестр!G3141","v":0},null,{"$f":"Реестр!J3141","v":0},0]
[{"$f":"(Реестр!B3142)+0","v":"00:00:00"},null,{"$f":"Реестр!AZ3142","v":0},{"$f":"Реестр!AN3142","v":0},{"$f":"Реестр!G3142","v":0},null,{"$f":"Реестр!J3142","v":0},0]
[{"$f":"(Реестр!B3143)+0","v":"00:00:00"},null,{"$f":"Реестр!AZ3143","v":0},{"$f":"Реестр!AN3143","v":0},{"$f":"Реестр!G3143","v":0},null,{"$f":"Реестр!J3143","v":0},0]
[{"$f":"(Реестр!B3144)+0","v":"00:00:00"},null,{"$f":"Реестр!AZ3144","v":0},{"$f":"Реестр!AN3144","v":0},{"$f":"Реестр!G3144","v":0},null,{"$f":"Реестр!J3144","v":0},0]
[{"$f":"(Реестр!B3145)+0","v":"00:00:00"},null,{"$f":"Реестр!AZ3145","v":0},{"$f":"Реестр!AN3145","v":0},{"$f":"Реестр!G3145","v":0},null,{"$f":"Реестр!J3145","v":0},0]
[{"$f":"(Реестр!B3146)+0","v":"00:00:00"},null,{"$f":"Реестр!AZ3146","v":0},{"$f":"Реестр!AN3146","v":0},{"$f":"Реестр!G3146","v":0},null,{"$f":"Реестр!J3146","v":0},0]
[{"$f":"(Реестр!B3147)+0","v":"00:00:00"},null,{"$f":"Реестр!AZ3147","v":0},{"$f":"Реестр!AN3147","v":0},{"$f":"Реестр!G3147","v":0},null,{"$f":"Реестр!J3147","v":0},0]
[{"$f":"(Реестр!B3148)+0","v":"00:00:00"},null,{"$f":"Реестр!AZ3148","v":0},{"$f":"Реестр!AN3148","v":0},{"$f":"Реестр!G3148","v":0},null,{"$f":"Реестр!J3148","v":0},0]
[{"$f":"(Реестр!B3149)+0","v":"00:00:00"},null,{"$f":"Реестр!AZ3149","v":0},{"$f":"Реестр!AN3149","v":0},{"$f":"Реестр!G3149","v":0},null,{"$f":"Реестр!J3149","v":0},0]
[{"$f":"(Реестр!B3150)+0","v":"00:00:00"},null,{"$f":"Реестр!AZ3150","v":0},{"$f":"Реестр!AN3150","v":0},{"$f":"Реестр!G3150","v":0},null,{"$f":"Реестр!J3150","v":0},0]
[{"$f":"(Реестр!B3151)+0","v":"00:00:00"},null,{"$f":"Реестр!AZ3151","v":0},{"$f":"Реестр!AN3151","v":0},{"$f":"Реестр!G3151","v":0},null,{"$f":"Реестр!J3151","v":0},0]
[{"$f":"(Реестр!B3152)+0","v":"00:00:00"},null,{"$f":"Реестр!AZ3152","v":0},{"$f":"Реестр!AN3152","v":0},{"$f":"Реестр!G3152","v":0},null,{"$f":"Реестр!J3152","v":0},0]
[{"$f":"(Реестр!B3153)+0","v":"00:00:00"},null,{"$f":"Реестр!AZ3153","v":0},{"$f":"Реестр!AN3153","v":0},{"$f":"Реестр!G3153","v":0},null,{"$f":"Реестр!J3153","v":0},0]
[{"$f":"(Реестр!B3154)+0","v":"00:00:00"},null,{"$f":"Реестр!AZ3154","v":0},{"$f":"Реестр!AN3154","v":0},{"$f":"Реестр!G3154","v":0},null,{"$f":"Реестр!J3154","v":0},0]
[{"$f":"(Реестр!B3155)+0","v":"00:00:00"},null,{"$f":"Реестр!AZ3155","v":0},{"$f":"Реестр!AN3155","v":0},{"$f":"Реестр!G3155","v":0},null,{"$f":"Реестр!J3155","v":0},0]
[{"$f":"(Реестр!B3156)+0","v":"00:00:00"},null,{"$f":"Реестр!AZ3156","v":0},{"$f":"Реестр!AN3156","v":0},{"$f":"Реестр!G3156","v":0},null,{"$f":"Реестр!J3156","v":0},0]
[{"$f":"(Реестр!B3157)+0","v":"00:00:00"},null,{"$f":"Реестр!AZ3157","v":0},{"$f":"Реестр!AN3157","v":0},{"$f":"Реестр!G3157","v":0},null,{"$f":"Реестр!J3157","v":0},0]
[{"$f":"(Реестр!B3158)+0","v":"00:00:00"},null,{"$f":"Реестр!AZ3158","v":0},{"$f":"Реестр!AN3158","v":0},{"$f":"Реестр!G3158","v":0},null,{"$f":"Реестр!J3158","v":0},0]
[{"$f":"(Реестр!B3159)+0","v":"00:00:00"},null,{"$f":"Реестр!AZ3159","v":0},{"$f":"Реестр!AN3159","v":0},{"$f":"Реестр!G3159","v":0},null,{"$f":"Реестр!J3159","v":0},0]
[{"$f":"(Реестр!B3160)+0","v":"00:00:00"},null,{"$f":"Реестр!AZ3160","v":0},{"$f":"Реестр!AN3160","v":0},{"$f":"Реестр!G3160","v":0},null,{"$f":"Реестр!J3160","v":0},0]
[{"$f":"(Реестр!B3161)+0","v":"00:00:00"},null,{"$f":"Реестр!AZ3161","v":0},{"$f":"Реестр!AN3161","v":0},{"$f":"Реестр!G3161","v":0},null,{"$f":"Реестр!J3161","v":0},0]
[{"$f":"(Реестр!B3162)+0","v":"00:00:00"},null,{"$f":"Реестр!AZ3162","v":0},{"$f":"Реестр!AN3162","v":0},{"$f":"Реестр!G3162","v":0},null,{"$f":"Реестр!J3162","v":0},0]
[{"$f":"(Реестр!B3163)+0","v":"00:00:00"},null,{"$f":"Реестр!AZ3163","v":0},{"$f":"Реестр!AN3163","v":0},{"$f":"Реестр!G3163","v":0},null,{"$f":"Реестр!J3163","v":0},0]
[{"$f":"(Реестр!B3164)+0","v":"00:00:00"},null,{"$f":"Реестр!AZ3164","v":0},{"$f":"Реестр!AN3164","v":0},{"$f":"Реестр!G3164","v":0},null,{"$f":"Реестр!J3164","v":0},0]
[{"$f":"(Реестр!B3165)+0","v":"00:00:00"},null,{"$f":"Реестр!AZ3165","v":0},{"$f":"Реестр!AN3165","v":0},{"$f":"Реестр!G3165","v":0},null,{"$f":"Реестр!J3165","v":0},0]
[{"$f":"(Реестр!B3166)+0","v":"00:00:00"},null,{"$f":"Реестр!AZ3166","v":0},{"$f":"Реестр!AN3166","v":0},{"$f":"Реестр!G3166","v":0},null,{"$f":"Реестр!J3166","v":0},0]
[{"$f":"(Реестр!B3167)+0","v":"00:00:00"},null,{"$f":"Реестр!AZ3167","v":0},{"$f":"Реестр!AN3167","v":0},{"$f":"Реестр!G3167","v":0},null,{"$f":"Реестр!J3167","v":0},0]
[{"$f":"(Реестр!B3168)+0","v":"00:00:00"},null,{"$f":"Реестр!AZ3168","v":0},{"$f":"Реестр!AN3168","v":0},{"$f":"Реестр!G3168","v":0},null,{"$f":"Реестр!J3168","v":0},0]
[{"$f":"(Реестр!B3169)+0","v":"00:00:00"},null,{"$f":"Реестр!AZ3169","v":0},{"$f":"Реестр!AN3169","v":0},{"$f":"Реестр!G3169","v":0},null,{"$f":"Реестр!J3169","v":0},0]
[{"$f":"(Реестр!B3170)+0","v":"00:00:00"},null,{"$f":"Реестр!AZ3170","v":0},{"$f":"Реестр!AN3170","v":0},{"$f":"Реестр!G3170","v":0},null,{"$f":"Реестр!J3170","v":0},0]
[{"$f":"(Реестр!B3171)+0","v":"00:00:00"},null,{"$f":"Реестр!AZ3171","v":0},{"$f":"Реестр!AN3171","v":0},{"$f":"Реестр!G3171","v":0},null,{"$f":"Реестр!J3171","v":0},0]
[{"$f":"(Реестр!B3172)+0","v":"00:00:00"},null,{"$f":"Реестр!AZ3172","v":0},{"$f":"Реестр!AN3172","v":0},{"$f":"Реестр!G3172","v":0},null,{"$f":"Реестр!J3172","v":0},0]
[{"$f":"(Реестр!B3173)+0","v":"00:00:00"},null,{"$f":"Реестр!AZ3173","v":0},{"$f":"Реестр!AN3173","v":0},{"$f":"Реестр!G3173","v":0},null,{"$f":"Реестр!J3173","v":0},0]
[{"$f":"(Реестр!B3174)+0","v":"00:00:00"},null,{"$f":"Реестр!AZ3174","v":0},{"$f":"Реестр!AN3174","v":0},{"$f":"Реестр!G3174","v":0},null,{"$f":"Реестр!J3174","v":0},0]
[{"$f":"(Реестр!B3175)+0","v":"00:00:00"},null,{"$f":"Реестр!AZ3175","v":0},{"$f":"Реестр!AN3175","v":0},{"$f":"Реестр!G3175","v":0},null,{"$f":"Реестр!J3175","v":0},0]
[{"$f":"(Реестр!B3176)+0","v":"00:00:00"},null,{"$f":"Реестр!AZ3176","v":0},{"$f":"Реестр!AN3176","v":0},{"$f":"Реестр!G3176","v":0},null,{"$f":"Реестр!J3176","v":0},0]
[{"$f":"(Реестр!B3177)+0","v":"00:00:00"},null,{"$f":"Реестр!AZ3177","v":0},{"$f":"Реестр!AN3177","v":0},{"$f":"Реестр!G3177","v":0},null,{"$f":"Реестр!J3177","v":0},0]
[{"$f":"(Реестр!B3178)+0","v":"00:00:00"},null,{"$f":"Реестр!AZ3178","v":0},{"$f":"Реестр!AN3178","v":0},{"$f":"Реестр!G3178","v":0},null,{"$f":"Реестр!J3178","v":0},0]
[{"$f":"(Реестр!B3179)+0","v":"00:00:00"},null,{"$f":"Реестр!AZ3179","v":0},{"$f":"Реестр!AN3179","v":0},{"$f":"Реестр!G3179","v":0},null,{"$f":"Реестр!J3179","v":0},0]
[{"$f":"(Реестр!B3180)+0","v":"00:00:00"},null,{"$f":"Реестр!AZ3180","v":0},{"$f":"Реестр!AN3180","v":0},{"$f":"Реестр!G3180","v":0},null,{"$f":"Реестр!J3180","v":0},0]
[{"$f":"(Реестр!B3181)+0","v":"00:00:00"},null,{"$f":"Реестр!AZ3181","v":0},{"$f":"Реестр!AN3181","v":0},{"$f":"Реестр!G3181","v":0},null,{"$f":"Реестр!J3181","v":0},0]
[{"$f":"(Реестр!B3182)+0","v":"00:00:00"},null,{"$f":"Реестр!AZ3182","v":0},{"$f":"Реестр!AN3182","v":0},{"$f":"Реестр!G3182","v":0},null,{"$f":"Реестр!J3182","v":0},0]
[{"$f":"(Реестр!B3183)+0","v":"00:00:00"},null,{"$f":"Реестр!AZ3183","v":0},{"$f":"Реестр!AN3183","v":0},{"$f":"Реестр!G3183","v":0},null,{"$f":"Реестр!J3183","v":0},0]
[{"$f":"(Реестр!B3184)+0","v":"00:00:00"},null,{"$f":"Реестр!AZ3184","v":0},{"$f":"Реестр!AN3184","v":0},{"$f":"Реестр!G3184","v":0},null,{"$f":"Реестр!J3184","v":0},0]
[{"$f":"(Реестр!B3185)+0","v":"00:00:00"},null,{"$f":"Реестр!AZ3185","v":0},{"$f":"Реестр!AN3185","v":0},{"$f":"Реестр!G3185","v":0},null,{"$f":"Реестр!J3185","v":0},0]
[{"$f":"(Реестр!B3186)+0","v":"00:00:00"},null,{"$f":"Реестр!AZ3186","v":0},{"$f":"Реестр!AN3186","v":0},{"$f":"Реестр!G3186","v":0},null,{"$f":"Реестр!J3186","v":0},0]
[{"$f":"(Реестр!B3187)+0","v":"00:00:00"},null,{"$f":"Реестр!AZ3187","v":0},{"$f":"Реестр!AN3187","v":0},{"$f":"Реестр!G3187","v":0},null,{"$f":"Реестр!J3187","v":0},0]
[{"$f":"(Реестр!B3188)+0","v":"00:00:00"},null,{"$f":"Реестр!AZ3188","v":0},{"$f":"Реестр!AN3188","v":0},{"$f":"Реестр!G3188","v":0},null,{"$f":"Реестр!J3188","v":0},0]
[{"$f":"(Реестр!B3189)+0","v":"00:00:00"},null,{"$f":"Реестр!AZ3189","v":0},{"$f":"Реестр!AN3189","v":0},{"$f":"Реестр!G3189","v":0},null,{"$f":"Реестр!J3189","v":0},0]
[{"$f":"(Реестр!B3190)+0","v":"00:00:00"},null,{"$f":"Реестр!AZ3190","v":0},{"$f":"Реестр!AN3190","v":0},{"$f":"Реестр!G3190","v":0},null,{"$f":"Реестр!J3190","v":0},0]
[{"$f":"(Реестр!B3191)+0","v":"00:00:00"},null,{"$f":"Реестр!AZ3191","v":0},{"$f":"Реестр!AN3191","v":0},{"$f":"Реестр!G3191","v":0},null,{"$f":"Реестр!J3191","v":0},0]
[{"$f":"(Реестр!B3192)+0","v":"00:00:00"},null,{"$f":"Реестр!AZ3192","v":0},{"$f":"Реестр!AN3192","v":0},{"$f":"Реестр!G3192","v":0},null,{"$f":"Реестр!J3192","v":0},0]
[{"$f":"(Реестр!B3193)+0","v":"00:00:00"},null,{"$f":"Реестр!AZ3193","v":0},{"$f":"Реестр!AN3193","v":0},{"$f":"Реестр!G3193","v":0},null,{"$f":"Реестр!J3193","v":0},0]
[{"$f":"(Реестр!B3194)+0","v":"00:00:00"},null,{"$f":"Реестр!AZ3194","v":0},{"$f":"Реестр!AN3194","v":0},{"$f":"Реестр!G3194","v":0},null,{"$f":"Реестр!J3194","v":0},0]
[{"$f":"(Реестр!B3195)+0","v":"00:00:00"},null,{"$f":"Реестр!AZ3195","v":0},{"$f":"Реестр!AN3195","v":0},{"$f":"Реестр!G3195","v":0},null,{"$f":"Реестр!J3195","v":0},0]
[{"$f":"(Реестр!B3196)+0","v":"00:00:00"},null,{"$f":"Реестр!AZ3196","v":0},{"$f":"Реестр!AN3196","v":0},{"$f":"Реестр!G3196","v":0},null,{"$f":"Реестр!J3196","v":0},0]
[{"$f":"(Реестр!B3197)+0","v":"00:00:00"},null,{"$f":"Реестр!AZ3197","v":0},{"$f":"Реестр!AN3197","v":0},{"$f":"Реестр!G3197","v":0},null,{"$f":"Реестр!J3197","v":0},0]
[{"$f":"(Реестр!B3198)+0","v":"00:00:00"},null,{"$f":"Реестр!AZ3198","v":0},{"$f":"Реестр!AN3198","v":0},{"$f":"Реестр!G3198","v":0},null,{"$f":"Реестр!J3198","v":0},0]
[{"$f":"(Реестр!B3199)+0","v":"00:00:00"},null,{"$f":"Реестр!AZ3199","v":0},{"$f":"Реестр!AN3199","v":0},{"$f":"Реестр!G3199","v":0},null,{"$f":"Реестр!J3199","v":0},{"$f":"E2633*G2633","v":0}]
[{"$f":"(Реестр!B3200)+0","v":"00:00:00"},null,{"$f":"Реестр!AZ3200","v":0},{"$f":"Реестр!AN3200","v":0},{"$f":"Реестр!G3200","v":0},null,{"$f":"Реестр!J3200","v":0},0]
[{"$f":"(Реестр!B3201)+0","v":"00:00:00"},null,{"$f":"Реестр!AZ3201","v":0},{"$f":"Реестр!AN3201","v":0},{"$f":"Реестр!G3201","v":0},null,{"$f":"Реестр!J3201","v":0},0]
[{"$f":"(Реестр!B3202)+0","v":"00:00:00"},null,{"$f":"Реестр!AZ3202","v":0},{"$f":"Реестр!AN3202","v":0},{"$f":"Реестр!G3202","v":0},null,{"$f":"Реестр!J3202","v":0},0]
[{"$f":"(Реестр!B3203)+0","v":"00:00:00"},null,{"$f":"Реестр!AZ3203","v":0},{"$f":"Реестр!AN3203","v":0},{"$f":"Реестр!G3203","v":0},null,{"$f":"Реестр!J3203","v":0},0]
[{"$f":"(Реестр!B3204)+0","v":"00:00:00"},null,{"$f":"Реестр!AZ3204","v":0},{"$f":"Реестр!AN3204","v":0},{"$f":"Реестр!G3204","v":0},null,{"$f":"Реестр!J3204","v":0},0]
[{"$f":"(Реестр!B3205)+0","v":"00:00:00"},null,{"$f":"Реестр!AZ3205","v":0},{"$f":"Реестр!AN3205","v":0},{"$f":"Реестр!G3205","v":0},null,{"$f":"Реестр!J3205","v":0},0]
[{"$f":"(Реестр!B3206)+0","v":"00:00:00"},null,{"$f":"Реестр!AZ3206","v":0},{"$f":"Реестр!AN3206","v":0},{"$f":"Реестр!G3206","v":0},null,{"$f":"Реестр!J3206","v":0},0]
[{"$f":"(Реестр!B3207)+0","v":"00:00:00"},null,{"$f":"Реестр!AZ3207","v":0},{"$f":"Реестр!AN3207","v":0},{"$f":"Реестр!G3207","v":0},null,{"$f":"Реестр!J3207","v":0},0]
[{"$f":"(Реестр!B3208)+0","v":"00:00:00"},null,{"$f":"Реестр!AZ3208","v":0},{"$f":"Реестр!AN3208","v":0},{"$f":"Реестр!G3208","v":0},null,{"$f":"Реестр!J3208","v":0},0]
[{"$f":"(Реестр!B3209)+0","v":"00:00:00"},null,{"$f":"Реестр!AZ3209","v":0},{"$f":"Реестр!AN3209","v":0},{"$f":"Реестр!G3209","v":0},null,{"$f":"Реестр!J3209","v":0},0]
[{"$f":"(Реестр!B3210)+0","v":"00:00:00"},null,{"$f":"Реестр!AZ3210","v":0},{"$f":"Реестр!AN3210","v":0},{"$f":"Реестр!G3210","v":0},null,{"$f":"Реестр!J3210","v":0},0]
[{"$f":"(Реестр!B3211)+0","v":"00:00:00"},null,{"$f":"Реестр!AZ3211","v":0},{"$f":"Реестр!AN3211","v":0},{"$f":"Реестр!G3211","v":0},null,{"$f":"Реестр!J3211","v":0},0]
[{"$f":"(Реестр!B3212)+0","v":"00:00:00"},null,{"$f":"Реестр!AZ3212","v":0},{"$f":"Реестр!AN3212","v":0},{"$f":"Реестр!G3212","v":0},null,{"$f":"Реестр!J3212","v":0},0]
[{"$f":"(Реестр!B3213)+0","v":"00:00:00"},null,{"$f":"Реестр!AZ3213","v":0},{"$f":"Реестр!AN3213","v":0},{"$f":"Реестр!G3213","v":0},null,{"$f":"Реестр!J3213","v":0},0]
[{"$f":"(Реестр!B3214)+0","v":"00:00:00"},null,{"$f":"Реестр!AZ3214","v":0},{"$f":"Реестр!AN3214","v":0},{"$f":"Реестр!G3214","v":0},null,{"$f":"Реестр!J3214","v":0},0]
[{"$f":"(Реестр!B3215)+0","v":"00:00:00"},null,{"$f":"Реестр!AZ3215","v":0},{"$f":"Реестр!AN3215","v":0},{"$f":"Реестр!G3215","v":0},null,{"$f":"Реестр!J3215","v":0},0]
[{"$f":"(Реестр!B3216)+0","v":"00:00:00"},null,{"$f":"Реестр!AZ3216","v":0},{"$f":"Реестр!AN3216","v":0},{"$f":"Реестр!G3216","v":0},null,{"$f":"Реестр!J3216","v":0},0]
[{"$f":"(Реестр!B3217)+0","v":"00:00:00"},null,{"$f":"Реестр!AZ3217","v":0},{"$f":"Реестр!AN3217","v":0},{"$f":"Реестр!G3217","v":0},null,{"$f":"Реестр!J3217","v":0},0]
[{"$f":"(Реестр!B3218)+0","v":"00:00:00"},null,{"$f":"Реестр!AZ3218","v":0},{"$f":"Реестр!AN3218","v":0},{"$f":"Реестр!G3218","v":0},null,{"$f":"Реестр!J3218","v":0},0]
[{"$f":"(Реестр!B3219)+0","v":"00:00:00"},null,{"$f":"Реестр!AZ3219","v":0},{"$f":"Реестр!AN3219","v":0},{"$f":"Реестр!G3219","v":0},null,{"$f":"Реестр!J3219","v":0},0]
[{"$f":"(Реестр!B3220)+0","v":"00:00:00"},null,{"$f":"Реестр!AZ3220","v":0},{"$f":"Реестр!AN3220","v":0},{"$f":"Реестр!G3220","v":0},null,{"$f":"Реестр!J3220","v":0},0]
[{"$f":"(Реестр!B3221)+0","v":"00:00:00"},null,{"$f":"Реестр!AZ3221","v":0},{"$f":"Реестр!AN3221","v":0},{"$f":"Реестр!G3221","v":0},null,{"$f":"Реестр!J3221","v":0},0]
[{"$f":"(Реестр!B3222)+0","v":"00:00:00"},null,{"$f":"Реестр!AZ3222","v":0},{"$f":"Реестр!AN3222","v":0},{"$f":"Реестр!G3222","v":0},null,{"$f":"Реестр!J3222","v":0},0]
[{"$f":"(Реестр!B3223)+0","v":"00:00:00"},null,{"$f":"Реестр!AZ3223","v":0},{"$f":"Реестр!AN3223","v":0},{"$f":"Реестр!G3223","v":0},null,{"$f":"Реестр!J3223","v":0},0]
[{"$f":"(Реестр!B3224)+0","v":"00:00:00"},null,{"$f":"Реестр!AZ3224","v":0},{"$f":"Реестр!AN3224","v":0},{"$f":"Реестр!G3224","v":0},null,{"$f":"Реестр!J3224","v":0},0]
[{"$f":"(Реестр!B3225)+0","v":"00:00:00"},null,{"$f":"Реестр!AZ3225","v":0},{"$f":"Реестр!AN3225","v":0},{"$f":"Реестр!G3225","v":0},null,{"$f":"Реестр!J3225","v":0},0]
[{"$f":"(Реестр!B3226)+0","v":"00:00:00"},null,{"$f":"Реестр!AZ3226","v":0},{"$f":"Реестр!AN3226","v":0},{"$f":"Реестр!G3226","v":0},null,{"$f":"Реестр!J3226","v":0},0]
[{"$f":"(Реестр!B3227)+0","v":"00:00:00"},null,{"$f":"Реестр!AZ3227","v":0},{"$f":"Реестр!AN3227","v":0},{"$f":"Реестр!G3227","v":0},null,{"$f":"Реестр!J3227","v":0},0]
[{"$f":"(Реестр!B3228)+0","v":"00:00:00"},null,{"$f":"Реестр!AZ3228","v":0},{"$f":"Реестр!AN3228","v":0},{"$f":"Реестр!G3228","v":0},null,{"$f":"Реестр!J3228","v":0},0]
[{"$f":"(Реестр!B3229)+0","v":"00:00:00"},null,{"$f":"Реестр!AZ3229","v":0},{"$f":"Реестр!AN3229","v":0},{"$f":"Реестр!G3229","v":0},null,{"$f":"Реестр!J3229","v":0},0]
[{"$f":"(Реестр!B3230)+0","v":"00:00:00"},null,{"$f":"Реестр!AZ3230","v":0},{"$f":"Реестр!AN3230","v":0},{"$f":"Реестр!G3230","v":0},null,{"$f":"Реестр!J3230","v":0},0]
[{"$f":"(Реестр!B3231)+0","v":"00:00:00"},null,{"$f":"Реестр!AZ3231","v":0},{"$f":"Реестр!AN3231","v":0},{"$f":"Реестр!G3231","v":0},null,{"$f":"Реестр!J3231","v":0},0]
[{"$f":"(Реестр!B3232)+0","v":"00:00:00"},null,{"$f":"Реестр!AZ3232","v":0},{"$f":"Реестр!AN3232","v":0},{"$f":"Реестр!G3232","v":0},null,{"$f":"Реестр!J3232","v":0},0]
[{"$f":"(Реестр!B3233)+0","v":"00:00:00"},null,{"$f":"Реестр!AZ3233","v":0},{"$f":"Реестр!AN3233","v":0},{"$f":"Реестр!G3233","v":0},null,{"$f":"Реестр!J3233","v":0},0]
[{"$f":"(Реестр!B3234)+0","v":"00:00:00"},null,{"$f":"Реестр!AZ3234","v":0},{"$f":"Реестр!AN3234","v":0},{"$f":"Реестр!G3234","v":0},null,{"$f":"Реестр!J3234","v":0},0]
[{"$f":"(Реестр!B3235)+0","v":"00:00:00"},null,{"$f":"Реестр!AZ3235","v":0},{"$f":"Реестр!AN3235","v":0},{"$f":"Реестр!G3235","v":0},null,{"$f":"Реестр!J3235","v":0},0]
[{"$f":"(Реестр!B3236)+0","v":"00:00:00"},null,{"$f":"Реестр!AZ3236","v":0},{"$f":"Реестр!AN3236","v":0},{"$f":"Реестр!G3236","v":0},null,{"$f":"Реестр!J3236","v":0},0]
[{"$f":"(Реестр!B3237)+0","v":"00:00:00"},null,{"$f":"Реестр!AZ3237","v":0},{"$f":"Реестр!AN3237","v":0},{"$f":"Реестр!G3237","v":0},null,{"$f":"Реестр!J3237","v":0},0]
[{"$f":"(Реестр!B3238)+0","v":"00:00:00"},null,{"$f":"Реестр!AZ3238","v":0},{"$f":"Реестр!AN3238","v":0},{"$f":"Реестр!G3238","v":0},null,{"$f":"Реестр!J3238","v":0},0]
[{"$f":"(Реестр!B3239)+0","v":"00:00:00"},null,{"$f":"Реестр!AZ3239","v":0},{"$f":"Реестр!AN3239","v":0},{"$f":"Реестр!G3239","v":0},null,{"$f":"Реестр!J3239","v":0},0]
[{"$f":"(Реестр!B3240)+0","v":"00:00:00"},null,{"$f":"Реестр!AZ3240","v":0},{"$f":"Реестр!AN3240","v":0},{"$f":"Реестр!G3240","v":0},null,{"$f":"Реестр!J3240","v":0},0]
[{"$f":"(Реестр!B3241)+0","v":"00:00:00"},null,{"$f":"Реестр!AZ3241","v":0},{"$f":"Реестр!AN3241","v":0},{"$f":"Реестр!G3241","v":0},null,{"$f":"Реестр!J3241","v":0},0]
[{"$f":"(Реестр!B3242)+0","v":"00:00:00"},null,{"$f":"Реестр!AZ3242","v":0},{"$f":"Реестр!AN3242","v":0},{"$f":"Реестр!G3242","v":0},null,{"$f":"Реестр!J3242","v":0},0]
[{"$f":"(Реестр!B3243)+0","v":"00:00:00"},null,{"$f":"Реестр!AZ3243","v":0},{"$f":"Реестр!AN3243","v":0},{"$f":"Реестр!G3243","v":0},null,{"$f":"Реестр!J3243","v":0},0]
[{"$f":"(Реестр!B3244)+0","v":"00:00:00"},null,{"$f":"Реестр!AZ3244","v":0},{"$f":"Реестр!AN3244","v":0},{"$f":"Реестр!G3244","v":0},null,{"$f":"Реестр!J3244","v":0},0]
[{"$f":"(Реестр!B3245)+0","v":"00:00:00"},null,{"$f":"Реестр!AZ3245","v":0},{"$f":"Реестр!AN3245","v":0},{"$f":"Реестр!G3245","v":0},null,{"$f":"Реестр!J3245","v":0},0]
[{"$f":"(Реестр!B3246)+0","v":"00:00:00"},null,{"$f":"Реестр!AZ3246","v":0},{"$f":"Реестр!AN3246","v":0},{"$f":"Реестр!G3246","v":0},null,{"$f":"Реестр!J3246","v":0},0]
[{"$f":"(Реестр!B3247)+0","v":"00:00:00"},null,{"$f":"Реестр!AZ3247","v":0},{"$f":"Реестр!AN3247","v":0},{"$f":"Реестр!G3247","v":0},null,{"$f":"Реестр!J3247","v":0},0]
[{"$f":"(Реестр!B3248)+0","v":"00:00:00"},null,{"$f":"Реестр!AZ3248","v":0},{"$f":"Реестр!AN3248","v":0},{"$f":"Реестр!G3248","v":0},null,{"$f":"Реестр!J3248","v":0},0]
[{"$f":"(Реестр!B3249)+0","v":"00:00:00"},null,{"$f":"Реестр!AZ3249","v":0},{"$f":"Реестр!AN3249","v":0},{"$f":"Реестр!G3249","v":0},null,{"$f":"Реестр!J3249","v":0},0]
[{"$f":"(Реестр!B3250)+0","v":"00:00:00"},null,{"$f":"Реестр!AZ3250","v":0},{"$f":"Реестр!AN3250","v":0},{"$f":"Реестр!G3250","v":0},null,{"$f":"Реестр!J3250","v":0},0]
[{"$f":"(Реестр!B3251)+0","v":"00:00:00"},null,{"$f":"Реестр!AZ3251","v":0},{"$f":"Реестр!AN3251","v":0},{"$f":"Реестр!G3251","v":0},null,{"$f":"Реестр!J3251","v":0},0]
[{"$f":"(Реестр!B3252)+0","v":"00:00:00"},null,{"$f":"Реестр!AZ3252","v":0},{"$f":"Реестр!AN3252","v":0},{"$f":"Реестр!G3252","v":0},null,{"$f":"Реестр!J3252","v":0},0]
[{"$f":"(Реестр!B3253)+0","v":"00:00:00"},null,{"$f":"Реестр!AZ3253","v":0},{"$f":"Реестр!AN3253","v":0},{"$f":"Реестр!G3253","v":0},null,{"$f":"Реестр!J3253","v":0},0]
[{"$f":"(Реестр!B3254)+0","v":"00:00:00"},null,{"$f":"Реестр!AZ3254","v":0},{"$f":"Реестр!AN3254","v":0},{"$f":"Реестр!G3254","v":0},null,{"$f":"Реестр!J3254","v":0},0]
[{"$f":"(Реестр!B3255)+0","v":"00:00:00"},null,{"$f":"Реестр!AZ3255","v":0},{"$f":"Реестр!AN3255","v":0},{"$f":"Реестр!G3255","v":0},null,{"$f":"Реестр!J3255","v":0},0]
[{"$f":"(Реестр!B3256)+0","v":"00:00:00"},null,{"$f":"Реестр!AZ3256","v":0},{"$f":"Реестр!AN3256","v":0},{"$f":"Реестр!G3256","v":0},null,{"$f":"Реестр!J3256","v":0},0]
[{"$f":"(Реестр!B3257)+0","v":"00:00:00"},null,{"$f":"Реестр!AZ3257","v":0},{"$f":"Реестр!AN3257","v":0},{"$f":"Реестр!G3257","v":0},null,{"$f":"Реестр!J3257","v":0},0]
[{"$f":"(Реестр!B3258)+0","v":"00:00:00"},null,{"$f":"Реестр!AZ3258","v":0},{"$f":"Реестр!AN3258","v":0},{"$f":"Реестр!G3258","v":0},null,{"$f":"Реестр!J3258","v":0},0]
[{"$f":"(Реестр!B3259)+0","v":"00:00:00"},null,{"$f":"Реестр!AZ3259","v":0},{"$f":"Реестр!AN3259","v":0},{"$f":"Реестр!G3259","v":0},null,{"$f":"Реестр!J3259","v":0},0]
[{"$f":"(Реестр!B3260)+0","v":"00:00:00"},null,{"$f":"Реестр!AZ3260","v":0},{"$f":"Реестр!AN3260","v":0},{"$f":"Реестр!G3260","v":0},null,{"$f":"Реестр!J3260","v":0},0]
[{"$f":"(Реестр!B3261)+0","v":"00:00:00"},null,{"$f":"Реестр!AZ3261","v":0},{"$f":"Реестр!AN3261","v":0},{"$f":"Реестр!G3261","v":0},null,{"$f":"Реестр!J3261","v":0},0]
[{"$f":"(Реестр!B3262)+0","v":"00:00:00"},null,{"$f":"Реестр!AZ3262","v":0},{"$f":"Реестр!AN3262","v":0},{"$f":"Реестр!G3262","v":0},null,{"$f":"Реестр!J3262","v":0},0]
[{"$f":"(Реестр!B3263)+0","v":"00:00:00"},null,{"$f":"Реестр!AZ3263","v":0},{"$f":"Реестр!AN3263","v":0},{"$f":"Реестр!G3263","v":0},null,{"$f":"Реестр!J3263","v":0},{"$f":"E2697*G2697","v":0}]
[{"$f":"(Реестр!B3264)+0","v":"00:00:00"},null,{"$f":"Реестр!AZ3264","v":0},{"$f":"Реестр!AN3264","v":0},{"$f":"Реестр!G3264","v":0},null,{"$f":"Реестр!J3264","v":0},0]
[{"$f":"(Реестр!B3265)+0","v":"00:00:00"},null,{"$f":"Реестр!AZ3265","v":0},{"$f":"Реестр!AN3265","v":0},{"$f":"Реестр!G3265","v":0},null,{"$f":"Реестр!J3265","v":0},0]
[{"$f":"(Реестр!B3266)+0","v":"00:00:00"},null,{"$f":"Реестр!AZ3266","v":0},{"$f":"Реестр!AN3266","v":0},{"$f":"Реестр!G3266","v":0},null,{"$f":"Реестр!J3266","v":0},0]
[{"$f":"(Реестр!B3267)+0","v":"00:00:00"},null,{"$f":"Реестр!AZ3267","v":0},{"$f":"Реестр!AN3267","v":0},{"$f":"Реестр!G3267","v":0},null,{"$f":"Реестр!J3267","v":0},0]
[{"$f":"(Реестр!B3268)+0","v":"00:00:00"},null,{"$f":"Реестр!AZ3268","v":0},{"$f":"Реестр!AN3268","v":0},{"$f":"Реестр!G3268","v":0},null,{"$f":"Реестр!J3268","v":0},0]
[{"$f":"(Реестр!B3269)+0","v":"00:00:00"},null,{"$f":"Реестр!AZ3269","v":0},{"$f":"Реестр!AN3269","v":0},{"$f":"Реестр!G3269","v":0},null,{"$f":"Реестр!J3269","v":0},0]
[{"$f":"(Реестр!B3270)+0","v":"00:00:00"},null,{"$f":"Реестр!AZ3270","v":0},{"$f":"Реестр!AN3270","v":0},{"$f":"Реестр!G3270","v":0},null,{"$f":"Реестр!J3270","v":0},0]
[{"$f":"(Реестр!B3271)+0","v":"00:00:00"},null,{"$f":"Реестр!AZ3271","v":0},{"$f":"Реестр!AN3271","v":0},{"$f":"Реестр!G3271","v":0},null,{"$f":"Реестр!J3271","v":0},0]
[{"$f":"(Реестр!B3272)+0","v":"00:00:00"},null,{"$f":"Реестр!AZ3272","v":0},{"$f":"Реестр!AN3272","v":0},{"$f":"Реестр!G3272","v":0},null,{"$f":"Реестр!J3272","v":0},0]
[{"$f":"(Реестр!B3273)+0","v":"00:00:00"},null,{"$f":"Реестр!AZ3273","v":0},{"$f":"Реестр!AN3273","v":0},{"$f":"Реестр!G3273","v":0},null,{"$f":"Реестр!J3273","v":0},0]
[{"$f":"(Реестр!B3274)+0","v":"00:00:00"},null,{"$f":"Реестр!AZ3274","v":0},{"$f":"Реестр!AN3274","v":0},{"$f":"Реестр!G3274","v":0},null,{"$f":"Реестр!J3274","v":0},0]
[{"$f":"(Реестр!B3275)+0","v":"00:00:00"},null,{"$f":"Реестр!AZ3275","v":0},{"$f":"Реестр!AN3275","v":0},{"$f":"Реестр!G3275","v":0},null,{"$f":"Реестр!J3275","v":0},0]
[{"$f":"(Реестр!B3276)+0","v":"00:00:00"},null,{"$f":"Реестр!AZ3276","v":0},{"$f":"Реестр!AN3276","v":0},{"$f":"Реестр!G3276","v":0},null,{"$f":"Реестр!J3276","v":0},0]
[{"$f":"(Реестр!B3277)+0","v":"00:00:00"},null,{"$f":"Реестр!AZ3277","v":0},{"$f":"Реестр!AN3277","v":0},{"$f":"Реестр!G3277","v":0},null,{"$f":"Реестр!J3277","v":0},0]
[{"$f":"(Реестр!B3278)+0","v":"00:00:00"},null,{"$f":"Реестр!AZ3278","v":0},{"$f":"Реестр!AN3278","v":0},{"$f":"Реестр!G3278","v":0},null,{"$f":"Реестр!J3278","v":0},0]
[{"$f":"(Реестр!B3279)+0","v":"00:00:00"},null,{"$f":"Реестр!AZ3279","v":0},{"$f":"Реестр!AN3279","v":0},{"$f":"Реестр!G3279","v":0},null,{"$f":"Реестр!J3279","v":0},0]
[{"$f":"(Реестр!B3280)+0","v":"00:00:00"},null,{"$f":"Реестр!AZ3280","v":0},{"$f":"Реестр!AN3280","v":0},{"$f":"Реестр!G3280","v":0},null,{"$f":"Реестр!J3280","v":0},0]
[{"$f":"(Реестр!B3281)+0","v":"00:00:00"},null,{"$f":"Реестр!AZ3281","v":0},{"$f":"Реестр!AN3281","v":0},{"$f":"Реестр!G3281","v":0},null,{"$f":"Реестр!J3281","v":0},0]
[{"$f":"(Реестр!B3282)+0","v":"00:00:00"},null,{"$f":"Реестр!AZ3282","v":0},{"$f":"Реестр!AN3282","v":0},{"$f":"Реестр!G3282","v":0},null,{"$f":"Реестр!J3282","v":0},0]
[{"$f":"(Реестр!B3283)+0","v":"00:00:00"},null,{"$f":"Реестр!AZ3283","v":0},{"$f":"Реестр!AN3283","v":0},{"$f":"Реестр!G3283","v":0},null,{"$f":"Реестр!J3283","v":0},0]
[{"$f":"(Реестр!B3284)+0","v":"00:00:00"},null,{"$f":"Реестр!AZ3284","v":0},{"$f":"Реестр!AN3284","v":0},{"$f":"Реестр!G3284","v":0},null,{"$f":"Реестр!J3284","v":0},0]
[{"$f":"(Реестр!B3285)+0","v":"00:00:00"},null,{"$f":"Реестр!AZ3285","v":0},{"$f":"Реестр!AN3285","v":0},{"$f":"Реестр!G3285","v":0},null,{"$f":"Реестр!J3285","v":0},0]
[{"$f":"(Реестр!B3286)+0","v":"00:00:00"},null,{"$f":"Реестр!AZ3286","v":0},{"$f":"Реестр!AN3286","v":0},{"$f":"Реестр!G3286","v":0},null,{"$f":"Реестр!J3286","v":0},0]
[{"$f":"(Реестр!B3287)+0","v":"00:00:00"},null,{"$f":"Реестр!AZ3287","v":0},{"$f":"Реестр!AN3287","v":0},{"$f":"Реестр!G3287","v":0},null,{"$f":"Реестр!J3287","v":0},0]
[{"$f":"(Реестр!B3288)+0","v":"00:00:00"},null,{"$f":"Реестр!AZ3288","v":0},{"$f":"Реестр!AN3288","v":0},{"$f":"Реестр!G3288","v":0},null,{"$f":"Реестр!J3288","v":0},0]
[{"$f":"(Реестр!B3289)+0","v":"00:00:00"},null,{"$f":"Реестр!AZ3289","v":0},{"$f":"Реестр!AN3289","v":0},{"$f":"Реестр!G3289","v":0},null,{"$f":"Реестр!J3289","v":0},0]
[{"$f":"(Реестр!B3290)+0","v":"00:00:00"},null,{"$f":"Реестр!AZ3290","v":0},{"$f":"Реестр!AN3290","v":0},{"$f":"Реестр!G3290","v":0},null,{"$f":"Реестр!J3290","v":0},0]
[{"$f":"(Реестр!B3291)+0","v":"00:00:00"},null,{"$f":"Реестр!AZ3291","v":0},{"$f":"Реестр!AN3291","v":0},{"$f":"Реестр!G3291","v":0},null,{"$f":"Реестр!J3291","v":0},0]
[{"$f":"(Реестр!B3292)+0","v":"00:00:00"},null,{"$f":"Реестр!AZ3292","v":0},{"$f":"Реестр!AN3292","v":0},{"$f":"Реестр!G3292","v":0},null,{"$f":"Реестр!J3292","v":0},0]
[{"$f":"(Реестр!B3293)+0","v":"00:00:00"},null,{"$f":"Реестр!AZ3293","v":0},{"$f":"Реестр!AN3293","v":0},{"$f":"Реестр!G3293","v":0},null,{"$f":"Реестр!J3293","v":0},0]
[{"$f":"(Реестр!B3294)+0","v":"00:00:00"},null,{"$f":"Реестр!AZ3294","v":0},{"$f":"Реестр!AN3294","v":0},{"$f":"Реестр!G3294","v":0},null,{"$f":"Реестр!J3294","v":0},0]
[{"$f":"(Реестр!B3295)+0","v":"00:00:00"},null,{"$f":"Реестр!AZ3295","v":0},{"$f":"Реестр!AN3295","v":0},{"$f":"Реестр!G3295","v":0},null,{"$f":"Реестр!J3295","v":0},0]
[{"$f":"(Реестр!B3296)+0","v":"00:00:00"},null,{"$f":"Реестр!AZ3296","v":0},{"$f":"Реестр!AN3296","v":0},{"$f":"Реестр!G3296","v":0},null,{"$f":"Реестр!J3296","v":0},0]
[{"$f":"(Реестр!B3297)+0","v":"00:00:00"},null,{"$f":"Реестр!AZ3297","v":0},{"$f":"Реестр!AN3297","v":0},{"$f":"Реестр!G3297","v":0},null,{"$f":"Реестр!J3297","v":0},0]
[{"$f":"(Реестр!B3298)+0","v":"00:00:00"},null,{"$f":"Реестр!AZ3298","v":0},{"$f":"Реестр!AN3298","v":0},{"$f":"Реестр!G3298","v":0},null,{"$f":"Реестр!J3298","v":0},0]
[{"$f":"(Реестр!B3299)+0","v":"00:00:00"},null,{"$f":"Реестр!AZ3299","v":0},{"$f":"Реестр!AN3299","v":0},{"$f":"Реестр!G3299","v":0},null,{"$f":"Реестр!J3299","v":0},0]
[{"$f":"(Реестр!B3300)+0","v":"00:00:00"},null,{"$f":"Реестр!AZ3300","v":0},{"$f":"Реестр!AN3300","v":0},{"$f":"Реестр!G3300","v":0},null,{"$f":"Реестр!J3300","v":0},0]
[{"$f":"(Реестр!B3301)+0","v":"00:00:00"},null,{"$f":"Реестр!AZ3301","v":0},{"$f":"Реестр!AN3301","v":0},{"$f":"Реестр!G3301","v":0},null,{"$f":"Реестр!J3301","v":0},0]
[{"$f":"(Реестр!B3302)+0","v":"00:00:00"},null,{"$f":"Реестр!AZ3302","v":0},{"$f":"Реестр!AN3302","v":0},{"$f":"Реестр!G3302","v":0},null,{"$f":"Реестр!J3302","v":0},0]
[{"$f":"(Реестр!B3303)+0","v":"00:00:00"},null,{"$f":"Реестр!AZ3303","v":0},{"$f":"Реестр!AN3303","v":0},{"$f":"Реестр!G3303","v":0},null,{"$f":"Реестр!J3303","v":0},0]
[{"$f":"(Реестр!B3304)+0","v":"00:00:00"},null,{"$f":"Реестр!AZ3304","v":0},{"$f":"Реестр!AN3304","v":0},{"$f":"Реестр!G3304","v":0},null,{"$f":"Реестр!J3304","v":0},0]
[{"$f":"(Реестр!B3305)+0","v":"00:00:00"},null,{"$f":"Реестр!AZ3305","v":0},{"$f":"Реестр!AN3305","v":0},{"$f":"Реестр!G3305","v":0},null,{"$f":"Реестр!J3305","v":0},0]
[{"$f":"(Реестр!B3306)+0","v":"00:00:00"},null,{"$f":"Реестр!AZ3306","v":0},{"$f":"Реестр!AN3306","v":0},{"$f":"Реестр!G3306","v":0},null,{"$f":"Реестр!J3306","v":0},0]
[{"$f":"(Реестр!B3307)+0","v":"00:00:00"},null,{"$f":"Реестр!AZ3307","v":0},{"$f":"Реестр!AN3307","v":0},{"$f":"Реестр!G3307","v":0},null,{"$f":"Реестр!J3307","v":0},0]
[{"$f":"(Реестр!B3308)+0","v":"00:00:00"},null,{"$f":"Реестр!AZ3308","v":0},{"$f":"Реестр!AN3308","v":0},{"$f":"Реестр!G3308","v":0},null,{"$f":"Реестр!J3308","v":0},0]
[{"$f":"(Реестр!B3309)+0","v":"00:00:00"},null,{"$f":"Реестр!AZ3309","v":0},{"$f":"Реестр!AN3309","v":0},{"$f":"Реестр!G3309","v":0},null,{"$f":"Реестр!J3309","v":0},0]
[{"$f":"(Реестр!B3310)+0","v":"00:00:00"},null,{"$f":"Реестр!AZ3310","v":0},{"$f":"Реестр!AN3310","v":0},{"$f":"Реестр!G3310","v":0},null,{"$f":"Реестр!J3310","v":0},0]
[{"$f":"(Реестр!B3311)+0","v":"00:00:00"},null,{"$f":"Реестр!AZ3311","v":0},{"$f":"Реестр!AN3311","v":0},{"$f":"Реестр!G3311","v":0},null,{"$f":"Реестр!J3311","v":0},0]
[{"$f":"(Реестр!B3312)+0","v":"00:00:00"},null,{"$f":"Реестр!AZ3312","v":0},{"$f":"Реестр!AN3312","v":0},{"$f":"Реестр!G3312","v":0},null,{"$f":"Реестр!J3312","v":0},0]
[{"$f":"(Реестр!B3313)+0","v":"00:00:00"},null,{"$f":"Реестр!AZ3313","v":0},{"$f":"Реестр!AN3313","v":0},{"$f":"Реестр!G3313","v":0},null,{"$f":"Реестр!J3313","v":0},0]
[{"$f":"(Реестр!B3314)+0","v":"00:00:00"},null,{"$f":"Реестр!AZ3314","v":0},{"$f":"Реестр!AN3314","v":0},{"$f":"Реестр!G3314","v":0},null,{"$f":"Реестр!J3314","v":0},0]
[{"$f":"(Реестр!B3315)+0","v":"00:00:00"},null,{"$f":"Реестр!AZ3315","v":0},{"$f":"Реестр!AN3315","v":0},{"$f":"Реестр!G3315","v":0},null,{"$f":"Реестр!J3315","v":0},0]
[{"$f":"(Реестр!B3316)+0","v":"00:00:00"},null,{"$f":"Реестр!AZ3316","v":0},{"$f":"Реестр!AN3316","v":0},{"$f":"Реестр!G3316","v":0},null,{"$f":"Реестр!J3316","v":0},0]
[{"$f":"(Реестр!B3317)+0","v":"00:00:00"},null,{"$f":"Реестр!AZ3317","v":0},{"$f":"Реестр!AN3317","v":0},{"$f":"Реестр!G3317","v":0},null,{"$f":"Реестр!J3317","v":0},0]
[{"$f":"(Реестр!B3318)+0","v":"00:00:00"},null,{"$f":"Реестр!AZ3318","v":0},{"$f":"Реестр!AN3318","v":0},{"$f":"Реестр!G3318","v":0},null,{"$f":"Реестр!J3318","v":0},0]
[{"$f":"(Реестр!B3319)+0","v":"00:00:00"},null,{"$f":"Реестр!AZ3319","v":0},{"$f":"Реестр!AN3319","v":0},{"$f":"Реестр!G3319","v":0},null,{"$f":"Реестр!J3319","v":0},0]
[{"$f":"(Реестр!B3320)+0","v":"00:00:00"},null,{"$f":"Реестр!AZ3320","v":0},{"$f":"Реестр!AN3320","v":0},{"$f":"Реестр!G3320","v":0},null,{"$f":"Реестр!J3320","v":0},0]
[{"$f":"(Реестр!B3321)+0","v":"00:00:00"},null,{"$f":"Реестр!AZ3321","v":0},{"$f":"Реестр!AN3321","v":0},{"$f":"Реестр!G3321","v":0},null,{"$f":"Реестр!J3321","v":0},0]
[{"$f":"(Реестр!B3322)+0","v":"00:00:00"},null,{"$f":"Реестр!AZ3322","v":0},{"$f":"Реестр!AN3322","v":0},{"$f":"Реестр!G3322","v":0},null,{"$f":"Реестр!J3322","v":0},0]
[{"$f":"(Реестр!B3323)+0","v":"00:00:00"},null,{"$f":"Реестр!AZ3323","v":0},{"$f":"Реестр!AN3323","v":0},{"$f":"Реестр!G3323","v":0},null,{"$f":"Реестр!J3323","v":0},0]
[{"$f":"(Реестр!B3324)+0","v":"00:00:00"},null,{"$f":"Реестр!AZ3324","v":0},{"$f":"Реестр!AN3324","v":0},{"$f":"Реестр!G3324","v":0},null,{"$f":"Реестр!J3324","v":0},0]
[{"$f":"(Реестр!B3325)+0","v":"00:00:00"},null,{"$f":"Реестр!AZ3325","v":0},{"$f":"Реестр!AN3325","v":0},{"$f":"Реестр!G3325","v":0},null,{"$f":"Реестр!J3325","v":0},0]
[{"$f":"(Реестр!B3326)+0","v":"00:00:00"},null,{"$f":"Реестр!AZ3326","v":0},{"$f":"Реестр!AN3326","v":0},{"$f":"Реестр!G3326","v":0},null,{"$f":"Реестр!J3326","v":0},0]
[{"$f":"(Реестр!B3327)+0","v":"00:00:00"},null,{"$f":"Реестр!AZ3327","v":0},{"$f":"Реестр!AN3327","v":0},{"$f":"Реестр!G3327","v":0},null,{"$f":"Реестр!J3327","v":0},{"$f":"E2761*G2761","v":0}]
[{"$f":"(Реестр!B3328)+0","v":"00:00:00"},null,{"$f":"Реестр!AZ3328","v":0},{"$f":"Реестр!AN3328","v":0},{"$f":"Реестр!G3328","v":0},null,{"$f":"Реестр!J3328","v":0},0]
[{"$f":"(Реестр!B3329)+0","v":"00:00:00"},null,{"$f":"Реестр!AZ3329","v":0},{"$f":"Реестр!AN3329","v":0},{"$f":"Реестр!G3329","v":0},null,{"$f":"Реестр!J3329","v":0},0]
[{"$f":"(Реестр!B3330)+0","v":"00:00:00"},null,{"$f":"Реестр!AZ3330","v":0},{"$f":"Реестр!AN3330","v":0},{"$f":"Реестр!G3330","v":0},null,{"$f":"Реестр!J3330","v":0},0]
[{"$f":"(Реестр!B3331)+0","v":"00:00:00"},null,{"$f":"Реестр!AZ3331","v":0},{"$f":"Реестр!AN3331","v":0},{"$f":"Реестр!G3331","v":0},null,{"$f":"Реестр!J3331","v":0},0]
[{"$f":"(Реестр!B3332)+0","v":"00:00:00"},null,{"$f":"Реестр!AZ3332","v":0},{"$f":"Реестр!AN3332","v":0},{"$f":"Реестр!G3332","v":0},null,{"$f":"Реестр!J3332","v":0},0]
[{"$f":"(Реестр!B3333)+0","v":"00:00:00"},null,{"$f":"Реестр!AZ3333","v":0},{"$f":"Реестр!AN3333","v":0},{"$f":"Реестр!G3333","v":0},null,{"$f":"Реестр!J3333","v":0},0]
[{"$f":"(Реестр!B3334)+0","v":"00:00:00"},null,{"$f":"Реестр!AZ3334","v":0},{"$f":"Реестр!AN3334","v":0},{"$f":"Реестр!G3334","v":0},null,{"$f":"Реестр!J3334","v":0},0]
[{"$f":"(Реестр!B3335)+0","v":"00:00:00"},null,{"$f":"Реестр!AZ3335","v":0},{"$f":"Реестр!AN3335","v":0},{"$f":"Реестр!G3335","v":0},null,{"$f":"Реестр!J3335","v":0},0]
[{"$f":"(Реестр!B3336)+0","v":"00:00:00"},null,{"$f":"Реестр!AZ3336","v":0},{"$f":"Реестр!AN3336","v":0},{"$f":"Реестр!G3336","v":0},null,{"$f":"Реестр!J3336","v":0},0]
[{"$f":"(Реестр!B3337)+0","v":"00:00:00"},null,{"$f":"Реестр!AZ3337","v":0},{"$f":"Реестр!AN3337","v":0},{"$f":"Реестр!G3337","v":0},null,{"$f":"Реестр!J3337","v":0},0]
[{"$f":"(Реестр!B3338)+0","v":"00:00:00"},null,{"$f":"Реестр!AZ3338","v":0},{"$f":"Реестр!AN3338","v":0},{"$f":"Реестр!G3338","v":0},null,{"$f":"Реестр!J3338","v":0},0]
[{"$f":"(Реестр!B3339)+0","v":"00:00:00"},null,{"$f":"Реестр!AZ3339","v":0},{"$f":"Реестр!AN3339","v":0},{"$f":"Реестр!G3339","v":0},null,{"$f":"Реестр!J3339","v":0},0]
[{"$f":"(Реестр!B3340)+0","v":"00:00:00"},null,{"$f":"Реестр!AZ3340","v":0},{"$f":"Реестр!AN3340","v":0},{"$f":"Реестр!G3340","v":0},null,{"$f":"Реестр!J3340","v":0},0]
[{"$f":"(Реестр!B3341)+0","v":"00:00:00"},null,{"$f":"Реестр!AZ3341","v":0},{"$f":"Реестр!AN3341","v":0},{"$f":"Реестр!G3341","v":0},null,{"$f":"Реестр!J3341","v":0},0]
[{"$f":"(Реестр!B3342)+0","v":"00:00:00"},null,{"$f":"Реестр!AZ3342","v":0},{"$f":"Реестр!AN3342","v":0},{"$f":"Реестр!G3342","v":0},null,{"$f":"Реестр!J3342","v":0},0]
[{"$f":"(Реестр!B3343)+0","v":"00:00:00"},null,{"$f":"Реестр!AZ3343","v":0},{"$f":"Реестр!AN3343","v":0},{"$f":"Реестр!G3343","v":0},null,{"$f":"Реестр!J3343","v":0},0]
[{"$f":"(Реестр!B3344)+0","v":"00:00:00"},null,{"$f":"Реестр!AZ3344","v":0},{"$f":"Реестр!AN3344","v":0},{"$f":"Реестр!G3344","v":0},null,{"$f":"Реестр!J3344","v":0},0]
[{"$f":"(Реестр!B3345)+0","v":"00:00:00"},null,{"$f":"Реестр!AZ3345","v":0},{"$f":"Реестр!AN3345","v":0},{"$f":"Реестр!G3345","v":0},null,{"$f":"Реестр!J3345","v":0},0]
[{"$f":"(Реестр!B3346)+0","v":"00:00:00"},null,{"$f":"Реестр!AZ3346","v":0},{"$f":"Реестр!AN3346","v":0},{"$f":"Реестр!G3346","v":0},null,{"$f":"Реестр!J3346","v":0},0]
[{"$f":"(Реестр!B3347)+0","v":"00:00:00"},null,{"$f":"Реестр!AZ3347","v":0},{"$f":"Реестр!AN3347","v":0},{"$f":"Реестр!G3347","v":0},null,{"$f":"Реестр!J3347","v":0},0]
[{"$f":"(Реестр!B3348)+0","v":"00:00:00"},null,{"$f":"Реестр!AZ3348","v":0},{"$f":"Реестр!AN3348","v":0},{"$f":"Реестр!G3348","v":0},null,{"$f":"Реестр!J3348","v":0},0]
[{"$f":"(Реестр!B3349)+0","v":"00:00:00"},null,{"$f":"Реестр!AZ3349","v":0},{"$f":"Реестр!AN3349","v":0},{"$f":"Реестр!G3349","v":0},null,{"$f":"Реестр!J3349","v":0},0]
[{"$f":"(Реестр!B3350)+0","v":"00:00:00"},null,{"$f":"Реестр!AZ3350","v":0},{"$f":"Реестр!AN3350","v":0},{"$f":"Реестр!G3350","v":0},null,{"$f":"Реестр!J3350","v":0},0]
[{"$f":"(Реестр!B3351)+0","v":"00:00:00"},null,{"$f":"Реестр!AZ3351","v":0},{"$f":"Реестр!AN3351","v":0},{"$f":"Реестр!G3351","v":0},null,{"$f":"Реестр!J3351","v":0},0]
[{"$f":"(Реестр!B3352)+0","v":"00:00:00"},null,{"$f":"Реестр!AZ3352","v":0},{"$f":"Реестр!AN3352","v":0},{"$f":"Реестр!G3352","v":0},null,{"$f":"Реестр!J3352","v":0},0]
[{"$f":"(Реестр!B3353)+0","v":"00:00:00"},null,{"$f":"Реестр!AZ3353","v":0},{"$f":"Реестр!AN3353","v":0},{"$f":"Реестр!G3353","v":0},null,{"$f":"Реестр!J3353","v":0},0]
[{"$f":"(Реестр!B3354)+0","v":"00:00:00"},null,{"$f":"Реестр!AZ3354","v":0},{"$f":"Реестр!AN3354","v":0},{"$f":"Реестр!G3354","v":0},null,{"$f":"Реестр!J3354","v":0},0]
[{"$f":"(Реестр!B3355)+0","v":"00:00:00"},null,{"$f":"Реестр!AZ3355","v":0},{"$f":"Реестр!AN3355","v":0},{"$f":"Реестр!G3355","v":0},null,{"$f":"Реестр!J3355","v":0},0]
[{"$f":"(Реестр!B3356)+0","v":"00:00:00"},null,{"$f":"Реестр!AZ3356","v":0},{"$f":"Реестр!AN3356","v":0},{"$f":"Реестр!G3356","v":0},null,{"$f":"Реестр!J3356","v":0},0]
[{"$f":"(Реестр!B3357)+0","v":"00:00:00"},null,{"$f":"Реестр!AZ3357","v":0},{"$f":"Реестр!AN3357","v":0},{"$f":"Реестр!G3357","v":0},null,{"$f":"Реестр!J3357","v":0},0]
[{"$f":"(Реестр!B3358)+0","v":"00:00:00"},null,{"$f":"Реестр!AZ3358","v":0},{"$f":"Реестр!AN3358","v":0},{"$f":"Реестр!G3358","v":0},null,{"$f":"Реестр!J3358","v":0},0]
[{"$f":"(Реестр!B3359)+0","v":"00:00:00"},null,{"$f":"Реестр!AZ3359","v":0},{"$f":"Реестр!AN3359","v":0},{"$f":"Реестр!G3359","v":0},null,{"$f":"Реестр!J3359","v":0},0]
[{"$f":"(Реестр!B3360)+0","v":"00:00:00"},null,{"$f":"Реестр!AZ3360","v":0},{"$f":"Реестр!AN3360","v":0},{"$f":"Реестр!G3360","v":0},null,{"$f":"Реестр!J3360","v":0},0]
[{"$f":"(Реестр!B3361)+0","v":"00:00:00"},null,{"$f":"Реестр!AZ3361","v":0},{"$f":"Реестр!AN3361","v":0},{"$f":"Реестр!G3361","v":0},null,{"$f":"Реестр!J3361","v":0},0]
[{"$f":"(Реестр!B3362)+0","v":"00:00:00"},null,{"$f":"Реестр!AZ3362","v":0},{"$f":"Реестр!AN3362","v":0},{"$f":"Реестр!G3362","v":0},null,{"$f":"Реестр!J3362","v":0},0]
[{"$f":"(Реестр!B3363)+0","v":"00:00:00"},null,{"$f":"Реестр!AZ3363","v":0},{"$f":"Реестр!AN3363","v":0},{"$f":"Реестр!G3363","v":0},null,{"$f":"Реестр!J3363","v":0},0]
[{"$f":"(Реестр!B3364)+0","v":"00:00:00"},null,{"$f":"Реестр!AZ3364","v":0},{"$f":"Реестр!AN3364","v":0},{"$f":"Реестр!G3364","v":0},null,{"$f":"Реестр!J3364","v":0},0]
[{"$f":"(Реестр!B3365)+0","v":"00:00:00"},null,{"$f":"Реестр!AZ3365","v":0},{"$f":"Реестр!AN3365","v":0},{"$f":"Реестр!G3365","v":0},null,{"$f":"Реестр!J3365","v":0},0]
[{"$f":"(Реестр!B3366)+0","v":"00:00:00"},null,{"$f":"Реестр!AZ3366","v":0},{"$f":"Реестр!AN3366","v":0},{"$f":"Реестр!G3366","v":0},null,{"$f":"Реестр!J3366","v":0},0]
[{"$f":"(Реестр!B3367)+0","v":"00:00:00"},null,{"$f":"Реестр!AZ3367","v":0},{"$f":"Реестр!AN3367","v":0},{"$f":"Реестр!G3367","v":0},null,{"$f":"Реестр!J3367","v":0},0]
[{"$f":"(Реестр!B3368)+0","v":"00:00:00"},null,{"$f":"Реестр!AZ3368","v":0},{"$f":"Реестр!AN3368","v":0},{"$f":"Реестр!G3368","v":0},null,{"$f":"Реестр!J3368","v":0},0]
[{"$f":"(Реестр!B3369)+0","v":"00:00:00"},null,{"$f":"Реестр!AZ3369","v":0},{"$f":"Реестр!AN3369","v":0},{"$f":"Реестр!G3369","v":0},null,{"$f":"Реестр!J3369","v":0},0]
[{"$f":"(Реестр!B3370)+0","v":"00:00:00"},null,{"$f":"Реестр!AZ3370","v":0},{"$f":"Реестр!AN3370","v":0},{"$f":"Реестр!G3370","v":0},null,{"$f":"Реестр!J3370","v":0},0]
[{"$f":"(Реестр!B3371)+0","v":"00:00:00"},null,{"$f":"Реестр!AZ3371","v":0},{"$f":"Реестр!AN3371","v":0},{"$f":"Реестр!G3371","v":0},null,{"$f":"Реестр!J3371","v":0},0]
[{"$f":"(Реестр!B3372)+0","v":"00:00:00"},null,{"$f":"Реестр!AZ3372","v":0},{"$f":"Реестр!AN3372","v":0},{"$f":"Реестр!G3372","v":0},null,{"$f":"Реестр!J3372","v":0},0]
[{"$f":"(Реестр!B3373)+0","v":"00:00:00"},null,{"$f":"Реестр!AZ3373","v":0},{"$f":"Реестр!AN3373","v":0},{"$f":"Реестр!G3373","v":0},null,{"$f":"Реестр!J3373","v":0},0]
[{"$f":"(Реестр!B3374)+0","v":"00:00:00"},null,{"$f":"Реестр!AZ3374","v":0},{"$f":"Реестр!AN3374","v":0},{"$f":"Реестр!G3374","v":0},null,{"$f":"Реестр!J3374","v":0},0]
[{"$f":"(Реестр!B3375)+0","v":"00:00:00"},null,{"$f":"Реестр!AZ3375","v":0},{"$f":"Реестр!AN3375","v":0},{"$f":"Реестр!G3375","v":0},null,{"$f":"Реестр!J3375","v":0},0]
[{"$f":"(Реестр!B3376)+0","v":"00:00:00"},null,{"$f":"Реестр!AZ3376","v":0},{"$f":"Реестр!AN3376","v":0},{"$f":"Реестр!G3376","v":0},null,{"$f":"Реестр!J3376","v":0},0]
[{"$f":"(Реестр!B3377)+0","v":"00:00:00"},null,{"$f":"Реестр!AZ3377","v":0},{"$f":"Реестр!AN3377","v":0},{"$f":"Реестр!G3377","v":0},null,{"$f":"Реестр!J3377","v":0},0]
[{"$f":"(Реестр!B3378)+0","v":"00:00:00"},null,{"$f":"Реестр!AZ3378","v":0},{"$f":"Реестр!AN3378","v":0},{"$f":"Реестр!G3378","v":0},null,{"$f":"Реестр!J3378","v":0},0]
[{"$f":"(Реестр!B3379)+0","v":"00:00:00"},null,{"$f":"Реестр!AZ3379","v":0},{"$f":"Реестр!AN3379","v":0},{"$f":"Реестр!G3379","v":0},null,{"$f":"Реестр!J3379","v":0},0]
[{"$f":"(Реестр!B3380)+0","v":"00:00:00"},null,{"$f":"Реестр!AZ3380","v":0},{"$f":"Реестр!AN3380","v":0},{"$f":"Реестр!G3380","v":0},null,{"$f":"Реестр!J3380","v":0},0]
[{"$f":"(Реестр!B3381)+0","v":"00:00:00"},null,{"$f":"Реестр!AZ3381","v":0},{"$f":"Реестр!AN3381","v":0},{"$f":"Реестр!G3381","v":0},null,{"$f":"Реестр!J3381","v":0},0]
[{"$f":"(Реестр!B3382)+0","v":"00:00:00"},null,{"$f":"Реестр!AZ3382","v":0},{"$f":"Реестр!AN3382","v":0},{"$f":"Реестр!G3382","v":0},null,{"$f":"Реестр!J3382","v":0},0]
[{"$f":"(Реестр!B3383)+0","v":"00:00:00"},null,{"$f":"Реестр!AZ3383","v":0},{"$f":"Реестр!AN3383","v":0},{"$f":"Реестр!G3383","v":0},null,{"$f":"Реестр!J3383","v":0},0]
[{"$f":"(Реестр!B3384)+0","v":"00:00:00"},null,{"$f":"Реестр!AZ3384","v":0},{"$f":"Реестр!AN3384","v":0},{"$f":"Реестр!G3384","v":0},null,{"$f":"Реестр!J3384","v":0},0]
[{"$f":"(Реестр!B3385)+0","v":"00:00:00"},null,{"$f":"Реестр!AZ3385","v":0},{"$f":"Реестр!AN3385","v":0},{"$f":"Реестр!G3385","v":0},null,{"$f":"Реестр!J3385","v":0},0]
[{"$f":"(Реестр!B3386)+0","v":"00:00:00"},null,{"$f":"Реестр!AZ3386","v":0},{"$f":"Реестр!AN3386","v":0},{"$f":"Реестр!G3386","v":0},null,{"$f":"Реестр!J3386","v":0},0]
[{"$f":"(Реестр!B3387)+0","v":"00:00:00"},null,{"$f":"Реестр!AZ3387","v":0},{"$f":"Реестр!AN3387","v":0},{"$f":"Реестр!G3387","v":0},null,{"$f":"Реестр!J3387","v":0},0]
[{"$f":"(Реестр!B3388)+0","v":"00:00:00"},null,{"$f":"Реестр!AZ3388","v":0},{"$f":"Реестр!AN3388","v":0},{"$f":"Реестр!G3388","v":0},null,{"$f":"Реестр!J3388","v":0},0]
[{"$f":"(Реестр!B3389)+0","v":"00:00:00"},null,{"$f":"Реестр!AZ3389","v":0},{"$f":"Реестр!AN3389","v":0},{"$f":"Реестр!G3389","v":0},null,{"$f":"Реестр!J3389","v":0},0]
[{"$f":"(Реестр!B3390)+0","v":"00:00:00"},null,{"$f":"Реестр!AZ3390","v":0},{"$f":"Реестр!AN3390","v":0},{"$f":"Реестр!G3390","v":0},null,{"$f":"Реестр!J3390","v":0},0]
[{"$f":"(Реестр!B3391)+0","v":"00:00:00"},null,{"$f":"Реестр!AZ3391","v":0},{"$f":"Реестр!AN3391","v":0},{"$f":"Реестр!G3391","v":0},null,{"$f":"Реестр!J3391","v":0},{"$f":"E2825*G2825","v":0}]
[{"$f":"(Реестр!B3392)+0","v":"00:00:00"},null,{"$f":"Реестр!AZ3392","v":0},{"$f":"Реестр!AN3392","v":0},{"$f":"Реестр!G3392","v":0},null,{"$f":"Реестр!J3392","v":0},0]
[{"$f":"(Реестр!B3393)+0","v":"00:00:00"},null,{"$f":"Реестр!AZ3393","v":0},{"$f":"Реестр!AN3393","v":0},{"$f":"Реестр!G3393","v":0},null,{"$f":"Реестр!J3393","v":0},0]
[{"$f":"(Реестр!B3394)+0","v":"00:00:00"},null,{"$f":"Реестр!AZ3394","v":0},{"$f":"Реестр!AN3394","v":0},{"$f":"Реестр!G3394","v":0},null,{"$f":"Реестр!J3394","v":0},0]
[{"$f":"(Реестр!B3395)+0","v":"00:00:00"},null,{"$f":"Реестр!AZ3395","v":0},{"$f":"Реестр!AN3395","v":0},{"$f":"Реестр!G3395","v":0},null,{"$f":"Реестр!J3395","v":0},0]
[{"$f":"(Реестр!B3396)+0","v":"00:00:00"},null,{"$f":"Реестр!AZ3396","v":0},{"$f":"Реестр!AN3396","v":0},{"$f":"Реестр!G3396","v":0},null,{"$f":"Реестр!J3396","v":0},0]
[{"$f":"(Реестр!B3397)+0","v":"00:00:00"},null,{"$f":"Реестр!AZ3397","v":0},{"$f":"Реестр!AN3397","v":0},{"$f":"Реестр!G3397","v":0},null,{"$f":"Реестр!J3397","v":0},0]
[{"$f":"(Реестр!B3398)+0","v":"00:00:00"},null,{"$f":"Реестр!AZ3398","v":0},{"$f":"Реестр!AN3398","v":0},{"$f":"Реестр!G3398","v":0},null,{"$f":"Реестр!J3398","v":0},0]
[{"$f":"(Реестр!B3399)+0","v":"00:00:00"},null,{"$f":"Реестр!AZ3399","v":0},{"$f":"Реестр!AN3399","v":0},{"$f":"Реестр!G3399","v":0},null,{"$f":"Реестр!J3399","v":0},0]
[{"$f":"(Реестр!B3400)+0","v":"00:00:00"},null,{"$f":"Реестр!AZ3400","v":0},{"$f":"Реестр!AN3400","v":0},{"$f":"Реестр!G3400","v":0},null,{"$f":"Реестр!J3400","v":0},0]
[{"$f":"(Реестр!B3401)+0","v":"00:00:00"},null,{"$f":"Реестр!AZ3401","v":0},{"$f":"Реестр!AN3401","v":0},{"$f":"Реестр!G3401","v":0},null,{"$f":"Реестр!J3401","v":0},0]
[{"$f":"(Реестр!B3402)+0","v":"00:00:00"},null,{"$f":"Реестр!AZ3402","v":0},{"$f":"Реестр!AN3402","v":0},{"$f":"Реестр!G3402","v":0},null,{"$f":"Реестр!J3402","v":0},0]
[{"$f":"(Реестр!B3403)+0","v":"00:00:00"},null,{"$f":"Реестр!AZ3403","v":0},{"$f":"Реестр!AN3403","v":0},{"$f":"Реестр!G3403","v":0},null,{"$f":"Реестр!J3403","v":0},0]
[{"$f":"(Реестр!B3404)+0","v":"00:00:00"},null,{"$f":"Реестр!AZ3404","v":0},{"$f":"Реестр!AN3404","v":0},{"$f":"Реестр!G3404","v":0},null,{"$f":"Реестр!J3404","v":0},0]
[{"$f":"(Реестр!B3405)+0","v":"00:00:00"},null,{"$f":"Реестр!AZ3405","v":0},{"$f":"Реестр!AN3405","v":0},{"$f":"Реестр!G3405","v":0},null,{"$f":"Реестр!J3405","v":0},0]
[{"$f":"(Реестр!B3406)+0","v":"00:00:00"},null,{"$f":"Реестр!AZ3406","v":0},{"$f":"Реестр!AN3406","v":0},{"$f":"Реестр!G3406","v":0},null,{"$f":"Реестр!J3406","v":0},0]
[{"$f":"(Реестр!B3407)+0","v":"00:00:00"},null,{"$f":"Реестр!AZ3407","v":0},{"$f":"Реестр!AN3407","v":0},{"$f":"Реестр!G3407","v":0},null,{"$f":"Реестр!J3407","v":0},0]
[{"$f":"(Реестр!B3408)+0","v":"00:00:00"},null,{"$f":"Реестр!AZ3408","v":0},{"$f":"Реестр!AN3408","v":0},{"$f":"Реестр!G3408","v":0},null,{"$f":"Реестр!J3408","v":0},0]
[{"$f":"(Реестр!B3409)+0","v":"00:00:00"},null,{"$f":"Реестр!AZ3409","v":0},{"$f":"Реестр!AN3409","v":0},{"$f":"Реестр!G3409","v":0},null,{"$f":"Реестр!J3409","v":0},0]
[{"$f":"(Реестр!B3410)+0","v":"00:00:00"},null,{"$f":"Реестр!AZ3410","v":0},{"$f":"Реестр!AN3410","v":0},{"$f":"Реестр!G3410","v":0},null,{"$f":"Реестр!J3410","v":0},0]
[{"$f":"(Реестр!B3411)+0","v":"00:00:00"},null,{"$f":"Реестр!AZ3411","v":0},{"$f":"Реестр!AN3411","v":0},{"$f":"Реестр!G3411","v":0},null,{"$f":"Реестр!J3411","v":0},0]
[{"$f":"(Реестр!B3412)+0","v":"00:00:00"},null,{"$f":"Реестр!AZ3412","v":0},{"$f":"Реестр!AN3412","v":0},{"$f":"Реестр!G3412","v":0},null,{"$f":"Реестр!J3412","v":0},0]
[{"$f":"(Реестр!B3413)+0","v":"00:00:00"},null,{"$f":"Реестр!AZ3413","v":0},{"$f":"Реестр!AN3413","v":0},{"$f":"Реестр!G3413","v":0},null,{"$f":"Реестр!J3413","v":0},0]
[{"$f":"(Реестр!B3414)+0","v":"00:00:00"},null,{"$f":"Реестр!AZ3414","v":0},{"$f":"Реестр!AN3414","v":0},{"$f":"Реестр!G3414","v":0},null,{"$f":"Реестр!J3414","v":0},0]
[{"$f":"(Реестр!B3415)+0","v":"00:00:00"},null,{"$f":"Реестр!AZ3415","v":0},{"$f":"Реестр!AN3415","v":0},{"$f":"Реестр!G3415","v":0},null,{"$f":"Реестр!J3415","v":0},0]
[{"$f":"(Реестр!B3416)+0","v":"00:00:00"},null,{"$f":"Реестр!AZ3416","v":0},{"$f":"Реестр!AN3416","v":0},{"$f":"Реестр!G3416","v":0},null,{"$f":"Реестр!J3416","v":0},0]
[{"$f":"(Реестр!B3417)+0","v":"00:00:00"},null,{"$f":"Реестр!AZ3417","v":0},{"$f":"Реестр!AN3417","v":0},{"$f":"Реестр!G3417","v":0},null,{"$f":"Реестр!J3417","v":0},0]
[{"$f":"(Реестр!B3418)+0","v":"00:00:00"},null,{"$f":"Реестр!AZ3418","v":0},{"$f":"Реестр!AN3418","v":0},{"$f":"Реестр!G3418","v":0},null,{"$f":"Реестр!J3418","v":0},0]
[{"$f":"(Реестр!B3419)+0","v":"00:00:00"},null,{"$f":"Реестр!AZ3419","v":0},{"$f":"Реестр!AN3419","v":0},{"$f":"Реестр!G3419","v":0},null,{"$f":"Реестр!J3419","v":0},0]
[{"$f":"(Реестр!B3420)+0","v":"00:00:00"},null,{"$f":"Реестр!AZ3420","v":0},{"$f":"Реестр!AN3420","v":0},{"$f":"Реестр!G3420","v":0},null,{"$f":"Реестр!J3420","v":0},0]
[{"$f":"(Реестр!B3421)+0","v":"00:00:00"},null,{"$f":"Реестр!AZ3421","v":0},{"$f":"Реестр!AN3421","v":0},{"$f":"Реестр!G3421","v":0},null,{"$f":"Реестр!J3421","v":0},0]
[{"$f":"(Реестр!B3422)+0","v":"00:00:00"},null,{"$f":"Реестр!AZ3422","v":0},{"$f":"Реестр!AN3422","v":0},{"$f":"Реестр!G3422","v":0},null,{"$f":"Реестр!J3422","v":0},0]
[{"$f":"(Реестр!B3423)+0","v":"00:00:00"},null,{"$f":"Реестр!AZ3423","v":0},{"$f":"Реестр!AN3423","v":0},{"$f":"Реестр!G3423","v":0},null,{"$f":"Реестр!J3423","v":0},0]
[{"$f":"(Реестр!B3424)+0","v":"00:00:00"},null,{"$f":"Реестр!AZ3424","v":0},{"$f":"Реестр!AN3424","v":0},{"$f":"Реестр!G3424","v":0},null,{"$f":"Реестр!J3424","v":0},0]
[{"$f":"(Реестр!B3425)+0","v":"00:00:00"},null,{"$f":"Реестр!AZ3425","v":0},{"$f":"Реестр!AN3425","v":0},{"$f":"Реестр!G3425","v":0},null,{"$f":"Реестр!J3425","v":0},0]
[{"$f":"(Реестр!B3426)+0","v":"00:00:00"},null,{"$f":"Реестр!AZ3426","v":0},{"$f":"Реестр!AN3426","v":0},{"$f":"Реестр!G3426","v":0},null,{"$f":"Реестр!J3426","v":0},0]
[{"$f":"(Реестр!B3427)+0","v":"00:00:00"},null,{"$f":"Реестр!AZ3427","v":0},{"$f":"Реестр!AN3427","v":0},{"$f":"Реестр!G3427","v":0},null,{"$f":"Реестр!J3427","v":0},0]
[{"$f":"(Реестр!B3428)+0","v":"00:00:00"},null,{"$f":"Реестр!AZ3428","v":0},{"$f":"Реестр!AN3428","v":0},{"$f":"Реестр!G3428","v":0},null,{"$f":"Реестр!J3428","v":0},0]
[{"$f":"(Реестр!B3429)+0","v":"00:00:00"},null,{"$f":"Реестр!AZ3429","v":0},{"$f":"Реестр!AN3429","v":0},{"$f":"Реестр!G3429","v":0},null,{"$f":"Реестр!J3429","v":0},0]
[{"$f":"(Реестр!B3430)+0","v":"00:00:00"},null,{"$f":"Реестр!AZ3430","v":0},{"$f":"Реестр!AN3430","v":0},{"$f":"Реестр!G3430","v":0},null,{"$f":"Реестр!J3430","v":0},0]
[{"$f":"(Реестр!B3431)+0","v":"00:00:00"},null,{"$f":"Реестр!AZ3431","v":0},{"$f":"Реестр!AN3431","v":0},{"$f":"Реестр!G3431","v":0},null,{"$f":"Реестр!J3431","v":0},0]
[{"$f":"(Реестр!B3432)+0","v":"00:00:00"},null,{"$f":"Реестр!AZ3432","v":0},{"$f":"Реестр!AN3432","v":0},{"$f":"Реестр!G3432","v":0},null,{"$f":"Реестр!J3432","v":0},0]
[{"$f":"(Реестр!B3433)+0","v":"00:00:00"},null,{"$f":"Реестр!AZ3433","v":0},{"$f":"Реестр!AN3433","v":0},{"$f":"Реестр!G3433","v":0},null,{"$f":"Реестр!J3433","v":0},0]
[{"$f":"(Реестр!B3434)+0","v":"00:00:00"},null,{"$f":"Реестр!AZ3434","v":0},{"$f":"Реестр!AN3434","v":0},{"$f":"Реестр!G3434","v":0},null,{"$f":"Реестр!J3434","v":0},0]
[{"$f":"(Реестр!B3435)+0","v":"00:00:00"},null,{"$f":"Реестр!AZ3435","v":0},{"$f":"Реестр!AN3435","v":0},{"$f":"Реестр!G3435","v":0},null,{"$f":"Реестр!J3435","v":0},0]
[{"$f":"(Реестр!B3436)+0","v":"00:00:00"},null,{"$f":"Реестр!AZ3436","v":0},{"$f":"Реестр!AN3436","v":0},{"$f":"Реестр!G3436","v":0},null,{"$f":"Реестр!J3436","v":0},0]
[{"$f":"(Реестр!B3437)+0","v":"00:00:00"},null,{"$f":"Реестр!AZ3437","v":0},{"$f":"Реестр!AN3437","v":0},{"$f":"Реестр!G3437","v":0},null,{"$f":"Реестр!J3437","v":0},0]
[{"$f":"(Реестр!B3438)+0","v":"00:00:00"},null,{"$f":"Реестр!AZ3438","v":0},{"$f":"Реестр!AN3438","v":0},{"$f":"Реестр!G3438","v":0},null,{"$f":"Реестр!J3438","v":0},0]
[{"$f":"(Реестр!B3439)+0","v":"00:00:00"},null,{"$f":"Реестр!AZ3439","v":0},{"$f":"Реестр!AN3439","v":0},{"$f":"Реестр!G3439","v":0},null,{"$f":"Реестр!J3439","v":0},0]
[{"$f":"(Реестр!B3440)+0","v":"00:00:00"},null,{"$f":"Реестр!AZ3440","v":0},{"$f":"Реестр!AN3440","v":0},{"$f":"Реестр!G3440","v":0},null,{"$f":"Реестр!J3440","v":0},0]
[{"$f":"(Реестр!B3441)+0","v":"00:00:00"},null,{"$f":"Реестр!AZ3441","v":0},{"$f":"Реестр!AN3441","v":0},{"$f":"Реестр!G3441","v":0},null,{"$f":"Реестр!J3441","v":0},0]
[{"$f":"(Реестр!B3442)+0","v":"00:00:00"},null,{"$f":"Реестр!AZ3442","v":0},{"$f":"Реестр!AN3442","v":0},{"$f":"Реестр!G3442","v":0},null,{"$f":"Реестр!J3442","v":0},0]
[{"$f":"(Реестр!B3443)+0","v":"00:00:00"},null,{"$f":"Реестр!AZ3443","v":0},{"$f":"Реестр!AN3443","v":0},{"$f":"Реестр!G3443","v":0},null,{"$f":"Реестр!J3443","v":0},0]
[{"$f":"(Реестр!B3444)+0","v":"00:00:00"},null,{"$f":"Реестр!AZ3444","v":0},{"$f":"Реестр!AN3444","v":0},{"$f":"Реестр!G3444","v":0},null,{"$f":"Реестр!J3444","v":0},0]
[{"$f":"(Реестр!B3445)+0","v":"00:00:00"},null,{"$f":"Реестр!AZ3445","v":0},{"$f":"Реестр!AN3445","v":0},{"$f":"Реестр!G3445","v":0},null,{"$f":"Реестр!J3445","v":0},0]
[{"$f":"(Реестр!B3446)+0","v":"00:00:00"},null,{"$f":"Реестр!AZ3446","v":0},{"$f":"Реестр!AN3446","v":0},{"$f":"Реестр!G3446","v":0},null,{"$f":"Реестр!J3446","v":0},0]
[{"$f":"(Реестр!B3447)+0","v":"00:00:00"},null,{"$f":"Реестр!AZ3447","v":0},{"$f":"Реестр!AN3447","v":0},{"$f":"Реестр!G3447","v":0},null,{"$f":"Реестр!J3447","v":0},0]
[{"$f":"(Реестр!B3448)+0","v":"00:00:00"},null,{"$f":"Реестр!AZ3448","v":0},{"$f":"Реестр!AN3448","v":0},{"$f":"Реестр!G3448","v":0},null,{"$f":"Реестр!J3448","v":0},0]
[{"$f":"(Реестр!B3449)+0","v":"00:00:00"},null,{"$f":"Реестр!AZ3449","v":0},{"$f":"Реестр!AN3449","v":0},{"$f":"Реестр!G3449","v":0},null,{"$f":"Реестр!J3449","v":0},0]
[{"$f":"(Реестр!B3450)+0","v":"00:00:00"},null,{"$f":"Реестр!AZ3450","v":0},{"$f":"Реестр!AN3450","v":0},{"$f":"Реестр!G3450","v":0},null,{"$f":"Реестр!J3450","v":0},0]
[{"$f":"(Реестр!B3451)+0","v":"00:00:00"},null,{"$f":"Реестр!AZ3451","v":0},{"$f":"Реестр!AN3451","v":0},{"$f":"Реестр!G3451","v":0},null,{"$f":"Реестр!J3451","v":0},0]
[{"$f":"(Реестр!B3452)+0","v":"00:00:00"},null,{"$f":"Реестр!AZ3452","v":0},{"$f":"Реестр!AN3452","v":0},{"$f":"Реестр!G3452","v":0},null,{"$f":"Реестр!J3452","v":0},0]
[{"$f":"(Реестр!B3453)+0","v":"00:00:00"},null,{"$f":"Реестр!AZ3453","v":0},{"$f":"Реестр!AN3453","v":0},{"$f":"Реестр!G3453","v":0},null,{"$f":"Реестр!J3453","v":0},0]
[{"$f":"(Реестр!B3454)+0","v":"00:00:00"},null,{"$f":"Реестр!AZ3454","v":0},{"$f":"Реестр!AN3454","v":0},{"$f":"Реестр!G3454","v":0},null,{"$f":"Реестр!J3454","v":0},0]
[{"$f":"(Реестр!B3455)+0","v":"00:00:00"},null,{"$f":"Реестр!AZ3455","v":0},{"$f":"Реестр!AN3455","v":0},{"$f":"Реестр!G3455","v":0},null,{"$f":"Реестр!J3455","v":0},{"$f":"E2889*G2889","v":0}]
[{"$f":"(Реестр!B3456)+0","v":"00:00:00"},null,{"$f":"Реестр!AZ3456","v":0},{"$f":"Реестр!AN3456","v":0},{"$f":"Реестр!G3456","v":0},null,{"$f":"Реестр!J3456","v":0},0]
[{"$f":"(Реестр!B3457)+0","v":"00:00:00"},null,{"$f":"Реестр!AZ3457","v":0},{"$f":"Реестр!AN3457","v":0},{"$f":"Реестр!G3457","v":0},null,{"$f":"Реестр!J3457","v":0},0]
[{"$f":"(Реестр!B3458)+0","v":"00:00:00"},null,{"$f":"Реестр!AZ3458","v":0},{"$f":"Реестр!AN3458","v":0},{"$f":"Реестр!G3458","v":0},null,{"$f":"Реестр!J3458","v":0},0]
[{"$f":"(Реестр!B3459)+0","v":"00:00:00"},null,{"$f":"Реестр!AZ3459","v":0},{"$f":"Реестр!AN3459","v":0},{"$f":"Реестр!G3459","v":0},null,{"$f":"Реестр!J3459","v":0},0]
[{"$f":"(Реестр!B3460)+0","v":"00:00:00"},null,{"$f":"Реестр!AZ3460","v":0},{"$f":"Реестр!AN3460","v":0},{"$f":"Реестр!G3460","v":0},null,{"$f":"Реестр!J3460","v":0},0]
[{"$f":"(Реестр!B3461)+0","v":"00:00:00"},null,{"$f":"Реестр!AZ3461","v":0},{"$f":"Реестр!AN3461","v":0},{"$f":"Реестр!G3461","v":0},null,{"$f":"Реестр!J3461","v":0},0]
[{"$f":"(Реестр!B3462)+0","v":"00:00:00"},null,{"$f":"Реестр!AZ3462","v":0},{"$f":"Реестр!AN3462","v":0},{"$f":"Реестр!G3462","v":0},null,{"$f":"Реестр!J3462","v":0},0]
[{"$f":"(Реестр!B3463)+0","v":"00:00:00"},null,{"$f":"Реестр!AZ3463","v":0},{"$f":"Реестр!AN3463","v":0},{"$f":"Реестр!G3463","v":0},null,{"$f":"Реестр!J3463","v":0},0]
[{"$f":"(Реестр!B3464)+0","v":"00:00:00"},null,{"$f":"Реестр!AZ3464","v":0},{"$f":"Реестр!AN3464","v":0},{"$f":"Реестр!G3464","v":0},null,{"$f":"Реестр!J3464","v":0},0]
[{"$f":"(Реестр!B3465)+0","v":"00:00:00"},null,{"$f":"Реестр!AZ3465","v":0},{"$f":"Реестр!AN3465","v":0},{"$f":"Реестр!G3465","v":0},null,{"$f":"Реестр!J3465","v":0},0]
[{"$f":"(Реестр!B3466)+0","v":"00:00:00"},null,{"$f":"Реестр!AZ3466","v":0},{"$f":"Реестр!AN3466","v":0},{"$f":"Реестр!G3466","v":0},null,{"$f":"Реестр!J3466","v":0},0]
[{"$f":"(Реестр!B3467)+0","v":"00:00:00"},null,{"$f":"Реестр!AZ3467","v":0},{"$f":"Реестр!AN3467","v":0},{"$f":"Реестр!G3467","v":0},null,{"$f":"Реестр!J3467","v":0},0]
[{"$f":"(Реестр!B3468)+0","v":"00:00:00"},null,{"$f":"Реестр!AZ3468","v":0},{"$f":"Реестр!AN3468","v":0},{"$f":"Реестр!G3468","v":0},null,{"$f":"Реестр!J3468","v":0},0]
[{"$f":"(Реестр!B3469)+0","v":"00:00:00"},null,{"$f":"Реестр!AZ3469","v":0},{"$f":"Реестр!AN3469","v":0},{"$f":"Реестр!G3469","v":0},null,{"$f":"Реестр!J3469","v":0},0]
[{"$f":"(Реестр!B3470)+0","v":"00:00:00"},null,{"$f":"Реестр!AZ3470","v":0},{"$f":"Реестр!AN3470","v":0},{"$f":"Реестр!G3470","v":0},null,{"$f":"Реестр!J3470","v":0},0]
[{"$f":"(Реестр!B3471)+0","v":"00:00:00"},null,{"$f":"Реестр!AZ3471","v":0},{"$f":"Реестр!AN3471","v":0},{"$f":"Реестр!G3471","v":0},null,{"$f":"Реестр!J3471","v":0},0]
[{"$f":"(Реестр!B3472)+0","v":"00:00:00"},null,{"$f":"Реестр!AZ3472","v":0},{"$f":"Реестр!AN3472","v":0},{"$f":"Реестр!G3472","v":0},null,{"$f":"Реестр!J3472","v":0},0]
[{"$f":"(Реестр!B3473)+0","v":"00:00:00"},null,{"$f":"Реестр!AZ3473","v":0},{"$f":"Реестр!AN3473","v":0},{"$f":"Реестр!G3473","v":0},null,{"$f":"Реестр!J3473","v":0},0]
[{"$f":"(Реестр!B3474)+0","v":"00:00:00"},null,{"$f":"Реестр!AZ3474","v":0},{"$f":"Реестр!AN3474","v":0},{"$f":"Реестр!G3474","v":0},null,{"$f":"Реестр!J3474","v":0},0]
[{"$f":"(Реестр!B3475)+0","v":"00:00:00"},null,{"$f":"Реестр!AZ3475","v":0},{"$f":"Реестр!AN3475","v":0},{"$f":"Реестр!G3475","v":0},null,{"$f":"Реестр!J3475","v":0},0]
[{"$f":"(Реестр!B3476)+0","v":"00:00:00"},null,{"$f":"Реестр!AZ3476","v":0},{"$f":"Реестр!AN3476","v":0},{"$f":"Реестр!G3476","v":0},null,{"$f":"Реестр!J3476","v":0},0]
[{"$f":"(Реестр!B3477)+0","v":"00:00:00"},null,{"$f":"Реестр!AZ3477","v":0},{"$f":"Реестр!AN3477","v":0},{"$f":"Реестр!G3477","v":0},null,{"$f":"Реестр!J3477","v":0},0]
[{"$f":"(Реестр!B3478)+0","v":"00:00:00"},null,{"$f":"Реестр!AZ3478","v":0},{"$f":"Реестр!AN3478","v":0},{"$f":"Реестр!G3478","v":0},null,{"$f":"Реестр!J3478","v":0},0]
[{"$f":"(Реестр!B3479)+0","v":"00:00:00"},null,{"$f":"Реестр!AZ3479","v":0},{"$f":"Реестр!AN3479","v":0},{"$f":"Реестр!G3479","v":0},null,{"$f":"Реестр!J3479","v":0},0]
[{"$f":"(Реестр!B3480)+0","v":"00:00:00"},null,{"$f":"Реестр!AZ3480","v":0},{"$f":"Реестр!AN3480","v":0},{"$f":"Реестр!G3480","v":0},null,{"$f":"Реестр!J3480","v":0},0]
[{"$f":"(Реестр!B3481)+0","v":"00:00:00"},null,{"$f":"Реестр!AZ3481","v":0},{"$f":"Реестр!AN3481","v":0},{"$f":"Реестр!G3481","v":0},null,{"$f":"Реестр!J3481","v":0},0]
[{"$f":"(Реестр!B3482)+0","v":"00:00:00"},null,{"$f":"Реестр!AZ3482","v":0},{"$f":"Реестр!AN3482","v":0},{"$f":"Реестр!G3482","v":0},null,{"$f":"Реестр!J3482","v":0},0]
[{"$f":"(Реестр!B3483)+0","v":"00:00:00"},null,{"$f":"Реестр!AZ3483","v":0},{"$f":"Реестр!AN3483","v":0},{"$f":"Реестр!G3483","v":0},null,{"$f":"Реестр!J3483","v":0},0]
[{"$f":"(Реестр!B3484)+0","v":"00:00:00"},null,{"$f":"Реестр!AZ3484","v":0},{"$f":"Реестр!AN3484","v":0},{"$f":"Реестр!G3484","v":0},null,{"$f":"Реестр!J3484","v":0},0]
[{"$f":"(Реестр!B3485)+0","v":"00:00:00"},null,{"$f":"Реестр!AZ3485","v":0},{"$f":"Реестр!AN3485","v":0},{"$f":"Реестр!G3485","v":0},null,{"$f":"Реестр!J3485","v":0},0]
[{"$f":"(Реестр!B3486)+0","v":"00:00:00"},null,{"$f":"Реестр!AZ3486","v":0},{"$f":"Реестр!AN3486","v":0},{"$f":"Реестр!G3486","v":0},null,{"$f":"Реестр!J3486","v":0},0]
[{"$f":"(Реестр!B3487)+0","v":"00:00:00"},null,{"$f":"Реестр!AZ3487","v":0},{"$f":"Реестр!AN3487","v":0},{"$f":"Реестр!G3487","v":0},null,{"$f":"Реестр!J3487","v":0},0]
[{"$f":"(Реестр!B3488)+0","v":"00:00:00"},null,{"$f":"Реестр!AZ3488","v":0},{"$f":"Реестр!AN3488","v":0},{"$f":"Реестр!G3488","v":0},null,{"$f":"Реестр!J3488","v":0},0]
[{"$f":"(Реестр!B3489)+0","v":"00:00:00"},null,{"$f":"Реестр!AZ3489","v":0},{"$f":"Реестр!AN3489","v":0},{"$f":"Реестр!G3489","v":0},null,{"$f":"Реестр!J3489","v":0},0]
[{"$f":"(Реестр!B3490)+0","v":"00:00:00"},null,{"$f":"Реестр!AZ3490","v":0},{"$f":"Реестр!AN3490","v":0},{"$f":"Реестр!G3490","v":0},null,{"$f":"Реестр!J3490","v":0},0]
[{"$f":"(Реестр!B3491)+0","v":"00:00:00"},null,{"$f":"Реестр!AZ3491","v":0},{"$f":"Реестр!AN3491","v":0},{"$f":"Реестр!G3491","v":0},null,{"$f":"Реестр!J3491","v":0},0]
[{"$f":"(Реестр!B3492)+0","v":"00:00:00"},null,{"$f":"Реестр!AZ3492","v":0},{"$f":"Реестр!AN3492","v":0},{"$f":"Реестр!G3492","v":0},null,{"$f":"Реестр!J3492","v":0},0]
[{"$f":"(Реестр!B3493)+0","v":"00:00:00"},null,{"$f":"Реестр!AZ3493","v":0},{"$f":"Реестр!AN3493","v":0},{"$f":"Реестр!G3493","v":0},null,{"$f":"Реестр!J3493","v":0},0]
[{"$f":"(Реестр!B3494)+0","v":"00:00:00"},null,{"$f":"Реестр!AZ3494","v":0},{"$f":"Реестр!AN3494","v":0},{"$f":"Реестр!G3494","v":0},null,{"$f":"Реестр!J3494","v":0},0]
[{"$f":"(Реестр!B3495)+0","v":"00:00:00"},null,{"$f":"Реестр!AZ3495","v":0},{"$f":"Реестр!AN3495","v":0},{"$f":"Реестр!G3495","v":0},null,{"$f":"Реестр!J3495","v":0},0]
[{"$f":"(Реестр!B3496)+0","v":"00:00:00"},null,{"$f":"Реестр!AZ3496","v":0},{"$f":"Реестр!AN3496","v":0},{"$f":"Реестр!G3496","v":0},null,{"$f":"Реестр!J3496","v":0},0]
[{"$f":"(Реестр!B3497)+0","v":"00:00:00"},null,{"$f":"Реестр!AZ3497","v":0},{"$f":"Реестр!AN3497","v":0},{"$f":"Реестр!G3497","v":0},null,{"$f":"Реестр!J3497","v":0},0]
[{"$f":"(Реестр!B3498)+0","v":"00:00:00"},null,{"$f":"Реестр!AZ3498","v":0},{"$f":"Реестр!AN3498","v":0},{"$f":"Реестр!G3498","v":0},null,{"$f":"Реестр!J3498","v":0},0]
[{"$f":"(Реестр!B3499)+0","v":"00:00:00"},null,{"$f":"Реестр!AZ3499","v":0},{"$f":"Реестр!AN3499","v":0},{"$f":"Реестр!G3499","v":0},null,{"$f":"Реестр!J3499","v":0},0]
[{"$f":"(Реестр!B3500)+0","v":"00:00:00"},null,{"$f":"Реестр!AZ3500","v":0},{"$f":"Реестр!AN3500","v":0},{"$f":"Реестр!G3500","v":0},null,{"$f":"Реестр!J3500","v":0},0]
[{"$f":"(Реестр!B3501)+0","v":"00:00:00"},null,{"$f":"Реестр!AZ3501","v":0},{"$f":"Реестр!AN3501","v":0},{"$f":"Реестр!G3501","v":0},null,{"$f":"Реестр!J3501","v":0},0]
[{"$f":"(Реестр!B3502)+0","v":"00:00:00"},null,{"$f":"Реестр!AZ3502","v":0},{"$f":"Реестр!AN3502","v":0},{"$f":"Реестр!G3502","v":0},null,{"$f":"Реестр!J3502","v":0},0]
[{"$f":"(Реестр!B3503)+0","v":"00:00:00"},null,{"$f":"Реестр!AZ3503","v":0},{"$f":"Реестр!AN3503","v":0},{"$f":"Реестр!G3503","v":0},null,{"$f":"Реестр!J3503","v":0},0]
[{"$f":"(Реестр!B3504)+0","v":"00:00:00"},null,{"$f":"Реестр!AZ3504","v":0},{"$f":"Реестр!AN3504","v":0},{"$f":"Реестр!G3504","v":0},null,{"$f":"Реестр!J3504","v":0},0]
[{"$f":"(Реестр!B3505)+0","v":"00:00:00"},null,{"$f":"Реестр!AZ3505","v":0},{"$f":"Реестр!AN3505","v":0},{"$f":"Реестр!G3505","v":0},null,{"$f":"Реестр!J3505","v":0},0]
[{"$f":"(Реестр!B3506)+0","v":"00:00:00"},null,{"$f":"Реестр!AZ3506","v":0},{"$f":"Реестр!AN3506","v":0},{"$f":"Реестр!G3506","v":0},null,{"$f":"Реестр!J3506","v":0},0]
[{"$f":"(Реестр!B3507)+0","v":"00:00:00"},null,{"$f":"Реестр!AZ3507","v":0},{"$f":"Реестр!AN3507","v":0},{"$f":"Реестр!G3507","v":0},null,{"$f":"Реестр!J3507","v":0},0]
[{"$f":"(Реестр!B3508)+0","v":"00:00:00"},null,{"$f":"Реестр!AZ3508","v":0},{"$f":"Реестр!AN3508","v":0},{"$f":"Реестр!G3508","v":0},null,{"$f":"Реестр!J3508","v":0},0]
[{"$f":"(Реестр!B3509)+0","v":"00:00:00"},null,{"$f":"Реестр!AZ3509","v":0},{"$f":"Реестр!AN3509","v":0},{"$f":"Реестр!G3509","v":0},null,{"$f":"Реестр!J3509","v":0},0]
[{"$f":"(Реестр!B3510)+0","v":"00:00:00"},null,{"$f":"Реестр!AZ3510","v":0},{"$f":"Реестр!AN3510","v":0},{"$f":"Реестр!G3510","v":0},null,{"$f":"Реестр!J3510","v":0},0]
[{"$f":"(Реестр!B3511)+0","v":"00:00:00"},null,{"$f":"Реестр!AZ3511","v":0},{"$f":"Реестр!AN3511","v":0},{"$f":"Реестр!G3511","v":0},null,{"$f":"Реестр!J3511","v":0},0]
[{"$f":"(Реестр!B3512)+0","v":"00:00:00"},null,{"$f":"Реестр!AZ3512","v":0},{"$f":"Реестр!AN3512","v":0},{"$f":"Реестр!G3512","v":0},null,{"$f":"Реестр!J3512","v":0},0]
[{"$f":"(Реестр!B3513)+0","v":"00:00:00"},null,{"$f":"Реестр!AZ3513","v":0},{"$f":"Реестр!AN3513","v":0},{"$f":"Реестр!G3513","v":0},null,{"$f":"Реестр!J3513","v":0},0]
[{"$f":"(Реестр!B3514)+0","v":"00:00:00"},null,{"$f":"Реестр!AZ3514","v":0},{"$f":"Реестр!AN3514","v":0},{"$f":"Реестр!G3514","v":0},null,{"$f":"Реестр!J3514","v":0},0]
[{"$f":"(Реестр!B3515)+0","v":"00:00:00"},null,{"$f":"Реестр!AZ3515","v":0},{"$f":"Реестр!AN3515","v":0},{"$f":"Реестр!G3515","v":0},null,{"$f":"Реестр!J3515","v":0},0]
[{"$f":"(Реестр!B3516)+0","v":"00:00:00"},null,{"$f":"Реестр!AZ3516","v":0},{"$f":"Реестр!AN3516","v":0},{"$f":"Реестр!G3516","v":0},null,{"$f":"Реестр!J3516","v":0},0]
[{"$f":"(Реестр!B3517)+0","v":"00:00:00"},null,{"$f":"Реестр!AZ3517","v":0},{"$f":"Реестр!AN3517","v":0},{"$f":"Реестр!G3517","v":0},null,{"$f":"Реестр!J3517","v":0},0]
[{"$f":"(Реестр!B3518)+0","v":"00:00:00"},null,{"$f":"Реестр!AZ3518","v":0},{"$f":"Реестр!AN3518","v":0},{"$f":"Реестр!G3518","v":0},null,{"$f":"Реестр!J3518","v":0},0]
[{"$f":"(Реестр!B3519)+0","v":"00:00:00"},null,{"$f":"Реестр!AZ3519","v":0},{"$f":"Реестр!AN3519","v":0},{"$f":"Реестр!G3519","v":0},null,{"$f":"Реестр!J3519","v":0},{"$f":"E2953*G2953","v":0}]
[{"$f":"(Реестр!B3520)+0","v":"00:00:00"},null,{"$f":"Реестр!AZ3520","v":0},{"$f":"Реестр!AN3520","v":0},{"$f":"Реестр!G3520","v":0},null,{"$f":"Реестр!J3520","v":0},0]
[{"$f":"(Реестр!B3521)+0","v":"00:00:00"},null,{"$f":"Реестр!AZ3521","v":0},{"$f":"Реестр!AN3521","v":0},{"$f":"Реестр!G3521","v":0},null,{"$f":"Реестр!J3521","v":0},0]
[{"$f":"(Реестр!B3522)+0","v":"00:00:00"},null,{"$f":"Реестр!AZ3522","v":0},{"$f":"Реестр!AN3522","v":0},{"$f":"Реестр!G3522","v":0},null,{"$f":"Реестр!J3522","v":0},0]
[{"$f":"(Реестр!B3523)+0","v":"00:00:00"},null,{"$f":"Реестр!AZ3523","v":0},{"$f":"Реестр!AN3523","v":0},{"$f":"Реестр!G3523","v":0},null,{"$f":"Реестр!J3523","v":0},0]
[{"$f":"(Реестр!B3524)+0","v":"00:00:00"},null,{"$f":"Реестр!AZ3524","v":0},{"$f":"Реестр!AN3524","v":0},{"$f":"Реестр!G3524","v":0},null,{"$f":"Реестр!J3524","v":0},0]
[{"$f":"(Реестр!B3525)+0","v":"00:00:00"},null,{"$f":"Реестр!AZ3525","v":0},{"$f":"Реестр!AN3525","v":0},{"$f":"Реестр!G3525","v":0},null,{"$f":"Реестр!J3525","v":0},0]
[{"$f":"(Реестр!B3526)+0","v":"00:00:00"},null,{"$f":"Реестр!AZ3526","v":0},{"$f":"Реестр!AN3526","v":0},{"$f":"Реестр!G3526","v":0},null,{"$f":"Реестр!J3526","v":0},0]
[{"$f":"(Реестр!B3527)+0","v":"00:00:00"},null,{"$f":"Реестр!AZ3527","v":0},{"$f":"Реестр!AN3527","v":0},{"$f":"Реестр!G3527","v":0},null,{"$f":"Реестр!J3527","v":0},0]
[{"$f":"(Реестр!B3528)+0","v":"00:00:00"},null,{"$f":"Реестр!AZ3528","v":0},{"$f":"Реестр!AN3528","v":0},{"$f":"Реестр!G3528","v":0},null,{"$f":"Реестр!J3528","v":0},0]
[{"$f":"(Реестр!B3529)+0","v":"00:00:00"},null,{"$f":"Реестр!AZ3529","v":0},{"$f":"Реестр!AN3529","v":0},{"$f":"Реестр!G3529","v":0},null,{"$f":"Реестр!J3529","v":0},0]
[{"$f":"(Реестр!B3530)+0","v":"00:00:00"},null,{"$f":"Реестр!AZ3530","v":0},{"$f":"Реестр!AN3530","v":0},{"$f":"Реестр!G3530","v":0},null,{"$f":"Реестр!J3530","v":0},0]
[{"$f":"(Реестр!B3531)+0","v":"00:00:00"},null,{"$f":"Реестр!AZ3531","v":0},{"$f":"Реестр!AN3531","v":0},{"$f":"Реестр!G3531","v":0},null,{"$f":"Реестр!J3531","v":0},0]
[{"$f":"(Реестр!B3532)+0","v":"00:00:00"},null,{"$f":"Реестр!AZ3532","v":0},{"$f":"Реестр!AN3532","v":0},{"$f":"Реестр!G3532","v":0},null,{"$f":"Реестр!J3532","v":0},0]
[{"$f":"(Реестр!B3533)+0","v":"00:00:00"},null,{"$f":"Реестр!AZ3533","v":0},{"$f":"Реестр!AN3533","v":0},{"$f":"Реестр!G3533","v":0},null,{"$f":"Реестр!J3533","v":0},0]
[{"$f":"(Реестр!B3534)+0","v":"00:00:00"},null,{"$f":"Реестр!AZ3534","v":0},{"$f":"Реестр!AN3534","v":0},{"$f":"Реестр!G3534","v":0},null,{"$f":"Реестр!J3534","v":0},0]
[{"$f":"(Реестр!B3535)+0","v":"00:00:00"},null,{"$f":"Реестр!AZ3535","v":0},{"$f":"Реестр!AN3535","v":0},{"$f":"Реестр!G3535","v":0},null,{"$f":"Реестр!J3535","v":0},0]
[{"$f":"(Реестр!B3536)+0","v":"00:00:00"},null,{"$f":"Реестр!AZ3536","v":0},{"$f":"Реестр!AN3536","v":0},{"$f":"Реестр!G3536","v":0},null,{"$f":"Реестр!J3536","v":0},0]
[{"$f":"(Реестр!B3537)+0","v":"00:00:00"},null,{"$f":"Реестр!AZ3537","v":0},{"$f":"Реестр!AN3537","v":0},{"$f":"Реестр!G3537","v":0},null,{"$f":"Реестр!J3537","v":0},0]
[{"$f":"(Реестр!B3538)+0","v":"00:00:00"},null,{"$f":"Реестр!AZ3538","v":0},{"$f":"Реестр!AN3538","v":0},{"$f":"Реестр!G3538","v":0},null,{"$f":"Реестр!J3538","v":0},0]
[{"$f":"(Реестр!B3539)+0","v":"00:00:00"},null,{"$f":"Реестр!AZ3539","v":0},{"$f":"Реестр!AN3539","v":0},{"$f":"Реестр!G3539","v":0},null,{"$f":"Реестр!J3539","v":0},0]
[{"$f":"(Реестр!B3540)+0","v":"00:00:00"},null,{"$f":"Реестр!AZ3540","v":0},{"$f":"Реестр!AN3540","v":0},{"$f":"Реестр!G3540","v":0},null,{"$f":"Реестр!J3540","v":0},0]
[{"$f":"(Реестр!B3541)+0","v":"00:00:00"},null,{"$f":"Реестр!AZ3541","v":0},{"$f":"Реестр!AN3541","v":0},{"$f":"Реестр!G3541","v":0},null,{"$f":"Реестр!J3541","v":0},0]
[{"$f":"(Реестр!B3542)+0","v":"00:00:00"},null,{"$f":"Реестр!AZ3542","v":0},{"$f":"Реестр!AN3542","v":0},{"$f":"Реестр!G3542","v":0},null,{"$f":"Реестр!J3542","v":0},0]
[{"$f":"(Реестр!B3543)+0","v":"00:00:00"},null,{"$f":"Реестр!AZ3543","v":0},{"$f":"Реестр!AN3543","v":0},{"$f":"Реестр!G3543","v":0},null,{"$f":"Реестр!J3543","v":0},0]
[{"$f":"(Реестр!B3544)+0","v":"00:00:00"},null,{"$f":"Реестр!AZ3544","v":0},{"$f":"Реестр!AN3544","v":0},{"$f":"Реестр!G3544","v":0},null,{"$f":"Реестр!J3544","v":0},0]
[{"$f":"(Реестр!B3545)+0","v":"00:00:00"},null,{"$f":"Реестр!AZ3545","v":0},{"$f":"Реестр!AN3545","v":0},{"$f":"Реестр!G3545","v":0},null,{"$f":"Реестр!J3545","v":0},0]
[{"$f":"(Реестр!B3546)+0","v":"00:00:00"},null,{"$f":"Реестр!AZ3546","v":0},{"$f":"Реестр!AN3546","v":0},{"$f":"Реестр!G3546","v":0},null,{"$f":"Реестр!J3546","v":0},0]
[{"$f":"(Реестр!B3547)+0","v":"00:00:00"},null,{"$f":"Реестр!AZ3547","v":0},{"$f":"Реестр!AN3547","v":0},{"$f":"Реестр!G3547","v":0},null,{"$f":"Реестр!J3547","v":0},0]
[{"$f":"(Реестр!B3548)+0","v":"00:00:00"},null,{"$f":"Реестр!AZ3548","v":0},{"$f":"Реестр!AN3548","v":0},{"$f":"Реестр!G3548","v":0},null,{"$f":"Реестр!J3548","v":0},0]
[{"$f":"(Реестр!B3549)+0","v":"00:00:00"},null,{"$f":"Реестр!AZ3549","v":0},{"$f":"Реестр!AN3549","v":0},{"$f":"Реестр!G3549","v":0},null,{"$f":"Реестр!J3549","v":0},0]
[{"$f":"(Реестр!B3550)+0","v":"00:00:00"},null,{"$f":"Реестр!AZ3550","v":0},{"$f":"Реестр!AN3550","v":0},{"$f":"Реестр!G3550","v":0},null,{"$f":"Реестр!J3550","v":0},0]
[{"$f":"(Реестр!B3551)+0","v":"00:00:00"},null,{"$f":"Реестр!AZ3551","v":0},{"$f":"Реестр!AN3551","v":0},{"$f":"Реестр!G3551","v":0},null,{"$f":"Реестр!J3551","v":0},0]
[{"$f":"(Реестр!B3552)+0","v":"00:00:00"},null,{"$f":"Реестр!AZ3552","v":0},{"$f":"Реестр!AN3552","v":0},{"$f":"Реестр!G3552","v":0},null,{"$f":"Реестр!J3552","v":0},0]
[{"$f":"(Реестр!B3553)+0","v":"00:00:00"},null,{"$f":"Реестр!AZ3553","v":0},{"$f":"Реестр!AN3553","v":0},{"$f":"Реестр!G3553","v":0},null,{"$f":"Реестр!J3553","v":0},0]
[{"$f":"(Реестр!B3554)+0","v":"00:00:00"},null,{"$f":"Реестр!AZ3554","v":0},{"$f":"Реестр!AN3554","v":0},{"$f":"Реестр!G3554","v":0},null,{"$f":"Реестр!J3554","v":0},0]
[{"$f":"(Реестр!B3555)+0","v":"00:00:00"},null,{"$f":"Реестр!AZ3555","v":0},{"$f":"Реестр!AN3555","v":0},{"$f":"Реестр!G3555","v":0},null,{"$f":"Реестр!J3555","v":0},0]
[{"$f":"(Реестр!B3556)+0","v":"00:00:00"},null,{"$f":"Реестр!AZ3556","v":0},{"$f":"Реестр!AN3556","v":0},{"$f":"Реестр!G3556","v":0},null,{"$f":"Реестр!J3556","v":0},0]
[{"$f":"(Реестр!B3557)+0","v":"00:00:00"},null,{"$f":"Реестр!AZ3557","v":0},{"$f":"Реестр!AN3557","v":0},{"$f":"Реестр!G3557","v":0},null,{"$f":"Реестр!J3557","v":0},0]
[{"$f":"(Реестр!B3558)+0","v":"00:00:00"},null,{"$f":"Реестр!AZ3558","v":0},{"$f":"Реестр!AN3558","v":0},{"$f":"Реестр!G3558","v":0},null,{"$f":"Реестр!J3558","v":0},0]
[{"$f":"(Реестр!B3559)+0","v":"00:00:00"},null,{"$f":"Реестр!AZ3559","v":0},{"$f":"Реестр!AN3559","v":0},{"$f":"Реестр!G3559","v":0},null,{"$f":"Реестр!J3559","v":0},0]
[{"$f":"(Реестр!B3560)+0","v":"00:00:00"},null,{"$f":"Реестр!AZ3560","v":0},{"$f":"Реестр!AN3560","v":0},{"$f":"Реестр!G3560","v":0},null,{"$f":"Реестр!J3560","v":0},0]
[{"$f":"(Реестр!B3561)+0","v":"00:00:00"},null,{"$f":"Реестр!AZ3561","v":0},{"$f":"Реестр!AN3561","v":0},{"$f":"Реестр!G3561","v":0},null,{"$f":"Реестр!J3561","v":0},0]
[{"$f":"(Реестр!B3562)+0","v":"00:00:00"},null,{"$f":"Реестр!AZ3562","v":0},{"$f":"Реестр!AN3562","v":0},{"$f":"Реестр!G3562","v":0},null,{"$f":"Реестр!J3562","v":0},0]
[{"$f":"(Реестр!B3563)+0","v":"00:00:00"},null,{"$f":"Реестр!AZ3563","v":0},{"$f":"Реестр!AN3563","v":0},{"$f":"Реестр!G3563","v":0},null,{"$f":"Реестр!J3563","v":0},0]
[{"$f":"(Реестр!B3564)+0","v":"00:00:00"},null,{"$f":"Реестр!AZ3564","v":0},{"$f":"Реестр!AN3564","v":0},{"$f":"Реестр!G3564","v":0},null,{"$f":"Реестр!J3564","v":0},0]
[{"$f":"(Реестр!B3565)+0","v":"00:00:00"},null,{"$f":"Реестр!AZ3565","v":0},{"$f":"Реестр!AN3565","v":0},{"$f":"Реестр!G3565","v":0},null,{"$f":"Реестр!J3565","v":0},0]
[{"$f":"(Реестр!B3566)+0","v":"00:00:00"},null,{"$f":"Реестр!AZ3566","v":0},{"$f":"Реестр!AN3566","v":0},{"$f":"Реестр!G3566","v":0},null,{"$f":"Реестр!J3566","v":0},0]
[{"$f":"(Реестр!B3567)+0","v":"00:00:00"},null,{"$f":"Реестр!AZ3567","v":0},{"$f":"Реестр!AN3567","v":0},{"$f":"Реестр!G3567","v":0},null,{"$f":"Реестр!J3567","v":0},0]
[{"$f":"(Реестр!B3568)+0","v":"00:00:00"},null,{"$f":"Реестр!AZ3568","v":0},{"$f":"Реестр!AN3568","v":0},{"$f":"Реестр!G3568","v":0},null,{"$f":"Реестр!J3568","v":0},0]
[{"$f":"(Реестр!B3569)+0","v":"00:00:00"},null,{"$f":"Реестр!AZ3569","v":0},{"$f":"Реестр!AN3569","v":0},{"$f":"Реестр!G3569","v":0},null,{"$f":"Реестр!J3569","v":0},0]
[{"$f":"(Реестр!B3570)+0","v":"00:00:00"},null,{"$f":"Реестр!AZ3570","v":0},{"$f":"Реестр!AN3570","v":0},{"$f":"Реестр!G3570","v":0},null,{"$f":"Реестр!J3570","v":0},0]
[{"$f":"(Реестр!B3571)+0","v":"00:00:00"},null,{"$f":"Реестр!AZ3571","v":0},{"$f":"Реестр!AN3571","v":0},{"$f":"Реестр!G3571","v":0},null,{"$f":"Реестр!J3571","v":0},0]
[{"$f":"(Реестр!B3572)+0","v":"00:00:00"},null,{"$f":"Реестр!AZ3572","v":0},{"$f":"Реестр!AN3572","v":0},{"$f":"Реестр!G3572","v":0},null,{"$f":"Реестр!J3572","v":0},0]
[{"$f":"(Реестр!B3573)+0","v":"00:00:00"},null,{"$f":"Реестр!AZ3573","v":0},{"$f":"Реестр!AN3573","v":0},{"$f":"Реестр!G3573","v":0},null,{"$f":"Реестр!J3573","v":0},0]
[{"$f":"(Реестр!B3574)+0","v":"00:00:00"},null,{"$f":"Реестр!AZ3574","v":0},{"$f":"Реестр!AN3574","v":0},{"$f":"Реестр!G3574","v":0},null,{"$f":"Реестр!J3574","v":0},0]
[{"$f":"(Реестр!B3575)+0","v":"00:00:00"},null,{"$f":"Реестр!AZ3575","v":0},{"$f":"Реестр!AN3575","v":0},{"$f":"Реестр!G3575","v":0},null,{"$f":"Реестр!J3575","v":0},0]
[{"$f":"(Реестр!B3576)+0","v":"00:00:00"},null,{"$f":"Реестр!AZ3576","v":0},{"$f":"Реестр!AN3576","v":0},{"$f":"Реестр!G3576","v":0},null,{"$f":"Реестр!J3576","v":0},0]
[{"$f":"(Реестр!B3577)+0","v":"00:00:00"},null,{"$f":"Реестр!AZ3577","v":0},{"$f":"Реестр!AN3577","v":0},{"$f":"Реестр!G3577","v":0},null,{"$f":"Реестр!J3577","v":0},0]
[{"$f":"(Реестр!B3578)+0","v":"00:00:00"},null,{"$f":"Реестр!AZ3578","v":0},{"$f":"Реестр!AN3578","v":0},{"$f":"Реестр!G3578","v":0},null,{"$f":"Реестр!J3578","v":0},0]
[{"$f":"(Реестр!B3579)+0","v":"00:00:00"},null,{"$f":"Реестр!AZ3579","v":0},{"$f":"Реестр!AN3579","v":0},{"$f":"Реестр!G3579","v":0},null,{"$f":"Реестр!J3579","v":0},0]
[{"$f":"(Реестр!B3580)+0","v":"00:00:00"},null,{"$f":"Реестр!AZ3580","v":0},{"$f":"Реестр!AN3580","v":0},{"$f":"Реестр!G3580","v":0},null,{"$f":"Реестр!J3580","v":0},0]
[{"$f":"(Реестр!B3581)+0","v":"00:00:00"},null,{"$f":"Реестр!AZ3581","v":0},{"$f":"Реестр!AN3581","v":0},{"$f":"Реестр!G3581","v":0},null,{"$f":"Реестр!J3581","v":0},0]
[{"$f":"(Реестр!B3582)+0","v":"00:00:00"},null,{"$f":"Реестр!AZ3582","v":0},{"$f":"Реестр!AN3582","v":0},{"$f":"Реестр!G3582","v":0},null,{"$f":"Реестр!J3582","v":0},0]
[{"$f":"(Реестр!B3583)+0","v":"00:00:00"},null,{"$f":"Реестр!AZ3583","v":0},{"$f":"Реестр!AN3583","v":0},{"$f":"Реестр!G3583","v":0},null,{"$f":"Реестр!J3583","v":0},{"$f":"E3017*G3017","v":0}]
[{"$f":"(Реестр!B3584)+0","v":"00:00:00"},null,{"$f":"Реестр!AZ3584","v":0},{"$f":"Реестр!AN3584","v":0},{"$f":"Реестр!G3584","v":0},null,{"$f":"Реестр!J3584","v":0},0]
[{"$f":"(Реестр!B3585)+0","v":"00:00:00"},null,{"$f":"Реестр!AZ3585","v":0},{"$f":"Реестр!AN3585","v":0},{"$f":"Реестр!G3585","v":0},null,{"$f":"Реестр!J3585","v":0},0]
[{"$f":"(Реестр!B3586)+0","v":"00:00:00"},null,{"$f":"Реестр!AZ3586","v":0},{"$f":"Реестр!AN3586","v":0},{"$f":"Реестр!G3586","v":0},null,{"$f":"Реестр!J3586","v":0},0]
[{"$f":"(Реестр!B3587)+0","v":"00:00:00"},null,{"$f":"Реестр!AZ3587","v":0},{"$f":"Реестр!AN3587","v":0},{"$f":"Реестр!G3587","v":0},null,{"$f":"Реестр!J3587","v":0},0]
[{"$f":"(Реестр!B3588)+0","v":"00:00:00"},null,{"$f":"Реестр!AZ3588","v":0},{"$f":"Реестр!AN3588","v":0},{"$f":"Реестр!G3588","v":0},null,{"$f":"Реестр!J3588","v":0},0]
[{"$f":"(Реестр!B3589)+0","v":"00:00:00"},null,{"$f":"Реестр!AZ3589","v":0},{"$f":"Реестр!AN3589","v":0},{"$f":"Реестр!G3589","v":0},null,{"$f":"Реестр!J3589","v":0},0]
[{"$f":"(Реестр!B3590)+0","v":"00:00:00"},null,{"$f":"Реестр!AZ3590","v":0},{"$f":"Реестр!AN3590","v":0},{"$f":"Реестр!G3590","v":0},null,{"$f":"Реестр!J3590","v":0},0]
[{"$f":"(Реестр!B3591)+0","v":"00:00:00"},null,{"$f":"Реестр!AZ3591","v":0},{"$f":"Реестр!AN3591","v":0},{"$f":"Реестр!G3591","v":0},null,{"$f":"Реестр!J3591","v":0},0]
[{"$f":"(Реестр!B3592)+0","v":"00:00:00"},null,{"$f":"Реестр!AZ3592","v":0},{"$f":"Реестр!AN3592","v":0},{"$f":"Реестр!G3592","v":0},null,{"$f":"Реестр!J3592","v":0},0]
[{"$f":"(Реестр!B3593)+0","v":"00:00:00"},null,{"$f":"Реестр!AZ3593","v":0},{"$f":"Реестр!AN3593","v":0},{"$f":"Реестр!G3593","v":0},null,{"$f":"Реестр!J3593","v":0},0]
[{"$f":"(Реестр!B3594)+0","v":"00:00:00"},null,{"$f":"Реестр!AZ3594","v":0},{"$f":"Реестр!AN3594","v":0},{"$f":"Реестр!G3594","v":0},null,{"$f":"Реестр!J3594","v":0},0]
[{"$f":"(Реестр!B3595)+0","v":"00:00:00"},null,{"$f":"Реестр!AZ3595","v":0},{"$f":"Реестр!AN3595","v":0},{"$f":"Реестр!G3595","v":0},null,{"$f":"Реестр!J3595","v":0},0]
[{"$f":"(Реестр!B3596)+0","v":"00:00:00"},null,{"$f":"Реестр!AZ3596","v":0},{"$f":"Реестр!AN3596","v":0},{"$f":"Реестр!G3596","v":0},null,{"$f":"Реестр!J3596","v":0},0]
[{"$f":"(Реестр!B3597)+0","v":"00:00:00"},null,{"$f":"Реестр!AZ3597","v":0},{"$f":"Реестр!AN3597","v":0},{"$f":"Реестр!G3597","v":0},null,{"$f":"Реестр!J3597","v":0},0]
[{"$f":"(Реестр!B3598)+0","v":"00:00:00"},null,{"$f":"Реестр!AZ3598","v":0},{"$f":"Реестр!AN3598","v":0},{"$f":"Реестр!G3598","v":0},null,{"$f":"Реестр!J3598","v":0},0]
[{"$f":"(Реестр!B3599)+0","v":"00:00:00"},null,{"$f":"Реестр!AZ3599","v":0},{"$f":"Реестр!AN3599","v":0},{"$f":"Реестр!G3599","v":0},null,{"$f":"Реестр!J3599","v":0},0]
[{"$f":"(Реестр!B3600)+0","v":"00:00:00"},null,{"$f":"Реестр!AZ3600","v":0},{"$f":"Реестр!AN3600","v":0},{"$f":"Реестр!G3600","v":0},null,{"$f":"Реестр!J3600","v":0},0]
[{"$f":"(Реестр!B3601)+0","v":"00:00:00"},null,{"$f":"Реестр!AZ3601","v":0},{"$f":"Реестр!AN3601","v":0},{"$f":"Реестр!G3601","v":0},null,{"$f":"Реестр!J3601","v":0},0]
[{"$f":"(Реестр!B3602)+0","v":"00:00:00"},null,{"$f":"Реестр!AZ3602","v":0},{"$f":"Реестр!AN3602","v":0},{"$f":"Реестр!G3602","v":0},null,{"$f":"Реестр!J3602","v":0},0]
[{"$f":"(Реестр!B3603)+0","v":"00:00:00"},null,{"$f":"Реестр!AZ3603","v":0},{"$f":"Реестр!AN3603","v":0},{"$f":"Реестр!G3603","v":0},null,{"$f":"Реестр!J3603","v":0},0]
[{"$f":"(Реестр!B3604)+0","v":"00:00:00"},null,{"$f":"Реестр!AZ3604","v":0},{"$f":"Реестр!AN3604","v":0},{"$f":"Реестр!G3604","v":0},null,{"$f":"Реестр!J3604","v":0},0]
[{"$f":"(Реестр!B3605)+0","v":"00:00:00"},null,{"$f":"Реестр!AZ3605","v":0},{"$f":"Реестр!AN3605","v":0},{"$f":"Реестр!G3605","v":0},null,{"$f":"Реестр!J3605","v":0},0]
[{"$f":"(Реестр!B3606)+0","v":"00:00:00"},null,{"$f":"Реестр!AZ3606","v":0},{"$f":"Реестр!AN3606","v":0},{"$f":"Реестр!G3606","v":0},null,{"$f":"Реестр!J3606","v":0},0]
[{"$f":"(Реестр!B3607)+0","v":"00:00:00"},null,{"$f":"Реестр!AZ3607","v":0},{"$f":"Реестр!AN3607","v":0},{"$f":"Реестр!G3607","v":0},null,{"$f":"Реестр!J3607","v":0},0]
[{"$f":"(Реестр!B3608)+0","v":"00:00:00"},null,{"$f":"Реестр!AZ3608","v":0},{"$f":"Реестр!AN3608","v":0},{"$f":"Реестр!G3608","v":0},null,{"$f":"Реестр!J3608","v":0},0]
[{"$f":"(Реестр!B3609)+0","v":"00:00:00"},null,{"$f":"Реестр!AZ3609","v":0},{"$f":"Реестр!AN3609","v":0},{"$f":"Реестр!G3609","v":0},null,{"$f":"Реестр!J3609","v":0},0]
[{"$f":"(Реестр!B3610)+0","v":"00:00:00"},null,{"$f":"Реестр!AZ3610","v":0},{"$f":"Реестр!AN3610","v":0},{"$f":"Реестр!G3610","v":0},null,{"$f":"Реестр!J3610","v":0},0]
[{"$f":"(Реестр!B3611)+0","v":"00:00:00"},null,{"$f":"Реестр!AZ3611","v":0},{"$f":"Реестр!AN3611","v":0},{"$f":"Реестр!G3611","v":0},null,{"$f":"Реестр!J3611","v":0},0]
[{"$f":"(Реестр!B3612)+0","v":"00:00:00"},null,{"$f":"Реестр!AZ3612","v":0},{"$f":"Реестр!AN3612","v":0},{"$f":"Реестр!G3612","v":0},null,{"$f":"Реестр!J3612","v":0},0]
[{"$f":"(Реестр!B3613)+0","v":"00:00:00"},null,{"$f":"Реестр!AZ3613","v":0},{"$f":"Реестр!AN3613","v":0},{"$f":"Реестр!G3613","v":0},null,{"$f":"Реестр!J3613","v":0},0]
[{"$f":"(Реестр!B3614)+0","v":"00:00:00"},null,{"$f":"Реестр!AZ3614","v":0},{"$f":"Реестр!AN3614","v":0},{"$f":"Реестр!G3614","v":0},null,{"$f":"Реестр!J3614","v":0},0]
[{"$f":"(Реестр!B3615)+0","v":"00:00:00"},null,{"$f":"Реестр!AZ3615","v":0},{"$f":"Реестр!AN3615","v":0},{"$f":"Реестр!G3615","v":0},null,{"$f":"Реестр!J3615","v":0},0]
[{"$f":"(Реестр!B3616)+0","v":"00:00:00"},null,{"$f":"Реестр!AZ3616","v":0},{"$f":"Реестр!AN3616","v":0},{"$f":"Реестр!G3616","v":0},null,{"$f":"Реестр!J3616","v":0},0]
[{"$f":"(Реестр!B3617)+0","v":"00:00:00"},null,{"$f":"Реестр!AZ3617","v":0},{"$f":"Реестр!AN3617","v":0},{"$f":"Реестр!G3617","v":0},null,{"$f":"Реестр!J3617","v":0},0]
[{"$f":"(Реестр!B3618)+0","v":"00:00:00"},null,{"$f":"Реестр!AZ3618","v":0},{"$f":"Реестр!AN3618","v":0},{"$f":"Реестр!G3618","v":0},null,{"$f":"Реестр!J3618","v":0},0]
[{"$f":"(Реестр!B3619)+0","v":"00:00:00"},null,{"$f":"Реестр!AZ3619","v":0},{"$f":"Реестр!AN3619","v":0},{"$f":"Реестр!G3619","v":0},null,{"$f":"Реестр!J3619","v":0},0]
[{"$f":"(Реестр!B3620)+0","v":"00:00:00"},null,{"$f":"Реестр!AZ3620","v":0},{"$f":"Реестр!AN3620","v":0},{"$f":"Реестр!G3620","v":0},null,{"$f":"Реестр!J3620","v":0},0]
[{"$f":"(Реестр!B3621)+0","v":"00:00:00"},null,{"$f":"Реестр!AZ3621","v":0},{"$f":"Реестр!AN3621","v":0},{"$f":"Реестр!G3621","v":0},null,{"$f":"Реестр!J3621","v":0},0]
[{"$f":"(Реестр!B3622)+0","v":"00:00:00"},null,{"$f":"Реестр!AZ3622","v":0},{"$f":"Реестр!AN3622","v":0},{"$f":"Реестр!G3622","v":0},null,{"$f":"Реестр!J3622","v":0},0]
[{"$f":"(Реестр!B3623)+0","v":"00:00:00"},null,{"$f":"Реестр!AZ3623","v":0},{"$f":"Реестр!AN3623","v":0},{"$f":"Реестр!G3623","v":0},null,{"$f":"Реестр!J3623","v":0},0]
[{"$f":"(Реестр!B3624)+0","v":"00:00:00"},null,{"$f":"Реестр!AZ3624","v":0},{"$f":"Реестр!AN3624","v":0},{"$f":"Реестр!G3624","v":0},null,{"$f":"Реестр!J3624","v":0},0]
[{"$f":"(Реестр!B3625)+0","v":"00:00:00"},null,{"$f":"Реестр!AZ3625","v":0},{"$f":"Реестр!AN3625","v":0},{"$f":"Реестр!G3625","v":0},null,{"$f":"Реестр!J3625","v":0},0]
[{"$f":"(Реестр!B3626)+0","v":"00:00:00"},null,{"$f":"Реестр!AZ3626","v":0},{"$f":"Реестр!AN3626","v":0},{"$f":"Реестр!G3626","v":0},null,{"$f":"Реестр!J3626","v":0},0]
[{"$f":"(Реестр!B3627)+0","v":"00:00:00"},null,{"$f":"Реестр!AZ3627","v":0},{"$f":"Реестр!AN3627","v":0},{"$f":"Реестр!G3627","v":0},null,{"$f":"Реестр!J3627","v":0},0]
[{"$f":"(Реестр!B3628)+0","v":"00:00:00"},null,{"$f":"Реестр!AZ3628","v":0},{"$f":"Реестр!AN3628","v":0},{"$f":"Реестр!G3628","v":0},null,{"$f":"Реестр!J3628","v":0},0]
[{"$f":"(Реестр!B3629)+0","v":"00:00:00"},null,{"$f":"Реестр!AZ3629","v":0},{"$f":"Реестр!AN3629","v":0},{"$f":"Реестр!G3629","v":0},null,{"$f":"Реестр!J3629","v":0},0]
[{"$f":"(Реестр!B3630)+0","v":"00:00:00"},null,{"$f":"Реестр!AZ3630","v":0},{"$f":"Реестр!AN3630","v":0},{"$f":"Реестр!G3630","v":0},null,{"$f":"Реестр!J3630","v":0},0]
[{"$f":"(Реестр!B3631)+0","v":"00:00:00"},null,{"$f":"Реестр!AZ3631","v":0},{"$f":"Реестр!AN3631","v":0},{"$f":"Реестр!G3631","v":0},null,{"$f":"Реестр!J3631","v":0},0]
[{"$f":"(Реестр!B3632)+0","v":"00:00:00"},null,{"$f":"Реестр!AZ3632","v":0},{"$f":"Реестр!AN3632","v":0},{"$f":"Реестр!G3632","v":0},null,{"$f":"Реестр!J3632","v":0},0]
[{"$f":"(Реестр!B3633)+0","v":"00:00:00"},null,{"$f":"Реестр!AZ3633","v":0},{"$f":"Реестр!AN3633","v":0},{"$f":"Реестр!G3633","v":0},null,{"$f":"Реестр!J3633","v":0},0]
[{"$f":"(Реестр!B3634)+0","v":"00:00:00"},null,{"$f":"Реестр!AZ3634","v":0},{"$f":"Реестр!AN3634","v":0},{"$f":"Реестр!G3634","v":0},null,{"$f":"Реестр!J3634","v":0},0]
[{"$f":"(Реестр!B3635)+0","v":"00:00:00"},null,{"$f":"Реестр!AZ3635","v":0},{"$f":"Реестр!AN3635","v":0},{"$f":"Реестр!G3635","v":0},null,{"$f":"Реестр!J3635","v":0},0]
[{"$f":"(Реестр!B3636)+0","v":"00:00:00"},null,{"$f":"Реестр!AZ3636","v":0},{"$f":"Реестр!AN3636","v":0},{"$f":"Реестр!G3636","v":0},null,{"$f":"Реестр!J3636","v":0},0]
[{"$f":"(Реестр!B3637)+0","v":"00:00:00"},null,{"$f":"Реестр!AZ3637","v":0},{"$f":"Реестр!AN3637","v":0},{"$f":"Реестр!G3637","v":0},null,{"$f":"Реестр!J3637","v":0},0]
[{"$f":"(Реестр!B3638)+0","v":"00:00:00"},null,{"$f":"Реестр!AZ3638","v":0},{"$f":"Реестр!AN3638","v":0},{"$f":"Реестр!G3638","v":0},null,{"$f":"Реестр!J3638","v":0},0]
[{"$f":"(Реестр!B3639)+0","v":"00:00:00"},null,{"$f":"Реестр!AZ3639","v":0},{"$f":"Реестр!AN3639","v":0},{"$f":"Реестр!G3639","v":0},null,{"$f":"Реестр!J3639","v":0},0]
[{"$f":"(Реестр!B3640)+0","v":"00:00:00"},null,{"$f":"Реестр!AZ3640","v":0},{"$f":"Реестр!AN3640","v":0},{"$f":"Реестр!G3640","v":0},null,{"$f":"Реестр!J3640","v":0},0]
[{"$f":"(Реестр!B3641)+0","v":"00:00:00"},null,{"$f":"Реестр!AZ3641","v":0},{"$f":"Реестр!AN3641","v":0},{"$f":"Реестр!G3641","v":0},null,{"$f":"Реестр!J3641","v":0},0]
[{"$f":"(Реестр!B3642)+0","v":"00:00:00"},null,{"$f":"Реестр!AZ3642","v":0},{"$f":"Реестр!AN3642","v":0},{"$f":"Реестр!G3642","v":0},null,{"$f":"Реестр!J3642","v":0},0]
[{"$f":"(Реестр!B3643)+0","v":"00:00:00"},null,{"$f":"Реестр!AZ3643","v":0},{"$f":"Реестр!AN3643","v":0},{"$f":"Реестр!G3643","v":0},null,{"$f":"Реестр!J3643","v":0},0]
[{"$f":"(Реестр!B3644)+0","v":"00:00:00"},null,{"$f":"Реестр!AZ3644","v":0},{"$f":"Реестр!AN3644","v":0},{"$f":"Реестр!G3644","v":0},null,{"$f":"Реестр!J3644","v":0},0]
[{"$f":"(Реестр!B3645)+0","v":"00:00:00"},null,{"$f":"Реестр!AZ3645","v":0},{"$f":"Реестр!AN3645","v":0},{"$f":"Реестр!G3645","v":0},null,{"$f":"Реестр!J3645","v":0},0]
[{"$f":"(Реестр!B3646)+0","v":"00:00:00"},null,{"$f":"Реестр!AZ3646","v":0},{"$f":"Реестр!AN3646","v":0},{"$f":"Реестр!G3646","v":0},null,{"$f":"Реестр!J3646","v":0},0]
[{"$f":"(Реестр!B3647)+0","v":"00:00:00"},null,{"$f":"Реестр!AZ3647","v":0},{"$f":"Реестр!AN3647","v":0},{"$f":"Реестр!G3647","v":0},null,{"$f":"Реестр!J3647","v":0},{"$f":"E3081*G3081","v":0}]
[{"$f":"(Реестр!B3648)+0","v":"00:00:00"},null,{"$f":"Реестр!AZ3648","v":0},{"$f":"Реестр!AN3648","v":0},{"$f":"Реестр!G3648","v":0},null,{"$f":"Реестр!J3648","v":0},0]
[{"$f":"(Реестр!B3649)+0","v":"00:00:00"},null,{"$f":"Реестр!AZ3649","v":0},{"$f":"Реестр!AN3649","v":0},{"$f":"Реестр!G3649","v":0},null,{"$f":"Реестр!J3649","v":0},0]
[{"$f":"(Реестр!B3650)+0","v":"00:00:00"},null,{"$f":"Реестр!AZ3650","v":0},{"$f":"Реестр!AN3650","v":0},{"$f":"Реестр!G3650","v":0},null,{"$f":"Реестр!J3650","v":0},0]
[{"$f":"(Реестр!B3651)+0","v":"00:00:00"},null,{"$f":"Реестр!AZ3651","v":0},{"$f":"Реестр!AN3651","v":0},{"$f":"Реестр!G3651","v":0},null,{"$f":"Реестр!J3651","v":0},0]
[{"$f":"(Реестр!B3652)+0","v":"00:00:00"},null,{"$f":"Реестр!AZ3652","v":0},{"$f":"Реестр!AN3652","v":0},{"$f":"Реестр!G3652","v":0},null,{"$f":"Реестр!J3652","v":0},0]
[{"$f":"(Реестр!B3653)+0","v":"00:00:00"},null,{"$f":"Реестр!AZ3653","v":0},{"$f":"Реестр!AN3653","v":0},{"$f":"Реестр!G3653","v":0},null,{"$f":"Реестр!J3653","v":0},0]
[{"$f":"(Реестр!B3654)+0","v":"00:00:00"},null,{"$f":"Реестр!AZ3654","v":0},{"$f":"Реестр!AN3654","v":0},{"$f":"Реестр!G3654","v":0},null,{"$f":"Реестр!J3654","v":0},0]
[{"$f":"(Реестр!B3655)+0","v":"00:00:00"},null,{"$f":"Реестр!AZ3655","v":0},{"$f":"Реестр!AN3655","v":0},{"$f":"Реестр!G3655","v":0},null,{"$f":"Реестр!J3655","v":0},0]
[{"$f":"(Реестр!B3656)+0","v":"00:00:00"},null,{"$f":"Реестр!AZ3656","v":0},{"$f":"Реестр!AN3656","v":0},{"$f":"Реестр!G3656","v":0},null,{"$f":"Реестр!J3656","v":0},0]
[{"$f":"(Реестр!B3657)+0","v":"00:00:00"},null,{"$f":"Реестр!AZ3657","v":0},{"$f":"Реестр!AN3657","v":0},{"$f":"Реестр!G3657","v":0},null,{"$f":"Реестр!J3657","v":0},0]
[{"$f":"(Реестр!B3658)+0","v":"00:00:00"},null,{"$f":"Реестр!AZ3658","v":0},{"$f":"Реестр!AN3658","v":0},{"$f":"Реестр!G3658","v":0},null,{"$f":"Реестр!J3658","v":0},0]
[{"$f":"(Реестр!B3659)+0","v":"00:00:00"},null,{"$f":"Реестр!AZ3659","v":0},{"$f":"Реестр!AN3659","v":0},{"$f":"Реестр!G3659","v":0},null,{"$f":"Реестр!J3659","v":0},0]
[{"$f":"(Реестр!B3660)+0","v":"00:00:00"},null,{"$f":"Реестр!AZ3660","v":0},{"$f":"Реестр!AN3660","v":0},{"$f":"Реестр!G3660","v":0},null,{"$f":"Реестр!J3660","v":0},0]
[{"$f":"(Реестр!B3661)+0","v":"00:00:00"},null,{"$f":"Реестр!AZ3661","v":0},{"$f":"Реестр!AN3661","v":0},{"$f":"Реестр!G3661","v":0},null,{"$f":"Реестр!J3661","v":0},0]
[{"$f":"(Реестр!B3662)+0","v":"00:00:00"},null,{"$f":"Реестр!AZ3662","v":0},{"$f":"Реестр!AN3662","v":0},{"$f":"Реестр!G3662","v":0},null,{"$f":"Реестр!J3662","v":0},0]
[{"$f":"(Реестр!B3663)+0","v":"00:00:00"},null,{"$f":"Реестр!AZ3663","v":0},{"$f":"Реестр!AN3663","v":0},{"$f":"Реестр!G3663","v":0},null,{"$f":"Реестр!J3663","v":0},0]
[{"$f":"(Реестр!B3664)+0","v":"00:00:00"},null,{"$f":"Реестр!AZ3664","v":0},{"$f":"Реестр!AN3664","v":0},{"$f":"Реестр!G3664","v":0},null,{"$f":"Реестр!J3664","v":0},0]
[{"$f":"(Реестр!B3665)+0","v":"00:00:00"},null,{"$f":"Реестр!AZ3665","v":0},{"$f":"Реестр!AN3665","v":0},{"$f":"Реестр!G3665","v":0},null,{"$f":"Реестр!J3665","v":0},0]
[{"$f":"(Реестр!B3666)+0","v":"00:00:00"},null,{"$f":"Реестр!AZ3666","v":0},{"$f":"Реестр!AN3666","v":0},{"$f":"Реестр!G3666","v":0},null,{"$f":"Реестр!J3666","v":0},0]
[{"$f":"(Реестр!B3667)+0","v":"00:00:00"},null,{"$f":"Реестр!AZ3667","v":0},{"$f":"Реестр!AN3667","v":0},{"$f":"Реестр!G3667","v":0},null,{"$f":"Реестр!J3667","v":0},0]
[{"$f":"(Реестр!B3668)+0","v":"00:00:00"},null,{"$f":"Реестр!AZ3668","v":0},{"$f":"Реестр!AN3668","v":0},{"$f":"Реестр!G3668","v":0},null,{"$f":"Реестр!J3668","v":0},0]
[{"$f":"(Реестр!B3669)+0","v":"00:00:00"},null,{"$f":"Реестр!AZ3669","v":0},{"$f":"Реестр!AN3669","v":0},{"$f":"Реестр!G3669","v":0},null,{"$f":"Реестр!J3669","v":0},0]
[{"$f":"(Реестр!B3670)+0","v":"00:00:00"},null,{"$f":"Реестр!AZ3670","v":0},{"$f":"Реестр!AN3670","v":0},{"$f":"Реестр!G3670","v":0},null,{"$f":"Реестр!J3670","v":0},0]
[{"$f":"(Реестр!B3671)+0","v":"00:00:00"},null,{"$f":"Реестр!AZ3671","v":0},{"$f":"Реестр!AN3671","v":0},{"$f":"Реестр!G3671","v":0},null,{"$f":"Реестр!J3671","v":0},0]
[{"$f":"(Реестр!B3672)+0","v":"00:00:00"},null,{"$f":"Реестр!AZ3672","v":0},{"$f":"Реестр!AN3672","v":0},{"$f":"Реестр!G3672","v":0},null,{"$f":"Реестр!J3672","v":0},0]
[{"$f":"(Реестр!B3673)+0","v":"00:00:00"},null,{"$f":"Реестр!AZ3673","v":0},{"$f":"Реестр!AN3673","v":0},{"$f":"Реестр!G3673","v":0},null,{"$f":"Реестр!J3673","v":0},0]
[{"$f":"(Реестр!B3674)+0","v":"00:00:00"},null,{"$f":"Реестр!AZ3674","v":0},{"$f":"Реестр!AN3674","v":0},{"$f":"Реестр!G3674","v":0},null,{"$f":"Реестр!J3674","v":0},0]
[{"$f":"(Реестр!B3675)+0","v":"00:00:00"},null,{"$f":"Реестр!AZ3675","v":0},{"$f":"Реестр!AN3675","v":0},{"$f":"Реестр!G3675","v":0},null,{"$f":"Реестр!J3675","v":0},0]
[{"$f":"(Реестр!B3676)+0","v":"00:00:00"},null,{"$f":"Реестр!AZ3676","v":0},{"$f":"Реестр!AN3676","v":0},{"$f":"Реестр!G3676","v":0},null,{"$f":"Реестр!J3676","v":0},0]
[{"$f":"(Реестр!B3677)+0","v":"00:00:00"},null,{"$f":"Реестр!AZ3677","v":0},{"$f":"Реестр!AN3677","v":0},{"$f":"Реестр!G3677","v":0},null,{"$f":"Реестр!J3677","v":0},0]
[{"$f":"(Реестр!B3678)+0","v":"00:00:00"},null,{"$f":"Реестр!AZ3678","v":0},{"$f":"Реестр!AN3678","v":0},{"$f":"Реестр!G3678","v":0},null,{"$f":"Реестр!J3678","v":0},0]
[{"$f":"(Реестр!B3679)+0","v":"00:00:00"},null,{"$f":"Реестр!AZ3679","v":0},{"$f":"Реестр!AN3679","v":0},{"$f":"Реестр!G3679","v":0},null,{"$f":"Реестр!J3679","v":0},0]
[{"$f":"(Реестр!B3680)+0","v":"00:00:00"},null,{"$f":"Реестр!AZ3680","v":0},{"$f":"Реестр!AN3680","v":0},{"$f":"Реестр!G3680","v":0},null,{"$f":"Реестр!J3680","v":0},0]
[{"$f":"(Реестр!B3681)+0","v":"00:00:00"},null,{"$f":"Реестр!AZ3681","v":0},{"$f":"Реестр!AN3681","v":0},{"$f":"Реестр!G3681","v":0},null,{"$f":"Реестр!J3681","v":0},0]
[{"$f":"(Реестр!B3682)+0","v":"00:00:00"},null,{"$f":"Реестр!AZ3682","v":0},{"$f":"Реестр!AN3682","v":0},{"$f":"Реестр!G3682","v":0},null,{"$f":"Реестр!J3682","v":0},0]
[{"$f":"(Реестр!B3683)+0","v":"00:00:00"},null,{"$f":"Реестр!AZ3683","v":0},{"$f":"Реестр!AN3683","v":0},{"$f":"Реестр!G3683","v":0},null,{"$f":"Реестр!J3683","v":0},0]
[{"$f":"(Реестр!B3684)+0","v":"00:00:00"},null,{"$f":"Реестр!AZ3684","v":0},{"$f":"Реестр!AN3684","v":0},{"$f":"Реестр!G3684","v":0},null,{"$f":"Реестр!J3684","v":0},0]
[{"$f":"(Реестр!B3685)+0","v":"00:00:00"},null,{"$f":"Реестр!AZ3685","v":0},{"$f":"Реестр!AN3685","v":0},{"$f":"Реестр!G3685","v":0},null,{"$f":"Реестр!J3685","v":0},0]
[{"$f":"(Реестр!B3686)+0","v":"00:00:00"},null,{"$f":"Реестр!AZ3686","v":0},{"$f":"Реестр!AN3686","v":0},{"$f":"Реестр!G3686","v":0},null,{"$f":"Реестр!J3686","v":0},0]
[{"$f":"(Реестр!B3687)+0","v":"00:00:00"},null,{"$f":"Реестр!AZ3687","v":0},{"$f":"Реестр!AN3687","v":0},{"$f":"Реестр!G3687","v":0},null,{"$f":"Реестр!J3687","v":0},0]
[{"$f":"(Реестр!B3688)+0","v":"00:00:00"},null,{"$f":"Реестр!AZ3688","v":0},{"$f":"Реестр!AN3688","v":0},{"$f":"Реестр!G3688","v":0},null,{"$f":"Реестр!J3688","v":0},0]
[{"$f":"(Реестр!B3689)+0","v":"00:00:00"},null,{"$f":"Реестр!AZ3689","v":0},{"$f":"Реестр!AN3689","v":0},{"$f":"Реестр!G3689","v":0},null,{"$f":"Реестр!J3689","v":0},0]
[{"$f":"(Реестр!B3690)+0","v":"00:00:00"},null,{"$f":"Реестр!AZ3690","v":0},{"$f":"Реестр!AN3690","v":0},{"$f":"Реестр!G3690","v":0},null,{"$f":"Реестр!J3690","v":0},0]
[{"$f":"(Реестр!B3691)+0","v":"00:00:00"},null,{"$f":"Реестр!AZ3691","v":0},{"$f":"Реестр!AN3691","v":0},{"$f":"Реестр!G3691","v":0},null,{"$f":"Реестр!J3691","v":0},0]
[{"$f":"(Реестр!B3692)+0","v":"00:00:00"},null,{"$f":"Реестр!AZ3692","v":0},{"$f":"Реестр!AN3692","v":0},{"$f":"Реестр!G3692","v":0},null,{"$f":"Реестр!J3692","v":0},0]
[{"$f":"(Реестр!B3693)+0","v":"00:00:00"},null,{"$f":"Реестр!AZ3693","v":0},{"$f":"Реестр!AN3693","v":0},{"$f":"Реестр!G3693","v":0},null,{"$f":"Реестр!J3693","v":0},0]
[{"$f":"(Реестр!B3694)+0","v":"00:00:00"},null,{"$f":"Реестр!AZ3694","v":0},{"$f":"Реестр!AN3694","v":0},{"$f":"Реестр!G3694","v":0},null,{"$f":"Реестр!J3694","v":0},0]
[{"$f":"(Реестр!B3695)+0","v":"00:00:00"},null,{"$f":"Реестр!AZ3695","v":0},{"$f":"Реестр!AN3695","v":0},{"$f":"Реестр!G3695","v":0},null,{"$f":"Реестр!J3695","v":0},0]
[{"$f":"(Реестр!B3696)+0","v":"00:00:00"},null,{"$f":"Реестр!AZ3696","v":0},{"$f":"Реестр!AN3696","v":0},{"$f":"Реестр!G3696","v":0},null,{"$f":"Реестр!J3696","v":0},0]
[{"$f":"(Реестр!B3697)+0","v":"00:00:00"},null,{"$f":"Реестр!AZ3697","v":0},{"$f":"Реестр!AN3697","v":0},{"$f":"Реестр!G3697","v":0},null,{"$f":"Реестр!J3697","v":0},0]
[{"$f":"(Реестр!B3698)+0","v":"00:00:00"},null,{"$f":"Реестр!AZ3698","v":0},{"$f":"Реестр!AN3698","v":0},{"$f":"Реестр!G3698","v":0},null,{"$f":"Реестр!J3698","v":0},0]
[{"$f":"(Реестр!B3699)+0","v":"00:00:00"},null,{"$f":"Реестр!AZ3699","v":0},{"$f":"Реестр!AN3699","v":0},{"$f":"Реестр!G3699","v":0},null,{"$f":"Реестр!J3699","v":0},0]
[{"$f":"(Реестр!B3700)+0","v":"00:00:00"},null,{"$f":"Реестр!AZ3700","v":0},{"$f":"Реестр!AN3700","v":0},{"$f":"Реестр!G3700","v":0},null,{"$f":"Реестр!J3700","v":0},0]
[{"$f":"(Реестр!B3701)+0","v":"00:00:00"},null,{"$f":"Реестр!AZ3701","v":0},{"$f":"Реестр!AN3701","v":0},{"$f":"Реестр!G3701","v":0},null,{"$f":"Реестр!J3701","v":0},0]
[{"$f":"(Реестр!B3702)+0","v":"00:00:00"},null,{"$f":"Реестр!AZ3702","v":0},{"$f":"Реестр!AN3702","v":0},{"$f":"Реестр!G3702","v":0},null,{"$f":"Реестр!J3702","v":0},0]
[{"$f":"(Реестр!B3703)+0","v":"00:00:00"},null,{"$f":"Реестр!AZ3703","v":0},{"$f":"Реестр!AN3703","v":0},{"$f":"Реестр!G3703","v":0},null,{"$f":"Реестр!J3703","v":0},0]
[{"$f":"(Реестр!B3704)+0","v":"00:00:00"},null,{"$f":"Реестр!AZ3704","v":0},{"$f":"Реестр!AN3704","v":0},{"$f":"Реестр!G3704","v":0},null,{"$f":"Реестр!J3704","v":0},0]
[{"$f":"(Реестр!B3705)+0","v":"00:00:00"},null,{"$f":"Реестр!AZ3705","v":0},{"$f":"Реестр!AN3705","v":0},{"$f":"Реестр!G3705","v":0},null,{"$f":"Реестр!J3705","v":0},0]
[{"$f":"(Реестр!B3706)+0","v":"00:00:00"},null,{"$f":"Реестр!AZ3706","v":0},{"$f":"Реестр!AN3706","v":0},{"$f":"Реестр!G3706","v":0},null,{"$f":"Реестр!J3706","v":0},0]
[{"$f":"(Реестр!B3707)+0","v":"00:00:00"},null,{"$f":"Реестр!AZ3707","v":0},{"$f":"Реестр!AN3707","v":0},{"$f":"Реестр!G3707","v":0},null,{"$f":"Реестр!J3707","v":0},0]
[{"$f":"(Реестр!B3708)+0","v":"00:00:00"},null,{"$f":"Реестр!AZ3708","v":0},{"$f":"Реестр!AN3708","v":0},{"$f":"Реестр!G3708","v":0},null,{"$f":"Реестр!J3708","v":0},0]
[{"$f":"(Реестр!B3709)+0","v":"00:00:00"},null,{"$f":"Реестр!AZ3709","v":0},{"$f":"Реестр!AN3709","v":0},{"$f":"Реестр!G3709","v":0},null,{"$f":"Реестр!I3709","v":0},0]
[{"$f":"(Реестр!B3710)+0","v":"00:00:00"},null,{"$f":"Реестр!AZ3710","v":0},{"$f":"Реестр!AN3710","v":0},{"$f":"Реестр!G3710","v":0},null,{"$f":"Реестр!I3710","v":0},0]
[{"$f":"(Реестр!B3711)+0","v":"00:00:00"},null,{"$f":"Реестр!AZ3711","v":0},{"$f":"Реестр!AN3711","v":0},{"$f":"Реестр!G3711","v":0},null,{"$f":"Реестр!I3711","v":0},{"$f":"E3145*G3145","v":0}]
[{"$f":"(Реестр!B3712)+0","v":"00:00:00"},null,{"$f":"Реестр!AZ3712","v":0},{"$f":"Реестр!AN3712","v":0},{"$f":"Реестр!G3712","v":0},null,{"$f":"Реестр!I3712","v":0},0]

{"sheet":"Проверка","index":4,"n_rows":8,"n_cols":12,"rows_kept":8,"cut":false,"hidden":false,"merged":[]}
["Проверка:",null,null,null,null,"мес","габ","слож","изг","кол","цена","произ"]
[null,null,null,null,null,"2023-10-01","380х200","D","Alk",3,383795,{"$f":"J2*K2","v":1151385}]
[null,null,null,null,null,"2023-10-01","380х200","D","Alk",4,441364,{"$f":"J3*K3","v":1765456}]
[]
[]
[]
[{"$f":"SUMPRODUCT((H2=H2:H3)*J2:J3*K2:K3)/SUMIF(H2:H3,H2,J2:J3)","v":416691.57142857142}]
[{"$f":"SUMPRODUCT((H3=H2:H3)*J2:J3*K2:K3)/SUMIF(H2:H3,H3,J2:J3)","v":416691.57142857142}]

{"sheet":"Аналитика","index":5,"n_rows":24,"n_cols":11,"rows_kept":24,"cut":false,"hidden":false,"merged":[[1,4,1,11]]}
[]
[null,null,null,null,"Распределение цен на матрицы в рублях (без доставки) по поставщикам и категориям сложности"]
[null,null,null,null,"Сумма по полю средневзвеш","Изготовитель"]
[null,null,null,null,"Дата","FRX","IM","ПрИн","COMES","EXP","Срвзв.цена,руб"]
[null,null,null,null,"окт"]
[null,null,null,null,"450х260"]
[null,null,null,null,"C",0,0,0,412996.32,412996.32,412996.32]
[null,null,null,null,"D",0,0,0,0,0,0]
[null,null,null,null,"180х140"]
[null,null,null,null,"C",0,0,0,0,0,0]
[null,null,null,null,"B",60837,0,0,0,0,60837]
[null,null,null,null,"200х140"]
[null,null,null,null,"C",0,0,0,126888.59999999999,0,126888.59999999999]
[null,null,null,null,"B",0,51566.6,0,0,0,51566.6]
[null,null,null,null,"230х140"]
[null,null,null,null,"C",0,0,0,0,0,0]
[null,null,null,null,"280х200"]
[null,null,null,null,"B",138476.6,0,0,0,0,138476.6]
[null,null,null,null,"380х200"]
[null,null,null,null,"D",0,0,412579.152,0,0,412579.152]
[null,null,null,null,"230х200"]
[null,null,null,null,"C",0,0,208584,0,0,208584]
[null,null,null,null,"B",78798.399999999994,75322,0,0,0,77060.2]
[null,null,null,null,"Срвзв.цена,руб",92704,63444.3,344580.76799999998,269942.46000000002,412996.32,0]

{"sheet":"Пл.курс ЕВРО","index":6,"n_rows":10,"n_cols":2,"rows_kept":10,"cut":false,"hidden":false,"merged":[]}
[2023]
["Апрель",88.829499999999996]
["Май",86.077600000000004]
["Июнь",90.292400000000001]
["Июль",100.0181]
["Август",104.06489999999999]
["Сентябрь",104.94070000000001]
["Октябрь",115.88]
["Ноябрь",115.88]
["Декабрь",115.88]