{"text_format":"1","workbook":"xlsx","n_sheets":2,"sheets":["Отчет","Должники"],"not_rendered":{"charts":0,"images":0,"macros":1,"external_links":0,"defined_names":0,"comments":0,"pivot_tables":0},"unopened":[],"bounds":{"document_bytes":16777216,"sheet_cells":100000,"rows_first":2000,"rows_last":500,"rows_between":2000,"halvings":0,"cell_chars":16384,"cell_head_chars":4096},"cells_cut":0,"cells_raw":0,"read":"whole","date_system":"1900"}

{"sheet":"Отчет","index":0,"n_rows":2,"n_cols":7,"rows_kept":2,"cut":false,"hidden":false,"merged":[]}
[null,"Дата","Время","Наименование/номер телефона","Сумма","карта/нал","Добавление долга"]
[2,null,null,null,1300,"Долг"]

{"sheet":"Должники","index":1,"n_rows":100,"n_cols":4,"rows_kept":100,"cut":false,"hidden":false,"merged":[]}
["Номер","Дата","Наименование/номер телефона","Сумма"]
[{"$f":"IFERROR(SMALL(Отчет!A:A,ROW()-1),\"\")","v":2},{"$f":"IF(A2=\"\",\"\",VLOOKUP(A2,Отчет!A:E,2,0))","v":"00:00:00"},{"$f":"IF(A2=\"\",\"\",VLOOKUP(A2,Отчет!A:E,4,0))","v":0},{"$f":"IF(A2=\"\",\"\",VLOOKUP(A2,Отчет!A:E,5,0))","v":1300}]
[{"$f":"IFERROR(SMALL(Отчет!A:A,ROW()-1),\"\")","v":""},{"$f":"IF(A3=\"\",\"\",VLOOKUP(A3,Отчет!A:E,2,0))","v":""},{"$f":"IF(A3=\"\",\"\",VLOOKUP(A3,Отчет!A:E,4,0))","v":""},{"$f":"IF(A3=\"\",\"\",VLOOKUP(A3,Отчет!A:E,5,0))","v":""}]
[{"$f":"IFERROR(SMALL(Отчет!A:A,ROW()-1),\"\")","v":""},{"$f":"IF(A4=\"\",\"\",VLOOKUP(A4,Отчет!A:E,2,0))","v":""},{"$f":"IF(A4=\"\",\"\",VLOOKUP(A4,Отчет!A:E,4,0))","v":""},{"$f":"IF(A4=\"\",\"\",VLOOKUP(A4,Отчет!A:E,5,0))","v":""}]
[{"$f":"IFERROR(SMALL(Отчет!A:A,ROW()-1),\"\")","v":""},{"$f":"IF(A5=\"\",\"\",VLOOKUP(A5,Отчет!A:E,2,0))","v":""},{"$f":"IF(A5=\"\",\"\",VLOOKUP(A5,Отчет!A:E,4,0))","v":""},{"$f":"IF(A5=\"\",\"\",VLOOKUP(A5,Отчет!A:E,5,0))","v":""}]
[{"$f":"IFERROR(SMALL(Отчет!A:A,ROW()-1),\"\")","v":""},{"$f":"IF(A6=\"\",\"\",VLOOKUP(A6,Отчет!A:E,2,0))","v":""},{"$f":"IF(A6=\"\",\"\",VLOOKUP(A6,Отчет!A:E,4,0))","v":""},{"$f":"IF(A6=\"\",\"\",VLOOKUP(A6,Отчет!A:E,5,0))","v":""}]
[{"$f":"IFERROR(SMALL(Отчет!A:A,ROW()-1),\"\")","v":""},{"$f":"IF(A7=\"\",\"\",VLOOKUP(A7,Отчет!A:E,2,0))","v":""},{"$f":"IF(A7=\"\",\"\",VLOOKUP(A7,Отчет!A:E,4,0))","v":""},{"$f":"IF(A7=\"\",\"\",VLOOKUP(A7,Отчет!A:E,5,0))","v":""}]
[{"$f":"IFERROR(SMALL(Отчет!A:A,ROW()-1),\"\")","v":""},{"$f":"IF(A8=\"\",\"\",VLOOKUP(A8,Отчет!A:E,2,0))","v":""},{"$f":"IF(A8=\"\",\"\",VLOOKUP(A8,Отчет!A:E,4,0))","v":""},{"$f":"IF(A8=\"\",\"\",VLOOKUP(A8,Отчет!A:E,5,0))","v":""}]
[{"$f":"IFERROR(SMALL(Отчет!A:A,ROW()-1),\"\")","v":""},{"$f":"IF(A9=\"\",\"\",VLOOKUP(A9,Отчет!A:E,2,0))","v":""},{"$f":"IF(A9=\"\",\"\",VLOOKUP(A9,Отчет!A:E,4,0))","v":""},{"$f":"IF(A9=\"\",\"\",VLOOKUP(A9,Отчет!A:E,5,0))","v":""}]
[{"$f":"IFERROR(SMALL(Отчет!A:A,ROW()-1),\"\")","v":""},{"$f":"IF(A10=\"\",\"\",VLOOKUP(A10,Отчет!A:E,2,0))","v":""},{"$f":"IF(A10=\"\",\"\",VLOOKUP(A10,Отчет!A:E,4,0))","v":""},{"$f":"IF(A10=\"\",\"\",VLOOKUP(A10,Отчет!A:E,5,0))","v":""}]
[{"$f":"IFERROR(SMALL(Отчет!A:A,ROW()-1),\"\")","v":""},{"$f":"IF(A11=\"\",\"\",VLOOKUP(A11,Отчет!A:E,2,0))","v":""},{"$f":"IF(A11=\"\",\"\",VLOOKUP(A11,Отчет!A:E,4,0))","v":""},{"$f":"IF(A11=\"\",\"\",VLOOKUP(A11,Отчет!A:E,5,0))","v":""}]
[{"$f":"IFERROR(SMALL(Отчет!A:A,ROW()-1),\"\")","v":""},{"$f":"IF(A12=\"\",\"\",VLOOKUP(A12,Отчет!A:E,2,0))","v":""},{"$f":"IF(A12=\"\",\"\",VLOOKUP(A12,Отчет!A:E,4,0))","v":""},{"$f":"IF(A12=\"\",\"\",VLOOKUP(A12,Отчет!A:E,5,0))","v":""}]
[{"$f":"IFERROR(SMALL(Отчет!A:A,ROW()-1),\"\")","v":""},{"$f":"IF(A13=\"\",\"\",VLOOKUP(A13,Отчет!A:E,2,0))","v":""},{"$f":"IF(A13=\"\",\"\",VLOOKUP(A13,Отчет!A:E,4,0))","v":""},{"$f":"IF(A13=\"\",\"\",VLOOKUP(A13,Отчет!A:E,5,0))","v":""}]
[{"$f":"IFERROR(SMALL(Отчет!A:A,ROW()-1),\"\")","v":""},{"$f":"IF(A14=\"\",\"\",VLOOKUP(A14,Отчет!A:E,2,0))","v":""},{"$f":"IF(A14=\"\",\"\",VLOOKUP(A14,Отчет!A:E,4,0))","v":""},{"$f":"IF(A14=\"\",\"\",VLOOKUP(A14,Отчет!A:E,5,0))","v":""}]
[{"$f":"IFERROR(SMALL(Отчет!A:A,ROW()-1),\"\")","v":""},{"$f":"IF(A15=\"\",\"\",VLOOKUP(A15,Отчет!A:E,2,0))","v":""},{"$f":"IF(A15=\"\",\"\",VLOOKUP(A15,Отчет!A:E,4,0))","v":""},{"$f":"IF(A15=\"\",\"\",VLOOKUP(A15,Отчет!A:E,5,0))","v":""}]
[{"$f":"IFERROR(SMALL(Отчет!A:A,ROW()-1),\"\")","v":""},{"$f":"IF(A16=\"\",\"\",VLOOKUP(A16,Отчет!A:E,2,0))","v":""},{"$f":"IF(A16=\"\",\"\",VLOOKUP(A16,Отчет!A:E,4,0))","v":""},{"$f":"IF(A16=\"\",\"\",VLOOKUP(A16,Отчет!A:E,5,0))","v":""}]
[{"$f":"IFERROR(SMALL(Отчет!A:A,ROW()-1),\"\")","v":""},{"$f":"IF(A17=\"\",\"\",VLOOKUP(A17,Отчет!A:E,2,0))","v":""},{"$f":"IF(A17=\"\",\"\",VLOOKUP(A17,Отчет!A:E,4,0))","v":""},{"$f":"IF(A17=\"\",\"\",VLOOKUP(A17,Отчет!A:E,5,0))","v":""}]
[{"$f":"IFERROR(SMALL(Отчет!A:A,ROW()-1),\"\")","v":""},{"$f":"IF(A18=\"\",\"\",VLOOKUP(A18,Отчет!A:E,2,0))","v":""},{"$f":"IF(A18=\"\",\"\",VLOOKUP(A18,Отчет!A:E,4,0))","v":""},{"$f":"IF(A18=\"\",\"\",VLOOKUP(A18,Отчет!A:E,5,0))","v":""}]
[{"$f":"IFERROR(SMALL(Отчет!A:A,ROW()-1),\"\")","v":""},{"$f":"IF(A19=\"\",\"\",VLOOKUP(A19,Отчет!A:E,2,0))","v":""},{"$f":"IF(A19=\"\",\"\",VLOOKUP(A19,Отчет!A:E,4,0))","v":""},{"$f":"IF(A19=\"\",\"\",VLOOKUP(A19,Отчет!A:E,5,0))","v":""}]
[{"$f":"IFERROR(SMALL(Отчет!A:A,ROW()-1),\"\")","v":""},{"$f":"IF(A20=\"\",\"\",VLOOKUP(A20,Отчет!A:E,2,0))","v":""},{"$f":"IF(A20=\"\",\"\",VLOOKUP(A20,Отчет!A:E,4,0))","v":""},{"$f":"IF(A20=\"\",\"\",VLOOKUP(A20,Отчет!A:E,5,0))","v":""}]
[{"$f":"IFERROR(SMALL(Отчет!A:A,ROW()-1),\"\")","v":""},{"$f":"IF(A21=\"\",\"\",VLOOKUP(A21,Отчет!A:E,2,0))","v":""},{"$f":"IF(A21=\"\",\"\",VLOOKUP(A21,Отчет!A:E,4,0))","v":""},{"$f":"IF(A21=\"\",\"\",VLOOKUP(A21,Отчет!A:E,5,0))","v":""}]
[{"$f":"IFERROR(SMALL(Отчет!A:A,ROW()-1),\"\")","v":""},{"$f":"IF(A22=\"\",\"\",VLOOKUP(A22,Отчет!A:E,2,0))","v":""},{"$f":"IF(A22=\"\",\"\",VLOOKUP(A22,Отчет!A:E,4,0))","v":""},{"$f":"IF(A22=\"\",\"\",VLOOKUP(A22,Отчет!A:E,5,0))","v":""}]
[{"$f":"IFERROR(SMALL(Отчет!A:A,ROW()-1),\"\")","v":""},{"$f":"IF(A23=\"\",\"\",VLOOKUP(A23,Отчет!A:E,2,0))","v":""},{"$f":"IF(A23=\"\",\"\",VLOOKUP(A23,Отчет!A:E,4,0))","v":""},{"$f":"IF(A23=\"\",\"\",VLOOKUP(A23,Отчет!A:E,5,0))","v":""}]
[{"$f":"IFERROR(SMALL(Отчет!A:A,ROW()-1),\"\")","v":""},{"$f":"IF(A24=\"\",\"\",VLOOKUP(A24,Отчет!A:E,2,0))","v":""},{"$f":"IF(A24=\"\",\"\",VLOOKUP(A24,Отчет!A:E,4,0))","v":""},{"$f":"IF(A24=\"\",\"\",VLOOKUP(A24,Отчет!A:E,5,0))","v":""}]
[{"$f":"IFERROR(SMALL(Отчет!A:A,ROW()-1),\"\")","v":""},{"$f":"IF(A25=\"\",\"\",VLOOKUP(A25,Отчет!A:E,2,0))","v":""},{"$f":"IF(A25=\"\",\"\",VLOOKUP(A25,Отчет!A:E,4,0))","v":""},{"$f":"IF(A25=\"\",\"\",VLOOKUP(A25,Отчет!A:E,5,0))","v":""}]
[{"$f":"IFERROR(SMALL(Отчет!A:A,ROW()-1),\"\")","v":""},{"$f":"IF(A26=\"\",\"\",VLOOKUP(A26,Отчет!A:E,2,0))","v":""},{"$f":"IF(A26=\"\",\"\",VLOOKUP(A26,Отчет!A:E,4,0))","v":""},{"$f":"IF(A26=\"\",\"\",VLOOKUP(A26,Отчет!A:E,5,0))","v":""}]
[{"$f":"IFERROR(SMALL(Отчет!A:A,ROW()-1),\"\")","v":""},{"$f":"IF(A27=\"\",\"\",VLOOKUP(A27,Отчет!A:E,2,0))","v":""},{"$f":"IF(A27=\"\",\"\",VLOOKUP(A27,Отчет!A:E,4,0))","v":""},{"$f":"IF(A27=\"\",\"\",VLOOKUP(A27,Отчет!A:E,5,0))","v":""}]
[{"$f":"IFERROR(SMALL(Отчет!A:A,ROW()-1),\"\")","v":""},{"$f":"IF(A28=\"\",\"\",VLOOKUP(A28,Отчет!A:E,2,0))","v":""},{"$f":"IF(A28=\"\",\"\",VLOOKUP(A28,Отчет!A:E,4,0))","v":""},{"$f":"IF(A28=\"\",\"\",VLOOKUP(A28,Отчет!A:E,5,0))","v":""}]
[{"$f":"IFERROR(SMALL(Отчет!A:A,ROW()-1),\"\")","v":""},{"$f":"IF(A29=\"\",\"\",VLOOKUP(A29,Отчет!A:E,2,0))","v":""},{"$f":"IF(A29=\"\",\"\",VLOOKUP(A29,Отчет!A:E,4,0))","v":""},{"$f":"IF(A29=\"\",\"\",VLOOKUP(A29,Отчет!A:E,5,0))","v":""}]
[{"$f":"IFERROR(SMALL(Отчет!A:A,ROW()-1),\"\")","v":""},{"$f":"IF(A30=\"\",\"\",VLOOKUP(A30,Отчет!A:E,2,0))","v":""},{"$f":"IF(A30=\"\",\"\",VLOOKUP(A30,Отчет!A:E,4,0))","v":""},{"$f":"IF(A30=\"\",\"\",VLOOKUP(A30,Отчет!A:E,5,0))","v":""}]
[{"$f":"IFERROR(SMALL(Отчет!A:A,ROW()-1),\"\")","v":""},{"$f":"IF(A31=\"\",\"\",VLOOKUP(A31,Отчет!A:E,2,0))","v":""},{"$f":"IF(A31=\"\",\"\",VLOOKUP(A31,Отчет!A:E,4,0))","v":""},{"$f":"IF(A31=\"\",\"\",VLOOKUP(A31,Отчет!A:E,5,0))","v":""}]
[{"$f":"IFERROR(SMALL(Отчет!A:A,ROW()-1),\"\")","v":""},{"$f":"IF(A32=\"\",\"\",VLOOKUP(A32,Отчет!A:E,2,0))","v":""},{"$f":"IF(A32=\"\",\"\",VLOOKUP(A32,Отчет!A:E,4,0))","v":""},{"$f":"IF(A32=\"\",\"\",VLOOKUP(A32,Отчет!A:E,5,0))","v":""}]
[{"$f":"IFERROR(SMALL(Отчет!A:A,ROW()-1),\"\")","v":""},{"$f":"IF(A33=\"\",\"\",VLOOKUP(A33,Отчет!A:E,2,0))","v":""},{"$f":"IF(A33=\"\",\"\",VLOOKUP(A33,Отчет!A:E,4,0))","v":""},{"$f":"IF(A33=\"\",\"\",VLOOKUP(A33,Отчет!A:E,5,0))","v":""}]
[{"$f":"IFERROR(SMALL(Отчет!A:A,ROW()-1),\"\")","v":""},{"$f":"IF(A34=\"\",\"\",VLOOKUP(A34,Отчет!A:E,2,0))","v":""},{"$f":"IF(A34=\"\",\"\",VLOOKUP(A34,Отчет!A:E,4,0))","v":""},{"$f":"IF(A34=\"\",\"\",VLOOKUP(A34,Отчет!A:E,5,0))","v":""}]
[{"$f":"IFERROR(SMALL(Отчет!A:A,ROW()-1),\"\")","v":""},{"$f":"IF(A35=\"\",\"\",VLOOKUP(A35,Отчет!A:E,2,0))","v":""},{"$f":"IF(A35=\"\",\"\",VLOOKUP(A35,Отчет!A:E,4,0))","v":""},{"$f":"IF(A35=\"\",\"\",VLOOKUP(A35,Отчет!A:E,5,0))","v":""}]
[{"$f":"IFERROR(SMALL(Отчет!A:A,ROW()-1),\"\")","v":""},{"$f":"IF(A36=\"\",\"\",VLOOKUP(A36,Отчет!A:E,2,0))","v":""},{"$f":"IF(A36=\"\",\"\",VLOOKUP(A36,Отчет!A:E,4,0))","v":""},{"$f":"IF(A36=\"\",\"\",VLOOKUP(A36,Отчет!A:E,5,0))","v":""}]
[{"$f":"IFERROR(SMALL(Отчет!A:A,ROW()-1),\"\")","v":""},{"$f":"IF(A37=\"\",\"\",VLOOKUP(A37,Отчет!A:E,2,0))","v":""},{"$f":"IF(A37=\"\",\"\",VLOOKUP(A37,Отчет!A:E,4,0))","v":""},{"$f":"IF(A37=\"\",\"\",VLOOKUP(A37,Отчет!A:E,5,0))","v":""}]
[{"$f":"IFERROR(SMALL(Отчет!A:A,ROW()-1),\"\")","v":""},{"$f":"IF(A38=\"\",\"\",VLOOKUP(A38,Отчет!A:E,2,0))","v":""},{"$f":"IF(A38=\"\",\"\",VLOOKUP(A38,Отчет!A:E,4,0))","v":""},{"$f":"IF(A38=\"\",\"\",VLOOKUP(A38,Отчет!A:E,5,0))","v":""}]
[{"$f":"IFERROR(SMALL(Отчет!A:A,ROW()-1),\"\")","v":""},{"$f":"IF(A39=\"\",\"\",VLOOKUP(A39,Отчет!A:E,2,0))","v":""},{"$f":"IF(A39=\"\",\"\",VLOOKUP(A39,Отчет!A:E,4,0))","v":""},{"$f":"IF(A39=\"\",\"\",VLOOKUP(A39,Отчет!A:E,5,0))","v":""}]
[{"$f":"IFERROR(SMALL(Отчет!A:A,ROW()-1),\"\")","v":""},{"$f":"IF(A40=\"\",\"\",VLOOKUP(A40,Отчет!A:E,2,0))","v":""},{"$f":"IF(A40=\"\",\"\",VLOOKUP(A40,Отчет!A:E,4,0))","v":""},{"$f":"IF(A40=\"\",\"\",VLOOKUP(A40,Отчет!A:E,5,0))","v":""}]
[{"$f":"IFERROR(SMALL(Отчет!A:A,ROW()-1),\"\")","v":""},{"$f":"IF(A41=\"\",\"\",VLOOKUP(A41,Отчет!A:E,2,0))","v":""},{"$f":"IF(A41=\"\",\"\",VLOOKUP(A41,Отчет!A:E,4,0))","v":""},{"$f":"IF(A41=\"\",\"\",VLOOKUP(A41,Отчет!A:E,5,0))","v":""}]
[{"$f":"IFERROR(SMALL(Отчет!A:A,ROW()-1),\"\")","v":""},{"$f":"IF(A42=\"\",\"\",VLOOKUP(A42,Отчет!A:E,2,0))","v":""},{"$f":"IF(A42=\"\",\"\",VLOOKUP(A42,Отчет!A:E,4,0))","v":""},{"$f":"IF(A42=\"\",\"\",VLOOKUP(A42,Отчет!A:E,5,0))","v":""}]
[{"$f":"IFERROR(SMALL(Отчет!A:A,ROW()-1),\"\")","v":""},{"$f":"IF(A43=\"\",\"\",VLOOKUP(A43,Отчет!A:E,2,0))","v":""},{"$f":"IF(A43=\"\",\"\",VLOOKUP(A43,Отчет!A:E,4,0))","v":""},{"$f":"IF(A43=\"\",\"\",VLOOKUP(A43,Отчет!A:E,5,0))","v":""}]
[{"$f":"IFERROR(SMALL(Отчет!A:A,ROW()-1),\"\")","v":""},{"$f":"IF(A44=\"\",\"\",VLOOKUP(A44,Отчет!A:E,2,0))","v":""},{"$f":"IF(A44=\"\",\"\",VLOOKUP(A44,Отчет!A:E,4,0))","v":""},{"$f":"IF(A44=\"\",\"\",VLOOKUP(A44,Отчет!A:E,5,0))","v":""}]
[{"$f":"IFERROR(SMALL(Отчет!A:A,ROW()-1),\"\")","v":""},{"$f":"IF(A45=\"\",\"\",VLOOKUP(A45,Отчет!A:E,2,0))","v":""},{"$f":"IF(A45=\"\",\"\",VLOOKUP(A45,Отчет!A:E,4,0))","v":""},{"$f":"IF(A45=\"\",\"\",VLOOKUP(A45,Отчет!A:E,5,0))","v":""}]
[{"$f":"IFERROR(SMALL(Отчет!A:A,ROW()-1),\"\")","v":""},{"$f":"IF(A46=\"\",\"\",VLOOKUP(A46,Отчет!A:E,2,0))","v":""},{"$f":"IF(A46=\"\",\"\",VLOOKUP(A46,Отчет!A:E,4,0))","v":""},{"$f":"IF(A46=\"\",\"\",VLOOKUP(A46,Отчет!A:E,5,0))","v":""}]
[{"$f":"IFERROR(SMALL(Отчет!A:A,ROW()-1),\"\")","v":""},{"$f":"IF(A47=\"\",\"\",VLOOKUP(A47,Отчет!A:E,2,0))","v":""},{"$f":"IF(A47=\"\",\"\",VLOOKUP(A47,Отчет!A:E,4,0))","v":""},{"$f":"IF(A47=\"\",\"\",VLOOKUP(A47,Отчет!A:E,5,0))","v":""}]
[{"$f":"IFERROR(SMALL(Отчет!A:A,ROW()-1),\"\")","v":""},{"$f":"IF(A48=\"\",\"\",VLOOKUP(A48,Отчет!A:E,2,0))","v":""},{"$f":"IF(A48=\"\",\"\",VLOOKUP(A48,Отчет!A:E,4,0))","v":""},{"$f":"IF(A48=\"\",\"\",VLOOKUP(A48,Отчет!A:E,5,0))","v":""}]
[{"$f":"IFERROR(SMALL(Отчет!A:A,ROW()-1),\"\")","v":""},{"$f":"IF(A49=\"\",\"\",VLOOKUP(A49,Отчет!A:E,2,0))","v":""},{"$f":"IF(A49=\"\",\"\",VLOOKUP(A49,Отчет!A:E,4,0))","v":""},{"$f":"IF(A49=\"\",\"\",VLOOKUP(A49,Отчет!A:E,5,0))","v":""}]
[{"$f":"IFERROR(SMALL(Отчет!A:A,ROW()-1),\"\")","v":""},{"$f":"IF(A50=\"\",\"\",VLOOKUP(A50,Отчет!A:E,2,0))","v":""},{"$f":"IF(A50=\"\",\"\",VLOOKUP(A50,Отчет!A:E,4,0))","v":""},{"$f":"IF(A50=\"\",\"\",VLOOKUP(A50,Отчет!A:E,5,0))","v":""}]
[{"$f":"IFERROR(SMALL(Отчет!A:A,ROW()-1),\"\")","v":""},{"$f":"IF(A51=\"\",\"\",VLOOKUP(A51,Отчет!A:E,2,0))","v":""},{"$f":"IF(A51=\"\",\"\",VLOOKUP(A51,Отчет!A:E,4,0))","v":""},{"$f":"IF(A51=\"\",\"\",VLOOKUP(A51,Отчет!A:E,5,0))","v":""}]
[{"$f":"IFERROR(SMALL(Отчет!A:A,ROW()-1),\"\")","v":""},{"$f":"IF(A52=\"\",\"\",VLOOKUP(A52,Отчет!A:E,2,0))","v":""},{"$f":"IF(A52=\"\",\"\",VLOOKUP(A52,Отчет!A:E,4,0))","v":""},{"$f":"IF(A52=\"\",\"\",VLOOKUP(A52,Отчет!A:E,5,0))","v":""}]
[{"$f":"IFERROR(SMALL(Отчет!A:A,ROW()-1),\"\")","v":""},{"$f":"IF(A53=\"\",\"\",VLOOKUP(A53,Отчет!A:E,2,0))","v":""},{"$f":"IF(A53=\"\",\"\",VLOOKUP(A53,Отчет!A:E,4,0))","v":""},{"$f":"IF(A53=\"\",\"\",VLOOKUP(A53,Отчет!A:E,5,0))","v":""}]
[{"$f":"IFERROR(SMALL(Отчет!A:A,ROW()-1),\"\")","v":""},{"$f":"IF(A54=\"\",\"\",VLOOKUP(A54,Отчет!A:E,2,0))","v":""},{"$f":"IF(A54=\"\",\"\",VLOOKUP(A54,Отчет!A:E,4,0))","v":""},{"$f":"IF(A54=\"\",\"\",VLOOKUP(A54,Отчет!A:E,5,0))","v":""}]
[{"$f":"IFERROR(SMALL(Отчет!A:A,ROW()-1),\"\")","v":""},{"$f":"IF(A55=\"\",\"\",VLOOKUP(A55,Отчет!A:E,2,0))","v":""},{"$f":"IF(A55=\"\",\"\",VLOOKUP(A55,Отчет!A:E,4,0))","v":""},{"$f":"IF(A55=\"\",\"\",VLOOKUP(A55,Отчет!A:E,5,0))","v":""}]
[{"$f":"IFERROR(SMALL(Отчет!A:A,ROW()-1),\"\")","v":""},{"$f":"IF(A56=\"\",\"\",VLOOKUP(A56,Отчет!A:E,2,0))","v":""},{"$f":"IF(A56=\"\",\"\",VLOOKUP(A56,Отчет!A:E,4,0))","v":""},{"$f":"IF(A56=\"\",\"\",VLOOKUP(A56,Отчет!A:E,5,0))","v":""}]
[{"$f":"IFERROR(SMALL(Отчет!A:A,ROW()-1),\"\")","v":""},{"$f":"IF(A57=\"\",\"\",VLOOKUP(A57,Отчет!A:E,2,0))","v":""},{"$f":"IF(A57=\"\",\"\",VLOOKUP(A57,Отчет!A:E,4,0))","v":""},{"$f":"IF(A57=\"\",\"\",VLOOKUP(A57,Отчет!A:E,5,0))","v":""}]
[{"$f":"IFERROR(SMALL(Отчет!A:A,ROW()-1),\"\")","v":""},{"$f":"IF(A58=\"\",\"\",VLOOKUP(A58,Отчет!A:E,2,0))","v":""},{"$f":"IF(A58=\"\",\"\",VLOOKUP(A58,Отчет!A:E,4,0))","v":""},{"$f":"IF(A58=\"\",\"\",VLOOKUP(A58,Отчет!A:E,5,0))","v":""}]
[{"$f":"IFERROR(SMALL(Отчет!A:A,ROW()-1),\"\")","v":""},{"$f":"IF(A59=\"\",\"\",VLOOKUP(A59,Отчет!A:E,2,0))","v":""},{"$f":"IF(A59=\"\",\"\",VLOOKUP(A59,Отчет!A:E,4,0))","v":""},{"$f":"IF(A59=\"\",\"\",VLOOKUP(A59,Отчет!A:E,5,0))","v":""}]
[{"$f":"IFERROR(SMALL(Отчет!A:A,ROW()-1),\"\")","v":""},{"$f":"IF(A60=\"\",\"\",VLOOKUP(A60,Отчет!A:E,2,0))","v":""},{"$f":"IF(A60=\"\",\"\",VLOOKUP(A60,Отчет!A:E,4,0))","v":""},{"$f":"IF(A60=\"\",\"\",VLOOKUP(A60,Отчет!A:E,5,0))","v":""}]
[{"$f":"IFERROR(SMALL(Отчет!A:A,ROW()-1),\"\")","v":""},{"$f":"IF(A61=\"\",\"\",VLOOKUP(A61,Отчет!A:E,2,0))","v":""},{"$f":"IF(A61=\"\",\"\",VLOOKUP(A61,Отчет!A:E,4,0))","v":""},{"$f":"IF(A61=\"\",\"\",VLOOKUP(A61,Отчет!A:E,5,0))","v":""}]
[{"$f":"IFERROR(SMALL(Отчет!A:A,ROW()-1),\"\")","v":""},{"$f":"IF(A62=\"\",\"\",VLOOKUP(A62,Отчет!A:E,2,0))","v":""},{"$f":"IF(A62=\"\",\"\",VLOOKUP(A62,Отчет!A:E,4,0))","v":""},{"$f":"IF(A62=\"\",\"\",VLOOKUP(A62,Отчет!A:E,5,0))","v":""}]
[{"$f":"IFERROR(SMALL(Отчет!A:A,ROW()-1),\"\")","v":""},{"$f":"IF(A63=\"\",\"\",VLOOKUP(A63,Отчет!A:E,2,0))","v":""},{"$f":"IF(A63=\"\",\"\",VLOOKUP(A63,Отчет!A:E,4,0))","v":""},{"$f":"IF(A63=\"\",\"\",VLOOKUP(A63,Отчет!A:E,5,0))","v":""}]
[{"$f":"IFERROR(SMALL(Отчет!A:A,ROW()-1),\"\")","v":""},{"$f":"IF(A64=\"\",\"\",VLOOKUP(A64,Отчет!A:E,2,0))","v":""},{"$f":"IF(A64=\"\",\"\",VLOOKUP(A64,Отчет!A:E,4,0))","v":""},{"$f":"IF(A64=\"\",\"\",VLOOKUP(A64,Отчет!A:E,5,0))","v":""}]
[{"$f":"IFERROR(SMALL(Отчет!A:A,ROW()-1),\"\")","v":""},{"$f":"IF(A65=\"\",\"\",VLOOKUP(A65,Отчет!A:E,2,0))","v":""},{"$f":"IF(A65=\"\",\"\",VLOOKUP(A65,Отчет!A:E,4,0))","v":""},{"$f":"IF(A65=\"\",\"\",VLOOKUP(A65,Отчет!A:E,5,0))","v":""}]
[{"$f":"IFERROR(SMALL(Отчет!A:A,ROW()-1),\"\")","v":""},{"$f":"IF(A66=\"\",\"\",VLOOKUP(A66,Отчет!A:E,2,0))","v":""},{"$f":"IF(A66=\"\",\"\",VLOOKUP(A66,Отчет!A:E,4,0))","v":""},{"$f":"IF(A66=\"\",\"\",VLOOKUP(A66,Отчет!A:E,5,0))","v":""}]
[{"$f":"IFERROR(SMALL(Отчет!A:A,ROW()-1),\"\")","v":""},{"$f":"IF(A67=\"\",\"\",VLOOKUP(A67,Отчет!A:E,2,0))","v":""},{"$f":"IF(A67=\"\",\"\",VLOOKUP(A67,Отчет!A:E,4,0))","v":""},{"$f":"IF(A67=\"\",\"\",VLOOKUP(A67,Отчет!A:E,5,0))","v":""}]
[{"$f":"IFERROR(SMALL(Отчет!A:A,ROW()-1),\"\")","v":""},{"$f":"IF(A68=\"\",\"\",VLOOKUP(A68,Отчет!A:E,2,0))","v":""},{"$f":"IF(A68=\"\",\"\",VLOOKUP(A68,Отчет!A:E,4,0))","v":""},{"$f":"IF(A68=\"\",\"\",VLOOKUP(A68,Отчет!A:E,5,0))","v":""}]
[{"$f":"IFERROR(SMALL(Отчет!A:A,ROW()-1),\"\")","v":""},{"$f":"IF(A69=\"\",\"\",VLOOKUP(A69,Отчет!A:E,2,0))","v":""},{"$f":"IF(A69=\"\",\"\",VLOOKUP(A69,Отчет!A:E,4,0))","v":""},{"$f":"IF(A69=\"\",\"\",VLOOKUP(A69,Отчет!A:E,5,0))","v":""}]
[{"$f":"IFERROR(SMALL(Отчет!A:A,ROW()-1),\"\")","v":""},{"$f":"IF(A70=\"\",\"\",VLOOKUP(A70,Отчет!A:E,2,0))","v":""},{"$f":"IF(A70=\"\",\"\",VLOOKUP(A70,Отчет!A:E,4,0))","v":""},{"$f":"IF(A70=\"\",\"\",VLOOKUP(A70,Отчет!A:E,5,0))","v":""}]
[{"$f":"IFERROR(SMALL(Отчет!A:A,ROW()-1),\"\")","v":""},{"$f":"IF(A71=\"\",\"\",VLOOKUP(A71,Отчет!A:E,2,0))","v":""},{"$f":"IF(A71=\"\",\"\",VLOOKUP(A71,Отчет!A:E,4,0))","v":""},{"$f":"IF(A71=\"\",\"\",VLOOKUP(A71,Отчет!A:E,5,0))","v":""}]
[{"$f":"IFERROR(SMALL(Отчет!A:A,ROW()-1),\"\")","v":""},{"$f":"IF(A72=\"\",\"\",VLOOKUP(A72,Отчет!A:E,2,0))","v":""},{"$f":"IF(A72=\"\",\"\",VLOOKUP(A72,Отчет!A:E,4,0))","v":""},{"$f":"IF(A72=\"\",\"\",VLOOKUP(A72,Отчет!A:E,5,0))","v":""}]
[{"$f":"IFERROR(SMALL(Отчет!A:A,ROW()-1),\"\")","v":""},{"$f":"IF(A73=\"\",\"\",VLOOKUP(A73,Отчет!A:E,2,0))","v":""},{"$f":"IF(A73=\"\",\"\",VLOOKUP(A73,Отчет!A:E,4,0))","v":""},{"$f":"IF(A73=\"\",\"\",VLOOKUP(A73,Отчет!A:E,5,0))","v":""}]
[{"$f":"IFERROR(SMALL(Отчет!A:A,ROW()-1),\"\")","v":""},{"$f":"IF(A74=\"\",\"\",VLOOKUP(A74,Отчет!A:E,2,0))","v":""},{"$f":"IF(A74=\"\",\"\",VLOOKUP(A74,Отчет!A:E,4,0))","v":""},{"$f":"IF(A74=\"\",\"\",VLOOKUP(A74,Отчет!A:E,5,0))","v":""}]
[{"$f":"IFERROR(SMALL(Отчет!A:A,ROW()-1),\"\")","v":""},{"$f":"IF(A75=\"\",\"\",VLOOKUP(A75,Отчет!A:E,2,0))","v":""},{"$f":"IF(A75=\"\",\"\",VLOOKUP(A75,Отчет!A:E,4,0))","v":""},{"$f":"IF(A75=\"\",\"\",VLOOKUP(A75,Отчет!A:E,5,0))","v":""}]
[{"$f":"IFERROR(SMALL(Отчет!A:A,ROW()-1),\"\")","v":""},{"$f":"IF(A76=\"\",\"\",VLOOKUP(A76,Отчет!A:E,2,0))","v":""},{"$f":"IF(A76=\"\",\"\",VLOOKUP(A76,Отчет!A:E,4,0))","v":""},{"$f":"IF(A76=\"\",\"\",VLOOKUP(A76,Отчет!A:E,5,0))","v":""}]
[{"$f":"IFERROR(SMALL(Отчет!A:A,ROW()-1),\"\")","v":""},{"$f":"IF(A77=\"\",\"\",VLOOKUP(A77,Отчет!A:E,2,0))","v":""},{"$f":"IF(A77=\"\",\"\",VLOOKUP(A77,Отчет!A:E,4,0))","v":""},{"$f":"IF(A77=\"\",\"\",VLOOKUP(A77,Отчет!A:E,5,0))","v":""}]
[{"$f":"IFERROR(SMALL(Отчет!A:A,ROW()-1),\"\")","v":""},{"$f":"IF(A78=\"\",\"\",VLOOKUP(A78,Отчет!A:E,2,0))","v":""},{"$f":"IF(A78=\"\",\"\",VLOOKUP(A78,Отчет!A:E,4,0))","v":""},{"$f":"IF(A78=\"\",\"\",VLOOKUP(A78,Отчет!A:E,5,0))","v":""}]
[{"$f":"IFERROR(SMALL(Отчет!A:A,ROW()-1),\"\")","v":""},{"$f":"IF(A79=\"\",\"\",VLOOKUP(A79,Отчет!A:E,2,0))","v":""},{"$f":"IF(A79=\"\",\"\",VLOOKUP(A79,Отчет!A:E,4,0))","v":""},{"$f":"IF(A79=\"\",\"\",VLOOKUP(A79,Отчет!A:E,5,0))","v":""}]
[{"$f":"IFERROR(SMALL(Отчет!A:A,ROW()-1),\"\")","v":""},{"$f":"IF(A80=\"\",\"\",VLOOKUP(A80,Отчет!A:E,2,0))","v":""},{"$f":"IF(A80=\"\",\"\",VLOOKUP(A80,Отчет!A:E,4,0))","v":""},{"$f":"IF(A80=\"\",\"\",VLOOKUP(A80,Отчет!A:E,5,0))","v":""}]
[{"$f":"IFERROR(SMALL(Отчет!A:A,ROW()-1),\"\")","v":""},{"$f":"IF(A81=\"\",\"\",VLOOKUP(A81,Отчет!A:E,2,0))","v":""},{"$f":"IF(A81=\"\",\"\",VLOOKUP(A81,Отчет!A:E,4,0))","v":""},{"$f":"IF(A81=\"\",\"\",VLOOKUP(A81,Отчет!A:E,5,0))","v":""}]
[{"$f":"IFERROR(SMALL(Отчет!A:A,ROW()-1),\"\")","v":""},{"$f":"IF(A82=\"\",\"\",VLOOKUP(A82,Отчет!A:E,2,0))","v":""},{"$f":"IF(A82=\"\",\"\",VLOOKUP(A82,Отчет!A:E,4,0))","v":""},{"$f":"IF(A82=\"\",\"\",VLOOKUP(A82,Отчет!A:E,5,0))","v":""}]
[{"$f":"IFERROR(SMALL(Отчет!A:A,ROW()-1),\"\")","v":""},{"$f":"IF(A83=\"\",\"\",VLOOKUP(A83,Отчет!A:E,2,0))","v":""},{"$f":"IF(A83=\"\",\"\",VLOOKUP(A83,Отчет!A:E,4,0))","v":""},{"$f":"IF(A83=\"\",\"\",VLOOKUP(A83,Отчет!A:E,5,0))","v":""}]
[{"$f":"IFERROR(SMALL(Отчет!A:A,ROW()-1),\"\")","v":""},{"$f":"IF(A84=\"\",\"\",VLOOKUP(A84,Отчет!A:E,2,0))","v":""},{"$f":"IF(A84=\"\",\"\",VLOOKUP(A84,Отчет!A:E,4,0))","v":""},{"$f":"IF(A84=\"\",\"\",VLOOKUP(A84,Отчет!A:E,5,0))","v":""}]
[{"$f":"IFERROR(SMALL(Отчет!A:A,ROW()-1),\"\")","v":""},{"$f":"IF(A85=\"\",\"\",VLOOKUP(A85,Отчет!A:E,2,0))","v":""},{"$f":"IF(A85=\"\",\"\",VLOOKUP(A85,Отчет!A:E,4,0))","v":""},{"$f":"IF(A85=\"\",\"\",VLOOKUP(A85,Отчет!A:E,5,0))","v":""}]
[{"$f":"IFERROR(SMALL(Отчет!A:A,ROW()-1),\"\")","v":""},{"$f":"IF(A86=\"\",\"\",VLOOKUP(A86,Отчет!A:E,2,0))","v":""},{"$f":"IF(A86=\"\",\"\",VLOOKUP(A86,Отчет!A:E,4,0))","v":""},{"$f":"IF(A86=\"\",\"\",VLOOKUP(A86,Отчет!A:E,5,0))","v":""}]
[{"$f":"IFERROR(SMALL(Отчет!A:A,ROW()-1),\"\")","v":""},{"$f":"IF(A87=\"\",\"\",VLOOKUP(A87,Отчет!A:E,2,0))","v":""},{"$f":"IF(A87=\"\",\"\",VLOOKUP(A87,Отчет!A:E,4,0))","v":""},{"$f":"IF(A87=\"\",\"\",VLOOKUP(A87,Отчет!A:E,5,0))","v":""}]
[{"$f":"IFERROR(SMALL(Отчет!A:A,ROW()-1),\"\")","v":""},{"$f":"IF(A88=\"\",\"\",VLOOKUP(A88,Отчет!A:E,2,0))","v":""},{"$f":"IF(A88=\"\",\"\",VLOOKUP(A88,Отчет!A:E,4,0))","v":""},{"$f":"IF(A88=\"\",\"\",VLOOKUP(A88,Отчет!A:E,5,0))","v":""}]
[{"$f":"IFERROR(SMALL(Отчет!A:A,ROW()-1),\"\")","v":""},{"$f":"IF(A89=\"\",\"\",VLOOKUP(A89,Отчет!A:E,2,0))","v":""},{"$f":"IF(A89=\"\",\"\",VLOOKUP(A89,Отчет!A:E,4,0))","v":""},{"$f":"IF(A89=\"\",\"\",VLOOKUP(A89,Отчет!A:E,5,0))","v":""}]
[{"$f":"IFERROR(SMALL(Отчет!A:A,ROW()-1),\"\")","v":""},{"$f":"IF(A90=\"\",\"\",VLOOKUP(A90,Отчет!A:E,2,0))","v":""},{"$f":"IF(A90=\"\",\"\",VLOOKUP(A90,Отчет!A:E,4,0))","v":""},{"$f":"IF(A90=\"\",\"\",VLOOKUP(A90,Отчет!A:E,5,0))","v":""}]
[{"$f":"IFERROR(SMALL(Отчет!A:A,ROW()-1),\"\")","v":""},{"$f":"IF(A91=\"\",\"\",VLOOKUP(A91,Отчет!A:E,2,0))","v":""},{"$f":"IF(A91=\"\",\"\",VLOOKUP(A91,Отчет!A:E,4,0))","v":""},{"$f":"IF(A91=\"\",\"\",VLOOKUP(A91,Отчет!A:E,5,0))","v":""}]
[{"$f":"IFERROR(SMALL(Отчет!A:A,ROW()-1),\"\")","v":""},{"$f":"IF(A92=\"\",\"\",VLOOKUP(A92,Отчет!A:E,2,0))","v":""},{"$f":"IF(A92=\"\",\"\",VLOOKUP(A92,Отчет!A:E,4,0))","v":""},{"$f":"IF(A92=\"\",\"\",VLOOKUP(A92,Отчет!A:E,5,0))","v":""}]
[{"$f":"IFERROR(SMALL(Отчет!A:A,ROW()-1),\"\")","v":""},{"$f":"IF(A93=\"\",\"\",VLOOKUP(A93,Отчет!A:E,2,0))","v":""},{"$f":"IF(A93=\"\",\"\",VLOOKUP(A93,Отчет!A:E,4,0))","v":""},{"$f":"IF(A93=\"\",\"\",VLOOKUP(A93,Отчет!A:E,5,0))","v":""}]
[{"$f":"IFERROR(SMALL(Отчет!A:A,ROW()-1),\"\")","v":""},{"$f":"IF(A94=\"\",\"\",VLOOKUP(A94,Отчет!A:E,2,0))","v":""},{"$f":"IF(A94=\"\",\"\",VLOOKUP(A94,Отчет!A:E,4,0))","v":""},{"$f":"IF(A94=\"\",\"\",VLOOKUP(A94,Отчет!A:E,5,0))","v":""}]
[{"$f":"IFERROR(SMALL(Отчет!A:A,ROW()-1),\"\")","v":""},{"$f":"IF(A95=\"\",\"\",VLOOKUP(A95,Отчет!A:E,2,0))","v":""},{"$f":"IF(A95=\"\",\"\",VLOOKUP(A95,Отчет!A:E,4,0))","v":""},{"$f":"IF(A95=\"\",\"\",VLOOKUP(A95,Отчет!A:E,5,0))","v":""}]
[{"$f":"IFERROR(SMALL(Отчет!A:A,ROW()-1),\"\")","v":""},{"$f":"IF(A96=\"\",\"\",VLOOKUP(A96,Отчет!A:E,2,0))","v":""},{"$f":"IF(A96=\"\",\"\",VLOOKUP(A96,Отчет!A:E,4,0))","v":""},{"$f":"IF(A96=\"\",\"\",VLOOKUP(A96,Отчет!A:E,5,0))","v":""}]
[{"$f":"IFERROR(SMALL(Отчет!A:A,ROW()-1),\"\")","v":""},{"$f":"IF(A97=\"\",\"\",VLOOKUP(A97,Отчет!A:E,2,0))","v":""},{"$f":"IF(A97=\"\",\"\",VLOOKUP(A97,Отчет!A:E,4,0))","v":""},{"$f":"IF(A97=\"\",\"\",VLOOKUP(A97,Отчет!A:E,5,0))","v":""}]
[{"$f":"IFERROR(SMALL(Отчет!A:A,ROW()-1),\"\")","v":""},{"$f":"IF(A98=\"\",\"\",VLOOKUP(A98,Отчет!A:E,2,0))","v":""},{"$f":"IF(A98=\"\",\"\",VLOOKUP(A98,Отчет!A:E,4,0))","v":""},{"$f":"IF(A98=\"\",\"\",VLOOKUP(A98,Отчет!A:E,5,0))","v":""}]
[{"$f":"IFERROR(SMALL(Отчет!A:A,ROW()-1),\"\")","v":""},{"$f":"IF(A99=\"\",\"\",VLOOKUP(A99,Отчет!A:E,2,0))","v":""},{"$f":"IF(A99=\"\",\"\",VLOOKUP(A99,Отчет!A:E,4,0))","v":""},{"$f":"IF(A99=\"\",\"\",VLOOKUP(A99,Отчет!A:E,5,0))","v":""}]
[{"$f":"IFERROR(SMALL(Отчет!A:A,ROW()-1),\"\")","v":""},{"$f":"IF(A100=\"\",\"\",VLOOKUP(A100,Отчет!A:E,2,0))","v":""},{"$f":"IF(A100=\"\",\"\",VLOOKUP(A100,Отчет!A:E,4,0))","v":""},{"$f":"IF(A100=\"\",\"\",VLOOKUP(A100,Отчет!A:E,5,0))","v":""}]