{"text_format":"1","workbook":"xlsx","n_sheets":2,"sheets":["Sheet1","Лист2"],"not_rendered":{"charts":0,"images":0,"macros":1,"external_links":0,"defined_names":1,"comments":0,"pivot_tables":0},"unopened":[],"bounds":{"document_bytes":16777216,"sheet_cells":100000,"rows_first":2000,"rows_last":500,"rows_between":2000,"halvings":0,"cell_chars":16384,"cell_head_chars":4096},"cells_cut":0,"cells_raw":0,"read":"whole","date_system":"1900"}

{"sheet":"Sheet1","index":0,"n_rows":65,"n_cols":7,"rows_kept":65,"cut":false,"hidden":false,"merged":[]}
["id_пользователя","Телефон","Источник"]
["11500","79126567003","Другое...",{"$f":"IF(COUNT(SEARCH(Лист2!A$1:A$234,B2)),\"директ\",C2)","v":"Другое..."},null,null,"Другое..."]
["11502","79126459705","Другое...",{"$f":"IF(COUNT(SEARCH(Лист2!A$1:A$234,B3)),\"директ\",C3)","v":"Другое..."},null,null,"Другое..."]
["11956","79506452754, 79221872879, 79122638688, 79002070257 (супруг Алексей)","Другое...",{"$f":"IF(COUNT(SEARCH(Лист2!A$1:A$234,B4)),\"директ\",C4)","v":"Другое..."},null,null,"Другое..."]
["11917","79086300073, 79220297263 (муж Сергей), 73432860302","Директ",{"$f":"IF(COUNT(SEARCH(Лист2!A$1:A$234,B5)),\"директ\",C5)","v":"директ"},null,null,"Другое..."]
["11946","79221294225, 79221696324","Другое...",{"$f":"IF(COUNT(SEARCH(Лист2!A$1:A$234,B6)),\"директ\",C6)","v":"Другое..."},null,null,"Другое..."]
["11472","79089038104","Другое...",{"$f":"IF(COUNT(SEARCH(Лист2!A$1:A$234,B7)),\"директ\",C7)","v":"Другое..."},null,null,"Другое..."]
["11504","79089055298","Другое...",{"$f":"IF(COUNT(SEARCH(Лист2!A$1:A$234,B8)),\"директ\",C8)","v":"Другое..."},null,null,"Другое..."]
["11556","79521492918, 79126297939","Другое...",{"$f":"IF(COUNT(SEARCH(Лист2!A$1:A$234,B9)),\"директ\",C9)","v":"Другое..."},null,null,"Другое..."]
["11553","79527354864, 79527354867 (Александр Евгеньевич)","Другое...",{"$f":"IF(COUNT(SEARCH(Лист2!A$1:A$234,B10)),\"директ\",C10)","v":"Другое..."},null,null,"Другое..."]
["11531",79995665300,"Директ",{"$f":"IF(COUNT(SEARCH(Лист2!A$1:A$234,B11)),\"директ\",C11)","v":"директ"},null,null,"Другое..."]
["11526","79122663319","Другое...",{"$f":"IF(COUNT(SEARCH(Лист2!A$1:A$234,B12)),\"директ\",C12)","v":"Другое..."},null,null,"Другое..."]
["11519","79505401137","Другое...",{"$f":"IF(COUNT(SEARCH(Лист2!A$1:A$234,B13)),\"директ\",C13)","v":"Другое..."},null,null,"Другое..."]
["11529","79043833250,  (Вячеслав Игоревич), 79995665300","Директ",{"$f":"IF(COUNT(SEARCH(Лист2!A$1:A$234,B14)),\"директ\",C14)","v":"директ"},null,null,"Другое..."]
["12084","79655014423","Рекомендации знакомых",{"$f":"IF(COUNT(SEARCH(Лист2!A$1:A$234,B15)),\"директ\",C15)","v":"Рекомендации знакомых"},null,null,"Рекомендации знакомых"]
["11501","79221287600 (Марина), 79220372912 (Денис)","Другое...",{"$f":"IF(COUNT(SEARCH(Лист2!A$1:A$234,B16)),\"директ\",C16)","v":"Другое..."},null,null,"Другое..."]
["11514","79126141263, 79193604630","Транзитный трафик офиса",{"$f":"IF(COUNT(SEARCH(Лист2!A$1:A$234,B17)),\"директ\",C17)","v":"Транзитный трафик офиса"},null,null,"Транзитный трафик офиса"]
["11532","79221418882","Транзитный трафик офиса",{"$f":"IF(COUNT(SEARCH(Лист2!A$1:A$234,B18)),\"директ\",C18)","v":"Транзитный трафик офиса"},null,null,"Транзитный трафик офиса"]
["12140","79193963200","Транзитный трафик офиса",{"$f":"IF(COUNT(SEARCH(Лист2!A$1:A$234,B19)),\"директ\",C19)","v":"Транзитный трафик офиса"},null,null,"Транзитный трафик офиса"]
["12126","79126289226, 79221707024, 79090000188 (Марина)","Транзитный трафик офиса",{"$f":"IF(COUNT(SEARCH(Лист2!A$1:A$234,B20)),\"директ\",C20)","v":"Транзитный трафик офиса"},null,null,"Транзитный трафик офиса"]
["11515","79536098156,  (Ирина Филюсовна)","Другое...",{"$f":"IF(COUNT(SEARCH(Лист2!A$1:A$234,B21)),\"директ\",C21)","v":"Другое..."},null,null,"Другое..."]
["11508","79826524120","Другое...",{"$f":"IF(COUNT(SEARCH(Лист2!A$1:A$234,B22)),\"директ\",C22)","v":"Другое..."},null,null,"Другое..."]
["11512","79221106828, 79521343728","Другое...",{"$f":"IF(COUNT(SEARCH(Лист2!A$1:A$234,B23)),\"директ\",C23)","v":"Другое..."},null,null,"Другое..."]
["11524","79221315332","Другое...",{"$f":"IF(COUNT(SEARCH(Лист2!A$1:A$234,B24)),\"директ\",C24)","v":"Другое..."},null,null,"Другое..."]
["11517","79090206867","Другое...",{"$f":"IF(COUNT(SEARCH(Лист2!A$1:A$234,B25)),\"директ\",C25)","v":"Другое..."},null,null,"Другое..."]
["11544","79122166091,  (Алик Аюпович)","Другое...",{"$f":"IF(COUNT(SEARCH(Лист2!A$1:A$234,B26)),\"директ\",C26)","v":"Другое..."},null,null,"Другое..."]
["11911","79193383038","Другое...",{"$f":"IF(COUNT(SEARCH(Лист2!A$1:A$234,B27)),\"директ\",C27)","v":"Другое..."},null,null,"Другое..."]
["11461","79920172351","САЙТ uyutcity.ru",{"$f":"IF(COUNT(SEARCH(Лист2!A$1:A$234,B28)),\"директ\",C28)","v":"САЙТ uyutcity.ru"},null,null,"САЙТ uyutcity.ru"]
["11462","79024403674","САЙТ uyutcity.ru",{"$f":"IF(COUNT(SEARCH(Лист2!A$1:A$234,B29)),\"директ\",C29)","v":"САЙТ uyutcity.ru"},null,null,"САЙТ uyutcity.ru"]
["11463","79995101650","САЙТ uyutcity.ru",{"$f":"IF(COUNT(SEARCH(Лист2!A$1:A$234,B30)),\"директ\",C30)","v":"САЙТ uyutcity.ru"},null,null,"САЙТ uyutcity.ru"]
["11191","79028769043 (Светлана/Сажида), 79041772115 (дочка Эльвира)","Другое...",{"$f":"IF(COUNT(SEARCH(Лист2!A$1:A$234,B31)),\"директ\",C31)","v":"Другое..."},null,null,"Другое..."]
["11545","79041668974","Другое...",{"$f":"IF(COUNT(SEARCH(Лист2!A$1:A$234,B32)),\"директ\",C32)","v":"Другое..."},null,null,"Другое..."]
["10508","79221019530","Директ",{"$f":"IF(COUNT(SEARCH(Лист2!A$1:A$234,B33)),\"директ\",C33)","v":"Директ"},null,null,"Директ"]
["10509","79505408321","САЙТ uyutcity.ru",{"$f":"IF(COUNT(SEARCH(Лист2!A$1:A$234,B34)),\"директ\",C34)","v":"САЙТ uyutcity.ru"},null,null,"САЙТ uyutcity.ru"]
["10499","79221864906","Директ",{"$f":"IF(COUNT(SEARCH(Лист2!A$1:A$234,B35)),\"директ\",C35)","v":"Директ"},null,null,"Директ"]
["10500","79222129619","Директ",{"$f":"IF(COUNT(SEARCH(Лист2!A$1:A$234,B36)),\"директ\",C36)","v":"Директ"},null,null,"Директ"]
["10501","79126326901","Директ",{"$f":"IF(COUNT(SEARCH(Лист2!A$1:A$234,B37)),\"директ\",C37)","v":"Директ"},null,null,"Директ"]
["11506","79630327207","Другое...",{"$f":"IF(COUNT(SEARCH(Лист2!A$1:A$234,B38)),\"директ\",C38)","v":"Другое..."},null,null,"Другое..."]
["10502","79126362659, 79122438788 (Наталья \"Находка\")","Директ",{"$f":"IF(COUNT(SEARCH(Лист2!A$1:A$234,B39)),\"директ\",C39)","v":"директ"},null,null,"Директ"]
["10503","79506354412","САЙТ uyutcity.ru",{"$f":"IF(COUNT(SEARCH(Лист2!A$1:A$234,B40)),\"директ\",C40)","v":"САЙТ uyutcity.ru"},null,null,"САЙТ uyutcity.ru"]
["10504","834333813267","САЙТ uyutcity.ru",{"$f":"IF(COUNT(SEARCH(Лист2!A$1:A$234,B41)),\"директ\",C41)","v":"САЙТ uyutcity.ru"},null,null,"САЙТ uyutcity.ru"]
["10506","79506417013","Директ",{"$f":"IF(COUNT(SEARCH(Лист2!A$1:A$234,B42)),\"директ\",C42)","v":"директ"},null,null,"Директ"]
["10631","79049890773","Другое...",{"$f":"IF(COUNT(SEARCH(Лист2!A$1:A$234,B43)),\"директ\",C43)","v":"Другое..."},null,null,"Другое..."]
["10491","79533863562","Директ",{"$f":"IF(COUNT(SEARCH(Лист2!A$1:A$234,B44)),\"директ\",C44)","v":"Директ"},null,null,"Директ"]
["10492","79028748151","Директ",{"$f":"IF(COUNT(SEARCH(Лист2!A$1:A$234,B45)),\"директ\",C45)","v":"Директ"},null,null,"Директ"]
["10493","79221094327","САЙТ uyutcity.ru",{"$f":"IF(COUNT(SEARCH(Лист2!A$1:A$234,B46)),\"директ\",C46)","v":"САЙТ uyutcity.ru"},null,null,"САЙТ uyutcity.ru"]
["10494","73433473987","Директ",{"$f":"IF(COUNT(SEARCH(Лист2!A$1:A$234,B47)),\"директ\",C47)","v":"Директ"},null,null,"Директ"]
["10495","79826341955","Контекстная реклама",{"$f":"IF(COUNT(SEARCH(Лист2!A$1:A$234,B48)),\"директ\",C48)","v":"Контекстная реклама"},null,null,"Контекстная реклама"]
["10497","79826755191","САЙТ uyutcity.ru",{"$f":"IF(COUNT(SEARCH(Лист2!A$1:A$234,B49)),\"директ\",C49)","v":"САЙТ uyutcity.ru"},null,null,"САЙТ uyutcity.ru"]
["10433","79193770384",null,{"$f":"IF(COUNT(SEARCH(Лист2!A$1:A$234,B50)),\"директ\",C50)","v":0},null,null,""]
["10434","79122495865",null,{"$f":"IF(COUNT(SEARCH(Лист2!A$1:A$234,B51)),\"директ\",C51)","v":0},null,null,""]
["10436","79126835644","Директ",{"$f":"IF(COUNT(SEARCH(Лист2!A$1:A$234,B52)),\"директ\",C52)","v":"директ"},null,null,"Директ"]
["10457","79126560857 (Лиля)","Директ",{"$f":"IF(COUNT(SEARCH(Лист2!A$1:A$234,B53)),\"директ\",C53)","v":"Директ"},null,null,"Директ"]
["10476","79030800252 (Анатолий)","САЙТ uyutcity.ru",{"$f":"IF(COUNT(SEARCH(Лист2!A$1:A$234,B54)),\"директ\",C54)","v":"САЙТ uyutcity.ru"},null,null,"САЙТ uyutcity.ru"]
["10437","79221418944",null,{"$f":"IF(COUNT(SEARCH(Лист2!A$1:A$234,B55)),\"директ\",C55)","v":0},null,null,""]
["10438","79028757003, 73439357997 (звонила с этого)","Директ",{"$f":"IF(COUNT(SEARCH(Лист2!A$1:A$234,B56)),\"директ\",C56)","v":"Директ"},null,null,"Директ"]
["10439","79058097956","Рекомендации знакомых",{"$f":"IF(COUNT(SEARCH(Лист2!A$1:A$234,B57)),\"директ\",C57)","v":"Рекомендации знакомых"},null,null,"Рекомендации знакомых"]
["10440","79222251164","Соцсети",{"$f":"IF(COUNT(SEARCH(Лист2!A$1:A$234,B58)),\"директ\",C58)","v":"Соцсети"},null,null,"Соцсети"]
["10441","79041780850",null,{"$f":"IF(COUNT(SEARCH(Лист2!A$1:A$234,B59)),\"директ\",C59)","v":0},null,null,""]
["10442","79826307677","Рекомендация друзей",{"$f":"IF(COUNT(SEARCH(Лист2!A$1:A$234,B60)),\"директ\",C60)","v":"Рекомендация друзей"},null,null,"Рекомендация друзей"]
["10456","79126411561","Директ",{"$f":"IF(COUNT(SEARCH(Лист2!A$1:A$234,B61)),\"директ\",C61)","v":"Директ"},null,null,"Директ"]
["10443","79506580900 (Оксана менеджер поисковик), 79826154575 (Оксана менеджер поисковик), 79122467413 (Мерзляков Максим)","Другое...",{"$f":"IF(COUNT(SEARCH(Лист2!A$1:A$234,B62)),\"директ\",C62)","v":"Другое..."},null,null,"Другое..."]
["10446","79043818944","Партнеры",{"$f":"IF(COUNT(SEARCH(Лист2!A$1:A$234,B63)),\"директ\",C63)","v":"Партнеры"},null,null,"Партнеры"]
["10447","79961766358","Соцсети",{"$f":"IF(COUNT(SEARCH(Лист2!A$1:A$234,B64)),\"директ\",C64)","v":"Соцсети"},null,null,"Соцсети"]
["10448","79222926662, 79089054275 (тел. супруга)","Директ",{"$f":"IF(COUNT(SEARCH(Лист2!A$1:A$234,B65)),\"директ\",C65)","v":"директ"},null,null,"Директ"]

{"sheet":"Лист2","index":1,"n_rows":234,"n_cols":1,"rows_kept":234,"cut":false,"hidden":false,"merged":[]}
[73432168037]
["73432297149"]
["73432372618"]
["73432636490"]
["73432860302"]
["73432862034"]
[73432862034]
[73432873002]
[73432873002]
[73432887703]
[73433281016]
[73433452130]
[73433560805]
[73433763110]
[73433858675]
[73433880210]
[73436937347]
[73436946102]
[73436960435]
[74957348166]
[77011359439]
[77011359439]
[78919374466]
[79000411085]
[79000411085]
[79000412116]
[79000418891]
[79000423032]
[79000460001]
[79000490428]
[79000490457]
[79000494980]
[79002033998]
[79022574730]
[79022616453]
[79022667721]
[79022751265]
[79022757156]
[79022777100]
[79024099029]
[79024108248]
[79025016172]
[79028760048]
[79028795521]
[79028795521]
[79028795521]
[79041745602]
[79041790916]
[79043804900]
[79043821456]
[79043867210]
[79043867210]
[79045426060]
[79045426060]
[79045439448]
[79049827838]
[79049872389]
[79058010509]
[79068089068]
[79068147157]
[79086305269]
[79086306237]
[79086372486]
[79086391315]
[79088938455]
[79089054275]
[79089085999]
[79089093233]
[79089111441]
[79089111441]
[79089164092]
[79089205764]
[79089236287]
[79089246000]
[79089277833]
[79089283366]
[79090001879]
[79090007874]
[79090009086]
[79090024422]
[79090105450]
[79090105450]
[79090170519]
[79090225681]
[79090225681]
[79090232707]
[79097003555]
[79120324881]
[79120402458]
[79122203444]
[79122230259]
[79122322324]
[79122545457]
[79122594698]
[79122656541]
[79122779079]
[79122779079]
[79122886124]
[79126076625]
[79126083071]
[79126104302]
[79126200471]
[79126207727]
[79126362659]
[79126560408]
[79126668566]
[79126678146]
[79126835644]
[79193601512]
[79193685602]
[79193690807]
[79193728201]
[79193744660]
[79193780604]
[79193832069]
[79193864446]
[79220333701]
[79220336619]
[79220350157]
[79220374777]
[79220374777]
[79221005544]
[79221008400]
[79221008400]
[79221019678]
[79221118186]
[79221438557]
[79221461916]
[79221682605]
[79221700081]
[79221705035]
[79221773261]
[79221863318]
[79222028350]
[79222076265]
[79222076265]
[79222094523]
[79222094523]
[79222181971]
[79222226111]
[79222233858]
[79222913000]
[79222913000]
[79224658224]
[79226023020]
[79226023020]
[79228598733]
[79229023020]
[79321175352]
[79321227793]
[79321242642]
[79321244477]
[79321299440]
[79323268093]
[79326042755]
[79326161010]
[79501933371]
[79501979128]
[79502019979]
[79506311976]
[79506417013]
[79506428967]
[79506430889]
[79506440377]
[79506541363]
[79506559729]
[79506559729]
[79527353584]
[79527369709]
[79530058280]
[79530084541]
[79530095368]
[79530522530]
[79530551440]
[79533800407]
[79533882025]
[79536006915]
[79536067949]
[79581382330]
[79617710813]
[79617738717]
[79623418023]
[79630336816]
[79630366182]
[79630394649]
[79630528208]
[79630528208]
[79630528208]
[79630542029]
[79634415715]
[79634435555]
[79634444288]
[79634448050]
[79638512720]
[79638512720]
[79639792853]
[79655179288]
[79655289990]
[79655292326]
[79655333282]
[79661939235]
[79661939235]
[79667041077]
[79674294507]
[79676323331]
[79676368001]
[79678567805]
[79821761057]
[79825561274]
[79826428084]
[79826646649]
[79826646649]
[79826665163]
[79826666822]
[79826672450]
[79827150421]
[79827176231]
[79827295287]
[79827295287]
[79827301524]
[79827465835]
[79827465835]
[79827501344]
[79827542743]
[79827603734]
[79920039048]
[79923446711]
[79923464770]
[79961765686]
[79961765686]
[79965930539]
[79995102448]
[79995663692]
[79995665300]